{"text_format":"1","workbook":"xlsx","n_sheets":6,"sheets":["SPRAWOZDANIE CZĘŚĆ I","SPRAWOZDANIE CZĘŚĆ II","WYCIĄG ZE SPRAWOZDANIA","Arkusz2","Arkusz3","Arkusz1"],"not_rendered":{"charts":0,"images":0,"macros":1,"external_links":0,"defined_names":3,"comments":0,"pivot_tables":0},"unopened":[],"bounds":{"document_bytes":16777216,"sheet_cells":100000,"rows_first":2000,"rows_last":500,"rows_between":2000,"halvings":0,"cell_chars":16384,"cell_head_chars":4096},"cells_cut":0,"cells_raw":0,"read":"whole","date_system":"1900"}

{"sheet":"SPRAWOZDANIE CZĘŚĆ I","index":0,"n_rows":34,"n_cols":4,"rows_kept":34,"cut":false,"hidden":false,"merged":[[25,0,25,2],[32,0,32,3],[33,0,33,3],[31,0,31,3],[30,0,30,3],[26,0,26,2],[27,0,27,2],[28,0,28,2],[24,0,24,2],[0,0,0,3],[3,0,3,3],[4,1,4,3],[10,0,10,3],[15,0,15,2],[17,0,17,2],[21,0,21,2],[22,0,22,2],[23,0,23,2],[14,0,14,3],[20,0,20,3]]}
["SPRAWOZDANIE Z REALIZACJI ZADAŃ ORGANIZATORA W RAMACH FUNDUSZU ROZWOJU PRZEWOZÓW AUTOBUSOWYCH"]
["ZA OKRES",null,"ROKU",2023]
[]
["INFORMACJE IDENTYFIKACYJNE ORGANIZATORA"]
["NIP ORGANIZATORA"]
["Pełna nazwa Organizatora (dane uzupełniane automatycznie)",{"$f":"IFERROR(VLOOKUP($B$5,Arkusz2!$A$2:$K$203,2,0),\"\")","v":""},"Rodzaj Organizatora (dane uzupełniane automatycznie)",{"$f":"IFERROR(VLOOKUP($B$5,Arkusz2!$A$2:$K$203,11,0),\"\")","v":""}]
["Adres (dane uzupełniane automatycznie)",{"$f":"IFERROR(IF(B10=0,D8,B10),\"\")","v":""},"Nr budynku (dane uzupełniane automatycznie)",{"$f":"IFERROR(VLOOKUP($B$5,Arkusz2!$A$2:$K$203,10,0),\"\")","v":""}]
["Kod pocztowy (dane uzupełniane automatycznie)",{"$f":"IFERROR(VLOOKUP(B$5,Arkusz2!$A$2:$K$203,6,0),\"\")","v":""},"Miejscowość (dane uzupełniane automatycznie)",{"$f":"IFERROR(VLOOKUP($B$5,Arkusz2!$A$2:$K$203,8,0),\"\")","v":""}]
["Telefon ",null,"Adres e-mail"]
[null,{"$f":"VLOOKUP(B$5,Arkusz2!$A$2:$K$203,9,0)","v":{"$error":"#N/A"}}]
["DANE OSOBY WSKAZANEJ DO KONTAKTOWANIA SIĘ W SPRAWIE SPRAWOZDANIA"]
["Imię i Nazwisko",null,"Komórka organizacyjna"]
["Adres e-mail",null,"Telefon"]
[]
["DANE INFORMACYJNE"]
["Łączna liczba linii autobusowych o charakterze użyteczności publicznej, które objęte są sprawozdaniem",null,null,{"$f":"'SPRAWOZDANIE CZĘŚĆ II'!A2","v":0}]
["Łączna długość linii autobusowych o charakterze użyteczności publicznej, które objęte są sprawozdaniem",null,null,{"$f":"'SPRAWOZDANIE CZĘŚĆ II'!A4","v":0}]
["Liczba operatorów, którzy są objęci sprawozdaniem",null,null,{"$f":"Arkusz1!K2","v":0}]
["Łączna wielkość pracy eksploatacyjnej w okresie",null,null,{"$f":"'SPRAWOZDANIE CZĘŚĆ II'!A8","v":0}]
[]
["DANE FINANSOWE"]
["Kwota deficytu wszystkich linii komunikacyjnych w okresie",null,null,{"$f":"'SPRAWOZDANIE CZĘŚĆ II'!A10","v":0}]
["Środki własne organizatora finansujące część deficytu wszystkich linii komunikacyjnych w wysokości nie mniejszej niż 10%",null,null,{"$f":"'SPRAWOZDANIE CZĘŚĆ II'!A12","v":0}]
["Łączna kwota dopłaty w okresie",null,null,{"$f":"ROUND('SPRAWOZDANIE CZĘŚĆ II'!A14,2)","v":0}]
["Suma środków własnych organizatora finansujących część ceny usługi w wysokości nie mniejszej niż 10% oraz łączna kwota dopłaty w okresie",null,null,{"$f":"IF(D23+D24<=D22*1.06,D23+D24,\"SPRAWDŹ POPRAWNOŚĆ WYLICZEŃ\")","v":0}]
["Kwota niewykorzystanych środków Funduszu rozwoju przewozów autobusowych",null,null,{"$f":"IF('SPRAWOZDANIE CZĘŚĆ II'!A$16<0,-'SPRAWOZDANIE CZĘŚĆ II'!A$16,0)","v":0}]
["Różnica pomiędzy rzeczywistą a przewidywaną kwotą dopłaty ze środków Funduszu w okresie (NIEDOPŁATA)",null,null,{"$f":"IF('SPRAWOZDANIE CZĘŚĆ II'!A$16>0,-'SPRAWOZDANIE CZĘŚĆ II'!A$16,0)","v":0}]
["Kwota rekompensaty przekazana przez Organizatora Operatorowi, w tym:"]
["ze środków Funduszu"]
[]
["OŚWIADCZENIA"]
["OŚWIADCZAM, ŻE ZAPOZNAŁEM SIĘ Z PRZEPISAMI USTAWY Z DNIA 16 MAJA 2019 R. O FUNDUSZU ROZWOJU PRZEWOZÓW AUTOBUSOWYCH O CHARAKTERZE UŻYTECZNOŚCI PUBLICZNEJ ORAZ USTAWY Z DNIA 16 GRUDNIA 2010 R. O PUBLICZNYM TRANSPORCIE ZBIOROWYM A TAKŻE PRZEPISAMI WYKONAWCZYMI, ROZUMIEM ICH ZNACZENIE I ZNAM KONSEKWENCJE ZA ICH NIENALEŻYTE ZASTOSOWANIE"]
["OŚWIADCZAM, ŻE ZE ŚRODKÓW WŁASNYCH ORGANIZATORA ZOSTAŁA SFINANSOWANA CZĘŚĆ DEFICYTU KAŻDEJ LINII KOMUNIKACYJNEJ W WYSOKOŚCI NIE MNIEJSZEJ NIŻ 10%"]
["OŚWIADCZAM, ŻE WSZYSTKIE PRZEDSTAWIONE W SPRAWOZDANIU DANE SĄ RZETELNE I ZGODNE ZE STANEM FAKTYCZNYM "]

{"sheet":"SPRAWOZDANIE CZĘŚĆ II","index":1,"n_rows":60,"n_cols":117,"rows_kept":60,"cut":false,"hidden":false,"merged":[[51,7,51,8],[0,0,0,8],[18,6,18,8],[19,0,19,8],[20,0,20,1],[20,6,20,8],[22,6,22,8],[28,0,28,2],[28,6,28,8],[48,7,48,8],[49,0,49,6],[49,7,49,8],[48,0,48,6],[24,0,24,8],[0,36,0,44],[0,45,0,53],[47,7,47,8],[59,0,59,6],[59,7,59,8],[54,7,54,8],[50,0,50,6],[51,0,51,6],[55,7,55,8],[56,7,56,8],[57,0,57,8],[55,0,55,6],[56,0,56,6],[52,0,52,6],[53,0,53,6],[54,0,54,6],[50,7,50,8],[52,7,52,8],[25,6,25,8],[46,7,46,8],[29,0,29,8],[46,0,46,6],[47,0,47,6],[53,7,53,8],[19,36,19,44],[19,45,19,53],[0,99,0,107],[0,108,0,116],[18,15,18,17],[18,24,18,26],[18,33,18,35],[18,42,18,44],[18,51,18,53],[18,60,18,62],[18,69,18,71],[18,78,18,80],[18,87,18,89],[18,96,18,98],[18,105,18,107],[18,114,18,116],[0,54,0,62],[0,63,0,71],[0,72,0,80],[0,81,0,89],[0,90,0,98],[0,9,0,17],[0,18,0,26],[0,27,0,35],[19,99,19,107],[19,108,19,116],[20,9,20,10],[20,15,20,17],[20,18,20,19],[20,24,20,26],[20,27,20,28],[20,33,20,35],[20,36,20,37],[20,42,20,44],[20,45,20,46],[20,51,20,53],[20,54,20,55],[20,60,20,62],[20,63,20,64],[20,69,20,71],[19,54,19,62],[19,63,19,71],[19,72,19,80],[19,81,19,89],[19,90,19,98],[19,9,19,17],[19,18,19,26],[19,27,19,35],[20,96,20,98],[20,99,20,100],[20,105,20,107],[20,108,20,109],[20,114,20,116],[20,72,20,73],[20,78,20,80],[20,81,20,82],[20,87,20,89],[20,90,20,91],[22,105,22,107],[22,114,22,116],[24,9,24,17],[24,18,24,26],[24,27,24,35],[24,36,24,44],[24,45,24,53],[24,54,24,62],[24,63,24,71],[24,72,24,80],[24,81,24,89],[24,90,24,98],[24,99,24,107],[24,108,24,116],[22,60,22,62],[22,69,22,71],[22,78,22,80],[22,87,22,89],[22,96,22,98],[22,15,22,17],[22,24,22,26],[22,33,22,35],[22,42,22,44],[22,51,22,53],[25,96,25,98],[25,105,25,107],[25,114,25,116],[25,78,25,80],[25,87,25,89],[25,60,25,62],[25,69,25,71],[25,15,25,17],[25,24,25,26],[25,33,25,35],[25,42,25,44],[25,51,25,53],[28,69,28,71],[28,72,28,74],[28,33,28,35],[28,36,28,38],[28,42,28,44],[28,45,28,47],[28,51,28,53],[28,9,28,11],[28,15,28,17],[28,18,28,20],[28,24,28,26],[28,27,28,29],[28,99,28,101],[28,105,28,107],[28,108,28,110],[28,114,28,116],[29,9,29,17],[29,18,29,26],[29,27,29,35],[29,36,29,44],[29,45,29,53],[29,54,29,62],[29,63,29,71],[29,72,29,80],[29,81,29,89],[29,90,29,98],[29,99,29,107],[29,108,29,116],[28,78,28,80],[28,81,28,83],[28,87,28,89],[28,90,28,92],[28,96,28,98],[28,54,28,56],[28,60,28,62],[28,63,28,65],[46,115,46,116],[46,72,46,78],[46,79,46,80],[46,81,46,87],[46,88,46,89],[46,90,46,96],[46,9,46,15],[46,16,46,17],[46,18,46,24],[46,25,46,26],[46,27,46,33],[46,34,46,35],[46,36,46,42],[46,43,46,44],[46,45,46,51],[46,52,46,53],[46,54,46,60],[46,61,46,62],[46,63,46,69],[46,70,46,71],[47,9,47,15],[47,16,47,17],[47,18,47,24],[47,25,47,26],[47,27,47,33],[46,97,46,98],[46,99,46,105],[46,106,46,107],[46,108,46,114],[47,61,47,62],[47,63,47,69],[47,70,47,71],[47,72,47,78],[47,34,47,35],[47,36,47,42],[47,43,47,44],[47,45,47,51],[47,52,47,53],[48,79,48,80],[48,81,48,87],[47,99,47,105],[47,106,47,107],[47,108,47,114],[47,115,47,116],[48,9,48,15],[48,16,48,17],[48,18,48,24],[48,25,48,26],[48,27,48,33],[48,34,48,35],[48,36,48,42],[48,43,48,44],[48,45,48,51],[48,52,48,53],[48,54,48,60],[48,61,48,62],[47,79,47,80],[47,81,47,87],[47,88,47,89],[47,90,47,96],[47,97,47,98],[47,54,47,60],[48,108,48,114],[48,115,48,116],[49,9,49,15],[49,16,49,17],[49,18,49,24],[49,25,49,26],[49,27,49,33],[49,34,49,35],[49,36,49,42],[49,43,49,44],[49,45,49,51],[49,52,49,53],[49,54,49,60],[49,61,49,62],[49,63,49,69],[49,70,49,71],[48,88,48,89],[48,90,48,96],[48,97,48,98],[48,99,48,105],[48,106,48,107],[48,63,48,69],[48,70,48,71],[48,72,48,78],[49,97,49,98],[49,99,49,105],[49,106,49,107],[49,108,49,114],[49,115,49,116],[49,72,49,78],[49,79,49,80],[49,81,49,87],[49,88,49,89],[49,90,49,96],[50,34,50,35],[50,36,50,42],[50,43,50,44],[50,45,50,51],[50,52,50,53],[50,9,50,15],[50,16,50,17],[50,18,50,24],[50,25,50,26],[50,27,50,33],[50,108,50,114],[50,115,50,116],[51,9,51,15],[51,16,51,17],[51,18,51,24],[51,25,51,26],[51,27,51,33],[51,34,51,35],[51,36,51,42],[51,43,51,44],[51,45,51,51],[51,52,51,53],[51,54,51,60],[51,61,51,62],[50,79,50,80],[50,81,50,87],[50,88,50,89],[50,90,50,96],[50,97,50,98],[50,54,50,60],[50,61,50,62],[50,63,50,69],[50,70,50,71],[50,72,50,78],[51,97,51,98],[51,99,51,105],[51,106,51,107],[51,63,51,69],[51,70,51,71],[51,72,51,78],[51,79,51,80],[51,81,51,87],[50,99,50,105],[50,106,50,107],[52,115,52,116],[52,72,52,78],[52,79,52,80],[52,81,52,87],[52,88,52,89],[52,90,52,96],[51,108,51,114],[51,115,51,116],[52,9,52,15],[52,16,52,17],[52,18,52,24],[52,25,52,26],[52,27,52,33],[52,34,52,35],[52,36,52,42],[52,43,52,44],[52,45,52,51],[52,52,52,53],[52,54,52,60],[52,61,52,62],[52,63,52,69],[52,70,52,71],[51,88,51,89],[51,90,51,96],[53,9,53,15],[53,16,53,17],[53,18,53,24],[53,25,53,26],[53,27,53,33],[52,97,52,98],[52,99,52,105],[52,106,52,107],[52,108,52,114],[53,61,53,62],[53,63,53,69],[53,70,53,71],[53,72,53,78],[53,34,53,35],[53,36,53,42],[53,43,53,44],[53,45,53,51],[53,52,53,53],[54,79,54,80],[54,81,54,87],[53,99,53,105],[53,106,53,107],[53,108,53,114],[53,115,53,116],[54,9,54,15],[54,16,54,17],[54,18,54,24],[54,25,54,26],[54,27,54,33],[54,34,54,35],[54,36,54,42],[54,43,54,44],[54,45,54,51],[54,52,54,53],[54,54,54,60],[54,61,54,62],[53,79,53,80],[53,81,53,87],[53,88,53,89],[53,90,53,96],[53,97,53,98],[53,54,53,60],[54,108,54,114],[54,115,54,116],[55,9,55,15],[55,16,55,17],[55,18,55,24],[55,25,55,26],[55,27,55,33],[55,34,55,35],[55,36,55,42],[55,43,55,44],[55,45,55,51],[55,52,55,53],[55,54,55,60],[55,61,55,62],[55,63,55,69],[55,70,55,71],[54,88,54,89],[54,90,54,96],[54,97,54,98],[54,99,54,105],[54,106,54,107],[54,63,54,69],[54,70,54,71],[54,72,54,78],[56,16,56,17],[56,18,56,24],[56,25,56,26],[56,27,56,33],[55,97,55,98],[55,99,55,105],[55,106,55,107],[55,108,55,114],[55,115,55,116],[55,72,55,78],[55,79,55,80],[55,81,55,87],[55,88,55,89],[55,90,55,96],[56,115,56,116],[56,34,56,35],[57,9,57,17],[57,18,57,26],[57,27,57,35],[57,36,57,44],[57,45,57,53],[57,54,57,62],[57,63,57,71],[57,72,57,80],[57,81,57,89],[57,90,57,98],[57,99,57,107],[57,108,57,116],[56,79,56,80],[56,81,56,87],[56,88,56,89],[56,90,56,96],[56,97,56,98],[56,54,56,60],[56,61,56,62],[56,63,56,69],[56,70,56,71],[56,72,56,78],[59,70,59,71],[59,72,59,78],[59,34,59,35],[59,36,59,42],[59,43,59,44],[59,45,59,51],[59,52,59,53],[59,9,59,15],[59,16,59,17],[59,18,59,24],[59,25,59,26],[59,27,59,33],[59,99,59,105],[59,106,59,107],[59,108,59,114],[59,115,59,116],[30,0,30,2],[58,0,58,6],[58,7,58,8],[30,9,30,11],[30,18,30,20],[30,27,30,29],[30,36,30,38],[30,45,30,47],[30,54,30,56],[30,63,30,65],[30,72,30,74],[30,81,30,83],[59,79,59,80],[59,81,59,87],[59,88,59,89],[59,90,59,96],[59,97,59,98],[59,54,59,60],[59,61,59,62],[59,63,59,69],[30,90,30,92],[30,99,30,101],[30,108,30,110],[58,9,58,15],[58,16,58,17],[58,18,58,24],[58,25,58,26],[58,27,58,33],[58,34,58,35],[58,36,58,42],[58,43,58,44],[58,45,58,51],[58,52,58,53],[58,54,58,60],[58,61,58,62],[58,63,58,69],[56,99,56,105],[56,106,56,107],[56,108,56,114],[56,36,56,42],[56,43,56,44],[56,45,56,51],[56,52,56,53],[56,9,56,15],[58,115,58,116],[58,90,58,96],[58,97,58,98],[58,99,58,105],[58,106,58,107],[58,108,58,114],[58,70,58,71],[58,72,58,78],[58,79,58,80],[58,81,58,87],[58,88,58,89]]}
["WYKAZ LINII",null,null,null,null,null,null,null,null,"WYKAZ LINII",null,null,null,null,null,null,null,null,"WYKAZ LINII",null,null,null,null,null,null,null,null,"WYKAZ LINII",null,null,null,null,null,null,null,null,"WYKAZ LINII",null,null,null,null,null,null,null,null,"WYKAZ LINII",null,null,null,null,null,null,null,null,"WYKAZ LINII",null,null,null,null,null,null,null,null,"WYKAZ LINII",null,null,null,null,null,null,null,null,"WYKAZ LINII",null,null,null,null,null,null,null,null,"WYKAZ LINII",null,null,null,null,null,null,null,null,"WYKAZ LINII",null,null,null,null,null,null,null,null,"WYKAZ LINII",null,null,null,null,null,null,null,null,"WYKAZ LINII"]
[{"$f":"SUM(3:3)","v":0},"ILOŚĆ LINII",null,null,null,null,null,null,null,{"$f":"SUM(3:3)","v":0},"ILOŚĆ LINII",null,null,null,null,null,null,null,{"$f":"SUM(3:3)","v":0},"ILOŚĆ LINII",null,null,null,null,null,null,null,{"$f":"SUM(3:3)","v":0},"ILOŚĆ LINII",null,null,null,null,null,null,null,{"$f":"SUM(3:3)","v":0},"ILOŚĆ LINII",null,null,null,null,null,null,null,{"$f":"SUM(3:3)","v":0},"ILOŚĆ LINII",null,null,null,null,null,null,null,{"$f":"SUM(3:3)","v":0},"ILOŚĆ LINII",null,null,null,null,null,null,null,{"$f":"SUM(3:3)","v":0},"ILOŚĆ LINII",null,null,null,null,null,null,null,{"$f":"SUM(3:3)","v":0},"ILOŚĆ LINII",null,null,null,null,null,null,null,{"$f":"SUM(3:3)","v":0},"ILOŚĆ LINII",null,null,null,null,null,null,null,{"$f":"SUM(3:3)","v":0},"ILOŚĆ LINII",null,null,null,null,null,null,null,{"$f":"SUM(3:3)","v":0},"ILOŚĆ LINII",null,null,null,null,null,null,null,{"$f":"SUM(3:3)","v":0},"ILOŚĆ LINII"]
[null,{"$f":"IF(B19=\"\",0,1)","v":0},null,null,null,null,null,null,null,null,{"$f":"IF(K19=\"\",0,1)","v":0},null,null,null,null,null,null,null,null,{"$f":"IF(T19=\"\",0,1)","v":0},null,null,null,null,null,null,null,null,{"$f":"IF(AC19=\"\",0,1)","v":0},null,null,null,null,null,null,null,null,{"$f":"IF(AL19=\"\",0,1)","v":0},null,null,null,null,null,null,null,null,{"$f":"IF(AU19=\"\",0,1)","v":0},null,null,null,null,null,null,null,null,{"$f":"IF(BD19=\"\",0,1)","v":0},null,null,null,null,null,null,null,null,{"$f":"IF(BM19=\"\",0,1)","v":0},null,null,null,null,null,null,null,null,{"$f":"IF(BV19=\"\",0,1)","v":0},null,null,null,null,null,null,null,null,{"$f":"IF(CE19=\"\",0,1)","v":0},null,null,null,null,null,null,null,null,{"$f":"IF(CN19=\"\",0,1)","v":0},null,null,null,null,null,null,null,null,{"$f":"IF(CW19=\"\",0,1)","v":0},null,null,null,null,null,null,null,null,{"$f":"IF(DF19=\"\",0,1)","v":0}]
[{"$f":"SUM(5:5)","v":0},"DŁUGOŚĆ LINII",null,null,null,null,null,null,null,{"$f":"SUM(5:5)","v":0},"DŁUGOŚĆ LINII",null,null,null,null,null,null,null,{"$f":"SUM(5:5)","v":0},"DŁUGOŚĆ LINII",null,null,null,null,null,null,null,{"$f":"SUM(5:5)","v":0},"DŁUGOŚĆ LINII",null,null,null,null,null,null,null,{"$f":"SUM(5:5)","v":0},"DŁUGOŚĆ LINII",null,null,null,null,null,null,null,{"$f":"SUM(5:5)","v":0},"DŁUGOŚĆ LINII",null,null,null,null,null,null,null,{"$f":"SUM(5:5)","v":0},"DŁUGOŚĆ LINII",null,null,null,null,null,null,null,{"$f":"SUM(5:5)","v":0},"DŁUGOŚĆ LINII",null,null,null,null,null,null,null,{"$f":"SUM(5:5)","v":0},"DŁUGOŚĆ LINII",null,null,null,null,null,null,null,{"$f":"SUM(5:5)","v":0},"DŁUGOŚĆ LINII",null,null,null,null,null,null,null,{"$f":"SUM(5:5)","v":0},"DŁUGOŚĆ LINII",null,null,null,null,null,null,null,{"$f":"SUM(5:5)","v":0},"DŁUGOŚĆ LINII",null,null,null,null,null,null,null,{"$f":"SUM(5:5)","v":0},"DŁUGOŚĆ LINII"]
[null,{"$f":"C21","v":0},null,null,null,null,null,null,null,null,{"$f":"L21","v":0},null,null,null,null,null,null,null,null,{"$f":"U21","v":0},null,null,null,null,null,null,null,null,{"$f":"AD21","v":0},null,null,null,null,null,null,null,null,{"$f":"AM21","v":0},null,null,null,null,null,null,null,null,{"$f":"AV21","v":0},null,null,null,null,null,null,null,null,{"$f":"BE21","v":0},null,null,null,null,null,null,null,null,{"$f":"BN21","v":0},null,null,null,null,null,null,null,null,{"$f":"BW21","v":0},null,null,null,null,null,null,null,null,{"$f":"CF21","v":0},null,null,null,null,null,null,null,null,{"$f":"CO21","v":0},null,null,null,null,null,null,null,null,{"$f":"CX21","v":0},null,null,null,null,null,null,null,null,{"$f":"DG21","v":0}]
[{"$f":"SUM(7:7)","v":0},"LICZBA PRZEJAZDÓW",null,null,null,null,null,null,null,{"$f":"SUM(7:7)","v":0},"LICZBA PRZEJAZDÓW",null,null,null,null,null,null,null,{"$f":"SUM(7:7)","v":0},"LICZBA PRZEJAZDÓW",null,null,null,null,null,null,null,{"$f":"SUM(7:7)","v":0},"LICZBA PRZEJAZDÓW",null,null,null,null,null,null,null,{"$f":"SUM(7:7)","v":0},"LICZBA PRZEJAZDÓW",null,null,null,null,null,null,null,{"$f":"SUM(7:7)","v":0},"LICZBA PRZEJAZDÓW",null,null,null,null,null,null,null,{"$f":"SUM(7:7)","v":0},"LICZBA PRZEJAZDÓW",null,null,null,null,null,null,null,{"$f":"SUM(7:7)","v":0},"LICZBA PRZEJAZDÓW",null,null,null,null,null,null,null,{"$f":"SUM(7:7)","v":0},"LICZBA PRZEJAZDÓW",null,null,null,null,null,null,null,{"$f":"SUM(7:7)","v":0},"LICZBA PRZEJAZDÓW",null,null,null,null,null,null,null,{"$f":"SUM(7:7)","v":0},"LICZBA PRZEJAZDÓW",null,null,null,null,null,null,null,{"$f":"SUM(7:7)","v":0},"LICZBA PRZEJAZDÓW",null,null,null,null,null,null,null,{"$f":"SUM(7:7)","v":0},"LICZBA PRZEJAZDÓW"]
[null,{"$f":"B33","v":0},null,null,null,null,null,null,null,null,{"$f":"K33","v":0},null,null,null,null,null,null,null,null,{"$f":"T33","v":0},null,null,null,null,null,null,null,null,{"$f":"AC33","v":0},null,null,null,null,null,null,null,null,{"$f":"AL33","v":0},null,null,null,null,null,null,null,null,{"$f":"AU33","v":0},null,null,null,null,null,null,null,null,{"$f":"BD33","v":0},null,null,null,null,null,null,null,null,{"$f":"BM33","v":0},null,null,null,null,null,null,null,null,{"$f":"BV33","v":0},null,null,null,null,null,null,null,null,{"$f":"CE33","v":0},null,null,null,null,null,null,null,null,{"$f":"CN33","v":0},null,null,null,null,null,null,null,null,{"$f":"CW33","v":0},null,null,null,null,null,null,null,null,{"$f":"DF33","v":0}]
[{"$f":"SUM(9:9)","v":0},"WIELKOŚĆ PRACY",null,null,null,null,null,null,null,{"$f":"SUM(9:9)","v":0},"WIELKOŚĆ PRACY",null,null,null,null,null,null,null,{"$f":"SUM(9:9)","v":0},"WIELKOŚĆ PRACY",null,null,null,null,null,null,null,{"$f":"SUM(9:9)","v":0},"WIELKOŚĆ PRACY",null,null,null,null,null,null,null,{"$f":"SUM(9:9)","v":0},"WIELKOŚĆ PRACY",null,null,null,null,null,null,null,{"$f":"SUM(9:9)","v":0},"WIELKOŚĆ PRACY",null,null,null,null,null,null,null,{"$f":"SUM(9:9)","v":0},"WIELKOŚĆ PRACY",null,null,null,null,null,null,null,{"$f":"SUM(9:9)","v":0},"WIELKOŚĆ PRACY",null,null,null,null,null,null,null,{"$f":"SUM(9:9)","v":0},"WIELKOŚĆ PRACY",null,null,null,null,null,null,null,{"$f":"SUM(9:9)","v":0},"WIELKOŚĆ PRACY",null,null,null,null,null,null,null,{"$f":"SUM(9:9)","v":0},"WIELKOŚĆ PRACY",null,null,null,null,null,null,null,{"$f":"SUM(9:9)","v":0},"WIELKOŚĆ PRACY",null,null,null,null,null,null,null,{"$f":"SUM(9:9)","v":0},"WIELKOŚĆ PRACY"]
[null,{"$f":"G29","v":0},null,null,null,null,null,null,null,null,{"$f":"P29","v":0},null,null,null,null,null,null,null,null,{"$f":"Y29","v":0},null,null,null,null,null,null,null,null,{"$f":"AH29","v":0},null,null,null,null,null,null,null,null,{"$f":"AQ29","v":0},null,null,null,null,null,null,null,null,{"$f":"AZ29","v":0},null,null,null,null,null,null,null,null,{"$f":"BI29","v":0},null,null,null,null,null,null,null,null,{"$f":"BR29","v":0},null,null,null,null,null,null,null,null,{"$f":"CA29","v":0},null,null,null,null,null,null,null,null,{"$f":"CJ29","v":0},null,null,null,null,null,null,null,null,{"$f":"CS29","v":0},null,null,null,null,null,null,null,null,{"$f":"DB29","v":0},null,null,null,null,null,null,null,null,{"$f":"DK29","v":0}]
[{"$f":"SUM(11:11)","v":0},"KWOTA DEFICYTU",null,null,null,null,null,null,null,{"$f":"SUM(11:11)","v":0},"KWOTA DEFICYTU",null,null,null,null,null,null,null,{"$f":"SUM(11:11)","v":0},"KWOTA DEFICYTU",null,null,null,null,null,null,null,{"$f":"SUM(11:11)","v":0},"KWOTA DEFICYTU",null,null,null,null,null,null,null,{"$f":"SUM(11:11)","v":0},"KWOTA DEFICYTU",null,null,null,null,null,null,null,{"$f":"SUM(11:11)","v":0},"KWOTA DEFICYTU",null,null,null,null,null,null,null,{"$f":"SUM(11:11)","v":0},"KWOTA DEFICYTU",null,null,null,null,null,null,null,{"$f":"SUM(11:11)","v":0},"KWOTA DEFICYTU",null,null,null,null,null,null,null,{"$f":"SUM(11:11)","v":0},"KWOTA DEFICYTU",null,null,null,null,null,null,null,{"$f":"SUM(11:11)","v":0},"KWOTA DEFICYTU",null,null,null,null,null,null,null,{"$f":"SUM(11:11)","v":0},"KWOTA DEFICYTU",null,null,null,null,null,null,null,{"$f":"SUM(11:11)","v":0},"KWOTA DEFICYTU",null,null,null,null,null,null,null,{"$f":"SUM(11:11)","v":0},"KWOTA DEFICYTU"]
[null,{"$f":"H52","v":"BRAK DEFICYTU"},null,null,null,null,null,null,null,null,{"$f":"Q52","v":"BRAK DEFICYTU"},null,null,null,null,null,null,null,null,{"$f":"Z52","v":"BRAK DEFICYTU"},null,null,null,null,null,null,null,null,{"$f":"AI52","v":"BRAK DEFICYTU"},null,null,null,null,null,null,null,null,{"$f":"AR52","v":"BRAK DEFICYTU"},null,null,null,null,null,null,null,null,{"$f":"BA52","v":"BRAK DEFICYTU"},null,null,null,null,null,null,null,null,{"$f":"BJ52","v":"BRAK DEFICYTU"},null,null,null,null,null,null,null,null,{"$f":"BS52","v":"BRAK DEFICYTU"},null,null,null,null,null,null,null,null,{"$f":"CB52","v":"BRAK DEFICYTU"},null,null,null,null,null,null,null,null,{"$f":"CK52","v":"BRAK DEFICYTU"},null,null,null,null,null,null,null,null,{"$f":"CT52","v":"BRAK DEFICYTU"},null,null,null,null,null,null,null,null,{"$f":"DC52","v":"BRAK DEFICYTU"},null,null,null,null,null,null,null,null,{"$f":"DL52","v":"BRAK DEFICYTU"}]
[{"$f":"SUM(13:13)","v":0},"KWOTA WŁASNA",null,null,null,null,null,null,null,{"$f":"SUM(13:13)","v":0},"KWOTA WŁASNA",null,null,null,null,null,null,null,{"$f":"SUM(13:13)","v":0},"KWOTA WŁASNA",null,null,null,null,null,null,null,{"$f":"SUM(13:13)","v":0},"KWOTA WŁASNA",null,null,null,null,null,null,null,{"$f":"SUM(13:13)","v":0},"KWOTA WŁASNA",null,null,null,null,null,null,null,{"$f":"SUM(13:13)","v":0},"KWOTA WŁASNA",null,null,null,null,null,null,null,{"$f":"SUM(13:13)","v":0},"KWOTA WŁASNA",null,null,null,null,null,null,null,{"$f":"SUM(13:13)","v":0},"KWOTA WŁASNA",null,null,null,null,null,null,null,{"$f":"SUM(13:13)","v":0},"KWOTA WŁASNA",null,null,null,null,null,null,null,{"$f":"SUM(13:13)","v":0},"KWOTA WŁASNA",null,null,null,null,null,null,null,{"$f":"SUM(13:13)","v":0},"KWOTA WŁASNA",null,null,null,null,null,null,null,{"$f":"SUM(13:13)","v":0},"KWOTA WŁASNA",null,null,null,null,null,null,null,{"$f":"SUM(13:13)","v":0},"KWOTA WŁASNA"]
[null,{"$f":"H56","v":0},null,null,null,null,null,null,null,null,{"$f":"Q56","v":0},null,null,null,null,null,null,null,null,{"$f":"Z56","v":0},null,null,null,null,null,null,null,null,{"$f":"AI56","v":0},null,null,null,null,null,null,null,null,{"$f":"AR56","v":0},null,null,null,null,null,null,null,null,{"$f":"BA56","v":0},null,null,null,null,null,null,null,null,{"$f":"BJ56","v":0},null,null,null,null,null,null,null,null,{"$f":"BS56","v":0},null,null,null,null,null,null,null,null,{"$f":"CB56","v":0},null,null,null,null,null,null,null,null,{"$f":"CK56","v":0},null,null,null,null,null,null,null,null,{"$f":"CT56","v":0},null,null,null,null,null,null,null,null,{"$f":"DC56","v":0},null,null,null,null,null,null,null,null,{"$f":"DL56","v":0}]
[{"$f":"SUM(15:15)","v":0},"KWOTA Z FUNDUSZU",null,null,null,null,null,null,null,{"$f":"SUM(15:15)","v":0},"KWOTA Z FUNDUSZU",null,null,null,null,null,null,null,{"$f":"SUM(15:15)","v":0},"KWOTA Z FUNDUSZU",null,null,null,null,null,null,null,{"$f":"SUM(15:15)","v":0},"KWOTA Z FUNDUSZU",null,null,null,null,null,null,null,{"$f":"SUM(15:15)","v":0},"KWOTA Z FUNDUSZU",null,null,null,null,null,null,null,{"$f":"SUM(15:15)","v":0},"KWOTA Z FUNDUSZU",null,null,null,null,null,null,null,{"$f":"SUM(15:15)","v":0},"KWOTA Z FUNDUSZU",null,null,null,null,null,null,null,{"$f":"SUM(15:15)","v":0},"KWOTA Z FUNDUSZU",null,null,null,null,null,null,null,{"$f":"SUM(15:15)","v":0},"KWOTA Z FUNDUSZU",null,null,null,null,null,null,null,{"$f":"SUM(15:15)","v":0},"KWOTA Z FUNDUSZU",null,null,null,null,null,null,null,{"$f":"SUM(15:15)","v":0},"KWOTA Z FUNDUSZU",null,null,null,null,null,null,null,{"$f":"SUM(15:15)","v":0},"KWOTA Z FUNDUSZU",null,null,null,null,null,null,null,{"$f":"SUM(15:15)","v":0},"KWOTA Z FUNDUSZU"]
[null,{"$f":"H57","v":0},null,null,null,null,null,null,null,null,{"$f":"Q57","v":0},null,null,null,null,null,null,null,null,{"$f":"Z57","v":0},null,null,null,null,null,null,null,null,{"$f":"AI57","v":0},null,null,null,null,null,null,null,null,{"$f":"AR57","v":0},null,null,null,null,null,null,null,null,{"$f":"BA57","v":0},null,null,null,null,null,null,null,null,{"$f":"BJ57","v":0},null,null,null,null,null,null,null,null,{"$f":"BS57","v":0},null,null,null,null,null,null,null,null,{"$f":"CB57","v":0},null,null,null,null,null,null,null,null,{"$f":"CK57","v":0},null,null,null,null,null,null,null,null,{"$f":"CT57","v":0},null,null,null,null,null,null,null,null,{"$f":"DC57","v":0},null,null,null,null,null,null,null,null,{"$f":"DL57","v":0}]
[{"$f":"SUM(17:17)","v":0},"RÓŻNICA",null,null,null,null,null,null,null,{"$f":"SUM(17:17)","v":0},"RÓŻNICA",null,null,null,null,null,null,null,{"$f":"SUM(17:17)","v":0},"RÓŻNICA",null,null,null,null,null,null,null,{"$f":"SUM(17:17)","v":0},"RÓŻNICA",null,null,null,null,null,null,null,{"$f":"SUM(17:17)","v":0},"RÓŻNICA",null,null,null,null,null,null,null,{"$f":"SUM(17:17)","v":0},"RÓŻNICA",null,null,null,null,null,null,null,{"$f":"SUM(17:17)","v":0},"RÓŻNICA",null,null,null,null,null,null,null,{"$f":"SUM(17:17)","v":0},"RÓŻNICA",null,null,null,null,null,null,null,{"$f":"SUM(17:17)","v":0},"RÓŻNICA",null,null,null,null,null,null,null,{"$f":"SUM(17:17)","v":0},"RÓŻNICA",null,null,null,null,null,null,null,{"$f":"SUM(17:17)","v":0},"RÓŻNICA",null,null,null,null,null,null,null,{"$f":"SUM(17:17)","v":0},"RÓŻNICA",null,null,null,null,null,null,null,{"$f":"SUM(17:17)","v":0},"RÓŻNICA"]
[null,{"$f":"H60","v":0},null,null,null,null,null,null,null,null,{"$f":"Q60","v":0},null,null,null,null,null,null,null,null,{"$f":"Z60","v":0},null,null,null,null,null,null,null,null,{"$f":"AI60","v":0},null,null,null,null,null,null,null,null,{"$f":"AR60","v":0},null,null,null,null,null,null,null,null,{"$f":"BA60","v":0},null,null,null,null,null,null,null,null,{"$f":"BJ60","v":0},null,null,null,null,null,null,null,null,{"$f":"BS60","v":0},null,null,null,null,null,null,null,null,{"$f":"CB60","v":0},null,null,null,null,null,null,null,null,{"$f":"CK60","v":0},null,null,null,null,null,null,null,null,{"$f":"CT60","v":0},null,null,null,null,null,null,null,null,{"$f":"DC60","v":0},null,null,null,null,null,null,null,null,{"$f":"DL60","v":0}]
[]
["LP LINII KOMUNIKACYJNEJ",null,"NAZWA LINII KOMUNIKACYJNEJ",null,null,null,null,null,null,"LP LINII KOMUNIKACYJNEJ",null,"NAZWA LINII KOMUNIKACYJNEJ",null,null,null,null,null,null,"LP LINII KOMUNIKACYJNEJ",null,"NAZWA LINII KOMUNIKACYJNEJ",null,null,null,null,null,null,"LP LINII KOMUNIKACYJNEJ",null,"NAZWA LINII KOMUNIKACYJNEJ",null,null,null,null,null,null,"LP LINII KOMUNIKACYJNEJ",null,"NAZWA LINII KOMUNIKACYJNEJ",null,null,null,null,null,null,"LP LINII KOMUNIKACYJNEJ",null,"NAZWA LINII KOMUNIKACYJNEJ",null,null,null,null,null,null,"LP LINII KOMUNIKACYJNEJ",null,"NAZWA LINII KOMUNIKACYJNEJ",null,null,null,null,null,null,"LP LINII KOMUNIKACYJNEJ",null,"NAZWA LINII KOMUNIKACYJNEJ",null,null,null,null,null,null,"LP LINII KOMUNIKACYJNEJ",null,"NAZWA LINII KOMUNIKACYJNEJ",null,null,null,null,null,null,"LP LINII KOMUNIKACYJNEJ",null,"NAZWA LINII KOMUNIKACYJNEJ",null,null,null,null,null,null,"LP LINII KOMUNIKACYJNEJ",null,"NAZWA LINII KOMUNIKACYJNEJ",null,null,null,null,null,null,"LP LINII KOMUNIKACYJNEJ",null,"NAZWA LINII KOMUNIKACYJNEJ",null,null,null,null,null,null,"LP LINII KOMUNIKACYJNEJ",null,"NAZWA LINII KOMUNIKACYJNEJ"]
[]
["DŁUGOŚĆ LINII KOMUNIKACYJNEJ W KM",null,null,null,null,null,null,null,null,"DŁUGOŚĆ LINII KOMUNIKACYJNEJ W KM",null,null,null,null,null,null,null,null,"DŁUGOŚĆ LINII KOMUNIKACYJNEJ W KM",null,null,null,null,null,null,null,null,"DŁUGOŚĆ LINII KOMUNIKACYJNEJ W KM",null,null,null,null,null,null,null,null,"DŁUGOŚĆ LINII KOMUNIKACYJNEJ W KM",null,null,null,null,null,null,null,null,"DŁUGOŚĆ LINII KOMUNIKACYJNEJ W KM",null,null,null,null,null,null,null,null,"DŁUGOŚĆ LINII KOMUNIKACYJNEJ W KM",null,null,null,null,null,null,null,null,"DŁUGOŚĆ LINII KOMUNIKACYJNEJ W KM",null,null,null,null,null,null,null,null,"DŁUGOŚĆ LINII KOMUNIKACYJNEJ W KM",null,null,null,null,null,null,null,null,"DŁUGOŚĆ LINII KOMUNIKACYJNEJ W KM",null,null,null,null,null,null,null,null,"DŁUGOŚĆ LINII KOMUNIKACYJNEJ W KM",null,null,null,null,null,null,null,null,"DŁUGOŚĆ LINII KOMUNIKACYJNEJ W KM",null,null,null,null,null,null,null,null,"DŁUGOŚĆ LINII KOMUNIKACYJNEJ W KM"]
[{"$f":"MONTH(1&A24)","v":1},{"$f":"IF(B23=\"\",\"\",A22)","v":""},{"$f":"MONTH(1&C24)","v":1},null,null,null,{"$f":"IF(G23=\"\",\"\",C22)","v":""},null,null,{"$f":"MONTH(1&J24)","v":1},{"$f":"IF(K23=\"\",\"\",J22)","v":""},{"$f":"MONTH(1&L24)","v":1},null,null,null,{"$f":"IF(P23=\"\",\"\",L22)","v":""},null,null,{"$f":"MONTH(1&S24)","v":1},{"$f":"IF(T23=\"\",\"\",S22)","v":""},{"$f":"MONTH(1&U24)","v":1},null,null,null,{"$f":"IF(Y23=\"\",\"\",U22)","v":""},null,null,{"$f":"MONTH(1&AB24)","v":1},{"$f":"IF(AC23=\"\",\"\",AB22)","v":""},{"$f":"MONTH(1&AD24)","v":1},null,null,null,{"$f":"IF(AH23=\"\",\"\",AD22)","v":""},null,null,{"$f":"MONTH(1&AK24)","v":1},{"$f":"IF(AL23=\"\",\"\",AK22)","v":""},{"$f":"MONTH(1&AM24)","v":1},null,null,null,{"$f":"IF(AQ23=\"\",\"\",AM22)","v":""},null,null,{"$f":"MONTH(1&AT24)","v":1},{"$f":"IF(AU23=\"\",\"\",AT22)","v":""},{"$f":"MONTH(1&AV24)","v":1},null,null,null,{"$f":"IF(AZ23=\"\",\"\",AV22)","v":""},null,null,{"$f":"MONTH(1&BC24)","v":1},{"$f":"IF(BD23=\"\",\"\",BC22)","v":""},{"$f":"MONTH(1&BE24)","v":1},null,null,null,{"$f":"IF(BI23=\"\",\"\",BE22)","v":""},null,null,{"$f":"MONTH(1&BL24)","v":1},{"$f":"IF(BM23=\"\",\"\",BL22)","v":""},{"$f":"MONTH(1&BN24)","v":1},null,null,null,{"$f":"IF(BR23=\"\",\"\",BN22)","v":""},null,null,{"$f":"MONTH(1&BU24)","v":1},{"$f":"IF(BV23=\"\",\"\",BU22)","v":""},{"$f":"MONTH(1&BW24)","v":1},null,null,null,{"$f":"IF(CA23=\"\",\"\",BW22)","v":""},null,null,{"$f":"MONTH(1&CD24)","v":1},{"$f":"IF(CE23=\"\",\"\",CD22)","v":""},{"$f":"MONTH(1&CF24)","v":1},null,null,null,{"$f":"IF(CJ23=\"\",\"\",CF22)","v":""},null,null,{"$f":"MONTH(1&CM24)","v":1},{"$f":"IF(CN23=\"\",\"\",CM22)","v":""},{"$f":"MONTH(1&CO24)","v":1},null,null,null,{"$f":"IF(CS23=\"\",\"\",CO22)","v":""},null,null,{"$f":"MONTH(1&CV24)","v":1},{"$f":"IF(CW23=\"\",\"\",CV22)","v":""},{"$f":"MONTH(1&CX24)","v":1},null,null,null,{"$f":"IF(DB23=\"\",\"\",CX22)","v":""},null,null,{"$f":"MONTH(1&DE24)","v":1},{"$f":"IF(DF23=\"\",\"\",DE22)","v":""},{"$f":"MONTH(1&DG24)","v":1},null,null,null,{"$f":"IF(DK23=\"\",\"\",DG22)","v":""}]
["data rozpoczęcia ruchu w danym okresie",null,"data zakończenia ruchu w danym okresie",null,null,null,null,null,null,"data rozpoczęcia ruchu w danym okresie",null,"data zakończenia ruchu w danym okresie",null,null,null,null,null,null,"data rozpoczęcia ruchu w danym okresie",null,"data zakończenia ruchu w danym okresie",null,null,null,null,null,null,"data rozpoczęcia ruchu w danym okresie",null,"data zakończenia ruchu w danym okresie",null,null,null,null,null,null,"data rozpoczęcia ruchu w danym okresie",null,"data zakończenia ruchu w danym okresie",null,null,null,null,null,null,"data rozpoczęcia ruchu w danym okresie",null,"data zakończenia ruchu w danym okresie",null,null,null,null,null,null,"data rozpoczęcia ruchu w danym okresie",null,"data zakończenia ruchu w danym okresie",null,null,null,null,null,null,"data rozpoczęcia ruchu w danym okresie",null,"data zakończenia ruchu w danym okresie",null,null,null,null,null,null,"data rozpoczęcia ruchu w danym okresie",null,"data zakończenia ruchu w danym okresie",null,null,null,null,null,null,"data rozpoczęcia ruchu w danym okresie",null,"data zakończenia ruchu w danym okresie",null,null,null,null,null,null,"data rozpoczęcia ruchu w danym okresie",null,"data zakończenia ruchu w danym okresie",null,null,null,null,null,null,"data rozpoczęcia ruchu w danym okresie",null,"data zakończenia ruchu w danym okresie",null,null,null,null,null,null,"data rozpoczęcia ruchu w danym okresie",null,"data zakończenia ruchu w danym okresie"]
[{"$f":"IF(B23=\"\",\"\",B24)","v":""},{"$f":"TEXT(B23,\"MMMM\")","v":"styczeń"},{"$f":"IF(G23=\"\",\"\",G24)","v":""},null,null,null,{"$f":"TEXT(G23,\"MMMM\")","v":"styczeń"},null,null,{"$f":"IF(K23=\"\",\"\",K24)","v":""},{"$f":"TEXT(K23,\"MMMM\")","v":"styczeń"},{"$f":"IF(P23=\"\",\"\",P24)","v":""},null,null,null,{"$f":"TEXT(P23,\"MMMM\")","v":"styczeń"},null,null,{"$f":"IF(T23=\"\",\"\",T24)","v":""},{"$f":"TEXT(T23,\"MMMM\")","v":"styczeń"},{"$f":"IF(Y23=\"\",\"\",Y24)","v":""},null,null,null,{"$f":"TEXT(Y23,\"MMMM\")","v":"styczeń"},null,null,{"$f":"IF(AC23=\"\",\"\",AC24)","v":""},{"$f":"TEXT(AC23,\"MMMM\")","v":"styczeń"},{"$f":"IF(AH23=\"\",\"\",AH24)","v":""},null,null,null,{"$f":"TEXT(AH23,\"MMMM\")","v":"styczeń"},null,null,{"$f":"IF(AL23=\"\",\"\",AL24)","v":""},{"$f":"TEXT(AL23,\"MMMM\")","v":"styczeń"},{"$f":"IF(AQ23=\"\",\"\",AQ24)","v":""},null,null,null,{"$f":"TEXT(AQ23,\"MMMM\")","v":"styczeń"},null,null,{"$f":"IF(AU23=\"\",\"\",AU24)","v":""},{"$f":"TEXT(AU23,\"MMMM\")","v":"styczeń"},{"$f":"IF(AZ23=\"\",\"\",AZ24)","v":""},null,null,null,{"$f":"TEXT(AZ23,\"MMMM\")","v":"styczeń"},null,null,{"$f":"IF(BD23=\"\",\"\",BD24)","v":""},{"$f":"TEXT(BD23,\"MMMM\")","v":"styczeń"},{"$f":"IF(BI23=\"\",\"\",BI24)","v":""},null,null,null,{"$f":"TEXT(BI23,\"MMMM\")","v":"styczeń"},null,null,{"$f":"IF(BM23=\"\",\"\",BM24)","v":""},{"$f":"TEXT(BM23,\"MMMM\")","v":"styczeń"},{"$f":"IF(BR23=\"\",\"\",BR24)","v":""},null,null,null,{"$f":"TEXT(BR23,\"MMMM\")","v":"styczeń"},null,null,{"$f":"IF(BV23=\"\",\"\",BV24)","v":""},{"$f":"TEXT(BV23,\"MMMM\")","v":"styczeń"},{"$f":"IF(CA23=\"\",\"\",CA24)","v":""},null,null,null,{"$f":"TEXT(CA23,\"MMMM\")","v":"styczeń"},null,null,{"$f":"IF(CE23=\"\",\"\",CE24)","v":""},{"$f":"TEXT(CE23,\"MMMM\")","v":"styczeń"},{"$f":"IF(CJ23=\"\",\"\",CJ24)","v":""},null,null,null,{"$f":"TEXT(CJ23,\"MMMM\")","v":"styczeń"},null,null,{"$f":"IF(CN23=\"\",\"\",CN24)","v":""},{"$f":"TEXT(CN23,\"MMMM\")","v":"styczeń"},{"$f":"IF(CS23=\"\",\"\",CS24)","v":""},null,null,null,{"$f":"TEXT(CS23,\"MMMM\")","v":"styczeń"},null,null,{"$f":"IF(CW23=\"\",\"\",CW24)","v":""},{"$f":"TEXT(CW23,\"MMMM\")","v":"styczeń"},{"$f":"IF(DB23=\"\",\"\",DB24)","v":""},null,null,null,{"$f":"TEXT(DB23,\"MMMM\")","v":"styczeń"},null,null,{"$f":"IF(DF23=\"\",\"\",DF24)","v":""},{"$f":"TEXT(DF23,\"MMMM\")","v":"styczeń"},{"$f":"IF(DK23=\"\",\"\",DK24)","v":""},null,null,null,{"$f":"TEXT(DK23,\"MMMM\")","v":"styczeń"}]
["OPERATOR",null,null,null,null,null,null,null,null,"OPERATOR",null,null,null,null,null,null,null,null,"OPERATOR",null,null,null,null,null,null,null,null,"OPERATOR",null,null,null,null,null,null,null,null,"OPERATOR",null,null,null,null,null,null,null,null,"OPERATOR",null,null,null,null,null,null,null,null,"OPERATOR",null,null,null,null,null,null,null,null,"OPERATOR",null,null,null,null,null,null,null,null,"OPERATOR",null,null,null,null,null,null,null,null,"OPERATOR",null,null,null,null,null,null,null,null,"OPERATOR",null,null,null,null,null,null,null,null,"OPERATOR",null,null,null,null,null,null,null,null,"OPERATOR"]
["NIP",null,"NAZWA",null,null,null,null,null,null,"NIP",null,"NAZWA",null,null,null,null,null,null,"NIP",null,"NAZWA",null,null,null,null,null,null,"NIP",null,"NAZWA",null,null,null,null,null,null,"NIP",null,"NAZWA",null,null,null,null,null,null,"NIP",null,"NAZWA",null,null,null,null,null,null,"NIP",null,"NAZWA",null,null,null,null,null,null,"NIP",null,"NAZWA",null,null,null,null,null,null,"NIP",null,"NAZWA",null,null,null,null,null,null,"NIP",null,"NAZWA",null,null,null,null,null,null,"NIP",null,"NAZWA",null,null,null,null,null,null,"NIP",null,"NAZWA",null,null,null,null,null,null,"NIP",null,"NAZWA"]
[]
[]
["ŁĄCZNA WIELKOŚĆ PRACY EKSPLOATACYJNEJ W WOZOKILOMETRACH W OKRESIE",null,null,null,null,null,{"$f":"C33","v":0},null,null,"ŁĄCZNA WIELKOŚĆ PRACY EKSPLOATACYJNEJ W WOZOKILOMETRACH W OKRESIE",null,null,null,null,null,{"$f":"L33","v":0},null,null,"ŁĄCZNA WIELKOŚĆ PRACY EKSPLOATACYJNEJ W WOZOKILOMETRACH W OKRESIE",null,null,null,null,null,{"$f":"U33","v":0},null,null,"ŁĄCZNA WIELKOŚĆ PRACY EKSPLOATACYJNEJ W WOZOKILOMETRACH W OKRESIE",null,null,null,null,null,{"$f":"AD33","v":0},null,null,"ŁĄCZNA WIELKOŚĆ PRACY EKSPLOATACYJNEJ W WOZOKILOMETRACH W OKRESIE",null,null,null,null,null,{"$f":"AM33","v":0},null,null,"ŁĄCZNA WIELKOŚĆ PRACY EKSPLOATACYJNEJ W WOZOKILOMETRACH W OKRESIE",null,null,null,null,null,{"$f":"AV33","v":0},null,null,"ŁĄCZNA WIELKOŚĆ PRACY EKSPLOATACYJNEJ W WOZOKILOMETRACH W OKRESIE",null,null,null,null,null,{"$f":"BE33","v":0},null,null,"ŁĄCZNA WIELKOŚĆ PRACY EKSPLOATACYJNEJ W WOZOKILOMETRACH W OKRESIE",null,null,null,null,null,{"$f":"BN33","v":0},null,null,"ŁĄCZNA WIELKOŚĆ PRACY EKSPLOATACYJNEJ W WOZOKILOMETRACH W OKRESIE",null,null,null,null,null,{"$f":"BW33","v":0},null,null,"ŁĄCZNA WIELKOŚĆ PRACY EKSPLOATACYJNEJ W WOZOKILOMETRACH W OKRESIE",null,null,null,null,null,{"$f":"CF33","v":0},null,null,"ŁĄCZNA WIELKOŚĆ PRACY EKSPLOATACYJNEJ W WOZOKILOMETRACH W OKRESIE",null,null,null,null,null,{"$f":"CO33","v":0},null,null,"ŁĄCZNA WIELKOŚĆ PRACY EKSPLOATACYJNEJ W WOZOKILOMETRACH W OKRESIE",null,null,null,null,null,{"$f":"CX33","v":0},null,null,"ŁĄCZNA WIELKOŚĆ PRACY EKSPLOATACYJNEJ W WOZOKILOMETRACH W OKRESIE",null,null,null,null,null,{"$f":"DG33","v":0}]
[]
["PRZEJAZDY NA LINII KOMUNIKACYJNEJ W OKRESIE",null,null,null,null,null,null,null,null,"PRZEJAZDY NA LINII KOMUNIKACYJNEJ W OKRESIE",null,null,null,null,null,null,null,null,"PRZEJAZDY NA LINII KOMUNIKACYJNEJ W OKRESIE",null,null,null,null,null,null,null,null,"PRZEJAZDY NA LINII KOMUNIKACYJNEJ W OKRESIE",null,null,null,null,null,null,null,null,"PRZEJAZDY NA LINII KOMUNIKACYJNEJ W OKRESIE",null,null,null,null,null,null,null,null,"PRZEJAZDY NA LINII KOMUNIKACYJNEJ W OKRESIE",null,null,null,null,null,null,null,null,"PRZEJAZDY NA LINII KOMUNIKACYJNEJ W OKRESIE",null,null,null,null,null,null,null,null,"PRZEJAZDY NA LINII KOMUNIKACYJNEJ W OKRESIE",null,null,null,null,null,null,null,null,"PRZEJAZDY NA LINII KOMUNIKACYJNEJ W OKRESIE",null,null,null,null,null,null,null,null,"PRZEJAZDY NA LINII KOMUNIKACYJNEJ W OKRESIE",null,null,null,null,null,null,null,null,"PRZEJAZDY NA LINII KOMUNIKACYJNEJ W OKRESIE",null,null,null,null,null,null,null,null,"PRZEJAZDY NA LINII KOMUNIKACYJNEJ W OKRESIE",null,null,null,null,null,null,null,null,"PRZEJAZDY NA LINII KOMUNIKACYJNEJ W OKRESIE"]
["W TYM:","LICZBA PRZEJAZDÓW","WIELKOŚĆ PRACY EKSPLOATACYJNEJ",{"$f":"SUM(D34:D45)","v":0},null,null,null,null,null,"W TYM:","LICZBA PRZEJAZDÓW","WIELKOŚĆ PRACY EKSPLOATACYJNEJ",{"$f":"SUM(M34:M45)","v":0},null,null,null,null,null,"W TYM:","LICZBA PRZEJAZDÓW","WIELKOŚĆ PRACY EKSPLOATACYJNEJ",{"$f":"SUM(V34:V45)","v":0},null,null,null,null,null,"W TYM:","LICZBA PRZEJAZDÓW","WIELKOŚĆ PRACY EKSPLOATACYJNEJ",{"$f":"SUM(AE34:AE45)","v":0},null,null,null,null,null,"W TYM:","LICZBA PRZEJAZDÓW","WIELKOŚĆ PRACY EKSPLOATACYJNEJ",{"$f":"SUM(AN34:AN45)","v":0},null,null,null,null,null,"W TYM:","LICZBA PRZEJAZDÓW","WIELKOŚĆ PRACY EKSPLOATACYJNEJ",{"$f":"SUM(AW34:AW45)","v":0},null,null,null,null,null,"W TYM:","LICZBA PRZEJAZDÓW","WIELKOŚĆ PRACY EKSPLOATACYJNEJ",{"$f":"SUM(BF34:BF45)","v":0},null,null,null,null,null,"W TYM:","LICZBA PRZEJAZDÓW","WIELKOŚĆ PRACY EKSPLOATACYJNEJ",{"$f":"SUM(BO34:BO45)","v":0},null,null,null,null,null,"W TYM:","LICZBA PRZEJAZDÓW","WIELKOŚĆ PRACY EKSPLOATACYJNEJ",{"$f":"SUM(BX34:BX45)","v":0},null,null,null,null,null,"W TYM:","LICZBA PRZEJAZDÓW","WIELKOŚĆ PRACY EKSPLOATACYJNEJ",{"$f":"SUM(CG34:CG45)","v":0},null,null,null,null,null,"W TYM:","LICZBA PRZEJAZDÓW","WIELKOŚĆ PRACY EKSPLOATACYJNEJ",{"$f":"SUM(CP34:CP45)","v":0},null,null,null,null,null,"W TYM:","LICZBA PRZEJAZDÓW","WIELKOŚĆ PRACY EKSPLOATACYJNEJ",{"$f":"SUM(CY34:CY45)","v":0},null,null,null,null,null,"W TYM:","LICZBA PRZEJAZDÓW","WIELKOŚĆ PRACY EKSPLOATACYJNEJ",{"$f":"SUM(DH34:DH45)","v":0}]
["ŁĄCZNIE",{"$f":"SUM(B34:B45)","v":0},{"$f":"SUM(C34:C45)","v":0},null,null,null,null,null,null,"ŁĄCZNIE",{"$f":"SUM(K34:K45)","v":0},{"$f":"SUM(L34:L45)","v":0},null,null,null,null,null,null,"ŁĄCZNIE",{"$f":"SUM(T34:T45)","v":0},{"$f":"SUM(U34:U45)","v":0},null,null,null,null,null,null,"ŁĄCZNIE",{"$f":"SUM(AC34:AC45)","v":0},{"$f":"SUM(AD34:AD45)","v":0},null,null,null,null,null,null,"ŁĄCZNIE",{"$f":"SUM(AL34:AL45)","v":0},{"$f":"SUM(AM34:AM45)","v":0},null,null,null,null,null,null,"ŁĄCZNIE",{"$f":"SUM(AU34:AU45)","v":0},{"$f":"SUM(AV34:AV45)","v":0},null,null,null,null,null,null,"ŁĄCZNIE",{"$f":"SUM(BD34:BD45)","v":0},{"$f":"SUM(BE34:BE45)","v":0},null,null,null,null,null,null,"ŁĄCZNIE",{"$f":"SUM(BM34:BM45)","v":0},{"$f":"SUM(BN34:BN45)","v":0},null,null,null,null,null,null,"ŁĄCZNIE",{"$f":"SUM(BV34:BV45)","v":0},{"$f":"SUM(BW34:BW45)","v":0},null,null,null,null,null,null,"ŁĄCZNIE",{"$f":"SUM(CE34:CE45)","v":0},{"$f":"SUM(CF34:CF45)","v":0},null,null,null,null,null,null,"ŁĄCZNIE",{"$f":"SUM(CN34:CN45)","v":0},{"$f":"SUM(CO34:CO45)","v":0},null,null,null,null,null,null,"ŁĄCZNIE",{"$f":"SUM(CW34:CW45)","v":0},{"$f":"SUM(CX34:CX45)","v":0},null,null,null,null,null,null,"ŁĄCZNIE",{"$f":"SUM(DF34:DF45)","v":0},{"$f":"SUM(DG34:DG45)","v":0}]
["styczeń",{"$f":"IF(H34=0,0,\"\")","v":0},{"$f":"IF(H34=0,0,\"\")","v":0},{"$f":"C34*C$21","v":0},null,null,1,{"$f":"IF(AND(G34>=B$22,G34<=G$22),1,0)","v":0},{"$f":"IF(OR(B$26=\"\",B$19=\"\"),0,H34*100000)","v":0},"styczeń",{"$f":"IF(Q34=0,0,\"\")","v":0},{"$f":"IF(Q34=0,0,\"\")","v":0},{"$f":"L34*L$21","v":0},null,null,1,{"$f":"IF(AND(P34>=K$22,P34<=P$22),1,0)","v":0},{"$f":"IF(OR(K$26=\"\",K$19=\"\"),0,Q34*100000)","v":0},"styczeń",{"$f":"IF(Z34=0,0,\"\")","v":0},{"$f":"IF(Z34=0,0,\"\")","v":0},{"$f":"U34*U$21","v":0},null,null,1,{"$f":"IF(AND(Y34>=T$22,Y34<=Y$22),1,0)","v":0},{"$f":"IF(OR(T$26=\"\",T$19=\"\"),0,Z34*100000)","v":0},"styczeń",{"$f":"IF(AI34=0,0,\"\")","v":0},{"$f":"IF(AI34=0,0,\"\")","v":0},{"$f":"AD34*AD$21","v":0},null,null,1,{"$f":"IF(AND(AH34>=AC$22,AH34<=AH$22),1,0)","v":0},{"$f":"IF(OR(AC$26=\"\",AC$19=\"\"),0,AI34*100000)","v":0},"styczeń",{"$f":"IF(AR34=0,0,\"\")","v":0},{"$f":"IF(AR34=0,0,\"\")","v":0},{"$f":"AM34*AM$21","v":0},null,null,1,{"$f":"IF(AND(AQ34>=AL$22,AQ34<=AQ$22),1,0)","v":0},{"$f":"IF(OR(AL$26=\"\",AL$19=\"\"),0,AR34*100000)","v":0},"styczeń",{"$f":"IF(BA34=0,0,\"\")","v":0},{"$f":"IF(BA34=0,0,\"\")","v":0},{"$f":"AV34*AV$21","v":0},null,null,1,{"$f":"IF(AND(AZ34>=AU$22,AZ34<=AZ$22),1,0)","v":0},{"$f":"IF(OR(AU$26=\"\",AU$19=\"\"),0,BA34*100000)","v":0},"styczeń",{"$f":"IF(BJ34=0,0,\"\")","v":0},{"$f":"IF(BJ34=0,0,\"\")","v":0},{"$f":"BE34*BE$21","v":0},null,null,1,{"$f":"IF(AND(BI34>=BD$22,BI34<=BI$22),1,0)","v":0},{"$f":"IF(OR(BD$26=\"\",BD$19=\"\"),0,BJ34*100000)","v":0},"styczeń",{"$f":"IF(BS34=0,0,\"\")","v":0},{"$f":"IF(BS34=0,0,\"\")","v":0},{"$f":"BN34*BN$21","v":0},null,null,1,{"$f":"IF(AND(BR34>=BM$22,BR34<=BR$22),1,0)","v":0},{"$f":"IF(OR(BM$26=\"\",BM$19=\"\"),0,BS34*100000)","v":0},"styczeń",{"$f":"IF(CB34=0,0,\"\")","v":0},{"$f":"IF(CB34=0,0,\"\")","v":0},{"$f":"BW34*BW$21","v":0},null,null,1,{"$f":"IF(AND(CA34>=BV$22,CA34<=CA$22),1,0)","v":0},{"$f":"IF(OR(BV$26=\"\",BV$19=\"\"),0,CB34*100000)","v":0},"styczeń",{"$f":"IF(CK34=0,0,\"\")","v":0},{"$f":"IF(CK34=0,0,\"\")","v":0},{"$f":"CF34*CF$21","v":0},null,null,1,{"$f":"IF(AND(CJ34>=CE$22,CJ34<=CJ$22),1,0)","v":0},{"$f":"IF(OR(CE$26=\"\",CE$19=\"\"),0,CK34*100000)","v":0},"styczeń",{"$f":"IF(CT34=0,0,\"\")","v":0},{"$f":"IF(CT34=0,0,\"\")","v":0},{"$f":"CO34*CO$21","v":0},null,null,1,{"$f":"IF(AND(CS34>=CN$22,CS34<=CS$22),1,0)","v":0},{"$f":"IF(OR(CN$26=\"\",CN$19=\"\"),0,CT34*100000)","v":0},"styczeń",{"$f":"IF(DC34=0,0,\"\")","v":0},{"$f":"IF(DC34=0,0,\"\")","v":0},{"$f":"CX34*CX$21","v":0},null,null,1,{"$f":"IF(AND(DB34>=CW$22,DB34<=DB$22),1,0)","v":0},{"$f":"IF(OR(CW$26=\"\",CW$19=\"\"),0,DC34*100000)","v":0},"styczeń",{"$f":"IF(DL34=0,0,\"\")","v":0},{"$f":"IF(DL34=0,0,\"\")","v":0},{"$f":"DG34*DG$21","v":0},null,null,1,{"$f":"IF(AND(DK34>=DF$22,DK34<=DK$22),1,0)","v":0},{"$f":"IF(OR(DF$26=\"\",DF$19=\"\"),0,DL34*100000)","v":0}]
["luty",{"$f":"IF(H35=0,0,\"\")","v":0},{"$f":"IF(H35=0,0,\"\")","v":0},{"$f":"C35*C$21","v":0},null,null,2,{"$f":"IF(AND(G35>=B$22,G35<=G$22),1,0)","v":0},{"$f":"IF(OR(B$26=\"\",B$19=\"\"),0,H35*100000)","v":0},"luty",{"$f":"IF(Q35=0,0,\"\")","v":0},{"$f":"IF(Q35=0,0,\"\")","v":0},{"$f":"L35*L$21","v":0},null,null,2,{"$f":"IF(AND(P35>=K$22,P35<=P$22),1,0)","v":0},{"$f":"IF(OR(K$26=\"\",K$19=\"\"),0,Q35*100000)","v":0},"luty",{"$f":"IF(Z35=0,0,\"\")","v":0},{"$f":"IF(Z35=0,0,\"\")","v":0},{"$f":"U35*U$21","v":0},null,null,2,{"$f":"IF(AND(Y35>=T$22,Y35<=Y$22),1,0)","v":0},{"$f":"IF(OR(T$26=\"\",T$19=\"\"),0,Z35*100000)","v":0},"luty",{"$f":"IF(AI35=0,0,\"\")","v":0},{"$f":"IF(AI35=0,0,\"\")","v":0},{"$f":"AD35*AD$21","v":0},null,null,2,{"$f":"IF(AND(AH35>=AC$22,AH35<=AH$22),1,0)","v":0},{"$f":"IF(OR(AC$26=\"\",AC$19=\"\"),0,AI35*100000)","v":0},"luty",{"$f":"IF(AR35=0,0,\"\")","v":0},{"$f":"IF(AR35=0,0,\"\")","v":0},{"$f":"AM35*AM$21","v":0},null,null,2,{"$f":"IF(AND(AQ35>=AL$22,AQ35<=AQ$22),1,0)","v":0},{"$f":"IF(OR(AL$26=\"\",AL$19=\"\"),0,AR35*100000)","v":0},"luty",{"$f":"IF(BA35=0,0,\"\")","v":0},{"$f":"IF(BA35=0,0,\"\")","v":0},{"$f":"AV35*AV$21","v":0},null,null,2,{"$f":"IF(AND(AZ35>=AU$22,AZ35<=AZ$22),1,0)","v":0},{"$f":"IF(OR(AU$26=\"\",AU$19=\"\"),0,BA35*100000)","v":0},"luty",{"$f":"IF(BJ35=0,0,\"\")","v":0},{"$f":"IF(BJ35=0,0,\"\")","v":0},{"$f":"BE35*BE$21","v":0},null,null,2,{"$f":"IF(AND(BI35>=BD$22,BI35<=BI$22),1,0)","v":0},{"$f":"IF(OR(BD$26=\"\",BD$19=\"\"),0,BJ35*100000)","v":0},"luty",{"$f":"IF(BS35=0,0,\"\")","v":0},{"$f":"IF(BS35=0,0,\"\")","v":0},{"$f":"BN35*BN$21","v":0},null,null,2,{"$f":"IF(AND(BR35>=BM$22,BR35<=BR$22),1,0)","v":0},{"$f":"IF(OR(BM$26=\"\",BM$19=\"\"),0,BS35*100000)","v":0},"luty",{"$f":"IF(CB35=0,0,\"\")","v":0},{"$f":"IF(CB35=0,0,\"\")","v":0},{"$f":"BW35*BW$21","v":0},null,null,2,{"$f":"IF(AND(CA35>=BV$22,CA35<=CA$22),1,0)","v":0},{"$f":"IF(OR(BV$26=\"\",BV$19=\"\"),0,CB35*100000)","v":0},"luty",{"$f":"IF(CK35=0,0,\"\")","v":0},{"$f":"IF(CK35=0,0,\"\")","v":0},{"$f":"CF35*CF$21","v":0},null,null,2,{"$f":"IF(AND(CJ35>=CE$22,CJ35<=CJ$22),1,0)","v":0},{"$f":"IF(OR(CE$26=\"\",CE$19=\"\"),0,CK35*100000)","v":0},"luty",{"$f":"IF(CT35=0,0,\"\")","v":0},{"$f":"IF(CT35=0,0,\"\")","v":0},{"$f":"CO35*CO$21","v":0},null,null,2,{"$f":"IF(AND(CS35>=CN$22,CS35<=CS$22),1,0)","v":0},{"$f":"IF(OR(CN$26=\"\",CN$19=\"\"),0,CT35*100000)","v":0},"luty",{"$f":"IF(DC35=0,0,\"\")","v":0},{"$f":"IF(DC35=0,0,\"\")","v":0},{"$f":"CX35*CX$21","v":0},null,null,2,{"$f":"IF(AND(DB35>=CW$22,DB35<=DB$22),1,0)","v":0},{"$f":"IF(OR(CW$26=\"\",CW$19=\"\"),0,DC35*100000)","v":0},"luty",{"$f":"IF(DL35=0,0,\"\")","v":0},{"$f":"IF(DL35=0,0,\"\")","v":0},{"$f":"DG35*DG$21","v":0},null,null,2,{"$f":"IF(AND(DK35>=DF$22,DK35<=DK$22),1,0)","v":0},{"$f":"IF(OR(DF$26=\"\",DF$19=\"\"),0,DL35*100000)","v":0}]
["marzec",0,0,0,null,null,3,0,0,"marzec",0,0,0,null,null,3,0,0,"marzec",0,0,0,null,null,3,0,0,"marzec",0,0,0,null,null,3,0,0,"marzec",0,0,0,null,null,3,0,0,"marzec",0,0,0,null,null,3,0,0,"marzec",0,0,0,null,null,3,0,0,"marzec",0,0,0,null,null,3,0,0,"marzec",0,0,0,null,null,3,0,0,"marzec",0,0,0,null,null,3,0,0,"marzec",0,0,0,null,null,3,0,0,"marzec",0,0,0,null,null,3,0,0,"marzec",0,0,0,null,null,3,0,0]
["kwiecień",0,0,0,null,null,4,0,0,"kwiecień",0,0,0,null,null,4,0,0,"kwiecień",0,0,0,null,null,4,0,0,"kwiecień",0,0,0,null,null,4,0,0,"kwiecień",0,0,0,null,null,4,0,0,"kwiecień",0,0,0,null,null,4,0,0,"kwiecień",0,0,0,null,null,4,0,0,"kwiecień",0,0,0,null,null,4,0,0,"kwiecień",0,0,0,null,null,4,0,0,"kwiecień",0,0,0,null,null,4,0,0,"kwiecień",0,0,0,null,null,4,0,0,"kwiecień",0,0,0,null,null,4,0,0,"kwiecień",0,0,0,null,null,4,0,0]
["maj",0,0,0,null,null,5,0,0,"maj",0,0,0,null,null,5,0,0,"maj",0,0,0,null,null,5,0,0,"maj",0,0,0,null,null,5,0,0,"maj",0,0,0,null,null,5,0,0,"maj",0,0,0,null,null,5,0,0,"maj",0,0,0,null,null,5,0,0,"maj",0,0,0,null,null,5,0,0,"maj",0,0,0,null,null,5,0,0,"maj",0,0,0,null,null,5,0,0,"maj",0,0,0,null,null,5,0,0,"maj",0,0,0,null,null,5,0,0,"maj",0,0,0,null,null,5,0,0]
["czerwiec",0,0,0,null,null,6,0,0,"czerwiec",0,0,0,null,null,6,0,0,"czerwiec",0,0,0,null,null,6,0,0,"czerwiec",0,0,0,null,null,6,0,0,"czerwiec",0,0,0,null,null,6,0,0,"czerwiec",0,0,0,null,null,6,0,0,"czerwiec",0,0,0,null,null,6,0,0,"czerwiec",0,0,0,null,null,6,0,0,"czerwiec",0,0,0,null,null,6,0,0,"czerwiec",0,0,0,null,null,6,0,0,"czerwiec",0,0,0,null,null,6,0,0,"czerwiec",0,0,0,null,null,6,0,0,"czerwiec",0,0,0,null,null,6,0,0]
["lipiec",0,0,0,null,null,7,0,0,"lipiec",0,0,0,null,null,7,0,0,"lipiec",0,0,0,null,null,7,0,0,"lipiec",0,0,0,null,null,7,0,0,"lipiec",0,0,0,null,null,7,0,0,"lipiec",0,0,0,null,null,7,0,0,"lipiec",0,0,0,null,null,7,0,0,"lipiec",0,0,0,null,null,7,0,0,"lipiec",0,0,0,null,null,7,0,0,"lipiec",0,0,0,null,null,7,0,0,"lipiec",0,0,0,null,null,7,0,0,"lipiec",0,0,0,null,null,7,0,0,"lipiec",0,0,0,null,null,7,0,0]
["sierpień",0,0,0,null,null,8,0,0,"sierpień",0,0,0,null,null,8,0,0,"sierpień",0,0,0,null,null,8,0,0,"sierpień",0,0,0,null,null,8,0,0,"sierpień",0,0,0,null,null,8,0,0,"sierpień",0,0,0,null,null,8,0,0,"sierpień",0,0,0,null,null,8,0,0,"sierpień",0,0,0,null,null,8,0,0,"sierpień",0,0,0,null,null,8,0,0,"sierpień",0,0,0,null,null,8,0,0,"sierpień",0,0,0,null,null,8,0,0,"sierpień",0,0,0,null,null,8,0,0,"sierpień",0,0,0,null,null,8,0,0]
["wrzesień",0,0,0,null,null,9,0,0,"wrzesień",0,0,0,null,null,9,0,0,"wrzesień",0,0,0,null,null,9,0,0,"wrzesień",0,0,0,null,null,9,0,0,"wrzesień",0,0,0,null,null,9,0,0,"wrzesień",0,0,0,null,null,9,0,0,"wrzesień",0,0,0,null,null,9,0,0,"wrzesień",0,0,0,null,null,9,0,0,"wrzesień",0,0,0,null,null,9,0,0,"wrzesień",0,0,0,null,null,9,0,0,"wrzesień",0,0,0,null,null,9,0,0,"wrzesień",0,0,0,null,null,9,0,0,"wrzesień",0,0,0,null,null,9,0,0]
["październik",0,0,0,null,null,10,0,0,"październik",0,0,0,null,null,10,0,0,"październik",0,0,0,null,null,10,0,0,"październik",0,0,0,null,null,10,0,0,"październik",0,0,0,null,null,10,0,0,"październik",0,0,0,null,null,10,0,0,"październik",0,0,0,null,null,10,0,0,"październik",0,0,0,null,null,10,0,0,"październik",0,0,0,null,null,10,0,0,"październik",0,0,0,null,null,10,0,0,"październik",0,0,0,null,null,10,0,0,"październik",0,0,0,null,null,10,0,0,"październik",0,0,0,null,null,10,0,0]
["listopad",0,0,0,null,null,11,0,0,"listopad",0,0,0,null,null,11,0,0,"listopad",0,0,0,null,null,11,0,0,"listopad",0,0,0,null,null,11,0,0,"listopad",0,0,0,null,null,11,0,0,"listopad",0,0,0,null,null,11,0,0,"listopad",0,0,0,null,null,11,0,0,"listopad",0,0,0,null,null,11,0,0,"listopad",0,0,0,null,null,11,0,0,"listopad",0,0,0,null,null,11,0,0,"listopad",0,0,0,null,null,11,0,0,"listopad",0,0,0,null,null,11,0,0,"listopad",0,0,0,null,null,11,0,0]
["grudzień",0,0,0,null,null,12,0,0,"grudzień",0,0,0,null,null,12,0,0,"grudzień",0,0,0,null,null,12,0,0,"grudzień",0,0,0,null,null,12,0,0,"grudzień",0,0,0,null,null,12,0,0,"grudzień",0,0,0,null,null,12,0,0,"grudzień",0,0,0,null,null,12,0,0,"grudzień",0,0,0,null,null,12,0,0,"grudzień",0,0,0,null,null,12,0,0,"grudzień",0,0,0,null,null,12,0,0,"grudzień",0,0,0,null,null,12,0,0,"grudzień",0,0,0,null,null,12,0,0,"grudzień",0,0,0,null,null,12,0,0]
[{"$f":"H53*0.1","v":0},{"$f":"IF(H52=\"BRAK DEFICYTU\",0,H52)","v":0},{"$f":"IF(H53-H54>=3,3,(H53-H54)*1.06)","v":0},0,null,null,null,null,null,{"$f":"Q53*0.1","v":0},{"$f":"IF(Q52=\"BRAK DEFICYTU\",0,Q52)","v":0},{"$f":"IF(Q53-Q54>=3,3,(Q53-Q54)*1.06)","v":0},0,null,null,null,null,null,{"$f":"Z53*0.1","v":0},{"$f":"IF(Z52=\"BRAK DEFICYTU\",0,Z52)","v":0},{"$f":"IF(Z53-Z54>=3,3,(Z53-Z54)*1.06)","v":0},0,null,null,null,null,null,{"$f":"AI53*0.1","v":0},{"$f":"IF(AI52=\"BRAK DEFICYTU\",0,AI52)","v":0},{"$f":"IF(AI53-AI54>=3,3,(AI53-AI54)*1.06)","v":0},0,null,null,null,null,null,{"$f":"AR53*0.1","v":0},{"$f":"IF(AR52=\"BRAK DEFICYTU\",0,AR52)","v":0},{"$f":"IF(AR53-AR54>=3,3,(AR53-AR54)*1.06)","v":0},0,null,null,null,null,null,{"$f":"BA53*0.1","v":0},{"$f":"IF(BA52=\"BRAK DEFICYTU\",0,BA52)","v":0},{"$f":"IF(BA53-BA54>=3,3,(BA53-BA54)*1.06)","v":0},0,null,null,null,null,null,{"$f":"BJ53*0.1","v":0},{"$f":"IF(BJ52=\"BRAK DEFICYTU\",0,BJ52)","v":0},{"$f":"IF(BJ53-BJ54>=3,3,(BJ53-BJ54)*1.06)","v":0},0,null,null,null,null,null,{"$f":"BS53*0.1","v":0},{"$f":"IF(BS52=\"BRAK DEFICYTU\",0,BS52)","v":0},{"$f":"IF(BS53-BS54>=3,3,(BS53-BS54)*1.06)","v":0},0,null,null,null,null,null,{"$f":"CB53*0.1","v":0},{"$f":"IF(CB52=\"BRAK DEFICYTU\",0,CB52)","v":0},{"$f":"IF(CB53-CB54>=3,3,(CB53-CB54)*1.06)","v":0},0,null,null,null,null,null,{"$f":"CK53*0.1","v":0},{"$f":"IF(CK52=\"BRAK DEFICYTU\",0,CK52)","v":0},{"$f":"IF(CK53-CK54>=3,3,(CK53-CK54)*1.06)","v":0},0,null,null,null,null,null,{"$f":"CT53*0.1","v":0},{"$f":"IF(CT52=\"BRAK DEFICYTU\",0,CT52)","v":0},{"$f":"IF(CT53-CT54>=3,3,(CT53-CT54)*1.06)","v":0},0,null,null,null,null,null,{"$f":"DC53*0.1","v":0},{"$f":"IF(DC52=\"BRAK DEFICYTU\",0,DC52)","v":0},{"$f":"IF(DC53-DC54>=3,3,(DC53-DC54)*1.06)","v":0},0,null,null,null,null,null,{"$f":"DL53*0.1","v":0},{"$f":"IF(DL52=\"BRAK DEFICYTU\",0,DL52)","v":0},{"$f":"IF(DL53-DL54>=3,3,(DL53-DL54)*1.06)","v":0},0]
[" PRZYCHODY W ODNIESIENIU DO LINII KOMUNIKACYJNEJ W OKRESIE Z WYŁĄCZENIEM KWOTY REKOMPENSATY Z TYTUŁU POWIERZENIA USŁUG W ZAKRESIE PUBLICZNEGO TRANSPORTU ZBIOROWEGO, W TYM:",null,null,null,null,null,null,{"$f":"SUM(H48:I50)","v":0},null," PRZYCHODY W ODNIESIENIU DO LINII KOMUNIKACYJNEJ W OKRESIE Z WYŁĄCZENIEM KWOTY REKOMPENSATY Z TYTUŁU POWIERZENIA USŁUG W ZAKRESIE PUBLICZNEGO TRANSPORTU ZBIOROWEGO, W TYM:",null,null,null,null,null,null,{"$f":"SUM(Q48:R50)","v":0},null," PRZYCHODY W ODNIESIENIU DO LINII KOMUNIKACYJNEJ W OKRESIE Z WYŁĄCZENIEM KWOTY REKOMPENSATY Z TYTUŁU POWIERZENIA USŁUG W ZAKRESIE PUBLICZNEGO TRANSPORTU ZBIOROWEGO, W TYM:",null,null,null,null,null,null,{"$f":"SUM(Z48:AA50)","v":0},null," PRZYCHODY W ODNIESIENIU DO LINII KOMUNIKACYJNEJ W OKRESIE Z WYŁĄCZENIEM KWOTY REKOMPENSATY Z TYTUŁU POWIERZENIA USŁUG W ZAKRESIE PUBLICZNEGO TRANSPORTU ZBIOROWEGO, W TYM:",null,null,null,null,null,null,{"$f":"SUM(AI48:AJ50)","v":0},null," PRZYCHODY W ODNIESIENIU DO LINII KOMUNIKACYJNEJ W OKRESIE Z WYŁĄCZENIEM KWOTY REKOMPENSATY Z TYTUŁU POWIERZENIA USŁUG W ZAKRESIE PUBLICZNEGO TRANSPORTU ZBIOROWEGO, W TYM:",null,null,null,null,null,null,{"$f":"SUM(AR48:AS50)","v":0},null," PRZYCHODY W ODNIESIENIU DO LINII KOMUNIKACYJNEJ W OKRESIE Z WYŁĄCZENIEM KWOTY REKOMPENSATY Z TYTUŁU POWIERZENIA USŁUG W ZAKRESIE PUBLICZNEGO TRANSPORTU ZBIOROWEGO, W TYM:",null,null,null,null,null,null,{"$f":"SUM(BA48:BB50)","v":0},null," PRZYCHODY W ODNIESIENIU DO LINII KOMUNIKACYJNEJ W OKRESIE Z WYŁĄCZENIEM KWOTY REKOMPENSATY Z TYTUŁU POWIERZENIA USŁUG W ZAKRESIE PUBLICZNEGO TRANSPORTU ZBIOROWEGO, W TYM:",null,null,null,null,null,null,{"$f":"SUM(BJ48:BK50)","v":0},null," PRZYCHODY W ODNIESIENIU DO LINII KOMUNIKACYJNEJ W OKRESIE Z WYŁĄCZENIEM KWOTY REKOMPENSATY Z TYTUŁU POWIERZENIA USŁUG W ZAKRESIE PUBLICZNEGO TRANSPORTU ZBIOROWEGO, W TYM:",null,null,null,null,null,null,{"$f":"SUM(BS48:BT50)","v":0},null," PRZYCHODY W ODNIESIENIU DO LINII KOMUNIKACYJNEJ W OKRESIE Z WYŁĄCZENIEM KWOTY REKOMPENSATY Z TYTUŁU POWIERZENIA USŁUG W ZAKRESIE PUBLICZNEGO TRANSPORTU ZBIOROWEGO, W TYM:",null,null,null,null,null,null,{"$f":"SUM(CB48:CC50)","v":0},null," PRZYCHODY W ODNIESIENIU DO LINII KOMUNIKACYJNEJ W OKRESIE Z WYŁĄCZENIEM KWOTY REKOMPENSATY Z TYTUŁU POWIERZENIA USŁUG W ZAKRESIE PUBLICZNEGO TRANSPORTU ZBIOROWEGO, W TYM:",null,null,null,null,null,null,{"$f":"SUM(CK48:CL50)","v":0},null," PRZYCHODY W ODNIESIENIU DO LINII KOMUNIKACYJNEJ W OKRESIE Z WYŁĄCZENIEM KWOTY REKOMPENSATY Z TYTUŁU POWIERZENIA USŁUG W ZAKRESIE PUBLICZNEGO TRANSPORTU ZBIOROWEGO, W TYM:",null,null,null,null,null,null,{"$f":"SUM(CT48:CU50)","v":0},null," PRZYCHODY W ODNIESIENIU DO LINII KOMUNIKACYJNEJ W OKRESIE Z WYŁĄCZENIEM KWOTY REKOMPENSATY Z TYTUŁU POWIERZENIA USŁUG W ZAKRESIE PUBLICZNEGO TRANSPORTU ZBIOROWEGO, W TYM:",null,null,null,null,null,null,{"$f":"SUM(DC48:DD50)","v":0},null," PRZYCHODY W ODNIESIENIU DO LINII KOMUNIKACYJNEJ W OKRESIE Z WYŁĄCZENIEM KWOTY REKOMPENSATY Z TYTUŁU POWIERZENIA USŁUG W ZAKRESIE PUBLICZNEGO TRANSPORTU ZBIOROWEGO, W TYM:",null,null,null,null,null,null,{"$f":"SUM(DL48:DM50)","v":0}]
[" suma przychodu netto ze sprzedaży biletów (o ile z zawartej umowy o świadczenie usługi przewozów autobusowych o charakterze publicznym wynika prawo ich zatrzymania przez Operatora)",null,null,null,null,null,null,null,null," suma przychodu netto ze sprzedaży biletów (o ile z zawartej umowy o świadczenie usługi przewozów autobusowych o charakterze publicznym wynika prawo ich zatrzymania przez Operatora)",null,null,null,null,null,null,null,null," suma przychodu netto ze sprzedaży biletów (o ile z zawartej umowy o świadczenie usługi przewozów autobusowych o charakterze publicznym wynika prawo ich zatrzymania przez Operatora)",null,null,null,null,null,null,null,null," suma przychodu netto ze sprzedaży biletów (o ile z zawartej umowy o świadczenie usługi przewozów autobusowych o charakterze publicznym wynika prawo ich zatrzymania przez Operatora)",null,null,null,null,null,null,null,null," suma przychodu netto ze sprzedaży biletów (o ile z zawartej umowy o świadczenie usługi przewozów autobusowych o charakterze publicznym wynika prawo ich zatrzymania przez Operatora)",null,null,null,null,null,null,null,null," suma przychodu netto ze sprzedaży biletów (o ile z zawartej umowy o świadczenie usługi przewozów autobusowych o charakterze publicznym wynika prawo ich zatrzymania przez Operatora)",null,null,null,null,null,null,null,null," suma przychodu netto ze sprzedaży biletów (o ile z zawartej umowy o świadczenie usługi przewozów autobusowych o charakterze publicznym wynika prawo ich zatrzymania przez Operatora)",null,null,null,null,null,null,null,null," suma przychodu netto ze sprzedaży biletów (o ile z zawartej umowy o świadczenie usługi przewozów autobusowych o charakterze publicznym wynika prawo ich zatrzymania przez Operatora)",null,null,null,null,null,null,null,null," suma przychodu netto ze sprzedaży biletów (o ile z zawartej umowy o świadczenie usługi przewozów autobusowych o charakterze publicznym wynika prawo ich zatrzymania przez Operatora)",null,null,null,null,null,null,null,null," suma przychodu netto ze sprzedaży biletów (o ile z zawartej umowy o świadczenie usługi przewozów autobusowych o charakterze publicznym wynika prawo ich zatrzymania przez Operatora)",null,null,null,null,null,null,null,null," suma przychodu netto ze sprzedaży biletów (o ile z zawartej umowy o świadczenie usługi przewozów autobusowych o charakterze publicznym wynika prawo ich zatrzymania przez Operatora)",null,null,null,null,null,null,null,null," suma przychodu netto ze sprzedaży biletów (o ile z zawartej umowy o świadczenie usługi przewozów autobusowych o charakterze publicznym wynika prawo ich zatrzymania przez Operatora)",null,null,null,null,null,null,null,null," suma przychodu netto ze sprzedaży biletów (o ile z zawartej umowy o świadczenie usługi przewozów autobusowych o charakterze publicznym wynika prawo ich zatrzymania przez Operatora)"]
["rekompensata netto z tytułu stosowania obowiązujących ulg ustawowych w przewozach pasażerskich w krajowym transporcie drogowym na podstawie ustawy z dnia 20 czerwca 1992 r. o uprawnieniach do ulgowych przejazdów środkami publicznego transportu zbiorowego (t.j. Dz. U. z 2018 r. poz. 295) przysługująca Operatorowi na podstawie art. 52 ustawy z dnia 19 grudnia 2010 r. o publicznym transporcie zbiorowym",null,null,null,null,null,null,null,null,"rekompensata netto z tytułu stosowania obowiązujących ulg ustawowych w przewozach pasażerskich w krajowym transporcie drogowym na podstawie ustawy z dnia 20 czerwca 1992 r. o uprawnieniach do ulgowych przejazdów środkami publicznego transportu zbiorowego (t.j. Dz. U. z 2018 r. poz. 295) przysługująca Operatorowi na podstawie art. 52 ustawy z dnia 19 grudnia 2010 r. o publicznym transporcie zbiorowym",null,null,null,null,null,null,null,null,"rekompensata netto z tytułu stosowania obowiązujących ulg ustawowych w przewozach pasażerskich w krajowym transporcie drogowym na podstawie ustawy z dnia 20 czerwca 1992 r. o uprawnieniach do ulgowych przejazdów środkami publicznego transportu zbiorowego (t.j. Dz. U. z 2018 r. poz. 295) przysługująca Operatorowi na podstawie art. 52 ustawy z dnia 19 grudnia 2010 r. o publicznym transporcie zbiorowym",null,null,null,null,null,null,null,null,"rekompensata netto z tytułu stosowania obowiązujących ulg ustawowych w przewozach pasażerskich w krajowym transporcie drogowym na podstawie ustawy z dnia 20 czerwca 1992 r. o uprawnieniach do ulgowych przejazdów środkami publicznego transportu zbiorowego (t.j. Dz. U. z 2018 r. poz. 295) przysługująca Operatorowi na podstawie art. 52 ustawy z dnia 19 grudnia 2010 r. o publicznym transporcie zbiorowym",null,null,null,null,null,null,null,null,"rekompensata netto z tytułu stosowania obowiązujących ulg ustawowych w przewozach pasażerskich w krajowym transporcie drogowym na podstawie ustawy z dnia 20 czerwca 1992 r. o uprawnieniach do ulgowych przejazdów środkami publicznego transportu zbiorowego (t.j. Dz. U. z 2018 r. poz. 295) przysługująca Operatorowi na podstawie art. 52 ustawy z dnia 19 grudnia 2010 r. o publicznym transporcie zbiorowym",null,null,null,null,null,null,null,null,"rekompensata netto z tytułu stosowania obowiązujących ulg ustawowych w przewozach pasażerskich w krajowym transporcie drogowym na podstawie ustawy z dnia 20 czerwca 1992 r. o uprawnieniach do ulgowych przejazdów środkami publicznego transportu zbiorowego (t.j. Dz. U. z 2018 r. poz. 295) przysługująca Operatorowi na podstawie art. 52 ustawy z dnia 19 grudnia 2010 r. o publicznym transporcie zbiorowym",null,null,null,null,null,null,null,null,"rekompensata netto z tytułu stosowania obowiązujących ulg ustawowych w przewozach pasażerskich w krajowym transporcie drogowym na podstawie ustawy z dnia 20 czerwca 1992 r. o uprawnieniach do ulgowych przejazdów środkami publicznego transportu zbiorowego (t.j. Dz. U. z 2018 r. poz. 295) przysługująca Operatorowi na podstawie art. 52 ustawy z dnia 19 grudnia 2010 r. o publicznym transporcie zbiorowym",null,null,null,null,null,null,null,null,"rekompensata netto z tytułu stosowania obowiązujących ulg ustawowych w przewozach pasażerskich w krajowym transporcie drogowym na podstawie ustawy z dnia 20 czerwca 1992 r. o uprawnieniach do ulgowych przejazdów środkami publicznego transportu zbiorowego (t.j. Dz. U. z 2018 r. poz. 295) przysługująca Operatorowi na podstawie art. 52 ustawy z dnia 19 grudnia 2010 r. o publicznym transporcie zbiorowym",null,null,null,null,null,null,null,null,"rekompensata netto z tytułu stosowania obowiązujących ulg ustawowych w przewozach pasażerskich w krajowym transporcie drogowym na podstawie ustawy z dnia 20 czerwca 1992 r. o uprawnieniach do ulgowych przejazdów środkami publicznego transportu zbiorowego (t.j. Dz. U. z 2018 r. poz. 295) przysługująca Operatorowi na podstawie art. 52 ustawy z dnia 19 grudnia 2010 r. o publicznym transporcie zbiorowym",null,null,null,null,null,null,null,null,"rekompensata netto z tytułu stosowania obowiązujących ulg ustawowych w przewozach pasażerskich w krajowym transporcie drogowym na podstawie ustawy z dnia 20 czerwca 1992 r. o uprawnieniach do ulgowych przejazdów środkami publicznego transportu zbiorowego (t.j. Dz. U. z 2018 r. poz. 295) przysługująca Operatorowi na podstawie art. 52 ustawy z dnia 19 grudnia 2010 r. o publicznym transporcie zbiorowym",null,null,null,null,null,null,null,null,"rekompensata netto z tytułu stosowania obowiązujących ulg ustawowych w przewozach pasażerskich w krajowym transporcie drogowym na podstawie ustawy z dnia 20 czerwca 1992 r. o uprawnieniach do ulgowych przejazdów środkami publicznego transportu zbiorowego (t.j. Dz. U. z 2018 r. poz. 295) przysługująca Operatorowi na podstawie art. 52 ustawy z dnia 19 grudnia 2010 r. o publicznym transporcie zbiorowym",null,null,null,null,null,null,null,null,"rekompensata netto z tytułu stosowania obowiązujących ulg ustawowych w przewozach pasażerskich w krajowym transporcie drogowym na podstawie ustawy z dnia 20 czerwca 1992 r. o uprawnieniach do ulgowych przejazdów środkami publicznego transportu zbiorowego (t.j. Dz. U. z 2018 r. poz. 295) przysługująca Operatorowi na podstawie art. 52 ustawy z dnia 19 grudnia 2010 r. o publicznym transporcie zbiorowym",null,null,null,null,null,null,null,null,"rekompensata netto z tytułu stosowania obowiązujących ulg ustawowych w przewozach pasażerskich w krajowym transporcie drogowym na podstawie ustawy z dnia 20 czerwca 1992 r. o uprawnieniach do ulgowych przejazdów środkami publicznego transportu zbiorowego(t.j. Dz. U. z 2018 r. poz. 295) przysługująca Operatorowi na podstawie art. 52 ustawy z dnia 19 grudnia 2010 r. o publicznym transporcie zbiorowym"]
["łączna kwota netto pozostałych przychodów Operatora, pozostających w związku ze świadczeniem usług przewozów autobusowych o charakterze publicznym niewymienionych powyżej innych niż rekompensata",null,null,null,null,null,null,null,null,"łączna kwota netto pozostałych przychodów Operatora, pozostających w związku ze świadczeniem usług przewozów autobusowych o charakterze publicznym niewymienionych powyżej innych niż rekompensata",null,null,null,null,null,null,null,null,"łączna kwota netto pozostałych przychodów Operatora, pozostających w związku ze świadczeniem usług przewozów autobusowych o charakterze publicznym niewymienionych powyżej innych niż rekompensata",null,null,null,null,null,null,null,null,"łączna kwota netto pozostałych przychodów Operatora, pozostających w związku ze świadczeniem usług przewozów autobusowych o charakterze publicznym niewymienionych powyżej innych niż rekompensata",null,null,null,null,null,null,null,null,"łączna kwota netto pozostałych przychodów Operatora, pozostających w związku ze świadczeniem usług przewozów autobusowych o charakterze publicznym niewymienionych powyżej innych niż rekompensata",null,null,null,null,null,null,null,null,"łączna kwota netto pozostałych przychodów Operatora, pozostających w związku ze świadczeniem usług przewozów autobusowych o charakterze publicznym niewymienionych powyżej innych niż rekompensata",null,null,null,null,null,null,null,null,"łączna kwota netto pozostałych przychodów Operatora, pozostających w związku ze świadczeniem usług przewozów autobusowych o charakterze publicznym niewymienionych powyżej innych niż rekompensata",null,null,null,null,null,null,null,null,"łączna kwota netto pozostałych przychodów Operatora, pozostających w związku ze świadczeniem usług przewozów autobusowych o charakterze publicznym niewymienionych powyżej innych niż rekompensata",null,null,null,null,null,null,null,null,"łączna kwota netto pozostałych przychodów Operatora, pozostających w związku ze świadczeniem usług przewozów autobusowych o charakterze publicznym niewymienionych powyżej innych niż rekompensata",null,null,null,null,null,null,null,null,"łączna kwota netto pozostałych przychodów Operatora, pozostających w związku ze świadczeniem usług przewozów autobusowych o charakterze publicznym niewymienionych powyżej innych niż rekompensata",null,null,null,null,null,null,null,null,"łączna kwota netto pozostałych przychodów Operatora, pozostających w związku ze świadczeniem usług przewozów autobusowych o charakterze publicznym niewymienionych powyżej innych niż rekompensata",null,null,null,null,null,null,null,null,"łączna kwota netto pozostałych przychodów Operatora, pozostających w związku ze świadczeniem usług przewozów autobusowych o charakterze publicznym niewymienionych powyżej innych niż rekompensata",null,null,null,null,null,null,null,null,"łączna kwota netto pozostałych przychodów Operatora, pozostających w związku ze świadczeniem usług przewozów autobusowych o charakterze publicznym niewymienionych powyżej innych niż rekompensata"]
["KOSZTY W ODNIESIENIU DO LINII KOMUNIKACYJNEJ W DANYM OKRESIE",null,null,null,null,null,null,null,null,"KOSZTY W ODNIESIENIU DO LINII KOMUNIKACYJNEJ W DANYM OKRESIE",null,null,null,null,null,null,null,null,"KOSZTY W ODNIESIENIU DO LINII KOMUNIKACYJNEJ W DANYM OKRESIE",null,null,null,null,null,null,null,null,"KOSZTY W ODNIESIENIU DO LINII KOMUNIKACYJNEJ W DANYM OKRESIE",null,null,null,null,null,null,null,null,"KOSZTY W ODNIESIENIU DO LINII KOMUNIKACYJNEJ W DANYM OKRESIE",null,null,null,null,null,null,null,null,"KOSZTY W ODNIESIENIU DO LINII KOMUNIKACYJNEJ W DANYM OKRESIE",null,null,null,null,null,null,null,null,"KOSZTY W ODNIESIENIU DO LINII KOMUNIKACYJNEJ W DANYM OKRESIE",null,null,null,null,null,null,null,null,"KOSZTY W ODNIESIENIU DO LINII KOMUNIKACYJNEJ W DANYM OKRESIE",null,null,null,null,null,null,null,null,"KOSZTY W ODNIESIENIU DO LINII KOMUNIKACYJNEJ W DANYM OKRESIE",null,null,null,null,null,null,null,null,"KOSZTY W ODNIESIENIU DO LINII KOMUNIKACYJNEJ W DANYM OKRESIE",null,null,null,null,null,null,null,null,"KOSZTY W ODNIESIENIU DO LINII KOMUNIKACYJNEJ W DANYM OKRESIE",null,null,null,null,null,null,null,null,"KOSZTY W ODNIESIENIU DO LINII KOMUNIKACYJNEJ W DANYM OKRESIE",null,null,null,null,null,null,null,null,"KOSZTY W ODNIESIENIU DO LINII KOMUNIKACYJNEJ W DANYM OKRESIE"]
["DEFICYT W ODNIESIENIU DO LINII KOMUNIKACYJNEJ W DANYM OKRESIE",null,null,null,null,null,null,{"$f":"IF(H51<=H47,\"BRAK DEFICYTU\",H51-H47)","v":"BRAK DEFICYTU"},null,"DEFICYT W ODNIESIENIU DO LINII KOMUNIKACYJNEJ W DANYM OKRESIE",null,null,null,null,null,null,{"$f":"IF(Q51<=Q47,\"BRAK DEFICYTU\",Q51-Q47)","v":"BRAK DEFICYTU"},null,"DEFICYT W ODNIESIENIU DO LINII KOMUNIKACYJNEJ W DANYM OKRESIE",null,null,null,null,null,null,{"$f":"IF(Z51<=Z47,\"BRAK DEFICYTU\",Z51-Z47)","v":"BRAK DEFICYTU"},null,"DEFICYT W ODNIESIENIU DO LINII KOMUNIKACYJNEJ W DANYM OKRESIE",null,null,null,null,null,null,{"$f":"IF(AI51<=AI47,\"BRAK DEFICYTU\",AI51-AI47)","v":"BRAK DEFICYTU"},null,"DEFICYT W ODNIESIENIU DO LINII KOMUNIKACYJNEJ W DANYM OKRESIE",null,null,null,null,null,null,{"$f":"IF(AR51<=AR47,\"BRAK DEFICYTU\",AR51-AR47)","v":"BRAK DEFICYTU"},null,"DEFICYT W ODNIESIENIU DO LINII KOMUNIKACYJNEJ W DANYM OKRESIE",null,null,null,null,null,null,{"$f":"IF(BA51<=BA47,\"BRAK DEFICYTU\",BA51-BA47)","v":"BRAK DEFICYTU"},null,"DEFICYT W ODNIESIENIU DO LINII KOMUNIKACYJNEJ W DANYM OKRESIE",null,null,null,null,null,null,{"$f":"IF(BJ51<=BJ47,\"BRAK DEFICYTU\",BJ51-BJ47)","v":"BRAK DEFICYTU"},null,"DEFICYT W ODNIESIENIU DO LINII KOMUNIKACYJNEJ W DANYM OKRESIE",null,null,null,null,null,null,{"$f":"IF(BS51<=BS47,\"BRAK DEFICYTU\",BS51-BS47)","v":"BRAK DEFICYTU"},null,"DEFICYT W ODNIESIENIU DO LINII KOMUNIKACYJNEJ W DANYM OKRESIE",null,null,null,null,null,null,{"$f":"IF(CB51<=CB47,\"BRAK DEFICYTU\",CB51-CB47)","v":"BRAK DEFICYTU"},null,"DEFICYT W ODNIESIENIU DO LINII KOMUNIKACYJNEJ W DANYM OKRESIE",null,null,null,null,null,null,{"$f":"IF(CK51<=CK47,\"BRAK DEFICYTU\",CK51-CK47)","v":"BRAK DEFICYTU"},null,"DEFICYT W ODNIESIENIU DO LINII KOMUNIKACYJNEJ W DANYM OKRESIE",null,null,null,null,null,null,{"$f":"IF(CT51<=CT47,\"BRAK DEFICYTU\",CT51-CT47)","v":"BRAK DEFICYTU"},null,"DEFICYT W ODNIESIENIU DO LINII KOMUNIKACYJNEJ W DANYM OKRESIE",null,null,null,null,null,null,{"$f":"IF(DC51<=DC47,\"BRAK DEFICYTU\",DC51-DC47)","v":"BRAK DEFICYTU"},null,"DEFICYT W ODNIESIENIU DO LINII KOMUNIKACYJNEJ W DANYM OKRESIE",null,null,null,null,null,null,{"$f":"IF(DL51<=DL47,\"BRAK DEFICYTU\",DL51-DL47)","v":"BRAK DEFICYTU"}]
["DEFICYT W ODNIESIENIU DO LINII KOMUNIKACYJNEJ NA 1 WOZOKILOMETR",null,null,null,null,null,null,{"$f":"IF(G29=0,0,B46/G29)","v":0},null,"DEFICYT W ODNIESIENIU DO LINII KOMUNIKACYJNEJ NA 1 WOZOKILOMETR",null,null,null,null,null,null,{"$f":"IF(P29=0,0,K46/P29)","v":0},null,"DEFICYT W ODNIESIENIU DO LINII KOMUNIKACYJNEJ NA 1 WOZOKILOMETR",null,null,null,null,null,null,{"$f":"IF(Y29=0,0,T46/Y29)","v":0},null,"DEFICYT W ODNIESIENIU DO LINII KOMUNIKACYJNEJ NA 1 WOZOKILOMETR",null,null,null,null,null,null,{"$f":"IF(AH29=0,0,AC46/AH29)","v":0},null,"DEFICYT W ODNIESIENIU DO LINII KOMUNIKACYJNEJ NA 1 WOZOKILOMETR",null,null,null,null,null,null,{"$f":"IF(AQ29=0,0,AL46/AQ29)","v":0},null,"DEFICYT W ODNIESIENIU DO LINII KOMUNIKACYJNEJ NA 1 WOZOKILOMETR",null,null,null,null,null,null,{"$f":"IF(AZ29=0,0,AU46/AZ29)","v":0},null,"DEFICYT W ODNIESIENIU DO LINII KOMUNIKACYJNEJ NA 1 WOZOKILOMETR",null,null,null,null,null,null,{"$f":"IF(BI29=0,0,BD46/BI29)","v":0},null,"DEFICYT W ODNIESIENIU DO LINII KOMUNIKACYJNEJ NA 1 WOZOKILOMETR",null,null,null,null,null,null,{"$f":"IF(BR29=0,0,BM46/BR29)","v":0},null,"DEFICYT W ODNIESIENIU DO LINII KOMUNIKACYJNEJ NA 1 WOZOKILOMETR",null,null,null,null,null,null,{"$f":"IF(CA29=0,0,BV46/CA29)","v":0},null,"DEFICYT W ODNIESIENIU DO LINII KOMUNIKACYJNEJ NA 1 WOZOKILOMETR",null,null,null,null,null,null,{"$f":"IF(CJ29=0,0,CE46/CJ29)","v":0},null,"DEFICYT W ODNIESIENIU DO LINII KOMUNIKACYJNEJ NA 1 WOZOKILOMETR",null,null,null,null,null,null,{"$f":"IF(CS29=0,0,CN46/CS29)","v":0},null,"DEFICYT W ODNIESIENIU DO LINII KOMUNIKACYJNEJ NA 1 WOZOKILOMETR",null,null,null,null,null,null,{"$f":"IF(DB29=0,0,CW46/DB29)","v":0},null,"DEFICYT W ODNIESIENIU DO LINII KOMUNIKACYJNEJ NA 1 WOZOKILOMETR",null,null,null,null,null,null,{"$f":"IF(DK29=0,0,DF46/DK29)","v":0}]
["KWOTA POKRYCIA DEFICYTU ZE ŚRODKÓW WŁASNYCH ORGANIZATORA DO 1 WOZOKILOMETRA PRACY EKSPLOATACYJNEJ",null,null,null,null,null,null,null,null,"KWOTA POKRYCIA DEFICYTU ZE ŚRODKÓW WŁASNYCH ORGANIZATORA DO 1 WOZOKILOMETRA PRACY EKSPLOATACYJNEJ",null,null,null,null,null,null,null,null,"KWOTA POKRYCIA DEFICYTU ZE ŚRODKÓW WŁASNYCH ORGANIZATORA DO 1 WOZOKILOMETRA PRACY EKSPLOATACYJNEJ",null,null,null,null,null,null,null,null,"KWOTA POKRYCIA DEFICYTU ZE ŚRODKÓW WŁASNYCH ORGANIZATORA DO 1 WOZOKILOMETRA PRACY EKSPLOATACYJNEJ",null,null,null,null,null,null,null,null,"KWOTA POKRYCIA DEFICYTU ZE ŚRODKÓW WŁASNYCH ORGANIZATORA DO 1 WOZOKILOMETRA PRACY EKSPLOATACYJNEJ",null,null,null,null,null,null,null,null,"KWOTA POKRYCIA DEFICYTU ZE ŚRODKÓW WŁASNYCH ORGANIZATORA DO 1 WOZOKILOMETRA PRACY EKSPLOATACYJNEJ",null,null,null,null,null,null,null,null,"KWOTA POKRYCIA DEFICYTU ZE ŚRODKÓW WŁASNYCH ORGANIZATORA DO 1 WOZOKILOMETRA PRACY EKSPLOATACYJNEJ",null,null,null,null,null,null,null,null,"KWOTA POKRYCIA DEFICYTU ZE ŚRODKÓW WŁASNYCH ORGANIZATORA DO 1 WOZOKILOMETRA PRACY EKSPLOATACYJNEJ",null,null,null,null,null,null,null,null,"KWOTA POKRYCIA DEFICYTU ZE ŚRODKÓW WŁASNYCH ORGANIZATORA DO 1 WOZOKILOMETRA PRACY EKSPLOATACYJNEJ",null,null,null,null,null,null,null,null,"KWOTA POKRYCIA DEFICYTU ZE ŚRODKÓW WŁASNYCH ORGANIZATORA DO 1 WOZOKILOMETRA PRACY EKSPLOATACYJNEJ",null,null,null,null,null,null,null,null,"KWOTA POKRYCIA DEFICYTU ZE ŚRODKÓW WŁASNYCH ORGANIZATORA DO 1 WOZOKILOMETRA PRACY EKSPLOATACYJNEJ",null,null,null,null,null,null,null,null,"KWOTA POKRYCIA DEFICYTU ZE ŚRODKÓW WŁASNYCH ORGANIZATORA DO 1 WOZOKILOMETRA PRACY EKSPLOATACYJNEJ",null,null,null,null,null,null,null,null,"KWOTA POKRYCIA DEFICYTU ZE ŚRODKÓW WŁASNYCH ORGANIZATORA DO 1 WOZOKILOMETRA PRACY EKSPLOATACYJNEJ"]
["NALEŻNA KWOTA DOPŁATY ZE ŚRODKÓW FUNDUSZU DO 1 WOZOKILOMETRA PRACY EKSPLOATACYJNEJ",null,null,null,null,null,null,null,null,"NALEŻNA KWOTA DOPŁATY ZE ŚRODKÓW FUNDUSZU DO 1 WOZOKILOMETRA PRACY EKSPLOATACYJNEJ",null,null,null,null,null,null,null,null,"NALEŻNA KWOTA DOPŁATY ZE ŚRODKÓW FUNDUSZU DO 1 WOZOKILOMETRA PRACY EKSPLOATACYJNEJ",null,null,null,null,null,null,null,null,"NALEŻNA KWOTA DOPŁATY ZE ŚRODKÓW FUNDUSZU DO 1 WOZOKILOMETRA PRACY EKSPLOATACYJNEJ",null,null,null,null,null,null,null,null,"NALEŻNA KWOTA DOPŁATY ZE ŚRODKÓW FUNDUSZU DO 1 WOZOKILOMETRA PRACY EKSPLOATACYJNEJ",null,null,null,null,null,null,null,null,"NALEŻNA KWOTA DOPŁATY ZE ŚRODKÓW FUNDUSZU DO 1 WOZOKILOMETRA PRACY EKSPLOATACYJNEJ",null,null,null,null,null,null,null,null,"NALEŻNA KWOTA DOPŁATY ZE ŚRODKÓW FUNDUSZU DO 1 WOZOKILOMETRA PRACY EKSPLOATACYJNEJ",null,null,null,null,null,null,null,null,"NALEŻNA KWOTA DOPŁATY ZE ŚRODKÓW FUNDUSZU DO 1 WOZOKILOMETRA PRACY EKSPLOATACYJNEJ",null,null,null,null,null,null,null,null,"NALEŻNA KWOTA DOPŁATY ZE ŚRODKÓW FUNDUSZU DO 1 WOZOKILOMETRA PRACY EKSPLOATACYJNEJ",null,null,null,null,null,null,null,null,"NALEŻNA KWOTA DOPŁATY ZE ŚRODKÓW FUNDUSZU DO 1 WOZOKILOMETRA PRACY EKSPLOATACYJNEJ",null,null,null,null,null,null,null,null,"NALEŻNA KWOTA DOPŁATY ZE ŚRODKÓW FUNDUSZU DO 1 WOZOKILOMETRA PRACY EKSPLOATACYJNEJ",null,null,null,null,null,null,null,null,"NALEŻNA KWOTA DOPŁATY ZE ŚRODKÓW FUNDUSZU DO 1 WOZOKILOMETRA PRACY EKSPLOATACYJNEJ",null,null,null,null,null,null,null,null,"NALEŻNA KWOTA DOPŁATY ZE ŚRODKÓW FUNDUSZU DO 1 WOZOKILOMETRA PRACY EKSPLOATACYJNEJ"]
["CAŁKOWITA KWOTA POKRYCIA DEFICYTU ZE ŚRODKÓW WŁASNYCH ORGANIZATORA (ILOCZYN DOPŁATY DO 1 WOZOKILOMETRA I PRACY EKSPLOATACYJNEJ)",null,null,null,null,null,null,{"$f":"H54*G29","v":0},null,"CAŁKOWITA KWOTA POKRYCIA DEFICYTU ZE ŚRODKÓW WŁASNYCH ORGANIZATORA (ILOCZYN DOPŁATY DO 1 WOZOKILOMETRA I PRACY EKSPLOATACYJNEJ)",null,null,null,null,null,null,{"$f":"Q54*P29","v":0},null,"CAŁKOWITA KWOTA POKRYCIA DEFICYTU ZE ŚRODKÓW WŁASNYCH ORGANIZATORA (ILOCZYN DOPŁATY DO 1 WOZOKILOMETRA I PRACY EKSPLOATACYJNEJ)",null,null,null,null,null,null,{"$f":"Z54*Y29","v":0},null,"CAŁKOWITA KWOTA POKRYCIA DEFICYTU ZE ŚRODKÓW WŁASNYCH ORGANIZATORA (ILOCZYN DOPŁATY DO 1 WOZOKILOMETRA I PRACY EKSPLOATACYJNEJ)",null,null,null,null,null,null,{"$f":"AI54*AH29","v":0},null,"CAŁKOWITA KWOTA POKRYCIA DEFICYTU ZE ŚRODKÓW WŁASNYCH ORGANIZATORA (ILOCZYN DOPŁATY DO 1 WOZOKILOMETRA I PRACY EKSPLOATACYJNEJ)",null,null,null,null,null,null,{"$f":"AR54*AQ29","v":0},null,"CAŁKOWITA KWOTA POKRYCIA DEFICYTU ZE ŚRODKÓW WŁASNYCH ORGANIZATORA (ILOCZYN DOPŁATY DO 1 WOZOKILOMETRA I PRACY EKSPLOATACYJNEJ)",null,null,null,null,null,null,{"$f":"BA54*AZ29","v":0},null,"CAŁKOWITA KWOTA POKRYCIA DEFICYTU ZE ŚRODKÓW WŁASNYCH ORGANIZATORA (ILOCZYN DOPŁATY DO 1 WOZOKILOMETRA I PRACY EKSPLOATACYJNEJ)",null,null,null,null,null,null,{"$f":"BJ54*BI29","v":0},null,"CAŁKOWITA KWOTA POKRYCIA DEFICYTU ZE ŚRODKÓW WŁASNYCH ORGANIZATORA (ILOCZYN DOPŁATY DO 1 WOZOKILOMETRA I PRACY EKSPLOATACYJNEJ)",null,null,null,null,null,null,{"$f":"BS54*BR29","v":0},null,"CAŁKOWITA KWOTA POKRYCIA DEFICYTU ZE ŚRODKÓW WŁASNYCH ORGANIZATORA (ILOCZYN DOPŁATY DO 1 WOZOKILOMETRA I PRACY EKSPLOATACYJNEJ)",null,null,null,null,null,null,{"$f":"CB54*CA29","v":0},null,"CAŁKOWITA KWOTA POKRYCIA DEFICYTU ZE ŚRODKÓW WŁASNYCH ORGANIZATORA (ILOCZYN DOPŁATY DO 1 WOZOKILOMETRA I PRACY EKSPLOATACYJNEJ)",null,null,null,null,null,null,{"$f":"CK54*CJ29","v":0},null,"CAŁKOWITA KWOTA POKRYCIA DEFICYTU ZE ŚRODKÓW WŁASNYCH ORGANIZATORA (ILOCZYN DOPŁATY DO 1 WOZOKILOMETRA I PRACY EKSPLOATACYJNEJ)",null,null,null,null,null,null,{"$f":"CT54*CS29","v":0},null,"CAŁKOWITA KWOTA POKRYCIA DEFICYTU ZE ŚRODKÓW WŁASNYCH ORGANIZATORA (ILOCZYN DOPŁATY DO 1 WOZOKILOMETRA I PRACY EKSPLOATACYJNEJ)",null,null,null,null,null,null,{"$f":"DC54*DB29","v":0},null,"CAŁKOWITA KWOTA POKRYCIA DEFICYTU ZE ŚRODKÓW WŁASNYCH ORGANIZATORA (ILOCZYN DOPŁATY DO 1 WOZOKILOMETRA I PRACY EKSPLOATACYJNEJ)",null,null,null,null,null,null,{"$f":"DL54*DK29","v":0}]
["CAŁKOWITA NALEŻNA KWOTA DOPŁATY ZE ŚRODKÓW FUNDUSZU (ILOCZYN DOPŁATY DO 1 WOZOKILOMETRA I PRACY EKSPLOATACYJNEJ)",null,null,null,null,null,null,{"$f":"H55*G29","v":0},null,"CAŁKOWITA NALEŻNA KWOTA DOPŁATY ZE ŚRODKÓW FUNDUSZU (ILOCZYN DOPŁATY DO 1 WOZOKILOMETRA I PRACY EKSPLOATACYJNEJ)",null,null,null,null,null,null,{"$f":"Q55*P29","v":0},null,"CAŁKOWITA NALEŻNA KWOTA DOPŁATY ZE ŚRODKÓW FUNDUSZU (ILOCZYN DOPŁATY DO 1 WOZOKILOMETRA I PRACY EKSPLOATACYJNEJ)",null,null,null,null,null,null,{"$f":"Z55*Y29","v":0},null,"CAŁKOWITA NALEŻNA KWOTA DOPŁATY ZE ŚRODKÓW FUNDUSZU (ILOCZYN DOPŁATY DO 1 WOZOKILOMETRA I PRACY EKSPLOATACYJNEJ)",null,null,null,null,null,null,{"$f":"AI55*AH29","v":0},null,"CAŁKOWITA NALEŻNA KWOTA DOPŁATY ZE ŚRODKÓW FUNDUSZU (ILOCZYN DOPŁATY DO 1 WOZOKILOMETRA I PRACY EKSPLOATACYJNEJ)",null,null,null,null,null,null,{"$f":"AR55*AQ29","v":0},null,"CAŁKOWITA NALEŻNA KWOTA DOPŁATY ZE ŚRODKÓW FUNDUSZU (ILOCZYN DOPŁATY DO 1 WOZOKILOMETRA I PRACY EKSPLOATACYJNEJ)",null,null,null,null,null,null,{"$f":"BA55*AZ29","v":0},null,"CAŁKOWITA NALEŻNA KWOTA DOPŁATY ZE ŚRODKÓW FUNDUSZU (ILOCZYN DOPŁATY DO 1 WOZOKILOMETRA I PRACY EKSPLOATACYJNEJ)",null,null,null,null,null,null,{"$f":"BJ55*BI29","v":0},null,"CAŁKOWITA NALEŻNA KWOTA DOPŁATY ZE ŚRODKÓW FUNDUSZU (ILOCZYN DOPŁATY DO 1 WOZOKILOMETRA I PRACY EKSPLOATACYJNEJ)",null,null,null,null,null,null,{"$f":"BS55*BR29","v":0},null,"CAŁKOWITA NALEŻNA KWOTA DOPŁATY ZE ŚRODKÓW FUNDUSZU (ILOCZYN DOPŁATY DO 1 WOZOKILOMETRA I PRACY EKSPLOATACYJNEJ)",null,null,null,null,null,null,{"$f":"CB55*CA29","v":0},null,"CAŁKOWITA NALEŻNA KWOTA DOPŁATY ZE ŚRODKÓW FUNDUSZU (ILOCZYN DOPŁATY DO 1 WOZOKILOMETRA I PRACY EKSPLOATACYJNEJ)",null,null,null,null,null,null,{"$f":"CK55*CJ29","v":0},null,"CAŁKOWITA NALEŻNA KWOTA DOPŁATY ZE ŚRODKÓW FUNDUSZU (ILOCZYN DOPŁATY DO 1 WOZOKILOMETRA I PRACY EKSPLOATACYJNEJ)",null,null,null,null,null,null,{"$f":"CT55*CS29","v":0},null,"CAŁKOWITA NALEŻNA KWOTA DOPŁATY ZE ŚRODKÓW FUNDUSZU (ILOCZYN DOPŁATY DO 1 WOZOKILOMETRA I PRACY EKSPLOATACYJNEJ)",null,null,null,null,null,null,{"$f":"DC55*DB29","v":0},null,"CAŁKOWITA NALEŻNA KWOTA DOPŁATY ZE ŚRODKÓW FUNDUSZU (ILOCZYN DOPŁATY DO 1 WOZOKILOMETRA I PRACY EKSPLOATACYJNEJ)",null,null,null,null,null,null,{"$f":"DL55*DK29","v":0}]
[]
["PRZEWIDYWANA KWOTA DOPŁATY WE WNIOSKU O DOPŁATĘ ZA OKRES OBJĘTY SPRAWOZDANIEM ",null,null,null,null,null,null,null,null,"PRZEWIDYWANA KWOTA DOPŁATY WE WNIOSKU O DOPŁATĘ ZA OKRES OBJĘTY SPRAWOZDANIEM ",null,null,null,null,null,null,null,null,"PRZEWIDYWANA KWOTA DOPŁATY WE WNIOSKU O DOPŁATĘ ZA OKRES OBJĘTY SPRAWOZDANIEM ",null,null,null,null,null,null,null,null,"PRZEWIDYWANA KWOTA DOPŁATY WE WNIOSKU O DOPŁATĘ ZA OKRES OBJĘTY SPRAWOZDANIEM ",null,null,null,null,null,null,null,null,"PRZEWIDYWANA KWOTA DOPŁATY WE WNIOSKU O DOPŁATĘ ZA OKRES OBJĘTY SPRAWOZDANIEM ",null,null,null,null,null,null,null,null,"PRZEWIDYWANA KWOTA DOPŁATY WE WNIOSKU O DOPŁATĘ ZA OKRES OBJĘTY SPRAWOZDANIEM ",null,null,null,null,null,null,null,null,"PRZEWIDYWANA KWOTA DOPŁATY WE WNIOSKU O DOPŁATĘ ZA OKRES OBJĘTY SPRAWOZDANIEM ",null,null,null,null,null,null,null,null,"PRZEWIDYWANA KWOTA DOPŁATY WE WNIOSKU O DOPŁATĘ ZA OKRES OBJĘTY SPRAWOZDANIEM ",null,null,null,null,null,null,null,null,"PRZEWIDYWANA KWOTA DOPŁATY WE WNIOSKU O DOPŁATĘ ZA OKRES OBJĘTY SPRAWOZDANIEM ",null,null,null,null,null,null,null,null,"PRZEWIDYWANA KWOTA DOPŁATY WE WNIOSKU O DOPŁATĘ ZA OKRES OBJĘTY SPRAWOZDANIEM ",null,null,null,null,null,null,null,null,"PRZEWIDYWANA KWOTA DOPŁATY WE WNIOSKU O DOPŁATĘ ZA OKRES OBJĘTY SPRAWOZDANIEM ",null,null,null,null,null,null,null,null,"PRZEWIDYWANA KWOTA DOPŁATY WE WNIOSKU O DOPŁATĘ ZA OKRES OBJĘTY SPRAWOZDANIEM ",null,null,null,null,null,null,null,null,"PRZEWIDYWANA KWOTA DOPŁATY WE WNIOSKU O DOPŁATĘ ZA OKRES OBJĘTY SPRAWOZDANIEM "]
["RÓŻNICA MIĘDZY PRZEWIDYWANĄ A RZECZYWISTĄ KWOTĄ DOPŁATY ZE ŚRODKÓW FUNDUSZU W OKRESIE",null,null,null,null,null,null,{"$f":"H57-H59","v":0},null,"RÓŻNICA MIĘDZY PRZEWIDYWANĄ A RZECZYWISTĄ KWOTĄ DOPŁATY ZE ŚRODKÓW FUNDUSZU W OKRESIE",null,null,null,null,null,null,{"$f":"Q57-Q59","v":0},null,"RÓŻNICA MIĘDZY PRZEWIDYWANĄ A RZECZYWISTĄ KWOTĄ DOPŁATY ZE ŚRODKÓW FUNDUSZU W OKRESIE",null,null,null,null,null,null,{"$f":"Z57-Z59","v":0},null,"RÓŻNICA MIĘDZY PRZEWIDYWANĄ A RZECZYWISTĄ KWOTĄ DOPŁATY ZE ŚRODKÓW FUNDUSZU W OKRESIE",null,null,null,null,null,null,{"$f":"AI57-AI59","v":0},null,"RÓŻNICA MIĘDZY PRZEWIDYWANĄ A RZECZYWISTĄ KWOTĄ DOPŁATY ZE ŚRODKÓW FUNDUSZU W OKRESIE",null,null,null,null,null,null,{"$f":"AR57-AR59","v":0},null,"RÓŻNICA MIĘDZY PRZEWIDYWANĄ A RZECZYWISTĄ KWOTĄ DOPŁATY ZE ŚRODKÓW FUNDUSZU W OKRESIE",null,null,null,null,null,null,{"$f":"BA57-BA59","v":0},null,"RÓŻNICA MIĘDZY PRZEWIDYWANĄ A RZECZYWISTĄ KWOTĄ DOPŁATY ZE ŚRODKÓW FUNDUSZU W OKRESIE",null,null,null,null,null,null,{"$f":"BJ57-BJ59","v":0},null,"RÓŻNICA MIĘDZY PRZEWIDYWANĄ A RZECZYWISTĄ KWOTĄ DOPŁATY ZE ŚRODKÓW FUNDUSZU W OKRESIE",null,null,null,null,null,null,{"$f":"BS57-BS59","v":0},null,"RÓŻNICA MIĘDZY PRZEWIDYWANĄ A RZECZYWISTĄ KWOTĄ DOPŁATY ZE ŚRODKÓW FUNDUSZU W OKRESIE",null,null,null,null,null,null,{"$f":"CB57-CB59","v":0},null,"RÓŻNICA MIĘDZY PRZEWIDYWANĄ A RZECZYWISTĄ KWOTĄ DOPŁATY ZE ŚRODKÓW FUNDUSZU W OKRESIE",null,null,null,null,null,null,{"$f":"CK57-CK59","v":0},null,"RÓŻNICA MIĘDZY PRZEWIDYWANĄ A RZECZYWISTĄ KWOTĄ DOPŁATY ZE ŚRODKÓW FUNDUSZU W OKRESIE",null,null,null,null,null,null,{"$f":"CT57-CT59","v":0},null,"RÓŻNICA MIĘDZY PRZEWIDYWANĄ A RZECZYWISTĄ KWOTĄ DOPŁATY ZE ŚRODKÓW FUNDUSZU W OKRESIE",null,null,null,null,null,null,{"$f":"DC57-DC59","v":0},null,"RÓŻNICA MIĘDZY PRZEWIDYWANĄ A RZECZYWISTĄ KWOTĄ DOPŁATY ZE ŚRODKÓW FUNDUSZU W OKRESIE",null,null,null,null,null,null,{"$f":"DL57-DL59","v":0}]

{"sheet":"WYCIĄG ZE SPRAWOZDANIA","index":2,"n_rows":2,"n_cols":15,"rows_kept":2,"cut":false,"hidden":false,"merged":[]}
["OKRES ROZLICZENIOWY","TYP ORGANIZATORA",{"$f":"'SPRAWOZDANIE CZĘŚĆ I'!A5","v":"NIP ORGANIZATORA"},"NAZWA ORGANIZATORA","KWOTA DOPŁATY","WYRÓWNANIE","NIEWYKORZYSTANA KWOTA DOPŁATY","WKŁAD WŁASNY",null,"ŁĄCZNA LICZBA LINII","ŁĄCZNA DŁUGOŚĆ LINII","ŁĄCZNA LICZBA OPERATORÓW","ŁĄCZNA WIELKOŚĆ PRACY EKSPLOATACYJNEJ","KWOTA REKOMPENSATY PRZEKAZANA","PRZEKAZANA REKOMPENSATA ZE ŚRODKÓW DOPŁATY"]
[{"$f":"'SPRAWOZDANIE CZĘŚĆ I'!B2","v":0},{"$f":"'SPRAWOZDANIE CZĘŚĆ I'!D6","v":""},{"$f":"'SPRAWOZDANIE CZĘŚĆ I'!B5","v":0},{"$f":"'SPRAWOZDANIE CZĘŚĆ I'!B6","v":""},{"$f":"'SPRAWOZDANIE CZĘŚĆ I'!D24","v":0},{"$f":"'SPRAWOZDANIE CZĘŚĆ I'!D27","v":0},{"$f":"'SPRAWOZDANIE CZĘŚĆ I'!D26","v":0},{"$f":"'SPRAWOZDANIE CZĘŚĆ I'!D23","v":0},null,{"$f":"'SPRAWOZDANIE CZĘŚĆ I'!D16","v":0},{"$f":"'SPRAWOZDANIE CZĘŚĆ I'!D17","v":0},{"$f":"'SPRAWOZDANIE CZĘŚĆ I'!D18","v":0},{"$f":"'SPRAWOZDANIE CZĘŚĆ I'!D19","v":0},{"$f":"'SPRAWOZDANIE CZĘŚĆ I'!D28","v":0},{"$f":"'SPRAWOZDANIE CZĘŚĆ I'!D29","v":0}]

{"sheet":"Arkusz2","index":3,"n_rows":203,"n_cols":23,"rows_kept":203,"cut":false,"hidden":true,"merged":[]}
["NIP","NAZWA","WOJ.","POW","GMINA","Kod pocztowy","Miejscowość poczty","Miejscowość","Ulica","nr nieruchomości",null,null,"","","TAK","NIE"]
["6282074477","GMINA ALWERNIA","12","03","014","32566","Alwernia","Alwernia","ul. Zbigniewa Gęsikowskiego","7","GMINA",{"$f":"C2*100000+D2*1000+E2","v":1203014},{"$f":"VLOOKUP(L2,Arkusz3!A:L,2,0)","v":""},{"$f":"IF(M2=M$1,L2-1,IF(M2=N$1,L2-2,L2))","v":1203013},{"$f":"VLOOKUP(N2,Arkusz3!A:L,5,0)","v":74},{"$f":"VLOOKUP(N2,Arkusz3!A:L,6,0)","v":12640},{"$f":"VLOOKUP(N2,Arkusz3!A:L,8,0)","v":170},{"$f":"VLOOKUP(N2,Arkusz3!AN:AP,3,0)","v":1849.95},null,"I KWARTAŁ",{"$f":"IF('SPRAWOZDANIE CZĘŚĆ I'!$B$2=Arkusz2!$T$2,$V$2,IF('SPRAWOZDANIE CZĘŚĆ I'!$B$2=Arkusz2!$T$3,$V$3,IF('SPRAWOZDANIE CZĘŚĆ I'!$B$2=Arkusz2!$T$4,$V$4,$V$5)))","v":"2023-10-01"},"2023-01-01","2023-03-31"]
["5510013406","GMINA ANDRYCHÓW","12","18","014","34120","Andrychów","Andrychów","Rynek","15        ","GMINA",{"$f":"C3*100000+D3*1000+E3","v":1218014},{"$f":"VLOOKUP(L3,Arkusz3!A:L,2,0)","v":""},{"$f":"IF(M3=M$1,L3-1,IF(M3=N$1,L3-2,L3))","v":1218013},{"$f":"VLOOKUP(N3,Arkusz3!A:L,5,0)","v":100},{"$f":"VLOOKUP(N3,Arkusz3!A:L,6,0)","v":43654},{"$f":"VLOOKUP(N3,Arkusz3!A:L,8,0)","v":435},{"$f":"VLOOKUP(N3,Arkusz3!AN:AP,3,0)","v":1534.85},null,"II KWARTAŁ",{"$f":"IF('SPRAWOZDANIE CZĘŚĆ I'!$B$2=Arkusz2!$T$2,$W$2,IF('SPRAWOZDANIE CZĘŚĆ I'!$B$2=Arkusz2!$T$3,$W$3,IF('SPRAWOZDANIE CZĘŚĆ I'!$B$2=Arkusz2!$T$4,$W$4,$W$5)))","v":"2023-12-31"},"2023-04-01","2023-06-30"]
["6282267905","GMINA BABICE","12","03","022","32551","Babice","Babice","ul. Krakowska","56        ","GMINA",1203022,{"$f":"VLOOKUP(L4,Arkusz3!A:L,2,0)","v":"  Babice.........................................................................................................................................................................................................................................................."},1203022,{"$f":"VLOOKUP(N4,Arkusz3!A:L,5,0)","v":55},{"$f":"VLOOKUP(N4,Arkusz3!A:L,6,0)","v":9146},{"$f":"VLOOKUP(N4,Arkusz3!A:L,8,0)","v":169},{"$f":"VLOOKUP(N4,Arkusz3!AN:AP,3,0)","v":1514.6},null,"III KWARTAŁ",null,"2023-07-01","2023-09-30"]
["7361717680","GMINA BIAŁY DUNAJEC","12","17","022","34425","Biały Dunajec","Biały Dunajec","ul. Jana Pawła II",312,"GMINA",1217022,{"$f":"VLOOKUP(L5,Arkusz3!A:L,2,0)","v":"  Biały Dunajec.........................................................................................................................................................................................................................................................."},1217022,{"$f":"VLOOKUP(N5,Arkusz3!A:L,5,0)","v":35},{"$f":"VLOOKUP(N5,Arkusz3!A:L,6,0)","v":7184},{"$f":"VLOOKUP(N5,Arkusz3!A:L,8,0)","v":204},{"$f":"VLOOKUP(N5,Arkusz3!AN:AP,3,0)","v":990.23},null,"IV KWARTAŁ",null,"2023-10-01","2023-12-31"]
["7381973883","GMINA BIECZ","12","05","024","38340","Biecz","Biecz","ul. Rynek","1         ","GMINA",1205024,{"$f":"VLOOKUP(L6,Arkusz3!A:L,2,0)","v":""},1205023,{"$f":"VLOOKUP(N6,Arkusz3!A:L,5,0)","v":98},{"$f":"VLOOKUP(N6,Arkusz3!A:L,6,0)","v":16858},{"$f":"VLOOKUP(N6,Arkusz3!A:L,8,0)","v":172},{"$f":"VLOOKUP(N6,Arkusz3!AN:AP,3,0)","v":973.3}]
["6831573055","GMINA BISKUPICE","12","19","012","32020","Wieliczka","Tomaszkowice",null,"455","GMINA",1219012,{"$f":"VLOOKUP(L7,Arkusz3!A:L,2,0)","v":"  Biskupice.........................................................................................................................................................................................................................................................."},1219012,{"$f":"VLOOKUP(N7,Arkusz3!A:L,5,0)","v":41},{"$f":"VLOOKUP(N7,Arkusz3!A:L,6,0)","v":10330},{"$f":"VLOOKUP(N7,Arkusz3!A:L,8,0)","v":251},{"$f":"VLOOKUP(N7,Arkusz3!AN:AP,3,0)","v":1294.3699999999999}]
["7382129965","GMINA BOBOWA","12","05","034","38350","Bobowa","Bobowa","ul. Rynek","21        ","GMINA",1205034,{"$f":"VLOOKUP(L8,Arkusz3!A:L,2,0)","v":""},1205033,{"$f":"VLOOKUP(N8,Arkusz3!A:L,5,0)","v":50},{"$f":"VLOOKUP(N8,Arkusz3!A:L,6,0)","v":9778},{"$f":"VLOOKUP(N8,Arkusz3!A:L,8,0)","v":196},{"$f":"VLOOKUP(N8,Arkusz3!AN:AP,3,0)","v":677.37}]
["8681001825","GMINA MIASTA BOCHNIA","12","01","011","32700","Bochnia","Bochnia","ul. Kazimierza Wielkiego","2","GMINA",1201011,{"$f":"VLOOKUP(L9,Arkusz3!A:L,2,0)","v":"  Bochnia.........................................................................................................................................................................................................................................................."},1201011,{"$f":"VLOOKUP(N9,Arkusz3!A:L,5,0)","v":30},{"$f":"VLOOKUP(N9,Arkusz3!A:L,6,0)","v":29922},{"$f":"VLOOKUP(N9,Arkusz3!A:L,8,0)","v":1002},{"$f":"VLOOKUP(N9,Arkusz3!AN:AP,3,0)","v":2176.94}]
["8681021271","GMINA BOCHNIA","12","01","011","32700","Bochnia","Bochnia","ul. Kazimierza Wielkiego","26","GMINA",1201011,{"$f":"VLOOKUP(L10,Arkusz3!A:L,2,0)","v":"  Bochnia.........................................................................................................................................................................................................................................................."},1201011,{"$f":"VLOOKUP(N10,Arkusz3!A:L,5,0)","v":30},{"$f":"VLOOKUP(N10,Arkusz3!A:L,6,0)","v":29922},{"$f":"VLOOKUP(N10,Arkusz3!A:L,8,0)","v":1002},{"$f":"VLOOKUP(N10,Arkusz3!AN:AP,3,0)","v":2176.94}]
["8711770280"," GMINA BOLESŁAW (pow. dąbrowski)","12","04","012","33220","Bolesław","Bolesław",null,"68","GMINA",1204012,{"$f":"VLOOKUP(L11,Arkusz3!A:L,2,0)","v":"  Bolesław.........................................................................................................................................................................................................................................................."},1204012,{"$f":"VLOOKUP(N11,Arkusz3!A:L,5,0)","v":36},{"$f":"VLOOKUP(N11,Arkusz3!A:L,6,0)","v":2682},{"$f":"VLOOKUP(N11,Arkusz3!A:L,8,0)","v":75},{"$f":"VLOOKUP(N11,Arkusz3!AN:AP,3,0)","v":834.44}]
["6371997976","GMINA BOLESŁAW (pow. olkuski)","12","12","032","32329","Bolesław","Bolesław","ul. Główna","58","GMINA",1212032,{"$f":"VLOOKUP(L12,Arkusz3!A:L,2,0)","v":"  Bolesław.........................................................................................................................................................................................................................................................."},1212032,{"$f":"VLOOKUP(N12,Arkusz3!A:L,5,0)","v":41},{"$f":"VLOOKUP(N12,Arkusz3!A:L,6,0)","v":7786},{"$f":"VLOOKUP(N12,Arkusz3!A:L,8,0)","v":191},{"$f":"VLOOKUP(N12,Arkusz3!AN:AP,3,0)","v":2594.73}]
["8691318251","GMINA BORZĘCIN","12","02","012","32825","Borzęcin","Borzęcin",null,"583G","GMINA",1202012,{"$f":"VLOOKUP(L13,Arkusz3!A:L,2,0)","v":"  Borzęcin.........................................................................................................................................................................................................................................................."},1202012,{"$f":"VLOOKUP(N13,Arkusz3!A:L,5,0)","v":103},{"$f":"VLOOKUP(N13,Arkusz3!A:L,6,0)","v":8379},{"$f":"VLOOKUP(N13,Arkusz3!A:L,8,0)","v":82},{"$f":"VLOOKUP(N13,Arkusz3!AN:AP,3,0)","v":1199.73}]
["8691002648","GMINA BRZESKO","12","02","024","32800","Brzesko","Brzesko","ul. Bartosza Głowackiego","51","GMINA",1202024,{"$f":"VLOOKUP(L14,Arkusz3!A:L,2,0)","v":""},1202023,{"$f":"VLOOKUP(N14,Arkusz3!A:L,5,0)","v":103},{"$f":"VLOOKUP(N14,Arkusz3!A:L,6,0)","v":36314},{"$f":"VLOOKUP(N14,Arkusz3!A:L,8,0)","v":354},{"$f":"VLOOKUP(N14,Arkusz3!AN:AP,3,0)","v":1665.15}]
["5492197470","GMINA BRZESZCZE","12","13","024","32620","Brzeszcze","Brzeszcze","ul. Kościelna","4","GMINA",1213024,{"$f":"VLOOKUP(L15,Arkusz3!A:L,2,0)","v":""},1213023,{"$f":"VLOOKUP(N15,Arkusz3!A:L,5,0)","v":46},{"$f":"VLOOKUP(N15,Arkusz3!A:L,6,0)","v":21270},{"$f":"VLOOKUP(N15,Arkusz3!A:L,8,0)","v":466},{"$f":"VLOOKUP(N15,Arkusz3!AN:AP,3,0)","v":2220.96}]
["5511123918","GMINA BRZEŹNICA","12","18","022","34114","Brzeźnica","Brzeźnica","ul. Krakowska","109       ","GMINA",1218022,{"$f":"VLOOKUP(L16,Arkusz3!A:L,2,0)","v":"  Brzeźnica.........................................................................................................................................................................................................................................................."},1218022,{"$f":"VLOOKUP(N16,Arkusz3!A:L,5,0)","v":66},{"$f":"VLOOKUP(N16,Arkusz3!A:L,6,0)","v":10345},{"$f":"VLOOKUP(N16,Arkusz3!A:L,8,0)","v":156},{"$f":"VLOOKUP(N16,Arkusz3!AN:AP,3,0)","v":1192.31}]
["5521677860","GMINA BUDZÓW","12","15","032","34211","Budzów","Budzów",null,"445","GMINA",1215032,{"$f":"VLOOKUP(L17,Arkusz3!A:L,2,0)","v":"  Budzów.........................................................................................................................................................................................................................................................."},1215032,{"$f":"VLOOKUP(N17,Arkusz3!A:L,5,0)","v":74},{"$f":"VLOOKUP(N17,Arkusz3!A:L,6,0)","v":8946},{"$f":"VLOOKUP(N17,Arkusz3!A:L,8,0)","v":122},{"$f":"VLOOKUP(N17,Arkusz3!AN:AP,3,0)","v":800.17}]
["7361717220","GMINA BUKOWINA TATRZAŃSKA","12","17","032","34530","Bukowina Tatrzańska","Bukowina Tatrzańska","ul. Długa","144","GMINA",1217032,{"$f":"VLOOKUP(L18,Arkusz3!A:L,2,0)","v":"  Bukowina Tatrzańska.........................................................................................................................................................................................................................................................."},1217032,{"$f":"VLOOKUP(N18,Arkusz3!A:L,5,0)","v":132},{"$f":"VLOOKUP(N18,Arkusz3!A:L,6,0)","v":13351},{"$f":"VLOOKUP(N18,Arkusz3!A:L,8,0)","v":101},{"$f":"VLOOKUP(N18,Arkusz3!AN:AP,3,0)","v":1622.97}]
["6371998065","GMINA BUKOWNO","12","12","011","32332","Bukowno","Bukowno","ul. Kolejowa","16","GMINA",1212011,{"$f":"VLOOKUP(L19,Arkusz3!A:L,2,0)","v":"  Bukowno.........................................................................................................................................................................................................................................................."},1212011,{"$f":"VLOOKUP(N19,Arkusz3!A:L,5,0)","v":65},{"$f":"VLOOKUP(N19,Arkusz3!A:L,6,0)","v":10197},{"$f":"VLOOKUP(N19,Arkusz3!A:L,8,0)","v":158},{"$f":"VLOOKUP(N19,Arkusz3!AN:AP,3,0)","v":2718.4}]
["5521570518","GMINA BYSTRA-SIDZINA W BYSTREJ PODHALAŃSKIEJ","12","15","042","34235","Bystra Podhalańska","Bystra Podhalańska",null,"373","GMINA",1215042,{"$f":"VLOOKUP(L20,Arkusz3!A:L,2,0)","v":"  Bystra-Sidzina.........................................................................................................................................................................................................................................................."},1215042,{"$f":"VLOOKUP(N20,Arkusz3!A:L,5,0)","v":81},{"$f":"VLOOKUP(N20,Arkusz3!A:L,6,0)","v":6859},{"$f":"VLOOKUP(N20,Arkusz3!A:L,8,0)","v":85},{"$f":"VLOOKUP(N20,Arkusz3!AN:AP,3,0)","v":820.86}]
["6591153915","GMINA CHARSZNICA","12","08","012","32250","Charsznica","Miechów-Charsznica",null,"20        ","GMINA",1208012,{"$f":"VLOOKUP(L21,Arkusz3!A:L,2,0)","v":"  Charsznica.........................................................................................................................................................................................................................................................."},1208012,{"$f":"VLOOKUP(N21,Arkusz3!A:L,5,0)","v":78},{"$f":"VLOOKUP(N21,Arkusz3!A:L,6,0)","v":7464},{"$f":"VLOOKUP(N21,Arkusz3!A:L,8,0)","v":95},{"$f":"VLOOKUP(N21,Arkusz3!AN:AP,3,0)","v":999.66}]
["5492197441","GMINA CHEŁMEK","12","13","034","32660","Chełmek","Chełmek","ul. Krakowska","11","GMINA",1213034,{"$f":"VLOOKUP(L22,Arkusz3!A:L,2,0)","v":""},1213033,{"$f":"VLOOKUP(N22,Arkusz3!A:L,5,0)","v":27},{"$f":"VLOOKUP(N22,Arkusz3!A:L,6,0)","v":12999},{"$f":"VLOOKUP(N22,Arkusz3!A:L,8,0)","v":476},{"$f":"VLOOKUP(N22,Arkusz3!AN:AP,3,0)","v":1661.22}]
["7343445768","GMINA CHEŁMIEC","12","10","022","33395","Chełmiec","Chełmiec","ul. Papieska","2","GMINA",1210022,{"$f":"VLOOKUP(L23,Arkusz3!A:L,2,0)","v":"  Chełmiec.........................................................................................................................................................................................................................................................."},1210022,{"$f":"VLOOKUP(N23,Arkusz3!A:L,5,0)","v":112},{"$f":"VLOOKUP(N23,Arkusz3!A:L,6,0)","v":28572},{"$f":"VLOOKUP(N23,Arkusz3!A:L,8,0)","v":255},{"$f":"VLOOKUP(N23,Arkusz3!AN:AP,3,0)","v":1550.01}]
["6282260665","GMINA CHRZANÓW","12","03","034","32500","Chrzanów","Chrzanów","ul. Aleja Henryka","20        ","GMINA",1203034,{"$f":"VLOOKUP(L24,Arkusz3!A:L,2,0)","v":""},1203033,{"$f":"VLOOKUP(N24,Arkusz3!A:L,5,0)","v":79},{"$f":"VLOOKUP(N24,Arkusz3!A:L,6,0)","v":47169},{"$f":"VLOOKUP(N24,Arkusz3!A:L,8,0)","v":594},{"$f":"VLOOKUP(N24,Arkusz3!AN:AP,3,0)","v":1886.18}]
["8731014848","GMINA CIĘŻKOWICE","12","16","014","33190","Ciężkowice","Ciężkowice","ul. Tysiąclecia","19","GMINA",1216014,{"$f":"VLOOKUP(L25,Arkusz3!A:L,2,0)","v":""},1216013,{"$f":"VLOOKUP(N25,Arkusz3!A:L,5,0)","v":103},{"$f":"VLOOKUP(N25,Arkusz3!A:L,6,0)","v":11232},{"$f":"VLOOKUP(N25,Arkusz3!A:L,8,0)","v":109},{"$f":"VLOOKUP(N25,Arkusz3!AN:AP,3,0)","v":872.34}]
["7352843273","GMINA CZARNY DUNAJEC","12","11","032","34470","Czarny Dunajec","Czarny Dunajec","ul. Józefa Piłsudskiego","2","GMINA",1211032,{"$f":"VLOOKUP(L26,Arkusz3!A:L,2,0)","v":"  Czarny Dunajec.........................................................................................................................................................................................................................................................."},1211032,{"$f":"VLOOKUP(N26,Arkusz3!A:L,5,0)","v":218},{"$f":"VLOOKUP(N26,Arkusz3!A:L,6,0)","v":22527},{"$f":"VLOOKUP(N26,Arkusz3!A:L,8,0)","v":104},{"$f":"VLOOKUP(N26,Arkusz3!AN:AP,3,0)","v":599.09}]
["8691291026","GMINA CZCHÓW","12","02","034","32860","Czchów","Czchów","rynek Rynek","12","GMINA",1202034,{"$f":"VLOOKUP(L27,Arkusz3!A:L,2,0)","v":""},1202033,{"$f":"VLOOKUP(N27,Arkusz3!A:L,5,0)","v":66},{"$f":"VLOOKUP(N27,Arkusz3!A:L,6,0)","v":9803},{"$f":"VLOOKUP(N27,Arkusz3!A:L,8,0)","v":148},{"$f":"VLOOKUP(N27,Arkusz3!AN:AP,3,0)","v":1046.5999999999999}]
["9442253228","GMINA CZERNICHÓW","12","06","012","32070","Czernichów","Czernichów","ul. Gminna","1","GMINA",1206012,{"$f":"VLOOKUP(L28,Arkusz3!A:L,2,0)","v":"  Czernichów.........................................................................................................................................................................................................................................................."},1206012,{"$f":"VLOOKUP(N28,Arkusz3!A:L,5,0)","v":85},{"$f":"VLOOKUP(N28,Arkusz3!A:L,6,0)","v":14587},{"$f":"VLOOKUP(N28,Arkusz3!A:L,8,0)","v":173},{"$f":"VLOOKUP(N28,Arkusz3!AN:AP,3,0)","v":1422.42}]
["7352851410","GMINA CZORSZTYN","12","11","042","34436","Maniowy","Maniowy","ul. Gorczańska","3","GMINA",1211042,{"$f":"VLOOKUP(L29,Arkusz3!A:L,2,0)","v":"  Czorsztyn.........................................................................................................................................................................................................................................................."},1211042,{"$f":"VLOOKUP(N29,Arkusz3!A:L,5,0)","v":62},{"$f":"VLOOKUP(N29,Arkusz3!A:L,6,0)","v":7631},{"$f":"VLOOKUP(N29,Arkusz3!A:L,8,0)","v":123},{"$f":"VLOOKUP(N29,Arkusz3!AN:AP,3,0)","v":1183.4100000000001}]
["8711771055","GMINA DĄBROWA TARNOWSKA","12","04","024","33200","Dąbrowa Tarnowska","Dąbrowa Tarnowska","rynek Rynek","34","GMINA",1204024,{"$f":"VLOOKUP(L30,Arkusz3!A:L,2,0)","v":""},1204023,{"$f":"VLOOKUP(N30,Arkusz3!A:L,5,0)","v":116},{"$f":"VLOOKUP(N30,Arkusz3!A:L,6,0)","v":21287},{"$f":"VLOOKUP(N30,Arkusz3!A:L,8,0)","v":183},{"$f":"VLOOKUP(N30,Arkusz3!AN:AP,3,0)","v":1032.42}]
["8691326517","GMINA DĘBNO","12","02","042","32852","Dębno","Wola Dębińska",null,"240","GMINA",1202042,{"$f":"VLOOKUP(L31,Arkusz3!A:L,2,0)","v":"  Dębno.........................................................................................................................................................................................................................................................."},1202042,{"$f":"VLOOKUP(N31,Arkusz3!A:L,5,0)","v":82},{"$f":"VLOOKUP(N31,Arkusz3!A:L,6,0)","v":14723},{"$f":"VLOOKUP(N31,Arkusz3!A:L,8,0)","v":180},{"$f":"VLOOKUP(N31,Arkusz3!AN:AP,3,0)","v":1019}]
["6811004443","GMINA DOBCZYCE","12","09","014","32410","Dobczyce","Dobczyce","ul. Rynek","26","GMINA",1209014,{"$f":"VLOOKUP(L32,Arkusz3!A:L,2,0)","v":""},1209013,{"$f":"VLOOKUP(N32,Arkusz3!A:L,5,0)","v":66},{"$f":"VLOOKUP(N32,Arkusz3!A:L,6,0)","v":15272},{"$f":"VLOOKUP(N32,Arkusz3!A:L,8,0)","v":230},{"$f":"VLOOKUP(N32,Arkusz3!AN:AP,3,0)","v":1728.97}]
["7371005969","GMINA DOBRA","12","07","032","34642","Dobra","Dobra",null,"233       ","GMINA",1207032,{"$f":"VLOOKUP(L33,Arkusz3!A:L,2,0)","v":"  Dobra.........................................................................................................................................................................................................................................................."},1207032,{"$f":"VLOOKUP(N33,Arkusz3!A:L,5,0)","v":110},{"$f":"VLOOKUP(N33,Arkusz3!A:L,6,0)","v":9967},{"$f":"VLOOKUP(N33,Arkusz3!A:L,8,0)","v":91},{"$f":"VLOOKUP(N33,Arkusz3!AN:AP,3,0)","v":949.95}]
["6831718453","GMINA DRWINIA","12","01","032","32709","Drwinia","Drwinia",null,"57","GMINA",1201032,{"$f":"VLOOKUP(L34,Arkusz3!A:L,2,0)","v":"  Drwinia.........................................................................................................................................................................................................................................................."},1201032,{"$f":"VLOOKUP(N34,Arkusz3!A:L,5,0)","v":108},{"$f":"VLOOKUP(N34,Arkusz3!A:L,6,0)","v":6517},{"$f":"VLOOKUP(N34,Arkusz3!A:L,8,0)","v":60},{"$f":"VLOOKUP(N34,Arkusz3!AN:AP,3,0)","v":1109.4000000000001}]
["6831006563","GMINA GDÓW","12","19","022","32420","Gdów","Gdów",null,"40","GMINA",1219022,{"$f":"VLOOKUP(L35,Arkusz3!A:L,2,0)","v":"  Gdów.........................................................................................................................................................................................................................................................."},1219022,{"$f":"VLOOKUP(N35,Arkusz3!A:L,5,0)","v":109},{"$f":"VLOOKUP(N35,Arkusz3!A:L,6,0)","v":18188},{"$f":"VLOOKUP(N35,Arkusz3!A:L,8,0)","v":167},{"$f":"VLOOKUP(N35,Arkusz3!AN:AP,3,0)","v":1367.47}]
["8691186447","GMINA GNOJNIK","12","02","052","32864","Gnojnik","Gnojnik",null,"363","GMINA",1202052,{"$f":"VLOOKUP(L36,Arkusz3!A:L,2,0)","v":"  Gnojnik.........................................................................................................................................................................................................................................................."},1202052,{"$f":"VLOOKUP(N36,Arkusz3!A:L,5,0)","v":55},{"$f":"VLOOKUP(N36,Arkusz3!A:L,6,0)","v":8027},{"$f":"VLOOKUP(N36,Arkusz3!A:L,8,0)","v":146},{"$f":"VLOOKUP(N36,Arkusz3!AN:AP,3,0)","v":1001.32}]
["6591545880","GMINA GOŁCZA","12","08","022","32075","Gołcza","Gołcza",null,"80","GMINA",1208022,{"$f":"VLOOKUP(L37,Arkusz3!A:L,2,0)","v":"  Gołcza.........................................................................................................................................................................................................................................................."},1208022,{"$f":"VLOOKUP(N37,Arkusz3!A:L,5,0)","v":90},{"$f":"VLOOKUP(N37,Arkusz3!A:L,6,0)","v":6078},{"$f":"VLOOKUP(N37,Arkusz3!A:L,8,0)","v":68},{"$f":"VLOOKUP(N37,Arkusz3!AN:AP,3,0)","v":1019.03}]
["7382125507","MIASTO GORLICE","12","05","011","38300","Gorlice","Gorlice","Rynek","2         ","GMINA",1205011,{"$f":"VLOOKUP(L38,Arkusz3!A:L,2,0)","v":"  Gorlice.........................................................................................................................................................................................................................................................."},1205011,{"$f":"VLOOKUP(N38,Arkusz3!A:L,5,0)","v":24},{"$f":"VLOOKUP(N38,Arkusz3!A:L,6,0)","v":27597},{"$f":"VLOOKUP(N38,Arkusz3!A:L,8,0)","v":1173},{"$f":"VLOOKUP(N38,Arkusz3!AN:AP,3,0)","v":1616.68}]
["7382131749","GMINA GORLICE","12","05","011","38300","Gorlice","Gorlice","ul. 11 Listopada","2","GMINA",1205011,{"$f":"VLOOKUP(L39,Arkusz3!A:L,2,0)","v":"  Gorlice.........................................................................................................................................................................................................................................................."},1205011,{"$f":"VLOOKUP(N39,Arkusz3!A:L,5,0)","v":24},{"$f":"VLOOKUP(N39,Arkusz3!A:L,6,0)","v":27597},{"$f":"VLOOKUP(N39,Arkusz3!A:L,8,0)","v":1173},{"$f":"VLOOKUP(N39,Arkusz3!AN:AP,3,0)","v":1616.68}]
["8711771090","GMINA GRĘBOSZÓW","12","04","032","33260","Gręboszów","Gręboszów",null,"144","GMINA",1204032,{"$f":"VLOOKUP(L40,Arkusz3!A:L,2,0)","v":"  Gręboszów.........................................................................................................................................................................................................................................................."},1204032,{"$f":"VLOOKUP(N40,Arkusz3!A:L,5,0)","v":49},{"$f":"VLOOKUP(N40,Arkusz3!A:L,6,0)","v":3368},{"$f":"VLOOKUP(N40,Arkusz3!A:L,8,0)","v":69},{"$f":"VLOOKUP(N40,Arkusz3!AN:AP,3,0)","v":884.26}]
["8732614007","GMINA GROMNIK","12","16","022","33180","Gromnik","Gromnik","ul. Witosa","2","GMINA",1216022,{"$f":"VLOOKUP(L41,Arkusz3!A:L,2,0)","v":"  Gromnik.........................................................................................................................................................................................................................................................."},1216022,{"$f":"VLOOKUP(N41,Arkusz3!A:L,5,0)","v":70},{"$f":"VLOOKUP(N41,Arkusz3!A:L,6,0)","v":8899},{"$f":"VLOOKUP(N41,Arkusz3!A:L,8,0)","v":128},{"$f":"VLOOKUP(N41,Arkusz3!AN:AP,3,0)","v":705.97}]
["7343482812","GMINA GRÓDEK NAD DUNAJCEM","12","10","032","33318","Gródek nad Dunajcem","Gródek nad Dunajcem",null,"54        ","GMINA",1210032,{"$f":"VLOOKUP(L42,Arkusz3!A:L,2,0)","v":"  Gródek nad Dunajcem.........................................................................................................................................................................................................................................................."},1210032,{"$f":"VLOOKUP(N42,Arkusz3!A:L,5,0)","v":88},{"$f":"VLOOKUP(N42,Arkusz3!A:L,6,0)","v":9239},{"$f":"VLOOKUP(N42,Arkusz3!A:L,8,0)","v":105},{"$f":"VLOOKUP(N42,Arkusz3!AN:AP,3,0)","v":1321.72}]
["7381010274","MIASTO GRYBÓW","12","10","011","33330","Grybów","Grybów","ul. Rynek","12","GMINA",1210011,{"$f":"VLOOKUP(L43,Arkusz3!A:L,2,0)","v":"  Grybów.........................................................................................................................................................................................................................................................."},1210011,{"$f":"VLOOKUP(N43,Arkusz3!A:L,5,0)","v":17},{"$f":"VLOOKUP(N43,Arkusz3!A:L,6,0)","v":6038},{"$f":"VLOOKUP(N43,Arkusz3!A:L,8,0)","v":356},{"$f":"VLOOKUP(N43,Arkusz3!AN:AP,3,0)","v":951.62}]
["7343515546","GMINA GRYBÓW","12","10","011","33330","Grybów","Grybów","ul. Jakubowskiego","33","GMINA",1210011,{"$f":"VLOOKUP(L44,Arkusz3!A:L,2,0)","v":"  Grybów.........................................................................................................................................................................................................................................................."},1210011,{"$f":"VLOOKUP(N44,Arkusz3!A:L,5,0)","v":17},{"$f":"VLOOKUP(N44,Arkusz3!A:L,6,0)","v":6038},{"$f":"VLOOKUP(N44,Arkusz3!A:L,8,0)","v":356},{"$f":"VLOOKUP(N44,Arkusz3!AN:AP,3,0)","v":951.62}]
["6821642228","GMINA IGOŁOMIA-WAWRZEŃCZYCE","12","06","022","32125","Wawrzeńczyce","Wawrzeńczyce",null,"57","GMINA",1206022,{"$f":"VLOOKUP(L45,Arkusz3!A:L,2,0)","v":"  Igołomia-Wawrzeńczyce.........................................................................................................................................................................................................................................................."},1206022,{"$f":"VLOOKUP(N45,Arkusz3!A:L,5,0)","v":63},{"$f":"VLOOKUP(N45,Arkusz3!A:L,6,0)","v":7724},{"$f":"VLOOKUP(N45,Arkusz3!A:L,8,0)","v":123},{"$f":"VLOOKUP(N45,Arkusz3!AN:AP,3,0)","v":1277.04}]
["6821634453","GMINA IWANOWICE","12","06","032","32095","Iwanowice Włościańskie","Iwanowice Włościańskie",null,"99","GMINA",1206032,{"$f":"VLOOKUP(L46,Arkusz3!A:L,2,0)","v":"  Iwanowice.........................................................................................................................................................................................................................................................."},1206032,{"$f":"VLOOKUP(N46,Arkusz3!A:L,5,0)","v":71},{"$f":"VLOOKUP(N46,Arkusz3!A:L,6,0)","v":9135},{"$f":"VLOOKUP(N46,Arkusz3!A:L,8,0)","v":128},{"$f":"VLOOKUP(N46,Arkusz3!AN:AP,3,0)","v":1306.3800000000001}]
["8691212363","GMINA IWKOWA","12","02","062","32861","Iwkowa","Iwkowa",null,"468","GMINA",1202062,{"$f":"VLOOKUP(L47,Arkusz3!A:L,2,0)","v":"  Iwkowa.........................................................................................................................................................................................................................................................."},1202062,{"$f":"VLOOKUP(N47,Arkusz3!A:L,5,0)","v":47},{"$f":"VLOOKUP(N47,Arkusz3!A:L,6,0)","v":6426},{"$f":"VLOOKUP(N47,Arkusz3!A:L,8,0)","v":136},{"$f":"VLOOKUP(N47,Arkusz3!AN:AP,3,0)","v":973.47}]
["7352856459","GMINA JABŁONKA","12","11","052","34480","Jabłonka","Jabłonka","ul. 3 Maja","1","GMINA",1211052,{"$f":"VLOOKUP(L48,Arkusz3!A:L,2,0)","v":"  Jabłonka.........................................................................................................................................................................................................................................................."},1211052,{"$f":"VLOOKUP(N48,Arkusz3!A:L,5,0)","v":212},{"$f":"VLOOKUP(N48,Arkusz3!A:L,6,0)","v":18589},{"$f":"VLOOKUP(N48,Arkusz3!A:L,8,0)","v":87},{"$f":"VLOOKUP(N48,Arkusz3!AN:AP,3,0)","v":899.94}]
["6772019451","GMINA JERZMANOWICE-PRZEGINIA","12","06","042","32048","Jerzmanowice","Jerzmanowice","ul. Rajska","22","GMINA",1206042,{"$f":"VLOOKUP(L49,Arkusz3!A:L,2,0)","v":"  Jerzmanowice-Przeginia.........................................................................................................................................................................................................................................................."},1206042,{"$f":"VLOOKUP(N49,Arkusz3!A:L,5,0)","v":68},{"$f":"VLOOKUP(N49,Arkusz3!A:L,6,0)","v":10935},{"$f":"VLOOKUP(N49,Arkusz3!A:L,8,0)","v":160},{"$f":"VLOOKUP(N49,Arkusz3!AN:AP,3,0)","v":1243.6600000000001}]
["7371007419","GMINA JODŁOWNIK","12","07","042","34620","Jodłownik","Jodłownik",null,"198","GMINA",1207042,{"$f":"VLOOKUP(L50,Arkusz3!A:L,2,0)","v":"  Jodłownik.........................................................................................................................................................................................................................................................."},1207042,{"$f":"VLOOKUP(N50,Arkusz3!A:L,5,0)","v":72},{"$f":"VLOOKUP(N50,Arkusz3!A:L,6,0)","v":8667},{"$f":"VLOOKUP(N50,Arkusz3!A:L,8,0)","v":120},{"$f":"VLOOKUP(N50,Arkusz3!AN:AP,3,0)","v":943.48}]
["5521579821","MIASTO JORDANÓW","12","15","011","34240","Jordanów","Jordanów","ul. Rynek","1","GMINA",1215011,{"$f":"VLOOKUP(L51,Arkusz3!A:L,2,0)","v":"  Jordanów.........................................................................................................................................................................................................................................................."},1215011,{"$f":"VLOOKUP(N51,Arkusz3!A:L,5,0)","v":21},{"$f":"VLOOKUP(N51,Arkusz3!A:L,6,0)","v":5373},{"$f":"VLOOKUP(N51,Arkusz3!A:L,8,0)","v":255},{"$f":"VLOOKUP(N51,Arkusz3!AN:AP,3,0)","v":1706.43}]
["5521586100","GMINA JORDANÓW","12","15","011","34240","Jordanów","Jordanów","ul. Rynek","2","GMINA",1215011,{"$f":"VLOOKUP(L52,Arkusz3!A:L,2,0)","v":"  Jordanów.........................................................................................................................................................................................................................................................."},1215011,{"$f":"VLOOKUP(N52,Arkusz3!A:L,5,0)","v":21},{"$f":"VLOOKUP(N52,Arkusz3!A:L,6,0)","v":5373},{"$f":"VLOOKUP(N52,Arkusz3!A:L,8,0)","v":255},{"$f":"VLOOKUP(N52,Arkusz3!AN:AP,3,0)","v":1706.43}]
["5511158182","GMINA KALWARIA ZEBRZYDOWSKA","12","18","034","34130","Kalwaria Zebrzydowska","Kalwaria Zebrzydowska","ul. Adama Mickiewicza","7","GMINA",1218034,{"$f":"VLOOKUP(L53,Arkusz3!A:L,2,0)","v":""},1218033,{"$f":"VLOOKUP(N53,Arkusz3!A:L,5,0)","v":75},{"$f":"VLOOKUP(N53,Arkusz3!A:L,6,0)","v":20045},{"$f":"VLOOKUP(N53,Arkusz3!A:L,8,0)","v":266},{"$f":"VLOOKUP(N53,Arkusz3!AN:AP,3,0)","v":1631.17}]
["7371193876","GMINA KAMIENICA","12","07","052","34608","Kamienica","Kamienica",null,"420","GMINA",1207052,{"$f":"VLOOKUP(L54,Arkusz3!A:L,2,0)","v":"  Kamienica.........................................................................................................................................................................................................................................................."},1207052,{"$f":"VLOOKUP(N54,Arkusz3!A:L,5,0)","v":95},{"$f":"VLOOKUP(N54,Arkusz3!A:L,6,0)","v":7861},{"$f":"VLOOKUP(N54,Arkusz3!A:L,8,0)","v":83},{"$f":"VLOOKUP(N54,Arkusz3!AN:AP,3,0)","v":768.29}]
["7343514860","GMINA KAMIONKA WIELKA","12","10","052","33334","Kamionka Wielka","Kamionka Wielka",null,"5","GMINA",1210052,{"$f":"VLOOKUP(L55,Arkusz3!A:L,2,0)","v":"  Kamionka Wielka.........................................................................................................................................................................................................................................................."},1210052,{"$f":"VLOOKUP(N55,Arkusz3!A:L,5,0)","v":65},{"$f":"VLOOKUP(N55,Arkusz3!A:L,6,0)","v":10363},{"$f":"VLOOKUP(N55,Arkusz3!A:L,8,0)","v":159},{"$f":"VLOOKUP(N55,Arkusz3!AN:AP,3,0)","v":1056.8499999999999}]
["5492202969","GMINA KĘTY","12","13","044","32650","Kęty","Kęty","Rynek","7","GMINA",1213044,{"$f":"VLOOKUP(L56,Arkusz3!A:L,2,0)","v":""},1213043,{"$f":"VLOOKUP(N56,Arkusz3!A:L,5,0)","v":76},{"$f":"VLOOKUP(N56,Arkusz3!A:L,6,0)","v":34193},{"$f":"VLOOKUP(N56,Arkusz3!A:L,8,0)","v":449},{"$f":"VLOOKUP(N56,Arkusz3!AN:AP,3,0)","v":1834.73}]
["6371998059","GMINA KLUCZE","12","12","042","32310","Klucze","Klucze","ul. Partyzantów","1","GMINA",1212042,{"$f":"VLOOKUP(L57,Arkusz3!A:L,2,0)","v":"  Klucze.........................................................................................................................................................................................................................................................."},1212042,{"$f":"VLOOKUP(N57,Arkusz3!A:L,5,0)","v":119},{"$f":"VLOOKUP(N57,Arkusz3!A:L,6,0)","v":15103},{"$f":"VLOOKUP(N57,Arkusz3!A:L,8,0)","v":126},{"$f":"VLOOKUP(N57,Arkusz3!AN:AP,3,0)","v":2270.42}]
["6831511752","GMINA KŁAJ","12","19","032","32015","Kłaj","Kłaj",null,"655","GMINA",1219032,{"$f":"VLOOKUP(L58,Arkusz3!A:L,2,0)","v":"  Kłaj.........................................................................................................................................................................................................................................................."},1219032,{"$f":"VLOOKUP(N58,Arkusz3!A:L,5,0)","v":65},{"$f":"VLOOKUP(N58,Arkusz3!A:L,6,0)","v":10691},{"$f":"VLOOKUP(N58,Arkusz3!A:L,8,0)","v":165},{"$f":"VLOOKUP(N58,Arkusz3!AN:AP,3,0)","v":1885.98}]
["6821605658","GMINA KOCMYRZÓW-LUBORZYCA","12","06","052","32010","Luborzyca","Luborzyca",null,"97","GMINA",1206052,{"$f":"VLOOKUP(L59,Arkusz3!A:L,2,0)","v":"  Kocmyrzów-Luborzyca.........................................................................................................................................................................................................................................................."},1206052,{"$f":"VLOOKUP(N59,Arkusz3!A:L,5,0)","v":81},{"$f":"VLOOKUP(N59,Arkusz3!A:L,6,0)","v":15575},{"$f":"VLOOKUP(N59,Arkusz3!A:L,8,0)","v":193},{"$f":"VLOOKUP(N59,Arkusz3!AN:AP,3,0)","v":1544.93}]
["6821773580","GMINA KONIUSZA","12","14","012","32104","Koniusza","Koniusza",null,"55        ","GMINA",1214012,{"$f":"VLOOKUP(L60,Arkusz3!A:L,2,0)","v":"  Koniusza.........................................................................................................................................................................................................................................................."},1214012,{"$f":"VLOOKUP(N60,Arkusz3!A:L,5,0)","v":89},{"$f":"VLOOKUP(N60,Arkusz3!A:L,6,0)","v":9020},{"$f":"VLOOKUP(N60,Arkusz3!A:L,8,0)","v":102},{"$f":"VLOOKUP(N60,Arkusz3!AN:AP,3,0)","v":1157.8599999999999}]
["7343483272","GMINA KORZENNA","12","10","062","33322","Korzenna","Korzenna",null,"325","GMINA",1210062,{"$f":"VLOOKUP(L61,Arkusz3!A:L,2,0)","v":"  Korzenna.........................................................................................................................................................................................................................................................."},1210062,{"$f":"VLOOKUP(N61,Arkusz3!A:L,5,0)","v":107},{"$f":"VLOOKUP(N61,Arkusz3!A:L,6,0)","v":14500},{"$f":"VLOOKUP(N61,Arkusz3!A:L,8,0)","v":136},{"$f":"VLOOKUP(N61,Arkusz3!AN:AP,3,0)","v":656.55}]
["6821606646","GMINA KOSZYCE","12","14","024","32130","Koszyce","Koszyce","ul. Elżbiety Łokietkówny","14        ","GMINA",1214024,{"$f":"VLOOKUP(L62,Arkusz3!A:L,2,0)","v":""},1214023,{"$f":"VLOOKUP(N62,Arkusz3!A:L,5,0)","v":66},{"$f":"VLOOKUP(N62,Arkusz3!A:L,6,0)","v":5508},{"$f":"VLOOKUP(N62,Arkusz3!A:L,8,0)","v":83},{"$f":"VLOOKUP(N62,Arkusz3!AN:AP,3,0)","v":1027.32}]
["7361699456","GMINA KOŚCIELISKO","12","17","042","34511","Kościelisko","Kościelisko","ul. Strzelców Podhalańskich","44","GMINA",1217042,{"$f":"VLOOKUP(L63,Arkusz3!A:L,2,0)","v":"  Kościelisko.........................................................................................................................................................................................................................................................."},1217042,{"$f":"VLOOKUP(N63,Arkusz3!A:L,5,0)","v":137},{"$f":"VLOOKUP(N63,Arkusz3!A:L,6,0)","v":8784},{"$f":"VLOOKUP(N63,Arkusz3!A:L,8,0)","v":64},{"$f":"VLOOKUP(N63,Arkusz3!AN:AP,3,0)","v":1370.49}]
["6591174001","GMINA KOZŁÓW","12","08","032","32241","Kozłów","Kozłów",null,"60        ","GMINA",1208032,{"$f":"VLOOKUP(L64,Arkusz3!A:L,2,0)","v":"  Kozłów.........................................................................................................................................................................................................................................................."},1208032,{"$f":"VLOOKUP(N64,Arkusz3!A:L,5,0)","v":86},{"$f":"VLOOKUP(N64,Arkusz3!A:L,6,0)","v":4651},{"$f":"VLOOKUP(N64,Arkusz3!A:L,8,0)","v":54},{"$f":"VLOOKUP(N64,Arkusz3!AN:AP,3,0)","v":886.81}]
["7352849761","GMINA KROŚCIENKO NAD DUNAJCEM","12","11","062","34450","Krościenko nad Dunajcem","Krościenko nad Dunajcem","ul. Rynek","35","GMINA",1211062,{"$f":"VLOOKUP(L65,Arkusz3!A:L,2,0)","v":"  Krościenko nad Dunajcem.........................................................................................................................................................................................................................................................."},1211062,{"$f":"VLOOKUP(N65,Arkusz3!A:L,5,0)","v":57},{"$f":"VLOOKUP(N65,Arkusz3!A:L,6,0)","v":6809},{"$f":"VLOOKUP(N65,Arkusz3!A:L,8,0)","v":119},{"$f":"VLOOKUP(N65,Arkusz3!AN:AP,3,0)","v":919.96}]
["7343543100","GMINA KRYNICA -ZDRÓJ","12","10","074","33380","Krynica-Zdrój","Krynica-Zdrój","ul. Józefa Ignacego Kraszewskiego","7","GMINA",1210074,{"$f":"VLOOKUP(L66,Arkusz3!A:L,2,0)","v":""},1210073,{"$f":"VLOOKUP(N66,Arkusz3!A:L,5,0)","v":145},{"$f":"VLOOKUP(N66,Arkusz3!A:L,6,0)","v":16777},{"$f":"VLOOKUP(N66,Arkusz3!A:L,8,0)","v":116},{"$f":"VLOOKUP(N66,Arkusz3!AN:AP,3,0)","v":1743.11}]
["5130233774","GMINA KRZESZOWICE","12","06","064","32065","Krzeszowice","Krzeszowice","ul. Grunwaldzka","4","GMINA",{"$f":"C67*100000+D67*1000+E67","v":1206064},{"$f":"VLOOKUP(L67,Arkusz3!A:L,2,0)","v":""},{"$f":"IF(M67=M$1,L67-1,IF(M67=N$1,L67-2,L67))","v":1206063},{"$f":"VLOOKUP(N67,Arkusz3!A:L,5,0)","v":139},{"$f":"VLOOKUP(N67,Arkusz3!A:L,6,0)","v":32195},{"$f":"VLOOKUP(N67,Arkusz3!A:L,8,0)","v":232},{"$f":"VLOOKUP(N67,Arkusz3!AN:AP,3,0)","v":1723.93}]
["6591186961","GMINA KSIĄŻ WIELKI","12","08","042","32210","Książ Wielki","Książ Wielki","ul. Warszawska","17","GMINA",1208042,{"$f":"VLOOKUP(L68,Arkusz3!A:L,2,0)","v":"  Książ Wielki.........................................................................................................................................................................................................................................................."},1208042,{"$f":"VLOOKUP(N68,Arkusz3!A:L,5,0)","v":138},{"$f":"VLOOKUP(N68,Arkusz3!A:L,6,0)","v":5121},{"$f":"VLOOKUP(N68,Arkusz3!A:L,8,0)","v":37},{"$f":"VLOOKUP(N68,Arkusz3!AN:AP,3,0)","v":1085.17}]
["5511158242","GMINA LANCKORONA","12","18","042","34143","Lanckorona","Lanckorona","ul. Krakowska",8,"GMINA",1218042,{"$f":"VLOOKUP(L69,Arkusz3!A:L,2,0)","v":"  Lanckorona.........................................................................................................................................................................................................................................................."},1218042,{"$f":"VLOOKUP(N69,Arkusz3!A:L,5,0)","v":40},{"$f":"VLOOKUP(N69,Arkusz3!A:L,6,0)","v":6235},{"$f":"VLOOKUP(N69,Arkusz3!A:L,8,0)","v":154},{"$f":"VLOOKUP(N69,Arkusz3!AN:AP,3,0)","v":1022.9}]
["7371283697","GMINA LASKOWA","12","07","062","34602","Laskowa","Laskowa",null,"643","GMINA",1207062,{"$f":"VLOOKUP(L70,Arkusz3!A:L,2,0)","v":"  Laskowa.........................................................................................................................................................................................................................................................."},1207062,{"$f":"VLOOKUP(N70,Arkusz3!A:L,5,0)","v":72},{"$f":"VLOOKUP(N70,Arkusz3!A:L,6,0)","v":8149},{"$f":"VLOOKUP(N70,Arkusz3!A:L,8,0)","v":112},{"$f":"VLOOKUP(N70,Arkusz3!AN:AP,3,0)","v":890.05}]
["6282260168","GMINA LIBIĄŻ","12","03","044","32590","Libiąż","Libiąż","ul. Działkowa","1","GMINA",1203044,{"$f":"VLOOKUP(L71,Arkusz3!A:L,2,0)","v":""},1203043,{"$f":"VLOOKUP(N71,Arkusz3!A:L,5,0)","v":57},{"$f":"VLOOKUP(N71,Arkusz3!A:L,6,0)","v":22433},{"$f":"VLOOKUP(N71,Arkusz3!A:L,8,0)","v":393},{"$f":"VLOOKUP(N71,Arkusz3!AN:AP,3,0)","v":1981.85}]
["7371004591","MIASTO LIMANOWA","12","07","011","34600","Limanowa","Limanowa","ul. Jana Pawła II","9","GMINA",1207011,{"$f":"VLOOKUP(L72,Arkusz3!A:L,2,0)","v":"  Limanowa.........................................................................................................................................................................................................................................................."},1207011,{"$f":"VLOOKUP(N72,Arkusz3!A:L,5,0)","v":19},{"$f":"VLOOKUP(N72,Arkusz3!A:L,6,0)","v":15158},{"$f":"VLOOKUP(N72,Arkusz3!A:L,8,0)","v":811},{"$f":"VLOOKUP(N72,Arkusz3!AN:AP,3,0)","v":1901.96}]
["7371188119","GMINA LIMANOWA","12","07","011","34600","Limanowa","Limanowa","ul. Matki Boskiej Bolesnej","18 B","GMINA",1207011,{"$f":"VLOOKUP(L73,Arkusz3!A:L,2,0)","v":"  Limanowa.........................................................................................................................................................................................................................................................."},1207011,{"$f":"VLOOKUP(N73,Arkusz3!A:L,5,0)","v":19},{"$f":"VLOOKUP(N73,Arkusz3!A:L,6,0)","v":15158},{"$f":"VLOOKUP(N73,Arkusz3!A:L,8,0)","v":811},{"$f":"VLOOKUP(N73,Arkusz3!AN:AP,3,0)","v":1901.96}]
["6851648081","GMINA LIPINKI","12","05","052","38305","Lipinki","Lipinki",null,57,"GMINA",1205052,{"$f":"VLOOKUP(L74,Arkusz3!A:L,2,0)","v":"  Lipinki.........................................................................................................................................................................................................................................................."},1205052,{"$f":"VLOOKUP(N74,Arkusz3!A:L,5,0)","v":66},{"$f":"VLOOKUP(N74,Arkusz3!A:L,6,0)","v":6806},{"$f":"VLOOKUP(N74,Arkusz3!A:L,8,0)","v":102},{"$f":"VLOOKUP(N74,Arkusz3!AN:AP,3,0)","v":757.39}]
["8681021288","GMINA LIPNICA MUROWANA","12","01","042","32724","Lipnica Murowana","Lipnica Murowana",null,"44","GMINA",1201042,{"$f":"VLOOKUP(L75,Arkusz3!A:L,2,0)","v":"  Lipnica Murowana.........................................................................................................................................................................................................................................................."},1201042,{"$f":"VLOOKUP(N75,Arkusz3!A:L,5,0)","v":60},{"$f":"VLOOKUP(N75,Arkusz3!A:L,6,0)","v":5642},{"$f":"VLOOKUP(N75,Arkusz3!A:L,8,0)","v":94},{"$f":"VLOOKUP(N75,Arkusz3!AN:AP,3,0)","v":787.46}]
["7352841452","GMINA LIPNICA WIELKA","12","11","072","34483","Lipnica Wielka","Lipnica Wielka",null,"518","GMINA",1211072,{"$f":"VLOOKUP(L76,Arkusz3!A:L,2,0)","v":"  Lipnica Wielka.........................................................................................................................................................................................................................................................."},1211072,{"$f":"VLOOKUP(N76,Arkusz3!A:L,5,0)","v":67},{"$f":"VLOOKUP(N76,Arkusz3!A:L,6,0)","v":5998},{"$f":"VLOOKUP(N76,Arkusz3!A:L,8,0)","v":89},{"$f":"VLOOKUP(N76,Arkusz3!AN:AP,3,0)","v":519.09}]
["9930658661","GMINA LISIA GÓRA","12","16","032","33140","Lisia Góra","Lisia Góra","ul. 1 Maja","7","GMINA",1216032,{"$f":"VLOOKUP(L77,Arkusz3!A:L,2,0)","v":"  Lisia Góra.........................................................................................................................................................................................................................................................."},1216032,{"$f":"VLOOKUP(N77,Arkusz3!A:L,5,0)","v":105},{"$f":"VLOOKUP(N77,Arkusz3!A:L,6,0)","v":15332},{"$f":"VLOOKUP(N77,Arkusz3!A:L,8,0)","v":147},{"$f":"VLOOKUP(N77,Arkusz3!AN:AP,3,0)","v":1109.2}]
["9442243129","GMINA LISZKI","12","06","072","32060","Liszki","Liszki",null,"230","GMINA",1206072,{"$f":"VLOOKUP(L78,Arkusz3!A:L,2,0)","v":"  Liszki.........................................................................................................................................................................................................................................................."},1206072,{"$f":"VLOOKUP(N78,Arkusz3!A:L,5,0)","v":72},{"$f":"VLOOKUP(N78,Arkusz3!A:L,6,0)","v":17292},{"$f":"VLOOKUP(N78,Arkusz3!A:L,8,0)","v":240},{"$f":"VLOOKUP(N78,Arkusz3!AN:AP,3,0)","v":1525.69}]
["7351071414","GMINA LUBIEŃ","12","09","022","32433","Lubień","Lubień",null,"50","GMINA",1209022,{"$f":"VLOOKUP(L79,Arkusz3!A:L,2,0)","v":"  Lubień.........................................................................................................................................................................................................................................................."},1209022,{"$f":"VLOOKUP(N79,Arkusz3!A:L,5,0)","v":75},{"$f":"VLOOKUP(N79,Arkusz3!A:L,6,0)","v":10060},{"$f":"VLOOKUP(N79,Arkusz3!A:L,8,0)","v":134},{"$f":"VLOOKUP(N79,Arkusz3!AN:AP,3,0)","v":782.43}]
["7343517410","GMINA ŁABOWA","12","10","082","33336","Łabowa","Łabowa",null,38,"GMINA",1210082,{"$f":"VLOOKUP(L80,Arkusz3!A:L,2,0)","v":"  Łabowa.........................................................................................................................................................................................................................................................."},1210082,{"$f":"VLOOKUP(N80,Arkusz3!A:L,5,0)","v":119},{"$f":"VLOOKUP(N80,Arkusz3!A:L,6,0)","v":6032},{"$f":"VLOOKUP(N80,Arkusz3!A:L,8,0)","v":51},{"$f":"VLOOKUP(N80,Arkusz3!AN:AP,3,0)","v":917.99}]
["8681021302","GMINA ŁAPANÓW","12","01","052","32740","Łapanów","Łapanów",null,"34","GMINA",1201052,{"$f":"VLOOKUP(L81,Arkusz3!A:L,2,0)","v":"  Łapanów.........................................................................................................................................................................................................................................................."},1201052,{"$f":"VLOOKUP(N81,Arkusz3!A:L,5,0)","v":72},{"$f":"VLOOKUP(N81,Arkusz3!A:L,6,0)","v":8139},{"$f":"VLOOKUP(N81,Arkusz3!A:L,8,0)","v":114},{"$f":"VLOOKUP(N81,Arkusz3!AN:AP,3,0)","v":1137.83}]
["7352834759","GMINA ŁAPSZE NIŻNE","12","11","082","34442","Łapsze Niżne","Łapsze Niżne","ul. Jana Pawła II","20","GMINA",1211082,{"$f":"VLOOKUP(L82,Arkusz3!A:L,2,0)","v":"  Łapsze Niżne.........................................................................................................................................................................................................................................................."},1211082,{"$f":"VLOOKUP(N82,Arkusz3!A:L,5,0)","v":126},{"$f":"VLOOKUP(N82,Arkusz3!A:L,6,0)","v":9341},{"$f":"VLOOKUP(N82,Arkusz3!A:L,8,0)","v":74},{"$f":"VLOOKUP(N82,Arkusz3!AN:AP,3,0)","v":1003.23}]
["7343514742","GMINA ŁĄCKO","12","10","092","33390","Łącko","Łącko",null,445,"GMINA",1210092,{"$f":"VLOOKUP(L83,Arkusz3!A:L,2,0)","v":"  Łącko.........................................................................................................................................................................................................................................................."},1210092,{"$f":"VLOOKUP(N83,Arkusz3!A:L,5,0)","v":132},{"$f":"VLOOKUP(N83,Arkusz3!A:L,6,0)","v":16499},{"$f":"VLOOKUP(N83,Arkusz3!A:L,8,0)","v":124},{"$f":"VLOOKUP(N83,Arkusz3!AN:AP,3,0)","v":771.43}]
["7343472848","GMINA ŁOSOSINA DOLNA","12","10","102","33314","Łososina Dolna","Łososina Dolna",null,"300","GMINA",1210102,{"$f":"VLOOKUP(L84,Arkusz3!A:L,2,0)","v":"  Łososina Dolna.........................................................................................................................................................................................................................................................."},1210102,{"$f":"VLOOKUP(N84,Arkusz3!A:L,5,0)","v":85},{"$f":"VLOOKUP(N84,Arkusz3!A:L,6,0)","v":11049},{"$f":"VLOOKUP(N84,Arkusz3!A:L,8,0)","v":130},{"$f":"VLOOKUP(N84,Arkusz3!AN:AP,3,0)","v":1225.25}]
["7371022962","GMINA ŁUKOWICA","12","07","082","34606","Łukowica","Łukowica",null,"334","GMINA",1207082,{"$f":"VLOOKUP(L85,Arkusz3!A:L,2,0)","v":"  Łukowica.........................................................................................................................................................................................................................................................."},1207082,{"$f":"VLOOKUP(N85,Arkusz3!A:L,5,0)","v":70},{"$f":"VLOOKUP(N85,Arkusz3!A:L,6,0)","v":10044},{"$f":"VLOOKUP(N85,Arkusz3!A:L,8,0)","v":144},{"$f":"VLOOKUP(N85,Arkusz3!AN:AP,3,0)","v":679.46}]
["7381022314","GMINA ŁUŻNA","12","05","062","38322","Łużna","Łużna",null,"634","GMINA",1205062,{"$f":"VLOOKUP(L86,Arkusz3!A:L,2,0)","v":"  Łużna.........................................................................................................................................................................................................................................................."},1205062,{"$f":"VLOOKUP(N86,Arkusz3!A:L,5,0)","v":56},{"$f":"VLOOKUP(N86,Arkusz3!A:L,6,0)","v":8514},{"$f":"VLOOKUP(N86,Arkusz3!A:L,8,0)","v":151},{"$f":"VLOOKUP(N86,Arkusz3!AN:AP,3,0)","v":688.89}]
["5521584963","GMINA MAKÓW PODHALAŃSKI","12","15","064","34220","Maków Podhalański","Maków Podhalański","ul. Szpitalna","3","GMINA",1215064,{"$f":"VLOOKUP(L87,Arkusz3!A:L,2,0)","v":""},1215063,{"$f":"VLOOKUP(N87,Arkusz3!A:L,5,0)","v":109},{"$f":"VLOOKUP(N87,Arkusz3!A:L,6,0)","v":16132},{"$f":"VLOOKUP(N87,Arkusz3!A:L,8,0)","v":148},{"$f":"VLOOKUP(N87,Arkusz3!AN:AP,3,0)","v":1328.17}]
["8711770363","GMINA MĘDRZECHÓW","12","04","042","33221","Mędrzechów","Mędrzechów",null,"434","GMINA",1204042,{"$f":"VLOOKUP(L88,Arkusz3!A:L,2,0)","v":"  Mędrzechów.........................................................................................................................................................................................................................................................."},1204042,{"$f":"VLOOKUP(N88,Arkusz3!A:L,5,0)","v":44},{"$f":"VLOOKUP(N88,Arkusz3!A:L,6,0)","v":3460},{"$f":"VLOOKUP(N88,Arkusz3!A:L,8,0)","v":78},{"$f":"VLOOKUP(N88,Arkusz3!AN:AP,3,0)","v":779.95}]
["5130060109","GMINA MICHAŁOWICE","12","06","082","32091","Michałowice","Michałowice","pl. Józefa Piłsudskiego","1         ","GMINA",1206082,{"$f":"VLOOKUP(L89,Arkusz3!A:L,2,0)","v":"  Michałowice.........................................................................................................................................................................................................................................................."},1206082,{"$f":"VLOOKUP(N89,Arkusz3!A:L,5,0)","v":51},{"$f":"VLOOKUP(N89,Arkusz3!A:L,6,0)","v":10563},{"$f":"VLOOKUP(N89,Arkusz3!A:L,8,0)","v":207},{"$f":"VLOOKUP(N89,Arkusz3!AN:AP,3,0)","v":2165.58}]
["6590003697","GMINA MIECHÓW","12","08","054","32200","Miechów","Miechów","ul. Henryka Sienkiewicza","25","GMINA",1208054,{"$f":"VLOOKUP(L90,Arkusz3!A:L,2,0)","v":""},1208053,{"$f":"VLOOKUP(N90,Arkusz3!A:L,5,0)","v":148},{"$f":"VLOOKUP(N90,Arkusz3!A:L,6,0)","v":19737},{"$f":"VLOOKUP(N90,Arkusz3!A:L,8,0)","v":133},{"$f":"VLOOKUP(N90,Arkusz3!AN:AP,3,0)","v":1411.93}]
["9442246027","GMINA MOGILANY","12","06","092","32031","Mogilany","Mogilany","rynek Rynek","2","GMINA",1206092,{"$f":"VLOOKUP(L91,Arkusz3!A:L,2,0)","v":"  Mogilany.........................................................................................................................................................................................................................................................."},1206092,{"$f":"VLOOKUP(N91,Arkusz3!A:L,5,0)","v":44},{"$f":"VLOOKUP(N91,Arkusz3!A:L,6,0)","v":14052},{"$f":"VLOOKUP(N91,Arkusz3!A:L,8,0)","v":322},{"$f":"VLOOKUP(N91,Arkusz3!AN:AP,3,0)","v":2262.73}]
["7381021958","GMINA MOSZCZENICA","12","05","072","38321","Moszczenica","Moszczenica","ul. Samorządowa","4","GMINA",1205072,{"$f":"VLOOKUP(L92,Arkusz3!A:L,2,0)","v":"  Moszczenica.........................................................................................................................................................................................................................................................."},1205072,{"$f":"VLOOKUP(N92,Arkusz3!A:L,5,0)","v":38},{"$f":"VLOOKUP(N92,Arkusz3!A:L,6,0)","v":4922},{"$f":"VLOOKUP(N92,Arkusz3!A:L,8,0)","v":131},{"$f":"VLOOKUP(N92,Arkusz3!AN:AP,3,0)","v":648.38}]
["7371008784","MIASTO MSZANA DOLNA","12","07","021","34730","Mszana Dolna","Mszana Dolna","ul. marsz. Józefa Piłsudskiego","2         ","GMINA",1207021,{"$f":"VLOOKUP(L93,Arkusz3!A:L,2,0)","v":"  Mszana Dolna.........................................................................................................................................................................................................................................................."},1207021,{"$f":"VLOOKUP(N93,Arkusz3!A:L,5,0)","v":27},{"$f":"VLOOKUP(N93,Arkusz3!A:L,6,0)","v":7948},{"$f":"VLOOKUP(N93,Arkusz3!A:L,8,0)","v":293},{"$f":"VLOOKUP(N93,Arkusz3!AN:AP,3,0)","v":1386.96}]
["7371008991","GMINA MSZANA DOLNA","12","07","021","34730","Mszana Dolna","Mszana Dolna","ul. Spadochroniarzy","6","GMINA",1207021,{"$f":"VLOOKUP(L94,Arkusz3!A:L,2,0)","v":"  Mszana Dolna.........................................................................................................................................................................................................................................................."},1207021,{"$f":"VLOOKUP(N94,Arkusz3!A:L,5,0)","v":27},{"$f":"VLOOKUP(N94,Arkusz3!A:L,6,0)","v":7948},{"$f":"VLOOKUP(N94,Arkusz3!A:L,8,0)","v":293},{"$f":"VLOOKUP(N94,Arkusz3!AN:AP,3,0)","v":1386.96}]
["5512618591","GMINA MUCHARZ","12","18","052","34106","Mucharz","Mucharz",null,"226","GMINA",1218052,{"$f":"VLOOKUP(L95,Arkusz3!A:L,2,0)","v":"  Mucharz.........................................................................................................................................................................................................................................................."},1218052,{"$f":"VLOOKUP(N95,Arkusz3!A:L,5,0)","v":37},{"$f":"VLOOKUP(N95,Arkusz3!A:L,6,0)","v":4122},{"$f":"VLOOKUP(N95,Arkusz3!A:L,8,0)","v":110},{"$f":"VLOOKUP(N95,Arkusz3!AN:AP,3,0)","v":1486.43}]
["7343472601","MIASTO I GMINA UZDROWISKOWA MUSZYNA","12","10","114","33370","Muszyna","Muszyna","ul. Rynek","31","GMINA",1210114,{"$f":"VLOOKUP(L96,Arkusz3!A:L,2,0)","v":""},1210113,{"$f":"VLOOKUP(N96,Arkusz3!A:L,5,0)","v":141},{"$f":"VLOOKUP(N96,Arkusz3!A:L,6,0)","v":11574},{"$f":"VLOOKUP(N96,Arkusz3!A:L,8,0)","v":82},{"$f":"VLOOKUP(N96,Arkusz3!AN:AP,3,0)","v":1460.7}]
["6811004414","GMINA MYŚLENICE","12","09","034","32400","Myślenice","Myślenice","Rynek","8/9","GMINA",1209034,{"$f":"VLOOKUP(L97,Arkusz3!A:L,2,0)","v":""},1209033,{"$f":"VLOOKUP(N97,Arkusz3!A:L,5,0)","v":154},{"$f":"VLOOKUP(N97,Arkusz3!A:L,6,0)","v":44189},{"$f":"VLOOKUP(N97,Arkusz3!A:L,8,0)","v":288},{"$f":"VLOOKUP(N97,Arkusz3!AN:AP,3,0)","v":1718.41}]
["7343450806","GMINA NAWOJOWA","12","10","122","33335","Nawojowa","Nawojowa","ul. Ogrodowa","2","GMINA",1210122,{"$f":"VLOOKUP(L98,Arkusz3!A:L,2,0)","v":"  Nawojowa.........................................................................................................................................................................................................................................................."},1210122,{"$f":"VLOOKUP(N98,Arkusz3!A:L,5,0)","v":50},{"$f":"VLOOKUP(N98,Arkusz3!A:L,6,0)","v":8703},{"$f":"VLOOKUP(N98,Arkusz3!A:L,8,0)","v":173},{"$f":"VLOOKUP(N98,Arkusz3!AN:AP,3,0)","v":1188.9100000000001}]
["7371152618","GMINA NIEDŹWIEDŹ","12","07","102","34735","Niedźwiedź","Niedźwiedź",null,233,"GMINA",1207102,{"$f":"VLOOKUP(L99,Arkusz3!A:L,2,0)","v":"  Niedźwiedź.........................................................................................................................................................................................................................................................."},1207102,{"$f":"VLOOKUP(N99,Arkusz3!A:L,5,0)","v":74},{"$f":"VLOOKUP(N99,Arkusz3!A:L,6,0)","v":7344},{"$f":"VLOOKUP(N99,Arkusz3!A:L,8,0)","v":99},{"$f":"VLOOKUP(N99,Arkusz3!AN:AP,3,0)","v":699.43}]
["6831395375","GMINA NIEPOŁOMICE","12","19","044","32005","Niepołomice","Niepołomice","ul. Plac Zwycięstwa","13","GMINA",1219044,{"$f":"VLOOKUP(L100,Arkusz3!A:L,2,0)","v":""},1219043,{"$f":"VLOOKUP(N100,Arkusz3!A:L,5,0)","v":96},{"$f":"VLOOKUP(N100,Arkusz3!A:L,6,0)","v":28455},{"$f":"VLOOKUP(N100,Arkusz3!A:L,8,0)","v":296},{"$f":"VLOOKUP(N100,Arkusz3!AN:AP,3,0)","v":2652.47}]
["6821773870","GMINA NOWE BRZESKO","12","14","034","32120","Nowe Brzesko","Nowe Brzesko","ul. Krakowska","44","GMINA",1214034,{"$f":"VLOOKUP(L101,Arkusz3!A:L,2,0)","v":""},1214033,{"$f":"VLOOKUP(N101,Arkusz3!A:L,5,0)","v":54},{"$f":"VLOOKUP(N101,Arkusz3!A:L,6,0)","v":5752},{"$f":"VLOOKUP(N101,Arkusz3!A:L,8,0)","v":106},{"$f":"VLOOKUP(N101,Arkusz3!AN:AP,3,0)","v":1067.97}]
["7350014012","GMINA MIASTO NOWY TARG","12","11","011","34400","Nowy Targ","Nowy Targ","ul. Krzywa","1","GMINA",1211011,{"$f":"VLOOKUP(L102,Arkusz3!A:L,2,0)","v":"  Nowy Targ.........................................................................................................................................................................................................................................................."},1211011,{"$f":"VLOOKUP(N102,Arkusz3!A:L,5,0)","v":51},{"$f":"VLOOKUP(N102,Arkusz3!A:L,6,0)","v":33373},{"$f":"VLOOKUP(N102,Arkusz3!A:L,8,0)","v":653},{"$f":"VLOOKUP(N102,Arkusz3!AN:AP,3,0)","v":1700.49}]
["7352833352","GMINA NOWY TARG","12","11","011","34400","Nowy Targ","Nowy Targ","ul. Bulwarowa","9","GMINA",1211011,{"$f":"VLOOKUP(L103,Arkusz3!A:L,2,0)","v":"  Nowy Targ.........................................................................................................................................................................................................................................................."},1211011,{"$f":"VLOOKUP(N103,Arkusz3!A:L,5,0)","v":51},{"$f":"VLOOKUP(N103,Arkusz3!A:L,6,0)","v":33373},{"$f":"VLOOKUP(N103,Arkusz3!A:L,8,0)","v":653},{"$f":"VLOOKUP(N103,Arkusz3!AN:AP,3,0)","v":1700.49}]
["8681021360","GMINA NOWY WIŚNICZ","12","01","064","32720","Nowy Wiśnicz","Nowy Wiśnicz","rynek Rynek","38","GMINA",1201064,{"$f":"VLOOKUP(L104,Arkusz3!A:L,2,0)","v":""},1201063,{"$f":"VLOOKUP(N104,Arkusz3!A:L,5,0)","v":82},{"$f":"VLOOKUP(N104,Arkusz3!A:L,6,0)","v":14021},{"$f":"VLOOKUP(N104,Arkusz3!A:L,8,0)","v":171},{"$f":"VLOOKUP(N104,Arkusz3!AN:AP,3,0)","v":1218.8800000000001}]
["7352834179","GMINA OCHOTNICA DOLNA","12","11","102","34452","Ochotnica Dolna","Ochotnica Dolna","os. Dłubacze","160       ","GMINA",1211102,{"$f":"VLOOKUP(L105,Arkusz3!A:L,2,0)","v":"  Ochotnica Dolna.........................................................................................................................................................................................................................................................."},1211102,{"$f":"VLOOKUP(N105,Arkusz3!A:L,5,0)","v":141},{"$f":"VLOOKUP(N105,Arkusz3!A:L,6,0)","v":8564},{"$f":"VLOOKUP(N105,Arkusz3!A:L,8,0)","v":61},{"$f":"VLOOKUP(N105,Arkusz3!AN:AP,3,0)","v":985.37}]
["8711771227","GMINA OLESNO","12","04","052","33210","Olesno","Olesno","ul. Wł. Jagiełły","1","GMINA",1204052,{"$f":"VLOOKUP(L106,Arkusz3!A:L,2,0)","v":"  Olesno.........................................................................................................................................................................................................................................................."},1204052,{"$f":"VLOOKUP(N106,Arkusz3!A:L,5,0)","v":78},{"$f":"VLOOKUP(N106,Arkusz3!A:L,6,0)","v":7934},{"$f":"VLOOKUP(N106,Arkusz3!A:L,8,0)","v":102},{"$f":"VLOOKUP(N106,Arkusz3!AN:AP,3,0)","v":807.77}]
["6371998042","GMINA OLKUSZ","12","12","054","32300","Olkusz","Olkusz","Rynek","1         ","GMINA",1212054,{"$f":"VLOOKUP(L107,Arkusz3!A:L,2,0)","v":""},1212053,{"$f":"VLOOKUP(N107,Arkusz3!A:L,5,0)","v":151},{"$f":"VLOOKUP(N107,Arkusz3!A:L,6,0)","v":49026},{"$f":"VLOOKUP(N107,Arkusz3!A:L,8,0)","v":325},{"$f":"VLOOKUP(N107,Arkusz3!AN:AP,3,0)","v":1799.15}]
["5492197435","GMINA OSIEK","12","13","052","32608","Osiek","Osiek","ul. Główna","125","GMINA",1213052,{"$f":"VLOOKUP(L108,Arkusz3!A:L,2,0)","v":"  Osiek.........................................................................................................................................................................................................................................................."},1213052,{"$f":"VLOOKUP(N108,Arkusz3!A:L,5,0)","v":41},{"$f":"VLOOKUP(N108,Arkusz3!A:L,6,0)","v":8207},{"$f":"VLOOKUP(N108,Arkusz3!A:L,8,0)","v":201},{"$f":"VLOOKUP(N108,Arkusz3!AN:AP,3,0)","v":1446.74}]
["5492197458","MIASTO OŚWIĘCIM","12","13","011","32600","Oświęcim","Oświęcim","ul. Zaborska","2","GMINA",1213011,{"$f":"VLOOKUP(L109,Arkusz3!A:L,2,0)","v":"  Oświęcim.........................................................................................................................................................................................................................................................."},1213011,{"$f":"VLOOKUP(N109,Arkusz3!A:L,5,0)","v":30},{"$f":"VLOOKUP(N109,Arkusz3!A:L,6,0)","v":38300},{"$f":"VLOOKUP(N109,Arkusz3!A:L,8,0)","v":1277},{"$f":"VLOOKUP(N109,Arkusz3!AN:AP,3,0)","v":2377.4299999999998}]
["5492198593","GMINA OŚWIĘCIM","12","13","011","32600","Oświęcim","Oświęcim","ul. Zamkowa","12","GMINA",1213011,{"$f":"VLOOKUP(L110,Arkusz3!A:L,2,0)","v":"  Oświęcim.........................................................................................................................................................................................................................................................."},1213011,{"$f":"VLOOKUP(N110,Arkusz3!A:L,5,0)","v":30},{"$f":"VLOOKUP(N110,Arkusz3!A:L,6,0)","v":38300},{"$f":"VLOOKUP(N110,Arkusz3!A:L,8,0)","v":1277},{"$f":"VLOOKUP(N110,Arkusz3!AN:AP,3,0)","v":2377.4299999999998}]
["6821635547","GMINA PAŁECZNICA","12","14","042","32109","Pałecznica","Pałecznica","ul. św. Jakuba","11","GMINA",1214042,{"$f":"VLOOKUP(L111,Arkusz3!A:L,2,0)","v":"  Pałecznica.........................................................................................................................................................................................................................................................."},1214042,{"$f":"VLOOKUP(N111,Arkusz3!A:L,5,0)","v":48},{"$f":"VLOOKUP(N111,Arkusz3!A:L,6,0)","v":3583},{"$f":"VLOOKUP(N111,Arkusz3!A:L,8,0)","v":75},{"$f":"VLOOKUP(N111,Arkusz3!AN:AP,3,0)","v":1115.6600000000001}]
["6811355131","GMINA PCIM","12","09","042","32432","Pcim","Pcim",null,"563","GMINA",1209042,{"$f":"VLOOKUP(L112,Arkusz3!A:L,2,0)","v":"  Pcim.........................................................................................................................................................................................................................................................."},1209042,{"$f":"VLOOKUP(N112,Arkusz3!A:L,5,0)","v":89},{"$f":"VLOOKUP(N112,Arkusz3!A:L,6,0)","v":11082},{"$f":"VLOOKUP(N112,Arkusz3!A:L,8,0)","v":125},{"$f":"VLOOKUP(N112,Arkusz3!AN:AP,3,0)","v":1210.8499999999999}]
["7343543904","MIASTO I GMINA PIWNICZNA-ZDRÓJ","12","10","134","33350","Piwniczna-Zdrój","Piwniczna-Zdrój","ul. Rynek","20","GMINA",1210134,{"$f":"VLOOKUP(L113,Arkusz3!A:L,2,0)","v":""},1210133,{"$f":"VLOOKUP(N113,Arkusz3!A:L,5,0)","v":126},{"$f":"VLOOKUP(N113,Arkusz3!A:L,6,0)","v":10650},{"$f":"VLOOKUP(N113,Arkusz3!A:L,8,0)","v":84},{"$f":"VLOOKUP(N113,Arkusz3!AN:AP,3,0)","v":977.43}]
["8732978229","GMINA PLEŚNA","12","16","042","33171","Pleśna","Pleśna",null,"240","GMINA",1216042,{"$f":"VLOOKUP(L114,Arkusz3!A:L,2,0)","v":"  Pleśna.........................................................................................................................................................................................................................................................."},1216042,{"$f":"VLOOKUP(N114,Arkusz3!A:L,5,0)","v":83},{"$f":"VLOOKUP(N114,Arkusz3!A:L,6,0)","v":11955},{"$f":"VLOOKUP(N114,Arkusz3!A:L,8,0)","v":144},{"$f":"VLOOKUP(N114,Arkusz3!AN:AP,3,0)","v":941.91}]
["7343456306","GMINA PODEGRODZIE","12","10","142","33386","Podegrodzie","Podegrodzie",null,"248","GMINA",1210142,{"$f":"VLOOKUP(L115,Arkusz3!A:L,2,0)","v":"  Podegrodzie.........................................................................................................................................................................................................................................................."},1210142,{"$f":"VLOOKUP(N115,Arkusz3!A:L,5,0)","v":65},{"$f":"VLOOKUP(N115,Arkusz3!A:L,6,0)","v":13170},{"$f":"VLOOKUP(N115,Arkusz3!A:L,8,0)","v":203},{"$f":"VLOOKUP(N115,Arkusz3!AN:AP,3,0)","v":934.69}]
["5492199463","GMINA POLANKA WIELKA","12","13","072","32607","Polanka Wielka","Polanka Wielka","ul. Długa","61","GMINA",1213072,{"$f":"VLOOKUP(L116,Arkusz3!A:L,2,0)","v":"  Polanka Wielka.........................................................................................................................................................................................................................................................."},1213072,{"$f":"VLOOKUP(N116,Arkusz3!A:L,5,0)","v":24},{"$f":"VLOOKUP(N116,Arkusz3!A:L,6,0)","v":4297},{"$f":"VLOOKUP(N116,Arkusz3!A:L,8,0)","v":180},{"$f":"VLOOKUP(N116,Arkusz3!AN:AP,3,0)","v":1312.13}]
["7361705814","GMINA PORONIN","12","17","052","34520","Poronin","Poronin","ul. Józefa Piłsudskiego","5","GMINA",1217052,{"$f":"VLOOKUP(L117,Arkusz3!A:L,2,0)","v":"  Poronin.........................................................................................................................................................................................................................................................."},1217052,{"$f":"VLOOKUP(N117,Arkusz3!A:L,5,0)","v":84},{"$f":"VLOOKUP(N117,Arkusz3!A:L,6,0)","v":11636},{"$f":"VLOOKUP(N117,Arkusz3!A:L,8,0)","v":139},{"$f":"VLOOKUP(N117,Arkusz3!AN:AP,3,0)","v":1194.26}]
["6821604469","GMINA PROSZOWICE","12","14","054","32100","Proszowice","Proszowice","ul. 3 Maja","72","GMINA",1214054,{"$f":"VLOOKUP(L118,Arkusz3!A:L,2,0)","v":""},1214053,{"$f":"VLOOKUP(N118,Arkusz3!A:L,5,0)","v":100},{"$f":"VLOOKUP(N118,Arkusz3!A:L,6,0)","v":16243},{"$f":"VLOOKUP(N118,Arkusz3!A:L,8,0)","v":162},{"$f":"VLOOKUP(N118,Arkusz3!AN:AP,3,0)","v":1198.98}]
["5492197487","GMINA PRZECISZÓW","12","13","082","32641","Przeciszów","Przeciszów","ul. Podlesie","1","GMINA",1213082,{"$f":"VLOOKUP(L119,Arkusz3!A:L,2,0)","v":"  Przeciszów.........................................................................................................................................................................................................................................................."},1213082,{"$f":"VLOOKUP(N119,Arkusz3!A:L,5,0)","v":35},{"$f":"VLOOKUP(N119,Arkusz3!A:L,6,0)","v":6751},{"$f":"VLOOKUP(N119,Arkusz3!A:L,8,0)","v":190},{"$f":"VLOOKUP(N119,Arkusz3!AN:AP,3,0)","v":1337.6}]
["7352854845","GMINA RABA WYŻNA","12","11","112","34721","Raba Wyżna","Raba Wyżna",null,"41","GMINA",1211112,{"$f":"VLOOKUP(L120,Arkusz3!A:L,2,0)","v":"  Raba Wyżna.........................................................................................................................................................................................................................................................."},1211112,{"$f":"VLOOKUP(N120,Arkusz3!A:L,5,0)","v":89},{"$f":"VLOOKUP(N120,Arkusz3!A:L,6,0)","v":14717},{"$f":"VLOOKUP(N120,Arkusz3!A:L,8,0)","v":165},{"$f":"VLOOKUP(N120,Arkusz3!AN:AP,3,0)","v":727.83}]
["7351006084","GMINA RABKA ZDRÓJ","12","11","124","34700","Rabka-Zdrój","Rabka-Zdrój","ul. Parkowa","2","GMINA",1211124,{"$f":"VLOOKUP(L121,Arkusz3!A:L,2,0)","v":""},1211123,{"$f":"VLOOKUP(N121,Arkusz3!A:L,5,0)","v":69},{"$f":"VLOOKUP(N121,Arkusz3!A:L,6,0)","v":17092},{"$f":"VLOOKUP(N121,Arkusz3!A:L,8,0)","v":247},{"$f":"VLOOKUP(N121,Arkusz3!AN:AP,3,0)","v":1305.71}]
["6811359293","GMINA RACIECHOWICE","12","09","052","32415","Raciechowice","Raciechowice",null,"277       ","GMINA",1209052,{"$f":"VLOOKUP(L122,Arkusz3!A:L,2,0)","v":"  Raciechowice.........................................................................................................................................................................................................................................................."},1209052,{"$f":"VLOOKUP(N122,Arkusz3!A:L,5,0)","v":61},{"$f":"VLOOKUP(N122,Arkusz3!A:L,6,0)","v":6395},{"$f":"VLOOKUP(N122,Arkusz3!A:L,8,0)","v":105},{"$f":"VLOOKUP(N122,Arkusz3!AN:AP,3,0)","v":1017.42}]
["6591184436","GMINA RACŁAWICE","12","08","062","32222","Racławice","Racławice",null,"15","GMINA",1208062,{"$f":"VLOOKUP(L123,Arkusz3!A:L,2,0)","v":"  Racławice.........................................................................................................................................................................................................................................................."},1208062,{"$f":"VLOOKUP(N123,Arkusz3!A:L,5,0)","v":59},{"$f":"VLOOKUP(N123,Arkusz3!A:L,6,0)","v":2519},{"$f":"VLOOKUP(N123,Arkusz3!A:L,8,0)","v":43},{"$f":"VLOOKUP(N123,Arkusz3!AN:AP,3,0)","v":1043.3399999999999}]
["8711665525","GMINA RADGOSZCZ","12","04","062","33207","Radgoszcz","Radgoszcz","pl. św. Kazimierza","7-8       ","GMINA",1204062,{"$f":"VLOOKUP(L124,Arkusz3!A:L,2,0)","v":"  Radgoszcz.........................................................................................................................................................................................................................................................."},1204062,{"$f":"VLOOKUP(N124,Arkusz3!A:L,5,0)","v":88},{"$f":"VLOOKUP(N124,Arkusz3!A:L,6,0)","v":7439},{"$f":"VLOOKUP(N124,Arkusz3!A:L,8,0)","v":84},{"$f":"VLOOKUP(N124,Arkusz3!AN:AP,3,0)","v":566.34}]
["8731001716","GMINA RADŁÓW","12","16","054","33130","Radłów","Radłów","ul. Kolejowa","7","GMINA",1216054,{"$f":"VLOOKUP(L125,Arkusz3!A:L,2,0)","v":""},1216053,{"$f":"VLOOKUP(N125,Arkusz3!A:L,5,0)","v":86},{"$f":"VLOOKUP(N125,Arkusz3!A:L,6,0)","v":9750},{"$f":"VLOOKUP(N125,Arkusz3!A:L,8,0)","v":113},{"$f":"VLOOKUP(N125,Arkusz3!AN:AP,3,0)","v":1206.5999999999999}]
["6821762292","GMINA RADZIEMICE","12","14","062","32107","Radziemice","Radziemice",null,"74","GMINA",1214062,{"$f":"VLOOKUP(L126,Arkusz3!A:L,2,0)","v":"  Radziemice.........................................................................................................................................................................................................................................................."},1214062,{"$f":"VLOOKUP(N126,Arkusz3!A:L,5,0)","v":58},{"$f":"VLOOKUP(N126,Arkusz3!A:L,6,0)","v":3417},{"$f":"VLOOKUP(N126,Arkusz3!A:L,8,0)","v":59},{"$f":"VLOOKUP(N126,Arkusz3!AN:AP,3,0)","v":1105.25}]
["7382130282","GMINA ROPA","12","05","082","38312","Ropa","Ropa",null,"733","GMINA",1205082,{"$f":"VLOOKUP(L127,Arkusz3!A:L,2,0)","v":"  Ropa.........................................................................................................................................................................................................................................................."},1205082,{"$f":"VLOOKUP(N127,Arkusz3!A:L,5,0)","v":49},{"$f":"VLOOKUP(N127,Arkusz3!A:L,6,0)","v":5498},{"$f":"VLOOKUP(N127,Arkusz3!A:L,8,0)","v":112},{"$f":"VLOOKUP(N127,Arkusz3!AN:AP,3,0)","v":635.24}]
["9930337247","GMINA RYGLICE","12","16","064","33160","Ryglice","Ryglice","ul. Rynek","9         ","GMINA",1216064,{"$f":"VLOOKUP(L128,Arkusz3!A:L,2,0)","v":""},1216063,{"$f":"VLOOKUP(N128,Arkusz3!A:L,5,0)","v":117},{"$f":"VLOOKUP(N128,Arkusz3!A:L,6,0)","v":11694},{"$f":"VLOOKUP(N128,Arkusz3!A:L,8,0)","v":100},{"$f":"VLOOKUP(N128,Arkusz3!AN:AP,3,0)","v":853.6}]
["7343517947","GMINA RYTRO","12","10","152","33343","Rytro","Rytro",null,"265","GMINA",1210152,{"$f":"VLOOKUP(L129,Arkusz3!A:L,2,0)","v":"  Rytro.........................................................................................................................................................................................................................................................."},1210152,{"$f":"VLOOKUP(N129,Arkusz3!A:L,5,0)","v":42},{"$f":"VLOOKUP(N129,Arkusz3!A:L,6,0)","v":3807},{"$f":"VLOOKUP(N129,Arkusz3!A:L,8,0)","v":91},{"$f":"VLOOKUP(N129,Arkusz3!AN:AP,3,0)","v":937.25}]
["9930656314","GMINA RZEPIENNIK STRZYŻEWSKI","12","16","072","33163","Rzepiennik Strzyżewski","Rzepiennik Strzyżewski",null,"400","GMINA",1216072,{"$f":"VLOOKUP(L130,Arkusz3!A:L,2,0)","v":"  Rzepiennik Strzyżewski.........................................................................................................................................................................................................................................................."},1216072,{"$f":"VLOOKUP(N130,Arkusz3!A:L,5,0)","v":71},{"$f":"VLOOKUP(N130,Arkusz3!A:L,6,0)","v":6742},{"$f":"VLOOKUP(N130,Arkusz3!A:L,8,0)","v":95},{"$f":"VLOOKUP(N130,Arkusz3!AN:AP,3,0)","v":867.62}]
["8681021294","GMINA RZEZAWA","12","01","072","32765","Rzezawa","Rzezawa","ul. Długa","21","GMINA",{"$f":"C131*100000+D131*1000+E131","v":1201072},{"$f":"VLOOKUP(L131,Arkusz3!A:L,2,0)","v":"  Rzezawa.........................................................................................................................................................................................................................................................."},{"$f":"IF(M131=M$1,L131-1,IF(M131=N$1,L131-2,L131))","v":1201072},{"$f":"VLOOKUP(N131,Arkusz3!A:L,5,0)","v":86},{"$f":"VLOOKUP(N131,Arkusz3!A:L,6,0)","v":11276},{"$f":"VLOOKUP(N131,Arkusz3!A:L,8,0)","v":131},{"$f":"VLOOKUP(N131,Arkusz3!AN:AP,3,0)","v":1017.63}]
["7381013686","GMINA SĘKOWA","12","05","092","38307","Sękowa","Sękowa",null,"252       ","GMINA",1205092,{"$f":"VLOOKUP(L132,Arkusz3!A:L,2,0)","v":"  Sękowa.........................................................................................................................................................................................................................................................."},1205092,{"$f":"VLOOKUP(N132,Arkusz3!A:L,5,0)","v":195},{"$f":"VLOOKUP(N132,Arkusz3!A:L,6,0)","v":5017},{"$f":"VLOOKUP(N132,Arkusz3!A:L,8,0)","v":26},{"$f":"VLOOKUP(N132,Arkusz3!AN:AP,3,0)","v":965.01}]
["6811299390","GMINA SIEPRAW","12","09","062","32447","Siepraw","Siepraw","ul. Kawęciny","30        ","GMINA",1209062,{"$f":"VLOOKUP(L133,Arkusz3!A:L,2,0)","v":"  Siepraw.........................................................................................................................................................................................................................................................."},1209062,{"$f":"VLOOKUP(N133,Arkusz3!A:L,5,0)","v":32},{"$f":"VLOOKUP(N133,Arkusz3!A:L,6,0)","v":8953},{"$f":"VLOOKUP(N133,Arkusz3!A:L,8,0)","v":281},{"$f":"VLOOKUP(N133,Arkusz3!AN:AP,3,0)","v":1444.31}]
["6771024094","GMINA SKAŁA","12","06","104","32043","Skała","Skała","Rynek","29","GMINA",1206104,{"$f":"VLOOKUP(L134,Arkusz3!A:L,2,0)","v":""},1206103,{"$f":"VLOOKUP(N134,Arkusz3!A:L,5,0)","v":75},{"$f":"VLOOKUP(N134,Arkusz3!A:L,6,0)","v":10556},{"$f":"VLOOKUP(N134,Arkusz3!A:L,8,0)","v":141},{"$f":"VLOOKUP(N134,Arkusz3!AN:AP,3,0)","v":1191.94}]
["6791023301","GMINA SKAWINA","12","06","114","32050","Skawina","Skawina","Rynek","1","GMINA",1206114,{"$f":"VLOOKUP(L135,Arkusz3!A:L,2,0)","v":""},1206113,{"$f":"VLOOKUP(N135,Arkusz3!A:L,5,0)","v":100},{"$f":"VLOOKUP(N135,Arkusz3!A:L,6,0)","v":43496},{"$f":"VLOOKUP(N135,Arkusz3!A:L,8,0)","v":436},{"$f":"VLOOKUP(N135,Arkusz3!AN:AP,3,0)","v":2236.9499999999998}]
["9930340717","GMINA SKRZYSZÓW","12","16","082","33156","Skrzyszów","Skrzyszów",null,"642","GMINA",1216082,{"$f":"VLOOKUP(L136,Arkusz3!A:L,2,0)","v":"  Skrzyszów.........................................................................................................................................................................................................................................................."},1216082,{"$f":"VLOOKUP(N136,Arkusz3!A:L,5,0)","v":86},{"$f":"VLOOKUP(N136,Arkusz3!A:L,6,0)","v":14254},{"$f":"VLOOKUP(N136,Arkusz3!A:L,8,0)","v":166},{"$f":"VLOOKUP(N136,Arkusz3!AN:AP,3,0)","v":1117.47}]
["6591222510","GMINA SŁABOSZÓW","12","08","072","32218","Słaboszów","Słaboszów",null,"57","GMINA",1208072,{"$f":"VLOOKUP(L137,Arkusz3!A:L,2,0)","v":"  Słaboszów.........................................................................................................................................................................................................................................................."},1208072,{"$f":"VLOOKUP(N137,Arkusz3!A:L,5,0)","v":77},{"$f":"VLOOKUP(N137,Arkusz3!A:L,6,0)","v":3567},{"$f":"VLOOKUP(N137,Arkusz3!A:L,8,0)","v":46},{"$f":"VLOOKUP(N137,Arkusz3!AN:AP,3,0)","v":940.46}]
["6821604831","GMINA SŁOMNIKI","12","06","124","32090","Słomniki","Słomniki","ul. Tadeusza Kościuszki","64","GMINA",1206124,{"$f":"VLOOKUP(L138,Arkusz3!A:L,2,0)","v":""},1206123,{"$f":"VLOOKUP(N138,Arkusz3!A:L,5,0)","v":113},{"$f":"VLOOKUP(N138,Arkusz3!A:L,6,0)","v":13680},{"$f":"VLOOKUP(N138,Arkusz3!A:L,8,0)","v":121},{"$f":"VLOOKUP(N138,Arkusz3!AN:AP,3,0)","v":1354.69}]
["7371410411","GMINA SŁOPNICE","12","07","112","34615","Słopnice","Słopnice",null,"911","GMINA",1207112,{"$f":"VLOOKUP(L139,Arkusz3!A:L,2,0)","v":"  Słopnice.........................................................................................................................................................................................................................................................."},1207112,{"$f":"VLOOKUP(N139,Arkusz3!A:L,5,0)","v":57},{"$f":"VLOOKUP(N139,Arkusz3!A:L,6,0)","v":6720},{"$f":"VLOOKUP(N139,Arkusz3!A:L,8,0)","v":118},{"$f":"VLOOKUP(N139,Arkusz3!AN:AP,3,0)","v":638.24}]
["7352703193","GMINA SPYTKOWICE (pow. nowotarski)","12","11","132","34745","Spytkowice","Spytkowice",null,"26","GMINA",1211132,{"$f":"VLOOKUP(L140,Arkusz3!A:L,2,0)","v":"  Spytkowice.........................................................................................................................................................................................................................................................."},1211132,{"$f":"VLOOKUP(N140,Arkusz3!A:L,5,0)","v":32},{"$f":"VLOOKUP(N140,Arkusz3!A:L,6,0)","v":4533},{"$f":"VLOOKUP(N140,Arkusz3!A:L,8,0)","v":141},{"$f":"VLOOKUP(N140,Arkusz3!AN:AP,3,0)","v":977.22}]
["5511123930","GMINA SPYTKOWICE (pow. wadowicki)","12","18","062","34116","Spytkowice","Spytkowice","ul. Zamkowa","12","GMINA",1218062,{"$f":"VLOOKUP(L141,Arkusz3!A:L,2,0)","v":"  Spytkowice.........................................................................................................................................................................................................................................................."},1218062,{"$f":"VLOOKUP(N141,Arkusz3!A:L,5,0)","v":52},{"$f":"VLOOKUP(N141,Arkusz3!A:L,6,0)","v":10379},{"$f":"VLOOKUP(N141,Arkusz3!A:L,8,0)","v":202},{"$f":"VLOOKUP(N141,Arkusz3!AN:AP,3,0)","v":1244.3900000000001}]
["7341009655","GMINA STARY SĄCZ","12","10","164","33340","Stary Sącz","Stary Sącz","ul. Stefana Batorego","25","GMINA",1210164,{"$f":"VLOOKUP(L142,Arkusz3!A:L,2,0)","v":""},1210163,{"$f":"VLOOKUP(N142,Arkusz3!A:L,5,0)","v":101},{"$f":"VLOOKUP(N142,Arkusz3!A:L,6,0)","v":23747},{"$f":"VLOOKUP(N142,Arkusz3!A:L,8,0)","v":235},{"$f":"VLOOKUP(N142,Arkusz3!AN:AP,3,0)","v":1049.71}]
["5521707153","GMINA STRYSZAWA","12","15","072","34205","Stryszawa","Stryszawa",null,"17","GMINA",1215072,{"$f":"VLOOKUP(L143,Arkusz3!A:L,2,0)","v":"  Stryszawa.........................................................................................................................................................................................................................................................."},1215072,{"$f":"VLOOKUP(N143,Arkusz3!A:L,5,0)","v":114},{"$f":"VLOOKUP(N143,Arkusz3!A:L,6,0)","v":11888},{"$f":"VLOOKUP(N143,Arkusz3!A:L,8,0)","v":104},{"$f":"VLOOKUP(N143,Arkusz3!AN:AP,3,0)","v":1191.6400000000001}]
["5511690907","GMINA STRYSZÓW","12","18","072","34146","Stryszów","Stryszów",null,"149","GMINA",1218072,{"$f":"VLOOKUP(L144,Arkusz3!A:L,2,0)","v":"  Stryszów.........................................................................................................................................................................................................................................................."},1218072,{"$f":"VLOOKUP(N144,Arkusz3!A:L,5,0)","v":46},{"$f":"VLOOKUP(N144,Arkusz3!A:L,6,0)","v":6856},{"$f":"VLOOKUP(N144,Arkusz3!A:L,8,0)","v":149},{"$f":"VLOOKUP(N144,Arkusz3!AN:AP,3,0)","v":1048.6600000000001}]
["5521567404","GMINA SUCHA BESKIDZKA","12","15","021","34200","Sucha Beskidzka","Sucha Beskidzka","ul. Adama Mickiewicza","19","GMINA",1215021,{"$f":"VLOOKUP(L145,Arkusz3!A:L,2,0)","v":"  Sucha Beskidzka.........................................................................................................................................................................................................................................................."},1215021,{"$f":"VLOOKUP(N145,Arkusz3!A:L,5,0)","v":28},{"$f":"VLOOKUP(N145,Arkusz3!A:L,6,0)","v":9165},{"$f":"VLOOKUP(N145,Arkusz3!A:L,8,0)","v":331},{"$f":"VLOOKUP(N145,Arkusz3!AN:AP,3,0)","v":1920.34}]
["6811036147","GMINA SUŁKOWICE","12","09","074","32440","Sułkowice","Sułkowice","Rynek","1         ","GMINA",1209074,{"$f":"VLOOKUP(L146,Arkusz3!A:L,2,0)","v":""},1209073,{"$f":"VLOOKUP(N146,Arkusz3!A:L,5,0)","v":60},{"$f":"VLOOKUP(N146,Arkusz3!A:L,6,0)","v":14916},{"$f":"VLOOKUP(N146,Arkusz3!A:L,8,0)","v":247},{"$f":"VLOOKUP(N146,Arkusz3!AN:AP,3,0)","v":1134.3599999999999}]
["6771037576","GMINA SUŁOSZOWA","12","06","132","32045","Sułoszowa","Sułoszowa","ul. Krakowska","139","GMINA",1206132,{"$f":"VLOOKUP(L147,Arkusz3!A:L,2,0)","v":"  Sułoszowa.........................................................................................................................................................................................................................................................."},1206132,{"$f":"VLOOKUP(N147,Arkusz3!A:L,5,0)","v":53},{"$f":"VLOOKUP(N147,Arkusz3!A:L,6,0)","v":5830},{"$f":"VLOOKUP(N147,Arkusz3!A:L,8,0)","v":109},{"$f":"VLOOKUP(N147,Arkusz3!AN:AP,3,0)","v":800.63}]
["7361198317","GMINA SZAFLARY","12","11","142","34424","Szaflary","Szaflary","ul. Zakopiańska","18","GMINA",1211142,{"$f":"VLOOKUP(L148,Arkusz3!A:L,2,0)","v":"  Szaflary.........................................................................................................................................................................................................................................................."},1211142,{"$f":"VLOOKUP(N148,Arkusz3!A:L,5,0)","v":54},{"$f":"VLOOKUP(N148,Arkusz3!A:L,6,0)","v":11054},{"$f":"VLOOKUP(N148,Arkusz3!A:L,8,0)","v":204},{"$f":"VLOOKUP(N148,Arkusz3!AN:AP,3,0)","v":799.58}]
["7351026738","MIASTO I GMINA SZCZAWNICA","12","11","024","34460","Szczawnica","Szczawnica","ul. Szalaya","103","GMINA",1211024,{"$f":"VLOOKUP(L149,Arkusz3!A:L,2,0)","v":""},1211023,{"$f":"VLOOKUP(N149,Arkusz3!A:L,5,0)","v":88},{"$f":"VLOOKUP(N149,Arkusz3!A:L,6,0)","v":7265},{"$f":"VLOOKUP(N149,Arkusz3!A:L,8,0)","v":83},{"$f":"VLOOKUP(N149,Arkusz3!AN:AP,3,0)","v":1659.62}]
["8711769963","GMINA SZCZUCIN","12","04","074","33230","Szczucin","Szczucin","ul. Wolności","3","GMINA",1204074,{"$f":"VLOOKUP(L150,Arkusz3!A:L,2,0)","v":""},1204073,{"$f":"VLOOKUP(N150,Arkusz3!A:L,5,0)","v":119},{"$f":"VLOOKUP(N150,Arkusz3!A:L,6,0)","v":13180},{"$f":"VLOOKUP(N150,Arkusz3!A:L,8,0)","v":110},{"$f":"VLOOKUP(N150,Arkusz3!AN:AP,3,0)","v":965.77}]
["8691186401","GMINA SZCZUROWA","12","02","072","32820","Szczurowa","Szczurowa","ul. Lwowska","2","GMINA",1202072,{"$f":"VLOOKUP(L151,Arkusz3!A:L,2,0)","v":"  Szczurowa.........................................................................................................................................................................................................................................................."},1202072,{"$f":"VLOOKUP(N151,Arkusz3!A:L,5,0)","v":135},{"$f":"VLOOKUP(N151,Arkusz3!A:L,6,0)","v":9534},{"$f":"VLOOKUP(N151,Arkusz3!A:L,8,0)","v":71},{"$f":"VLOOKUP(N151,Arkusz3!AN:AP,3,0)","v":1069.93}]
["9930337193","GMINA SZERZYNY","12","16","162","38246","Szerzyny","Szerzyny",null,"521","GMINA",1216162,{"$f":"VLOOKUP(L152,Arkusz3!A:L,2,0)","v":"  Szerzyny.........................................................................................................................................................................................................................................................."},1216162,{"$f":"VLOOKUP(N152,Arkusz3!A:L,5,0)","v":82},{"$f":"VLOOKUP(N152,Arkusz3!A:L,6,0)","v":7975},{"$f":"VLOOKUP(N152,Arkusz3!A:L,8,0)","v":97},{"$f":"VLOOKUP(N152,Arkusz3!AN:AP,3,0)","v":666.2}]
["9442226987","GMINA ŚWIĄTNIKI GÓRNE","12","06","144","32040","Świątniki Górne","Świątniki Górne","ul. Kazimierza Bruchnalskiego","36","GMINA",1206144,{"$f":"VLOOKUP(L153,Arkusz3!A:L,2,0)","v":""},1206143,{"$f":"VLOOKUP(N153,Arkusz3!A:L,5,0)","v":20},{"$f":"VLOOKUP(N153,Arkusz3!A:L,6,0)","v":10083},{"$f":"VLOOKUP(N153,Arkusz3!A:L,8,0)","v":495},{"$f":"VLOOKUP(N153,Arkusz3!AN:AP,3,0)","v":1911.11}]
["8731550848","GMINA TARNÓW","12","63","011","33100","Tarnów","Tarnów","ul. Krakowska","19","GMINA",1263011,{"$f":"VLOOKUP(L154,Arkusz3!A:L,2,0)","v":"  Tarnów.........................................................................................................................................................................................................................................................."},1263011,{"$f":"VLOOKUP(N154,Arkusz3!A:L,5,0)","v":72},{"$f":"VLOOKUP(N154,Arkusz3!A:L,6,0)","v":109062},{"$f":"VLOOKUP(N154,Arkusz3!A:L,8,0)","v":1507},{"$f":"VLOOKUP(N154,Arkusz3!AN:AP,3,0)","v":2023.45}]
["6811304607","GMINA TOKARNIA","12","09","082","32436","Tokarnia","Tokarnia",null,"380","GMINA",1209082,{"$f":"VLOOKUP(L155,Arkusz3!A:L,2,0)","v":"  Tokarnia.........................................................................................................................................................................................................................................................."},1209082,{"$f":"VLOOKUP(N155,Arkusz3!A:L,5,0)","v":69},{"$f":"VLOOKUP(N155,Arkusz3!A:L,6,0)","v":8771},{"$f":"VLOOKUP(N155,Arkusz3!A:L,8,0)","v":128},{"$f":"VLOOKUP(N155,Arkusz3!AN:AP,3,0)","v":836.72}]
["5511163935","GMINA TOMICE","12","18","082","34100","Wadowice","Tomice","ul. Wadowicka","51        ","GMINA",1218082,{"$f":"VLOOKUP(L156,Arkusz3!A:L,2,0)","v":"  Tomice.........................................................................................................................................................................................................................................................."},1218082,{"$f":"VLOOKUP(N156,Arkusz3!A:L,5,0)","v":42},{"$f":"VLOOKUP(N156,Arkusz3!A:L,6,0)","v":8171},{"$f":"VLOOKUP(N156,Arkusz3!A:L,8,0)","v":197},{"$f":"VLOOKUP(N156,Arkusz3!AN:AP,3,0)","v":1168.04}]
["8681021259","GMINA TRZCIANA","12","01","082","32733","Trzciana","Trzciana",null,"302","GMINA",1201082,{"$f":"VLOOKUP(L157,Arkusz3!A:L,2,0)","v":"  Trzciana.........................................................................................................................................................................................................................................................."},1201082,{"$f":"VLOOKUP(N157,Arkusz3!A:L,5,0)","v":44},{"$f":"VLOOKUP(N157,Arkusz3!A:L,6,0)","v":5582},{"$f":"VLOOKUP(N157,Arkusz3!A:L,8,0)","v":127},{"$f":"VLOOKUP(N157,Arkusz3!AN:AP,3,0)","v":1151.25}]
["6282260122","GMINA TRZEBINIA","12","03","054","32540","Trzebinia","Trzebinia","ul. Marszałka Piłsudskiego","14","GMINA",1203054,{"$f":"VLOOKUP(L158,Arkusz3!A:L,2,0)","v":""},1203053,{"$f":"VLOOKUP(N158,Arkusz3!A:L,5,0)","v":105},{"$f":"VLOOKUP(N158,Arkusz3!A:L,6,0)","v":33997},{"$f":"VLOOKUP(N158,Arkusz3!A:L,8,0)","v":323},{"$f":"VLOOKUP(N158,Arkusz3!AN:AP,3,0)","v":2323.89}]
["6372024112","GMINA TRZYCIĄŻ","12","12","062","32353","Trzyciąż","Trzyciąż",null,"99","GMINA",1212062,{"$f":"VLOOKUP(L159,Arkusz3!A:L,2,0)","v":"  Trzyciąż.........................................................................................................................................................................................................................................................."},1212062,{"$f":"VLOOKUP(N159,Arkusz3!A:L,5,0)","v":95},{"$f":"VLOOKUP(N159,Arkusz3!A:L,6,0)","v":7048},{"$f":"VLOOKUP(N159,Arkusz3!A:L,8,0)","v":74},{"$f":"VLOOKUP(N159,Arkusz3!AN:AP,3,0)","v":1198.04}]
["9930336443","GMINA TUCHÓW","12","16","104","33170","Tuchów","Tuchów","ul. Rynek","1","GMINA",1216104,{"$f":"VLOOKUP(L160,Arkusz3!A:L,2,0)","v":""},1216103,{"$f":"VLOOKUP(N160,Arkusz3!A:L,5,0)","v":100},{"$f":"VLOOKUP(N160,Arkusz3!A:L,6,0)","v":18043},{"$f":"VLOOKUP(N160,Arkusz3!A:L,8,0)","v":181},{"$f":"VLOOKUP(N160,Arkusz3!AN:AP,3,0)","v":928.12}]
["7371362818","GMINA TYMBARK","12","07","122","34650","Tymbark","Tymbark",null,"49","GMINA",1207122,{"$f":"VLOOKUP(L161,Arkusz3!A:L,2,0)","v":"  Tymbark.........................................................................................................................................................................................................................................................."},1207122,{"$f":"VLOOKUP(N161,Arkusz3!A:L,5,0)","v":33},{"$f":"VLOOKUP(N161,Arkusz3!A:L,6,0)","v":6556},{"$f":"VLOOKUP(N161,Arkusz3!A:L,8,0)","v":200},{"$f":"VLOOKUP(N161,Arkusz3!AN:AP,3,0)","v":1368.59}]
["7382144864","GMINA UŚCIE GORLICKIE","12","05","102","38315","Uście Gorlickie","Uście Gorlickie",null,"80","GMINA",1205102,{"$f":"VLOOKUP(L162,Arkusz3!A:L,2,0)","v":"  Uście Gorlickie.........................................................................................................................................................................................................................................................."},1205102,{"$f":"VLOOKUP(N162,Arkusz3!A:L,5,0)","v":287},{"$f":"VLOOKUP(N162,Arkusz3!A:L,6,0)","v":6837},{"$f":"VLOOKUP(N162,Arkusz3!A:L,8,0)","v":24},{"$f":"VLOOKUP(N162,Arkusz3!AN:AP,3,0)","v":921.05}]
["5511003597","GMINA WADOWICE","12","18","094","34100","Wadowice","Wadowice","pl. Jana Pawła II","23","GMINA",1218094,{"$f":"VLOOKUP(L163,Arkusz3!A:L,2,0)","v":""},1218093,{"$f":"VLOOKUP(N163,Arkusz3!A:L,5,0)","v":113},{"$f":"VLOOKUP(N163,Arkusz3!A:L,6,0)","v":37934},{"$f":"VLOOKUP(N163,Arkusz3!A:L,8,0)","v":336},{"$f":"VLOOKUP(N163,Arkusz3!AN:AP,3,0)","v":2036.14}]
["6830011450","GMINA WIELICZKA","12","19","054","32020","Wieliczka","Wieliczka","ul. Powstania Warszawskiego","1","GMINA",1219054,{"$f":"VLOOKUP(L164,Arkusz3!A:L,2,0)","v":""},1219053,{"$f":"VLOOKUP(N164,Arkusz3!A:L,5,0)","v":100},{"$f":"VLOOKUP(N164,Arkusz3!A:L,6,0)","v":59414},{"$f":"VLOOKUP(N164,Arkusz3!A:L,8,0)","v":596},{"$f":"VLOOKUP(N164,Arkusz3!AN:AP,3,0)","v":1900.98}]
["5130066230","GMINA WIELKA WIEŚ","12","06","152","32085","Modlnica","Szyce","pl. Plac Wspólnoty","1  ","GMINA",1206152,{"$f":"VLOOKUP(L165,Arkusz3!A:L,2,0)","v":"  Wielka Wieś.........................................................................................................................................................................................................................................................."},1206152,{"$f":"VLOOKUP(N165,Arkusz3!A:L,5,0)","v":48},{"$f":"VLOOKUP(N165,Arkusz3!A:L,6,0)","v":12356},{"$f":"VLOOKUP(N165,Arkusz3!A:L,8,0)","v":256},{"$f":"VLOOKUP(N165,Arkusz3!AN:AP,3,0)","v":3033.84}]
["5511123841","GMINA WIEPRZ","12","18","102","34122","Wieprz","Wieprz","ul. Centralna","5","GMINA",1218102,{"$f":"VLOOKUP(L166,Arkusz3!A:L,2,0)","v":"  Wieprz.........................................................................................................................................................................................................................................................."},1218102,{"$f":"VLOOKUP(N166,Arkusz3!A:L,5,0)","v":75},{"$f":"VLOOKUP(N166,Arkusz3!A:L,6,0)","v":12389},{"$f":"VLOOKUP(N166,Arkusz3!A:L,8,0)","v":166},{"$f":"VLOOKUP(N166,Arkusz3!AN:AP,3,0)","v":1119.26}]
["8731111741","GMINA WIERZCHOSŁAWICE","12","16","112","33122","Wierzchosławice","Wierzchosławice",null,"550","GMINA",1216112,{"$f":"VLOOKUP(L167,Arkusz3!A:L,2,0)","v":"  Wierzchosławice.........................................................................................................................................................................................................................................................."},1216112,{"$f":"VLOOKUP(N167,Arkusz3!A:L,5,0)","v":75},{"$f":"VLOOKUP(N167,Arkusz3!A:L,6,0)","v":10825},{"$f":"VLOOKUP(N167,Arkusz3!A:L,8,0)","v":144},{"$f":"VLOOKUP(N167,Arkusz3!AN:AP,3,0)","v":1472}]
["9930652629","GMINA WIETRZYCHOWICE","12","16","122","33270","Wietrzychowice","Wietrzychowice",null,"19","GMINA",1216122,{"$f":"VLOOKUP(L168,Arkusz3!A:L,2,0)","v":"  Wietrzychowice.........................................................................................................................................................................................................................................................."},1216122,{"$f":"VLOOKUP(N168,Arkusz3!A:L,5,0)","v":48},{"$f":"VLOOKUP(N168,Arkusz3!A:L,6,0)","v":3989},{"$f":"VLOOKUP(N168,Arkusz3!A:L,8,0)","v":82},{"$f":"VLOOKUP(N168,Arkusz3!AN:AP,3,0)","v":1047.58}]
["6811381938","GMINA WIŚNIOWA","12","09","092","32412","Wiśniowa","Wiśniowa",null,"441","GMINA",1209092,{"$f":"VLOOKUP(L169,Arkusz3!A:L,2,0)","v":"  Wiśniowa.........................................................................................................................................................................................................................................................."},1209092,{"$f":"VLOOKUP(N169,Arkusz3!A:L,5,0)","v":67},{"$f":"VLOOKUP(N169,Arkusz3!A:L,6,0)","v":7390},{"$f":"VLOOKUP(N169,Arkusz3!A:L,8,0)","v":110},{"$f":"VLOOKUP(N169,Arkusz3!AN:AP,3,0)","v":958.47}]
["8732630130","GMINA WOJNICZ","12","16","134","32830","Wojnicz","Wojnicz","ul. Rynek","1         ","GMINA",1216134,{"$f":"VLOOKUP(L170,Arkusz3!A:L,2,0)","v":""},1216133,{"$f":"VLOOKUP(N170,Arkusz3!A:L,5,0)","v":79},{"$f":"VLOOKUP(N170,Arkusz3!A:L,6,0)","v":13481},{"$f":"VLOOKUP(N170,Arkusz3!A:L,8,0)","v":170},{"$f":"VLOOKUP(N170,Arkusz3!AN:AP,3,0)","v":1173.7}]
["6372003423","GMINA WOLBROM","12","12","074","32340","Wolbrom","Wolbrom","ul. Krakowska","1","GMINA",1212074,{"$f":"VLOOKUP(L171,Arkusz3!A:L,2,0)","v":""},1212073,{"$f":"VLOOKUP(N171,Arkusz3!A:L,5,0)","v":147},{"$f":"VLOOKUP(N171,Arkusz3!A:L,6,0)","v":22875},{"$f":"VLOOKUP(N171,Arkusz3!A:L,8,0)","v":156},{"$f":"VLOOKUP(N171,Arkusz3!AN:AP,3,0)","v":1752.99}]
["6761706490","GMINA ZABIERZÓW","12","06","162","32080","Zabierzów","Zabierzów","Rynek","1","GMINA",1206162,{"$f":"VLOOKUP(L172,Arkusz3!A:L,2,0)","v":"  Zabierzów (a) .........................................................................................................................................................................................................................................................."},1206162,{"$f":"VLOOKUP(N172,Arkusz3!A:L,5,0)","v":99},{"$f":"VLOOKUP(N172,Arkusz3!A:L,6,0)","v":26504},{"$f":"VLOOKUP(N172,Arkusz3!A:L,8,0)","v":267},{"$f":"VLOOKUP(N172,Arkusz3!AN:AP,3,0)","v":2477.29}]
["8691013238","GMINA ZAKLICZYN","12","16","144","32840","Zakliczyn","Zakliczyn","Rynek","32","GMINA",1216144,{"$f":"VLOOKUP(L173,Arkusz3!A:L,2,0)","v":""},1216143,{"$f":"VLOOKUP(N173,Arkusz3!A:L,5,0)","v":122},{"$f":"VLOOKUP(N173,Arkusz3!A:L,6,0)","v":12459},{"$f":"VLOOKUP(N173,Arkusz3!A:L,8,0)","v":102},{"$f":"VLOOKUP(N173,Arkusz3!AN:AP,3,0)","v":864.85}]
["7360007798","MIASTO ZAKOPANE","12","17","011","34500","Zakopane","Zakopane","ul. Tadeusza Kościuszki","13","GMINA",1217011,{"$f":"VLOOKUP(L174,Arkusz3!A:L,2,0)","v":"  Zakopane.........................................................................................................................................................................................................................................................."},1217011,{"$f":"VLOOKUP(N174,Arkusz3!A:L,5,0)","v":84},{"$f":"VLOOKUP(N174,Arkusz3!A:L,6,0)","v":27191},{"$f":"VLOOKUP(N174,Arkusz3!A:L,8,0)","v":323},{"$f":"VLOOKUP(N174,Arkusz3!AN:AP,3,0)","v":2524.4499999999998}]
["5492197464","GMINA ZATOR","12","13","094","32640","Zator","Zator","pl. Marszałka Józefa Piłsudskiego","1         ","GMINA",1213094,{"$f":"VLOOKUP(L175,Arkusz3!A:L,2,0)","v":""},1213093,{"$f":"VLOOKUP(N175,Arkusz3!A:L,5,0)","v":52},{"$f":"VLOOKUP(N175,Arkusz3!A:L,6,0)","v":9298},{"$f":"VLOOKUP(N175,Arkusz3!A:L,8,0)","v":180},{"$f":"VLOOKUP(N175,Arkusz3!AN:AP,3,0)","v":1829.22}]
["5521588530","GMINA ZAWOJA","12","15","082","34222","Zawoja","Zawoja",null,"1307","GMINA",1215082,{"$f":"VLOOKUP(L176,Arkusz3!A:L,2,0)","v":"  Zawoja.........................................................................................................................................................................................................................................................."},1215082,{"$f":"VLOOKUP(N176,Arkusz3!A:L,5,0)","v":128},{"$f":"VLOOKUP(N176,Arkusz3!A:L,6,0)","v":9126},{"$f":"VLOOKUP(N176,Arkusz3!A:L,8,0)","v":71},{"$f":"VLOOKUP(N176,Arkusz3!AN:AP,3,0)","v":1040.46}]
["5521576805","GMINA ZEMBRZYCE","12","15","092","34210","Zembrzyce","Zembrzyce",null,"540","GMINA",1215092,{"$f":"VLOOKUP(L177,Arkusz3!A:L,2,0)","v":"  Zembrzyce.........................................................................................................................................................................................................................................................."},1215092,{"$f":"VLOOKUP(N177,Arkusz3!A:L,5,0)","v":39},{"$f":"VLOOKUP(N177,Arkusz3!A:L,6,0)","v":5620},{"$f":"VLOOKUP(N177,Arkusz3!A:L,8,0)","v":143},{"$f":"VLOOKUP(N177,Arkusz3!AN:AP,3,0)","v":1127.97}]
["5130038162","GMINA ZIELONKI","12","06","172","32087","Zielonki","Zielonki","ul. Krakowskie Przedmieście","116","GMINA",1206172,{"$f":"VLOOKUP(L178,Arkusz3!A:L,2,0)","v":"  Zielonki.........................................................................................................................................................................................................................................................."},1206172,{"$f":"VLOOKUP(N178,Arkusz3!A:L,5,0)","v":49},{"$f":"VLOOKUP(N178,Arkusz3!A:L,6,0)","v":22582},{"$f":"VLOOKUP(N178,Arkusz3!A:L,8,0)","v":465},{"$f":"VLOOKUP(N178,Arkusz3!AN:AP,3,0)","v":2568.85}]
["9930370109","GMINA ŻABNO","12","16","154","33240","Żabno","Żabno","ul. Władysława Jagiełły","1         ","GMINA",1216154,{"$f":"VLOOKUP(L179,Arkusz3!A:L,2,0)","v":""},1216153,{"$f":"VLOOKUP(N179,Arkusz3!A:L,5,0)","v":102},{"$f":"VLOOKUP(N179,Arkusz3!A:L,6,0)","v":18912},{"$f":"VLOOKUP(N179,Arkusz3!A:L,8,0)","v":186},{"$f":"VLOOKUP(N179,Arkusz3!AN:AP,3,0)","v":1385.94}]
["8681021319","GMINA ŻEGOCINA","12","01","092","32731","Żegocina","Żegocina",null,"316","GMINA",1201092,{"$f":"VLOOKUP(L180,Arkusz3!A:L,2,0)","v":"  Żegocina.........................................................................................................................................................................................................................................................."},1201092,{"$f":"VLOOKUP(N180,Arkusz3!A:L,5,0)","v":35},{"$f":"VLOOKUP(N180,Arkusz3!A:L,6,0)","v":5543},{"$f":"VLOOKUP(N180,Arkusz3!A:L,8,0)","v":159},{"$f":"VLOOKUP(N180,Arkusz3!AN:AP,3,0)","v":981.08}]
["8681599283","POWIAT BOCHEŃSKI","12","01","011","32700","Bochnia","Bochnia","ul. Kazimierza Wielkiego","31","POWIAT","1201",null,{"$f":"L181*1","v":1201},{"$f":"VLOOKUP(L181,Arkusz3!M:T,4,0)","v":649},{"$f":"VLOOKUP(L181,Arkusz3!M:T,5,0)","v":106514},{"$f":"VLOOKUP(L181,Arkusz3!M:T,6,0)","v":164},{"$f":"VLOOKUP(N181,Arkusz3!AV4:AX384,3,0)","v":219.8}]
["8691652725","POWIAT BRZESKI","12","02","024","32800","Brzesko","Brzesko","ul. Bartosza Głowackiego","51","POWIAT","1202",null,{"$f":"L182*1","v":1202},{"$f":"VLOOKUP(L182,Arkusz3!M:T,4,0)","v":591},{"$f":"VLOOKUP(L182,Arkusz3!M:T,5,0)","v":93206},{"$f":"VLOOKUP(L182,Arkusz3!M:T,6,0)","v":158},{"$f":"VLOOKUP(N182,Arkusz3!AV5:AX385,3,0)","v":178.69}]
["6281715276","POWIAT CHRZANOWSKI","12","03","034","32500","Chrzanów","Chrzanów","ul. Partyzantów","2","POWIAT","1203",null,1203,{"$f":"VLOOKUP(L183,Arkusz3!M:T,4,0)","v":370},{"$f":"VLOOKUP(L183,Arkusz3!M:T,5,0)","v":125385},{"$f":"VLOOKUP(L183,Arkusz3!M:T,6,0)","v":339},{"$f":"VLOOKUP(N183,Arkusz3!AV6:AX386,3,0)","v":294.5}]
["8711771285","POWIAT DĄBROWSKI","12","04","024","33200","Dąbrowa Tarnowska","Dąbrowa Tarnowska","ul. Berka Joselewicza","5","POWIAT","1204",null,1204,{"$f":"VLOOKUP(L184,Arkusz3!M:T,4,0)","v":530},{"$f":"VLOOKUP(L184,Arkusz3!M:T,5,0)","v":59350},{"$f":"VLOOKUP(L184,Arkusz3!M:T,6,0)","v":112},{"$f":"VLOOKUP(N184,Arkusz3!AV7:AX387,3,0)","v":116.31}]
["7382150787","POWIAT GORLICKI","12","05","011","38300","Gorlice","Gorlice","ul. Biecka","3","POWIAT","1205",null,1205,{"$f":"VLOOKUP(L185,Arkusz3!M:T,4,0)","v":966},{"$f":"VLOOKUP(L185,Arkusz3!M:T,5,0)","v":109104},{"$f":"VLOOKUP(L185,Arkusz3!M:T,6,0)","v":113},{"$f":"VLOOKUP(N185,Arkusz3!AV8:AX388,3,0)","v":146.44999999999999}]
["6772364194","POWIAT KRAKOWSKI","12","61","029","30037","Kraków","Kraków","Aleja Juliusza Słowackiego","20","POWIAT","1206",null,1206,{"$f":"VLOOKUP(L186,Arkusz3!M:T,4,0)","v":1231},{"$f":"VLOOKUP(L186,Arkusz3!M:T,5,0)","v":277145},{"$f":"VLOOKUP(L186,Arkusz3!M:T,6,0)","v":225},{"$f":"VLOOKUP(N186,Arkusz3!AV9:AX389,3,0)","v":327.42}]
["7372206836","POWIAT LIMANOWSKI","12","07","011","34600","Limanowa","Limanowa","ul. Józefa Marka","9","POWIAT","1207",null,1207,{"$f":"VLOOKUP(L187,Arkusz3!M:T,4,0)","v":951},{"$f":"VLOOKUP(L187,Arkusz3!M:T,5,0)","v":131523},{"$f":"VLOOKUP(L187,Arkusz3!M:T,6,0)","v":138},{"$f":"VLOOKUP(N187,Arkusz3!AV10:AX390,3,0)","v":152.30000000000001}]
["6591545868","POWIAT MIECHOWSKI","12","08","054","32200","Miechów","Miechów","ul. Racławicka","12","POWIAT","1208",null,1208,{"$f":"VLOOKUP(L188,Arkusz3!M:T,4,0)","v":676},{"$f":"VLOOKUP(L188,Arkusz3!M:T,5,0)","v":49137},{"$f":"VLOOKUP(L188,Arkusz3!M:T,6,0)","v":73},{"$f":"VLOOKUP(N188,Arkusz3!AV11:AX391,3,0)","v":151.69999999999999}]
["6811692325","POWIAT MYŚLENICKI","12","09","034","32400","Myślenice","Myślenice","ul. Mikołaja Reja","13","POWIAT","1209",null,1209,{"$f":"VLOOKUP(L189,Arkusz3!M:T,4,0)","v":673},{"$f":"VLOOKUP(L189,Arkusz3!M:T,5,0)","v":127028},{"$f":"VLOOKUP(L189,Arkusz3!M:T,6,0)","v":189},{"$f":"VLOOKUP(N189,Arkusz3!AV12:AX392,3,0)","v":207.5}]
["7343544080","POWIAT NOWOSĄDECKI","12","62","011","33300","Nowy Sącz","Nowy Sącz","ul. Jagiellońska","33","POWIAT","1210",null,1210,{"$f":"VLOOKUP(L190,Arkusz3!M:T,4,0)","v":1549},{"$f":"VLOOKUP(L190,Arkusz3!M:T,5,0)","v":216176},{"$f":"VLOOKUP(L190,Arkusz3!M:T,6,0)","v":139},{"$f":"VLOOKUP(N190,Arkusz3!AV13:AX393,3,0)","v":159.5}]
["7352175044","POWIAT NOWOTARSKI","12","11","011","34400","Nowy Targ","Nowy Targ","ul. Bolesława Wstydliwego","14","POWIAT","1211",null,1211,{"$f":"VLOOKUP(L191,Arkusz3!M:T,4,0)","v":1474},{"$f":"VLOOKUP(L191,Arkusz3!M:T,5,0)","v":191508},{"$f":"VLOOKUP(L191,Arkusz3!M:T,6,0)","v":130},{"$f":"VLOOKUP(N191,Arkusz3!AV14:AX394,3,0)","v":142.19}]
["6372024678","POWIAT OLKUSKI","12","12","054","32300","Olkusz","Olkusz","ul. Adama Mickiewicza","2","POWIAT","1212",null,1212,{"$f":"VLOOKUP(L192,Arkusz3!M:T,4,0)","v":618},{"$f":"VLOOKUP(L192,Arkusz3!M:T,5,0)","v":112035},{"$f":"VLOOKUP(L192,Arkusz3!M:T,6,0)","v":181},{"$f":"VLOOKUP(N192,Arkusz3!AV15:AX395,3,0)","v":291.72000000000003}]
["5492197501","POWIAT OŚWIĘCIMSKI","12","13","011","32602","Oświęcim","Oświęcim","ul. Stanisława Wyspiańskiego","10","POWIAT","1213",null,1213,{"$f":"VLOOKUP(L193,Arkusz3!M:T,4,0)","v":406},{"$f":"VLOOKUP(L193,Arkusz3!M:T,5,0)","v":153737},{"$f":"VLOOKUP(L193,Arkusz3!M:T,6,0)","v":379},{"$f":"VLOOKUP(N193,Arkusz3!AV16:AX396,3,0)","v":289.66000000000003}]
["6821436782","POWIAT PROSZOWICKI","12","14","054","32100","Proszowice","Proszowice","ul. 3 Maja","72","POWIAT","1214",null,1214,{"$f":"VLOOKUP(L194,Arkusz3!M:T,4,0)","v":415},{"$f":"VLOOKUP(L194,Arkusz3!M:T,5,0)","v":43523},{"$f":"VLOOKUP(L194,Arkusz3!M:T,6,0)","v":105},{"$f":"VLOOKUP(N194,Arkusz3!AV17:AX397,3,0)","v":145.32}]
["5521427933","POWIAT SUSKI","12","15","021","34200","Sucha Beskidzka","Sucha Beskidzka","ul. Kościelna","5b","POWIAT","1215",null,1215,{"$f":"VLOOKUP(L195,Arkusz3!M:T,4,0)","v":686},{"$f":"VLOOKUP(L195,Arkusz3!M:T,5,0)","v":84255},{"$f":"VLOOKUP(L195,Arkusz3!M:T,6,0)","v":123},{"$f":"VLOOKUP(N195,Arkusz3!AV18:AX398,3,0)","v":186.54}]
["9930660913","POWIAT TARNOWSKI","12","63","011","33100","Tarnów","Tarnów","ul. Gabriela Narutowicza","38","POWIAT","1216",null,1216,{"$f":"VLOOKUP(L196,Arkusz3!M:T,4,0)","v":1412},{"$f":"VLOOKUP(L196,Arkusz3!M:T,5,0)","v":201570},{"$f":"VLOOKUP(L196,Arkusz3!M:T,6,0)","v":143},{"$f":"VLOOKUP(N196,Arkusz3!AV19:AX399,3,0)","v":155.99}]
["7361720593","POWIAT TATRZAŃSKI","12","17","011","34500","Zakopane","Zakopane","ul. Chramcówki","15","POWIAT","1217",null,1217,{"$f":"VLOOKUP(L197,Arkusz3!M:T,4,0)","v":472},{"$f":"VLOOKUP(L197,Arkusz3!M:T,5,0)","v":68146},{"$f":"VLOOKUP(L197,Arkusz3!M:T,6,0)","v":144},{"$f":"VLOOKUP(N197,Arkusz3!AV20:AX400,3,0)","v":196.47}]
["5512129478","POWIAT WADOWICKI","12","18","094","34100","Wadowice","Wadowice","ul. Batorego","2","POWIAT","1218",null,1218,{"$f":"VLOOKUP(L198,Arkusz3!M:T,4,0)","v":646},{"$f":"VLOOKUP(L198,Arkusz3!M:T,5,0)","v":160130},{"$f":"VLOOKUP(L198,Arkusz3!M:T,6,0)","v":248},{"$f":"VLOOKUP(N198,Arkusz3!AV21:AX401,3,0)","v":229.25}]
["6831742730","POWIAT WIELICKI","12","19","054","32020","Wieliczka","Wieliczka","ul. Rynek Górny","2","POWIAT","1219",null,1219,{"$f":"VLOOKUP(L199,Arkusz3!M:T,4,0)","v":411},{"$f":"VLOOKUP(L199,Arkusz3!M:T,5,0)","v":127078},{"$f":"VLOOKUP(L199,Arkusz3!M:T,6,0)","v":309},{"$f":"VLOOKUP(N199,Arkusz3!AV22:AX402,3,0)","v":296.05}]
["7343507021","NOWY SĄCZ - MIASTO NA PRAWACH POWIATU","12","62","011","33300","Nowy Sącz","Nowy Sącz","ul. Rynek","1","MNPP","1262",null,1262,{"$f":"VLOOKUP(L200,Arkusz3!M:T,4,0)","v":58},{"$f":"VLOOKUP(L200,Arkusz3!M:T,5,0)","v":83896},{"$f":"VLOOKUP(L200,Arkusz3!M:T,6,0)","v":1457},{"$f":"VLOOKUP(N200,Arkusz3!AV23:AX403,3,0)","v":292.82}]
["8731011086","TARNÓW - MIASTO NA PRAWACH POWIATU","12","63","011","33100","Tarnów","Tarnów","ul. Adama Mickiewicza","2","MNPP","1263",null,1263,{"$f":"VLOOKUP(L201,Arkusz3!M:T,4,0)","v":72},{"$f":"VLOOKUP(L201,Arkusz3!M:T,5,0)","v":109062},{"$f":"VLOOKUP(L201,Arkusz3!M:T,6,0)","v":1507},{"$f":"VLOOKUP(N201,Arkusz3!AV24:AX404,3,0)","v":270.20999999999998}]
["6761013717","GMINA MIEJSKA KRAKÓW-MIASTO NA PRAWACH POWIATU","12","61","059","31004","Kraków","Kraków","Plac Wszystkich Świętych","3-4","MNPP","1261",null,1261,{"$f":"VLOOKUP(L202,Arkusz3!M:T,4,0)","v":327},{"$f":"VLOOKUP(L202,Arkusz3!M:T,5,0)","v":771069},{"$f":"VLOOKUP(L202,Arkusz3!M:T,6,0)","v":2359},{"$f":"VLOOKUP(N202,Arkusz3!AV25:AX405,3,0)","v":476.73}]
["6762178337","WOJEWÓDZTWO MAŁOPOLSKIE","12","61","059","31156","Kraków","Kraków","ul. Basztowa","22","WOJEWÓDZTWO","12",null,12,{"$f":"VLOOKUP(L203,Arkusz3!W:AD,4,0)","v":15183},{"$f":"VLOOKUP(L203,Arkusz3!W:AD,5,0)","v":3400577},{"$f":"VLOOKUP(L203,Arkusz3!W:AD,6,0)","v":224},{"$f":"VLOOKUP(N203,Arkusz3!AV26:AX406,3,0)","v":{"$error":"#N/A"}}]

{"sheet":"Arkusz3","index":4,"n_rows":4876,"n_cols":52,"rows_kept":2250,"cut":true,"hidden":true,"merged":[],"bounds":{"rows_first":1000,"rows_last":250,"rows_between":1000,"halvings":1}}
["TABL.21.POWIERZCHNIA,LUDNOŚĆORAZLOKATYWEDŁUGGMIN\nAREA,POPULATIONANDRANKINGPOSITIONSBYGMINAS",null,null,null,null,null,null,null,null,null,null,null,"",null,null,null,null,null,null,null,null,null,"",null,null,null,null,null,null,null,null,"Warszawa, 15.10.2019 r.",null,null,null,null,null,null,null,null,null,null,null,"Warszawa, 15.10.2019 r."]
[null,null,null,null,null,null,null,null,null,null,null,null,null,null,null,null,null,null,null,null,null,null,null,null,null,null,null,null,null,null,null,"Wskaźnik G - podstawowych dochodów podatkowych  na 1 mieszkańca gminy przyjęty do obliczania subwencji wyrównawczej na 2020 r."]
["","","",null,null,"",null,null,"",null,null,null,"","","",null,"",null,"",null,null,null,"","","",null,"",null,"",null,null,null,null,null,null,null,null,null,null,null,null,null,null,""]
[null,null,"",null,"","",null,"","","",null,null,null,null,"","","","","","",null,null,null,null,"","","","","","",null,null,null,null,null,null,null,null,null,null,null,null,null,"WK","PK",null,null,null,"P O W I A T","Wskaźnik P\nna 2020",null,"5130038162"]
["","WOJ. DOLNOŚLĄSKIE",null,null,null,null,null,null,null,null,null,null,"","WOJ. DOLNOŚLĄSKIE",null,null,null,null,null,null,null,null,"","P O L S K A",31270525,312705,38411148,123,"x","x",null,null,null,null,null,null,null,null,null,null,null,null,null,"02","01",{"$f":"AR5*100","v":200},{"$f":"+AS5*1","v":1},{"$f":"AT5+AU5","v":201},"bolesławiecki",230.14,null,"5130060109"]
["","Powiat bolesławiecki  (6 gmin)",null,null,null,null,null,null,null,null,null,null,""," Powiaty:",null,null,null,null,null,null,null,null,"","P O L A N D",null,null,null,null,null,null,null,"Kod gminy",null,null,null,null,null,null,null,null,"GMINA","Wskaźnik G \n na 2020 r.",null,"02","02",{"$f":"AR6*100","v":200},{"$f":"+AS6*1","v":2},{"$f":"AT6+AU6","v":202},"dzierżoniowski",201.23,null,"5130066230"]
["","",null,null,null,null,null,null,null,null,null,null,""," Powiats:",null,null,null,null,null,null,null,null,"02","Dolnośląskie",1994670,19947,2901225,145,7,5,null,"02","01","01",1,{"$f":"AF7*100000","v":200000},{"$f":"AG7*1000","v":1000},{"$f":"AH7*10","v":10},{"$f":"AI7*1","v":1},{"$f":"SUM(AJ7:AM7)","v":201011},"BOLESŁAWIEC",1897.67,null,"02","03",200,3,203,"głogowski",336.84,null,"5130233774"]
[201011,"  Bolesławiec..........................................................................................................................................................................................................................................................",2357,"",24,38935,"",1652,2206,132,null,null,"0201","   bolesławiecki",130351,1304,90200,69,64,98,null,null,"04","Kujawsko-pomorskie",1797134,17971,2077775,116,10,10,null,"02","01","02",2,{"$f":"AF8*100000","v":200000},{"$f":"AG8*1000","v":1000},{"$f":"AH8*10","v":20},{"$f":"AI8*1","v":2},{"$f":"SUM(AJ8:AM8)","v":201022},"BOLESŁAWIEC",2140.02,null,"02","04",200,4,204,"górowski",154.71,null,"5492197435"]
["","",null,null,null,null,null,null,null,null,null,null,"0202","   dzierżoniowski",47851,479,101437,212,285,78,null,null,"06","Lubelskie",2512246,25123,2117619,84,3,9,null,"02","01","03",2,200000,1000,30,2,201032,"GROMADKA",2423.86,null,"02","05",200,5,205,"jaworski",192.8,null,"5492197441"]
[201022,"  Bolesławiec..........................................................................................................................................................................................................................................................",28849,"",289,14626,"",51,116,536,null,null,"0203","   głogowski",44327,443,89541,202,293,101,null,null,"08","Lubuskie",1398793,13988,1014548,73,13,15,null,"02","01","04",3,200000,1000,40,3,201043,"NOWOGRODZIEC",2048.27,null,"02","06",200,6,206,"jeleniogórski",224.05,null,"5492197458"]
[201032,"  Gromadka..........................................................................................................................................................................................................................................................",26768,"",268,5367,"",20,139,1638,null,null,"0204","   górowski",73827,738,35182,48,199,299,null,null,"10","Łódzkie",1821895,18219,2466322,135,9,6,null,"02","01","05",2,200000,1000,50,2,201052,"OSIECZNICA",2449.9299999999998,null,"02","07",200,7,207,"kamiennogórski",187.53,null,"5492197464"]
[201052,"  Osiecznica..........................................................................................................................................................................................................................................................",43704,"↑",437,7371,"",17,12,1230,null,null,"0205","   jaworski",58155,582,50545,87,261,240,null,null,"12","Małopolskie",1518279,15183,3400577,224,12,4,null,"02","01","06",2,200000,1000,60,2,201062,"WARTA BOLESŁAWIECKA",1782.52,null,"02","08",200,8,208,"kłodzki",191.41,null,"5492197470"]
[201062,"  Warta Bolesławiecka..........................................................................................................................................................................................................................................................",11044,"",110,8643,"",78,1214,1027,null,null,"0206","   jeleniogórski",62714,627,63855,102,242,184,null,null,"14","Mazowieckie",3555847,35559,5403412,152,1,1,null,"02","02","01",1,200000,2000,10,1,202011,"BIELAWA",1159.8599999999999,null,"02","09",200,9,209,"legnicki",227.53,null,"5492197487"]
["","",null,null,null,null,null,null,null,null,null,null,"0207","   kamiennogórski",39569,396,43621,110,301,270,null,null,"16","Opolskie",941187,9412,986506,105,16,16,null,"02","02","02",1,200000,2000,20,1,202021,"DZIERŻONIÓW",1675.1,null,"02","10",200,10,210,"lubański",200.75,null,"5492197501"]
[201043,"  Nowogrodziec..........................................................................................................................................................................................................................................................",17629,"",176,15258,"",87,476,510,null,null,"0208","   kłodzki",164330,1642,159337,97,25,18,null,null,"18","Podkarpackie",1784576,17846,2129015,119,11,8,null,"02","02","03",3,200000,2000,30,3,202033,"PIESZYCE",1279.58,null,"02","11",200,11,211,"lubiński",418.29,null,"5492198593"]
[201044,"",1610,"",16,4235,"",263,"x","x",null,null,"0209","   legnicki",74408,744,55326,74,196,223,null,null,"20","Podlaskie",2018702,20187,1181533,59,6,14,null,"02","02","04",1,200000,2000,40,1,202041,"PIŁAWA GÓRNA",1179.5999999999999,null,"02","12",200,12,212,"lwówecki",163.61000000000001,null,"5492199463"]
[201045,"",16019,"",160,11023,"",69,"x","x",null,null,"0210","   lubański",42830,428,54699,128,296,227,null,null,"22","Pomorskie",1832368,18323,2333523,127,8,7,null,"02","02","05",2,200000,2000,50,2,202052,"DZIERŻONIÓW",1459.74,null,"02","13",200,13,213,"milicki",199.26,null,"5492202969"]
["","Powiat dzierżoniowski  (7 gmin)",null,null,null,null,null,null,null,null,null,null,"0211","   lubiński",71162,712,106254,149,212,76,null,null,"24","Śląskie",1233309,12333,4533565,368,14,2,null,"02","02","06",2,200000,2000,60,2,202062,"ŁAGIEWNIKI",1267.96,null,"02","14",200,14,214,"oleśnicki",249.2,null,"5510013406"]
["","",null,null,null,null,null,null,null,null,null,null,"0212","   lwówecki",70969,710,46059,65,214,256,null,null,"26","Świętokrzyskie",1171050,11710,1241546,106,15,13,null,"02","02","07",3,200000,2000,70,3,202073,"NIEMCZA",1189.8,null,"02","15",200,15,215,"oławski",300,null,"5511003597"]
[202011,"  Bielawa..........................................................................................................................................................................................................................................................",3621,"",36,30055,"",830,2118,188,null,null,"0213","   milicki",71493,715,37093,52,209,293,null,null,"28","Warmińsko-mazurskie",2417347,24173,1428983,59,4,12,null,"02","03","01",1,200000,3000,10,1,203011,"GŁOGÓW",2628.91,null,"02","16",200,16,216,"polkowicki",394.06,null,"5511123841"]
[202021,"  Dzierżoniów..........................................................................................................................................................................................................................................................",2007,"",20,33344,"",1661,2237,163,null,null,"0214","   oleśnicki",104931,1049,107062,102,112,72,null,null,"30","Wielkopolskie",2982650,29826,3493969,117,2,3,null,"02","03","02",2,200000,3000,20,2,203022,"GŁOGÓW",2639.41,null,"02","17",200,17,217,"strzeliński",207.07,null,"5511123918"]
[202041,"  Piława Górna..........................................................................................................................................................................................................................................................",2093,"",21,6457,"",309,2229,1396,null,null,"0215","   oławski",52410,524,76595,146,276,142,null,null,"32","Zachodniopomorskie",2290472,22905,1701030,74,5,11,null,"02","03","03",2,200000,3000,30,2,203032,"JERZMANOWA",7006.93,null,"02","18",200,18,218,"średzki",260.83999999999997,null,"5511123930"]
["","",null,null,null,null,null,null,null,null,null,null,"0216","   polkowicki",77946,779,62982,81,185,188,null,null,null,null,null,null,null,null,null,null,null,"02","03","04",2,200000,3000,40,2,203042,"KOTLA",1603.47,null,"02","19",200,19,219,"świdnicki",259.89999999999998,null,"5511158182"]
[202052,"  Dzierżoniów..........................................................................................................................................................................................................................................................",14106,"",141,9138,"",65,770,959,null,null,"0217","   strzeliński",62206,622,43773,70,246,269,null,null,null,null,null,null,null,null,null,null,null,"02","03","05",2,200000,3000,50,2,203052,"PĘCŁAW",1232.1099999999999,null,"02","20",200,20,220,"trzebnicki",270.25,null,"5511158242"]
[202062,"  Łagiewniki..........................................................................................................................................................................................................................................................",12477,"",125,7449,"",60,981,1216,null,null,"0218","   średzki",70414,704,54269,77,216,228,null,null,null,null,null,null,null,null,null,null,null,"02","03","06",2,200000,3000,60,2,203062,"ŻUKOWICE",1681.54,null,"02","21",200,21,221,"wałbrzyski",219.73,null,"5511163935"]
["","",null,null,null,null,null,null,null,null,null,null,"0219","   świdnicki",74114,741,157615,213,197,20,null,null,null,null,null,null,null,null,null,null,null,"02","04","01",3,200000,4000,10,3,204013,"GÓRA",1464.01,null,"02","22",200,22,222,"wołowski",227.09,null,"5511690907"]
[202073,"  Niemcza..........................................................................................................................................................................................................................................................",7186,"",72,5502,"",77,1821,1601,null,null,"0220","   trzebnicki",102478,1025,84886,83,121,114,null,null,null,null,null,null,null,null,null,null,null,"02","04","02",2,200000,4000,20,2,204022,"JEMIELNO",1053.53,null,"02","23",200,23,223,"wrocławski",440.07,null,"5512129478"]
[202074,"",1981,"",20,2974,"",150,"x","x",null,null,"0221","   wałbrzyski",43022,430,56004,130,295,218,null,null,null,null,null,null,null,null,null,null,null,"02","04","03",2,200000,4000,30,2,204032,"NIECHLÓW",1251.21,null,"02","24",200,24,224,"ząbkowicki",196.27,null,"5512618591"]
[202075,"",5205,"",52,2528,"",49,"x","x",null,null,"0222","   wołowski",67496,675,47056,70,229,255,null,null,null,null,null,null,null,null,null,null,null,"02","04","04",3,200000,4000,40,3,204043,"WĄSOSZ",1400.34,null,"02","25",200,25,225,"zgorzelecki",289.51,null,"5521427933"]
[202033,"  Pieszyce..........................................................................................................................................................................................................................................................",6361,"",64,9492,"",149,1917,923,null,null,"0223","   wrocławski",111770,1118,146060,131,104,28,null,null,null,null,null,null,null,null,null,null,null,"02","05","01",1,200000,5000,10,1,205011,"JAWOR",1662.26,null,"02","26",200,26,226,"złotoryjski",202.99,null,"5521567404"]
[202034,"",1772,"",18,7136,"",403,"x","x",null,null,"0224","   ząbkowicki",80153,802,65428,82,180,180,null,null,null,null,null,null,null,null,null,null,null,"02","05","02",3,200000,5000,20,3,205023,"BOLKÓW",1023.42,null,"02","61",200,61,261,"Jelenia Góra",278.08,null,"5521570518"]
[202035,"",4589,"",46,2356,"",51,"x","x",null,null,"0225","   zgorzelecki",83860,839,90003,107,167,99,null,null,null,null,null,null,null,null,null,null,null,"02","05","03",2,200000,5000,30,2,205032,"MĘCINKA",1838.55,null,"02","62",200,62,262,"Legnica",302.51,null,"5521576805"]
["","Powiat głogowski  (6 gmin)",null,null,null,null,null,null,null,null,null,null,"0226","   złotoryjski",57581,576,43869,76,264,266,null,null,null,null,null,null,null,null,null,null,null,"02","05","04",2,200000,5000,40,2,205042,"MŚCIWOJÓW",1677.57,null,"02","64",200,64,264,"Wrocław",470.74,null,"5521579821"]
["","",null,null,null,null,null,null,null,null,null,null,""," Miasta na prawach powiatu:",null,null,null,null,null,null,null,null,null,null,null,null,null,null,null,null,null,"02","05","05",2,200000,5000,50,2,205052,"PASZOWICE",1435.3,null,"02","65",200,65,265,"Wałbrzych",247.84,null,"5521584963"]
[203011,"  Głogów..........................................................................................................................................................................................................................................................",3511,"",35,67615,"",1926,2127,59,null,null,""," Cities with powiat status:",null,null,null,null,null,null,null,null,null,null,null,null,null,null,null,null,null,"02","05","06",2,200000,5000,60,2,205062,"WĄDROŻE WIELKIE",1395.65,null,"04","01",400,1,401,"aleksandrowski",174.45,null,"5521586100"]
["","",null,null,null,null,null,null,null,null,null,null,"0261","   Jelenia Góra",10922,109,79480,728,25,45,null,null,null,null,null,null,null,null,null,null,null,"02","06","01",1,200000,6000,10,1,206011,"KARPACZ",3989.58,null,"04","02",400,2,402,"brodnicki",194.78,null,"5521588530"]
[203022,"  Głogów..........................................................................................................................................................................................................................................................",8479,"",85,6734,"",79,1621,1350,null,null,"0262","   Legnica",5629,56,99752,1772,50,39,null,null,null,null,null,null,null,null,null,null,null,"02","06","02",1,200000,6000,20,1,206021,"KOWARY",1466.46,null,"04","03",400,3,403,"bydgoski",326.86,null,"5521677860"]
[203032,"  Jerzmanowa..........................................................................................................................................................................................................................................................",6332,"",63,5042,"",80,1921,1715,null,null,"0265","   Wałbrzych",8470,85,112594,1329,34,33,null,null,null,null,null,null,null,null,null,null,null,"02","06","03",1,200000,6000,30,1,206031,"PIECHOWICE",2240.77,null,"04","04",400,4,404,"chełmiński",183.03,null,"5521707153"]
[203042,"  Kotla..........................................................................................................................................................................................................................................................",12752,"",128,4430,"",35,950,1866,null,null,"0264","   Wrocław",29282,293,640648,2188,5,4,null,null,null,null,null,null,null,null,null,null,null,"02","06","04",1,200000,6000,40,1,206041,"SZKLARSKA PORĘBA",2780.07,null,"04","05",400,5,405,"golubsko-dobrzyński",177.5,null,"6281715276"]
[203052,"  Pęcław..........................................................................................................................................................................................................................................................",6427,"",64,2274,"",35,1912,2269,null,null,"","WOJ. KUJAWSKO-POMORSKIE",null,null,null,null,null,null,null,null,null,null,null,null,null,null,null,null,null,"02","06","05",2,200000,6000,50,2,206052,"JANOWICE WIELKIE",1288.6099999999999,null,"04","06",400,6,406,"grudziądzki",157.15,null,"6282074477"]
[203062,"  Żukowice..........................................................................................................................................................................................................................................................",6826,"",68,3446,"",50,1869,2106,null,null,""," Powiaty:",null,null,null,null,null,null,null,null,null,null,null,null,null,null,null,null,null,"02","06","06",2,200000,6000,60,2,206062,"JEŻÓW SUDECKI",1647.64,null,"04","07",400,7,407,"inowrocławski",215.69,null,"6282260122"]
["","Powiat górowski  (4 gminy)",null,null,null,null,null,null,null,null,null,null,""," Powiats:",null,null,null,null,null,null,null,null,null,null,null,null,null,null,null,null,null,"02","06","07",2,200000,6000,70,2,206072,"MYSŁAKOWICE",1581.74,null,"04","08",400,8,408,"lipnowski",134.22,null,"6282260168"]
["","",null,null,null,null,null,null,null,null,null,null,"0401","   aleksandrowski",47463,475,55274,116,286,224,null,null,null,null,null,null,null,null,null,null,null,"02","06","08",2,200000,6000,80,2,206082,"PODGÓRZYN",1838.6,null,"04","09",400,9,409,"mogileński",192.35,null,"6282260665"]
[204022,"  Jemielno..........................................................................................................................................................................................................................................................",12402,"",124,3010,"",24,993,2186,null,null,"0402","   brodnicki",103997,1040,78898,76,116,131,null,null,null,null,null,null,null,null,null,null,null,"02","06","09",2,200000,6000,90,2,206092,"STARA KAMIENICA",2051.3200000000002,null,"04","10",400,10,410,"nakielski",181.32,null,"6282267905"]
[204032,"  Niechlów..........................................................................................................................................................................................................................................................",15103,"",151,4939,"",33,665,1737,null,null,"0403","   bydgoski",139412,1394,117325,84,48,51,null,null,null,null,null,null,null,null,null,null,null,"02","07","01",1,200000,7000,10,1,207011,"KAMIENNA GÓRA",1334.21,null,"04","11",400,11,411,"radziejowski",143.88999999999999,null,"6371997976"]
["","",null,null,null,null,null,null,null,null,null,null,"0404","   chełmiński",52694,527,52193,99,275,235,null,null,null,null,null,null,null,null,null,null,null,"02","07","02",2,200000,7000,20,2,207022,"KAMIENNA GÓRA",1375.01,null,"04","12",400,12,412,"rypiński",167.05,null,"6371998042"]
[204013,"  Góra..........................................................................................................................................................................................................................................................",26611,"",266,20037,"",75,143,341,null,null,"0405","   golubsko-dobrzyński",61285,613,45140,74,254,263,null,null,null,null,null,null,null,null,null,null,null,"02","07","03",3,200000,7000,30,3,207033,"LUBAWKA",1181.74,null,"04","13",400,13,413,"sępoleński",146.43,null,"6371998059"]
[204014,"",1365,"",14,11859,"",869,"x","x",null,null,"0406","   grudziądzki",72776,728,40271,55,205,283,null,null,null,null,null,null,null,null,null,null,null,"02","07","04",2,200000,7000,40,2,207042,"MARCISZÓW",920.5,null,"04","14",400,14,414,"świecki",209.33,null,"6371998065"]
[204015,"",25246,"",252,8178,"",32,"x","x",null,null,"0407","   inowrocławski",122518,1225,160647,131,78,16,null,null,null,null,null,null,null,null,null,null,null,"02","08","01",1,200000,8000,10,1,208011,"DUSZNIKI-ZDRÓJ",1873.13,null,"04","15",400,15,415,"toruński",222.24,null,"6372003423"]
[204043,"  Wąsosz..........................................................................................................................................................................................................................................................",19711,"",197,7196,"",37,364,1265,null,null,"0408","   lipnowski",101574,1016,66062,65,123,176,null,null,null,null,null,null,null,null,null,null,null,"02","08","02",1,200000,8000,20,1,208021,"KŁODZKO",1570.02,null,"04","16",400,16,416,"tucholski",171.61,null,"6372024112"]
[204044,"",324,"",3,2672,"",825,"x","x",null,null,"0409","   mogileński",67512,675,45821,68,228,259,null,null,null,null,null,null,null,null,null,null,null,"02","08","03",1,200000,8000,30,1,208031,"KUDOWA-ZDRÓJ",1415.37,null,"04","17",400,17,417,"wąbrzeski",168.83,null,"6372024678"]
[204045,"",19387,"",194,4524,"",23,"x","x",null,null,"0410","   nakielski",112008,1120,86590,77,101,108,null,null,null,null,null,null,null,null,null,null,null,"02","08","04",1,200000,8000,40,1,208041,"NOWA RUDA",1322.82,null,"04","18",400,18,418,"włocławski",160.49,null,"6590003697"]
["","Powiat jaworski  (6 gmin)",null,null,null,null,null,null,null,null,null,null,"0411","   radziejowski",60720,607,40714,67,256,281,null,null,null,null,null,null,null,null,null,null,null,"02","08","05",1,200000,8000,50,1,208051,"POLANICA-ZDRÓJ",2011.16,null,"04","19",400,19,419,"żniński",173.94,null,"6591153915"]
["","",null,null,null,null,null,null,null,null,null,null,"0412","   rypiński",58647,586,43826,75,259,267,null,null,null,null,null,null,null,null,null,null,null,"02","08","06",3,200000,8000,60,3,208063,"BYSTRZYCA KŁODZKA",1288.6400000000001,null,"04","61",400,61,461,"Bydgoszcz",311.68,null,"6591174001"]
[205011,"  Jawor..........................................................................................................................................................................................................................................................",1880,"",19,23056,"",1226,2248,283,null,null,"0413","   sępoleński",79109,791,41147,52,183,280,null,null,null,null,null,null,null,null,null,null,null,"02","08","07",2,200000,8000,70,2,208072,"KŁODZKO",1323.2,null,"04","62",400,62,462,"Grudziądz",234.19,null,"6591184436"]
["","",null,null,null,null,null,null,null,null,null,null,"0414","   świecki",147418,1474,99281,67,39,80,null,null,null,null,null,null,null,null,null,null,null,"02","08","08",3,200000,8000,80,3,208083,"LĄDEK-ZDRÓJ",1336.48,null,"04","63",400,63,463,"Toruń",326.2,null,"6591186961"]
[205032,"  Męcinka..........................................................................................................................................................................................................................................................",14778,"",148,4991,"",34,697,1726,null,null,"0415","   toruński",123042,1230,106935,87,77,73,null,null,null,null,null,null,null,null,null,null,null,"02","08","09",2,200000,8000,90,2,208092,"LEWIN KŁODZKI",1271.05,null,"04","64",400,64,464,"Włocławek",255.64,null,"6591222510"]
[205042,"  Mściwojów..........................................................................................................................................................................................................................................................",7194,"",72,4094,"",57,1818,1951,null,null,"0416","   tucholski",107546,1075,48374,45,107,248,null,null,null,null,null,null,null,null,null,null,null,"02","08","10",3,200000,8000,100,3,208103,"MIĘDZYLESIE",1078.69,null,"06","01",600,1,601,"bialski",133.44,null,"6591545868"]
[205052,"  Paszowice..........................................................................................................................................................................................................................................................",10128,"",101,3967,"",39,1364,1979,null,null,"0417","   wąbrzeski",50195,502,34413,69,280,302,null,null,null,null,null,null,null,null,null,null,null,"02","08","11",2,200000,8000,110,2,208112,"NOWA RUDA",1173.24,null,"06","02",600,2,602,"biłgorajski",132.87,null,"6591545880"]
[205062,"  Wądroże Wielkie..........................................................................................................................................................................................................................................................",8915,"",89,3934,"",44,1540,1991,null,null,"0418","   włocławski",147363,1474,86352,59,40,109,null,null,null,null,null,null,null,null,null,null,null,"02","08","12",3,200000,8000,120,3,208123,"RADKÓW",1499.3,null,"06","03",600,3,603,"chełmski",112.98,null,"6761013717"]
["","",null,null,null,null,null,null,null,null,null,null,"0419","   żniński",98477,985,70413,72,132,163,null,null,null,null,null,null,null,null,null,null,null,"02","08","13",3,200000,8000,130,3,208133,"STRONIE ŚLĄSKIE",1742.1,null,"06","04",600,4,604,"hrubieszowski",122.3,null,"6761706490"]
[205023,"  Bolków..........................................................................................................................................................................................................................................................",15260,"",153,10503,"",69,650,825,null,null,""," Miasta na prawach powiatu:",null,null,null,null,null,null,null,null,null,null,null,null,null,null,null,null,null,"02","08","14",3,200000,8000,140,3,208143,"SZCZYTNA",1160.1099999999999,null,"06","05",600,5,605,"janowski",133.88,null,"6762178337"]
[205024,"",768,"",8,5001,"",651,"x","x",null,null,""," Cities with powiat status:",null,null,null,null,null,null,null,null,null,null,null,null,null,null,null,null,null,"02","09","01",1,200000,9000,10,1,209011,"CHOJNÓW",1397.92,null,"06","06",600,6,606,"krasnostawski",148.31,null,"6771024094"]
[205025,"",14492,"",145,5502,"",38,"x","x",null,null,"0461","   Bydgoszcz",17598,176,350178,1990,11,8,null,null,null,null,null,null,null,null,null,null,null,"02","09","02",2,200000,9000,20,2,209022,"CHOJNÓW",1586.19,null,"06","07",600,7,607,"kraśnicki",145.86000000000001,null,"6771037576"]
["","Powiat jeleniogórski  (9 gmin)",null,null,null,null,null,null,null,null,null,null,"0462","   Grudziądz",5776,58,95045,1646,48,40,null,null,null,null,null,null,null,null,null,null,null,"02","09","03",2,200000,9000,30,2,209032,"KROTOSZYCE",1807.9,null,"06","08",600,8,608,"lubartowski",152.18,null,"6772019451"]
["","",null,null,null,null,null,null,null,null,null,null,"0463","   Toruń",11572,116,202074,1746,22,15,null,null,null,null,null,null,null,null,null,null,null,"02","09","04",2,200000,9000,40,2,209042,"KUNICE",2709.58,null,"06","09",600,9,609,"lubelski",198.46,null,"6772364194"]
[206011,"  Karpacz..........................................................................................................................................................................................................................................................",3799,"",38,4633,"",122,2108,1811,null,null,"0464","   Włocławek",8432,84,110802,1314,35,34,null,null,null,null,null,null,null,null,null,null,null,"02","09","05",2,200000,9000,50,2,209052,"LEGNICKIE POLE",3337.59,null,"06","10",600,10,610,"łęczyński",203.06,null,"6791023301"]
[206021,"  Kowary..........................................................................................................................................................................................................................................................",3739,"",37,10957,"",293,2111,781,null,null,"","WOJ. LUBELSKIE",null,null,null,null,null,null,null,null,null,null,null,null,null,null,null,null,null,"02","09","06",2,200000,9000,60,2,209062,"MIŁKOWICE",1562.44,null,"06","11",600,11,611,"łukowski",163.58000000000001,null,"6811004414"]
[206031,"  Piechowice..........................................................................................................................................................................................................................................................",4322,"",43,6222,"",144,2069,1442,null,null,""," Powiaty:",null,null,null,null,null,null,null,null,null,null,null,null,null,null,null,null,null,"02","09","07",3,200000,9000,70,3,209073,"PROCHOWICE",1931.91,null,"06","12",600,12,612,"opolski",126.14,null,"6811004443"]
[206041,"  Szklarska Poręba..........................................................................................................................................................................................................................................................",7544,"",75,6611,"",88,1766,1370,null,null,""," Powiats:",null,null,null,null,null,null,null,null,null,null,null,null,null,null,null,null,null,"02","09","08",2,200000,9000,80,2,209082,"RUJA",1329.89,null,"06","13",{"$f":"AR70*100","v":600},{"$f":"+AS70*1","v":13},{"$f":"AT70+AU70","v":613},"parczewski",147.30000000000001,null,"6811036147"]
["","",null,null,null,null,null,null,null,null,null,null,"0601","   bialski",275426,2754,111391,40,3,64,null,null,null,null,null,null,null,null,null,null,null,"02","10","01",1,200000,10000,10,1,210011,"LUBAŃ",1620.57,null,"06","14",600,14,614,"puławski",230.8,null,"6811299390"]
[206052,"  Janowice Wielkie..........................................................................................................................................................................................................................................................",5783,"",58,4309,"",75,1958,1897,null,null,"0602","   biłgorajski",168110,1681,101435,60,20,79,null,null,null,null,null,null,null,null,null,null,null,"02","10","02",1,{"$f":"AF72*100000","v":200000},{"$f":"AG72*1000","v":10000},{"$f":"AH72*10","v":20},{"$f":"AI72*1","v":1},{"$f":"SUM(AJ72:AM72)","v":210021},"ŚWIERADÓW-ZDRÓJ",2094.21,null,"06","15",600,15,615,"radzyński",143.76,null,"6811304607"]
[206062,"  Jeżów Sudecki..........................................................................................................................................................................................................................................................",9428,"",94,7397,"",78,1484,1225,null,null,"0603","   chełmski",188560,1886,78228,41,11,134,null,null,null,null,null,null,null,null,null,null,null,"02","10","03",3,200000,10000,30,3,210033,"LEŚNA",1115.43,null,"06","16",600,16,616,"rycki",200.17,null,"6811355131"]
[206072,"  Mysłakowice..........................................................................................................................................................................................................................................................",8798,"",88,10196,"",116,1561,848,null,null,"0604","   hrubieszowski",126802,1268,63698,50,70,186,null,null,null,null,null,null,null,null,null,null,null,"02","10","04",2,200000,10000,40,2,210042,"LUBAŃ",1387.14,null,"06","17",600,17,617,"świdnicki",217.75,null,"6811359293"]
[206082,"  Podgórzyn..........................................................................................................................................................................................................................................................",8251,"",83,8254,"",100,1664,1084,null,null,"0605","   janowski",87528,876,46057,53,160,257,null,null,null,null,null,null,null,null,null,null,null,"02","10","05",3,200000,10000,50,3,210053,"OLSZYNA",1287.68,null,"06","18",600,18,618,"tomaszowski",128.18,null,"6811381938"]
[206092,"  Stara Kamienica..........................................................................................................................................................................................................................................................",11050,"",111,5276,"",48,1212,1659,null,null,"0606","   krasnostawski",103144,1032,63925,62,118,183,null,null,null,null,null,null,null,null,null,null,null,"02","10","06",2,200000,10000,60,2,210062,"PLATERÓWKA",1975.86,null,"06","19",600,19,619,"włodawski",142.75,null,"6811692325"]
["","Powiat kamiennogórski  (4 gminy)",null,null,null,null,null,null,null,null,null,null,"0607","   kraśnicki",100530,1005,96043,96,127,87,null,null,null,null,null,null,null,null,null,null,null,"02","10","07",2,200000,10000,70,2,210072,"SIEKIERCZYN",1326.65,null,"06","20",600,20,620,"zamojski",124.68,null,"6821436782"]
["","",null,null,null,null,null,null,null,null,null,null,"0608","   lubartowski",128874,1289,88789,69,66,102,null,null,null,null,null,null,null,null,null,null,null,"02","11","01",1,200000,11000,10,1,211011,"LUBIN",2460.5500000000002,null,"06","61",600,61,661,"Biała Podlaska",240.94,null,"6821604469"]
[207011,"  Kamienna Góra..........................................................................................................................................................................................................................................................",1804,"",18,19136,"",1061,2252,368,null,null,"0609","   lubelski",167953,1680,154387,92,21,21,null,null,null,null,null,null,null,null,null,null,null,"02","11","02",2,200000,11000,20,2,211022,"LUBIN",3876.92,null,"06","62",600,62,662,"Chełm",225.78,null,"6821604831"]
["","",null,null,null,null,null,null,null,null,null,null,"0610","   łęczyński",63664,637,57457,90,241,207,null,null,null,null,null,null,null,null,null,null,null,"02","11","03",2,200000,11000,30,2,211032,"RUDNA",4378.08,null,"06","63",600,63,663,"Lublin",329.26,null,"6821605658"]
[207022,"  Kamienna Góra..........................................................................................................................................................................................................................................................",15803,"",158,9037,"",57,616,981,null,null,"0611","   łukowski",139421,1394,107449,77,47,71,null,null,null,null,null,null,null,null,null,null,null,"02","11","04",3,200000,11000,40,3,211043,"ŚCINAWA",1506.22,null,"06","64",600,64,664,"Zamość",242.56,null,"6821606646"]
[207042,"  Marciszów..........................................................................................................................................................................................................................................................",8157,"",82,4513,"",55,1679,1847,null,null,"0612","   opolski",81002,810,59726,74,176,198,null,null,null,null,null,null,null,null,null,null,null,"02","12","01",3,200000,12000,10,3,212013,"GRYFÓW ŚLĄSKI",1227.1300000000001,null,"08","01",800,1,801,"gorzowski",266.42,null,"6821634453"]
["","",null,null,null,null,null,null,null,null,null,null,"0613","   parczewski",95220,952,34954,37,142,300,null,null,null,null,null,null,null,null,null,null,null,"02","12","02",3,200000,12000,20,3,212023,"LUBOMIERZ",912.91,null,"08","02",800,2,802,"krośnieński",201.27,null,"6821635547"]
[207033,"  Lubawka..........................................................................................................................................................................................................................................................",13805,"",138,10935,"",79,801,785,null,null,"0614","   puławski",93409,934,113762,122,146,59,null,null,null,null,null,null,null,null,null,null,null,"02","12","03",3,200000,12000,30,3,212033,"LWÓWEK ŚLĄSKI",1466.57,null,"08","03",800,3,803,"międzyrzecki",201.76,null,"6821642228"]
[207034,"",2244,"",22,6063,"",270,"x","x",null,null,"0615","   radzyński",96506,965,59278,61,138,201,null,null,null,null,null,null,null,null,null,null,null,"02","12","04",3,200000,12000,40,3,212043,"MIRSK",1113.32,null,"08","04",800,4,804,"nowosolski",189.98,null,"6821762292"]
[207035,"",11561,"",116,4872,"",42,"x","x",null,null,"0616","   rycki",61453,615,56166,91,253,217,null,null,null,null,null,null,null,null,null,null,null,"02","12","05",3,200000,12000,50,3,212053,"WLEŃ",1128.8399999999999,null,"08","05",800,5,805,"słubicki",225.81,null,"6821773580"]
["","Powiat kłodzki  (14 gmin)",null,null,null,null,null,null,null,null,null,null,"0617","   świdnicki",46835,468,72039,154,289,158,null,null,null,null,null,null,null,null,null,null,null,"02","13","01",2,200000,13000,10,2,213012,"CIESZKÓW",1198.5999999999999,null,"08","06",800,6,806,"strzelecko-drezdenecki",181.63,null,"6821773870"]
["","",null,null,null,null,null,null,null,null,null,null,"0618","   tomaszowski",148889,1489,83715,56,37,117,null,null,null,null,null,null,null,null,null,null,null,"02","13","02",2,200000,13000,20,2,213022,"KROŚNICE",2433.12,null,"08","07",800,7,807,"sulęciński",195.46,null,"6830011450"]
[208011,"  Duszniki-Zdrój..........................................................................................................................................................................................................................................................",2228,"",22,4629,"",208,2213,1814,null,null,"0619","   włodawski",125642,1256,38668,31,73,289,null,null,null,null,null,null,null,null,null,null,null,"02","13","03",3,200000,13000,30,3,213033,"MILICZ",1590.76,null,"08","08",800,8,808,"świebodziński",238.06,null,"6831006563"]
[208021,"  Kłodzko..........................................................................................................................................................................................................................................................",2484,"",25,26954,"",1085,2199,219,null,null,"0620","   zamojski",187029,1870,106935,57,12,73,null,null,null,null,null,null,null,null,null,null,null,"02","14","01",1,200000,14000,10,1,214011,"OLEŚNICA",1796.47,null,"08","09",800,9,809,"zielonogórski",217.37,null,"6831395375"]
[208031,"  Kudowa-Zdrój..........................................................................................................................................................................................................................................................",3390,"",34,9954,"",294,2139,876,null,null,""," Miasta na prawach powiatu:",null,null,null,null,null,null,null,null,null,null,null,null,null,null,null,null,null,"02","14","02",3,200000,14000,20,3,214023,"BIERUTÓW",1263.6400000000001,null,"08","10",800,10,810,"żagański",195.7,null,"6831511752"]
[208041,"  Nowa Ruda..........................................................................................................................................................................................................................................................",3705,"",37,22246,"",600,2114,296,null,null,""," Cities with powiat status:",null,null,null,null,null,null,null,null,null,null,null,null,null,null,null,null,null,"02","14","03",2,200000,14000,30,2,214032,"DOBROSZYCE",1636.47,null,"08","11",800,11,811,"żarski",222.94,null,"6831573055"]
[208051,"  Polanica-Zdrój..........................................................................................................................................................................................................................................................",1722,"",17,6357,"",369,2259,1414,null,null,"0661","   Biała Podlaska",4940,49,57352,1161,51,58,null,null,null,null,null,null,null,null,null,null,null,"02","14","04",2,200000,14000,40,2,214042,"DZIADOWA KŁODA",1016.2,null,"08","12",800,12,812,"wschowski",210.43,null,"6831718453"]
["","",null,null,null,null,null,null,null,null,null,null,"0662","   Chełm",3528,35,62670,1776,56,55,null,null,null,null,null,null,null,null,null,null,null,"02","14","05",3,200000,14000,50,3,214053,"MIĘDZYBÓRZ",1618.15,null,"08","61",800,61,861,"Gorzów Wielkopolski",276.07,null,"6831742730"]
[208072,"  Kłodzko..........................................................................................................................................................................................................................................................",25325,"",252,17208,"",68,177,432,null,null,"0663","   Lublin",14747,148,339682,2303,17,9,null,null,null,null,null,null,null,null,null,null,null,"02","14","06",2,200000,14000,60,2,214062,"OLEŚNICA",1871.01,null,"08","62",800,62,862,"Zielona Góra",364.75,null,"6851648081"]
[208092,"  Lewin Kłodzki..........................................................................................................................................................................................................................................................",5214,"",52,1940,"",37,2003,2281,null,null,"0664","   Zamość",3034,30,63813,2103,62,53,null,null,null,null,null,null,null,null,null,null,null,"02","14","07",3,200000,14000,70,3,214073,"SYCÓW",1607.39,null,"10","01",1000,1,1001,"bełchatowski",351,null,"7341009655"]
[208112,"  Nowa Ruda..........................................................................................................................................................................................................................................................",13967,"",140,11657,"",83,789,727,null,null,"","WOJ. LUBUSKIE",null,null,null,null,null,null,null,null,null,null,null,null,null,null,null,null,null,"02","14","08",3,200000,14000,80,3,214083,"TWARDOGÓRA",2113.3200000000002,null,"10","02",1000,2,1002,"kutnowski",223.61,null,"7343445768"]
["","",null,null,null,null,null,null,null,null,null,null,""," Powiaty:",null,null,null,null,null,null,null,null,null,null,null,null,null,null,null,null,null,"02","15","01",1,200000,15000,10,1,215011,"OŁAWA",2044.6,null,"10","03",1000,3,1003,"łaski",215.37,null,"7343450806"]
[208063,"  Bystrzyca Kłodzka..........................................................................................................................................................................................................................................................",33853,"",339,18984,"",56,61,373,null,null,""," Powiats:",null,null,null,null,null,null,null,null,null,null,null,null,null,null,null,null,null,"02","15","02",2,200000,15000,20,2,215022,"DOMANIÓW",1481.31,null,"10","04",1000,4,1004,"łęczycki",164.85,null,"7343456306"]
[208064,"",1074,"",11,10189,"",949,"x","x",null,null,"0801","   gorzowski",121423,1214,71549,59,83,161,null,null,null,null,null,null,null,null,null,null,null,"02","15","03",3,200000,15000,30,3,215033,"JELCZ-LASKOWICE",2320.88,null,"10","05",1000,5,1005,"łowicki",209.46,null,"7343472601"]
[208065,"",32779,"",328,8795,"",27,"x","x",null,null,"0802","   krośnieński",139125,1391,55245,40,50,225,null,null,null,null,null,null,null,null,null,null,null,"02","15","04",2,200000,15000,40,2,215042,"OŁAWA",2510.81,null,"10","06",1000,6,1006,"łódzki wschodni",334.56,null,"7343472848"]
[208083,"  Lądek-Zdrój..........................................................................................................................................................................................................................................................",11727,"",117,8276,"",71,1093,1081,null,null,"0803","   międzyrzecki",138761,1388,58024,42,51,204,null,null,null,null,null,null,null,null,null,null,null,"02","16","01",3,200000,16000,10,3,216013,"CHOCIANÓW",1796.43,null,"10","07",1000,7,1007,"opoczyński",174.67,null,"7343482812"]
[208084,"",2032,"",20,5622,"",277,"x","x",null,null,"0804","   nowosolski",77073,771,86634,112,192,107,null,null,null,null,null,null,null,null,null,null,null,"02","16","02",2,200000,16000,20,2,216022,"GAWORZYCE",1464.3,null,"10","08",1000,8,1008,"pabianicki",282.67,null,"7343483272"]
[208085,"",9695,"",97,2654,"",27,"x","x",null,null,"0805","   słubicki",99929,999,47101,47,129,254,null,null,null,null,null,null,null,null,null,null,null,"02","16","03",2,200000,16000,30,2,216032,"GRĘBOCICE",5203.13,null,"10","09",1000,9,1009,"pajęczański",216.56,null,"7343507021"]
[208103,"  Międzylesie..........................................................................................................................................................................................................................................................",18875,"",189,7212,"",38,397,1264,null,null,"0806","   strzelecko-drezdenecki",124786,1248,49366,40,75,244,null,null,null,null,null,null,null,null,null,null,null,"02","16","04",3,200000,16000,40,3,216043,"POLKOWICE",6442.47,null,"10","10",1000,10,1010,"piotrkowski",186.79,null,"7343514742"]
[208104,"",1437,"",14,2591,"",180,"x","x",null,null,"0807","   sulęciński",117780,1178,35297,30,89,298,null,null,null,null,null,null,null,null,null,null,null,"02","16","05",3,200000,16000,50,3,216053,"PRZEMKÓW",1427.88,null,"10","11",1000,11,1011,"poddębicki",167.11,null,"7343514860"]
[208105,"",17438,"",175,4621,"",26,"x","x",null,null,"0808","   świebodziński",93657,937,55840,60,145,219,null,null,null,null,null,null,null,null,null,null,null,"02","16","06",2,200000,16000,60,2,216062,"RADWANICE",3320.55,null,"10","12",1000,12,1012,"radomszczański",207.86,null,"7343515546"]
[208123,"  Radków..........................................................................................................................................................................................................................................................",13995,"",140,9059,"",65,784,979,null,null,"0812","   wschowski",62420,624,39065,63,244,287,null,null,null,null,null,null,null,null,null,null,null,"02","17","01",2,200000,17000,10,2,217012,"BORÓW",1465.3,null,"10","13",1000,13,1013,"rawski",232.65,null,"7343517410"]
[208124,"",1503,"",15,2418,"",161,"x","x",null,null,"0809","   zielonogórski",134975,1350,75750,56,58,146,null,null,null,null,null,null,null,null,null,null,null,"02","17","02",2,200000,17000,20,2,217022,"KONDRATOWICE",1639.52,null,"10","14",1000,14,1014,"sieradzki",194.44,null,"7343517947"]
[208125,"",12492,"",125,6641,"",53,"x","x",null,null,"0810","   żagański",113182,1132,79583,70,98,125,null,null,null,null,null,null,null,null,null,null,null,"02","17","03",2,200000,17000,30,2,217032,"PRZEWORNO",1066.82,null,"10","15",1000,15,1015,"skierniewicki",179.08,null,"7343543100"]
[208133,"  Stronie Śląskie..........................................................................................................................................................................................................................................................",14608,"",146,7559,"",52,719,1193,null,null,"0811","   żarski",139278,1393,96876,70,49,86,null,null,null,null,null,null,null,null,null,null,null,"02","17","04",3,200000,17000,40,3,217043,"STRZELIN",2103.39,null,"10","16",1000,16,1016,"tomaszowski",226.88,null,"7343543904"]
[208134,"",238,"",2,5741,"",2412,"x","x",null,null,""," Miasta na prawach powiatu:",null,null,null,null,null,null,null,null,null,null,null,null,null,null,null,null,null,"02","17","05",3,200000,17000,50,3,217053,"WIĄZÓW",1321.52,null,"10","17",1000,17,1017,"wieluński",184.96,null,"7343544080"]
[208135,"",14370,"",144,1818,"",13,"x","x",null,null,""," Cities with powiat status:",null,null,null,null,null,null,null,null,null,null,null,null,null,null,null,null,null,"02","18","01",2,200000,18000,10,2,218012,"KOSTOMŁOTY",1508.15,null,"10","18",1000,18,1018,"wieruszowski",205.49,null,"7350014012"]
[208143,"  Szczytna..........................................................................................................................................................................................................................................................",13237,"",132,7302,"",55,878,1243,null,null,"0861","   Gorzów Wielkopolski",8572,86,123921,1446,31,29,null,null,null,null,null,null,null,null,null,null,null,"02","18","02",2,200000,18000,20,2,218022,"MALCZYCE",1343.54,null,"10","19",1000,19,1019,"zduńskowolski",229.02,null,"7351006084"]
[208144,"",8038,"",80,5163,"",64,"x","x",null,null,"0862","   Zielona Góra",27832,277,140297,504,6,24,null,null,null,null,null,null,null,null,null,null,null,"02","18","03",2,200000,18000,30,2,218032,"MIĘKINIA",2636.09,null,"10","20",1000,20,1020,"zgierski",261.39,null,"7351026738"]
[208145,"",5199,"",52,2139,"",41,"x","x",null,null,"","WOJ. ŁÓDZKIE",null,null,null,null,null,null,null,null,null,null,null,null,null,null,null,null,null,"02","18","04",3,200000,18000,40,3,218043,"ŚRODA ŚLĄSKA",2368.4899999999998,null,"10","21",1000,21,1021,"brzeziński",206.37,null,"7351071414"]
["","Powiat legnicki  (8 gmin)",null,null,null,null,null,null,null,null,null,null,""," Powiaty:",null,null,null,null,null,null,null,null,null,null,null,null,null,null,null,null,null,"02","18","05",2,200000,18000,50,2,218052,"UDANIN",1345.22,null,"10","61",1000,61,1061,"Łódź",361.23,null,"7352175044"]
["","",null,null,null,null,null,null,null,null,null,null,""," Powiats:",null,null,null,null,null,null,null,null,null,null,null,null,null,null,null,null,null,"02","19","01",1,200000,19000,10,1,219011,"ŚWIDNICA",2002.55,null,"10","62",1000,62,1062,"Piotrków Trybunalski",293.72000000000003,null,"7352703193"]
[209011,"  Chojnów..........................................................................................................................................................................................................................................................",532,"↓",5,13426,"",2524,2337,599,null,null,"1001","   bełchatowski",96760,968,112997,117,136,61,null,null,null,null,null,null,null,null,null,null,null,"02","19","02",1,200000,19000,20,1,219021,"ŚWIEBODZICE",1817.54,null,"10","63",1000,63,1063,"Skierniewice",345.18,null,"7352833352"]
["","",null,null,null,null,null,null,null,null,null,null,"1021","   brzeziński",35856,359,30890,86,308,308,null,null,null,null,null,null,null,null,null,null,null,"02","19","03",2,200000,19000,30,2,219032,"DOBROMIERZ",1476.92,null,"12","01",1200,1,1201,"bocheński",219.8,null,"7352834179"]
[209022,"  Chojnów..........................................................................................................................................................................................................................................................",23092,"",231,9636,"",42,229,910,null,null,"1002","   kutnowski",88686,887,97295,110,155,85,null,null,null,null,null,null,null,null,null,null,null,"02","19","04",3,200000,19000,40,3,219043,"JAWORZYNA ŚLĄSKA",1388.91,null,"12","02",1200,2,1202,"brzeski",178.69,null,"7352834759"]
[209032,"  Krotoszyce..........................................................................................................................................................................................................................................................",6750,"",67,3336,"",49,1877,2130,null,null,"1003","   łaski",61823,618,50103,81,248,242,null,null,null,null,null,null,null,null,null,null,null,"02","19","05",2,200000,19000,50,2,219052,"MARCINOWICE",1508.57,null,"12","03",1200,3,1203,"chrzanowski",294.5,null,"7352841452"]
[209042,"  Kunice..........................................................................................................................................................................................................................................................",9266,"",93,6893,"",74,1504,1319,null,null,"1004","   łęczycki",77275,773,50143,65,188,241,null,null,null,null,null,null,null,null,null,null,null,"02","19","06",3,200000,19000,60,3,219063,"STRZEGOM",1980.5,null,"12","04",1200,4,1204,"dąbrowski",116.31,null,"7352843273"]
[209052,"  Legnickie Pole..........................................................................................................................................................................................................................................................",8524,"",85,5241,"",61,1614,1665,null,null,"1005","   łowicki",98817,988,78616,80,131,132,null,null,null,null,null,null,null,null,null,null,null,"02","19","07",2,200000,19000,70,2,219072,"ŚWIDNICA",1843.16,null,"12","05",1200,5,1205,"gorlicki",146.44999999999999,null,"7352849761"]
[209062,"  Miłkowice..........................................................................................................................................................................................................................................................",8663,"",87,6706,"",77,1582,1354,null,null,"1006","   łódzki wschodni",49976,500,71705,143,281,159,null,null,null,null,null,null,null,null,null,null,null,"02","19","08",3,200000,19000,80,3,219083,"ŻARÓW",2112.54,null,"12","06",1200,6,1206,"krakowski",327.42,null,"7352851410"]
[209082,"  Ruja..........................................................................................................................................................................................................................................................",7330,"",73,2633,"",36,1804,2233,null,null,"1007","   opoczyński",104019,1040,76623,74,114,141,null,null,null,null,null,null,null,null,null,null,null,"02","20","01",3,200000,20000,10,3,220013,"OBORNIKI ŚLĄSKIE",1799.23,null,"12","07",1200,7,1207,"limanowski",152.30000000000001,null,"7352854845"]
["","",null,null,null,null,null,null,null,null,null,null,"1008","   pabianicki",49218,492,119289,242,283,48,null,null,null,null,null,null,null,null,null,null,null,"02","20","02",3,200000,20000,20,3,220023,"PRUSICE",1311.65,null,"12","08",1200,8,1208,"miechowski",151.69999999999999,null,"7352856459"]
[209073,"  Prochowice..........................................................................................................................................................................................................................................................",10251,"",103,7455,"",73,1347,1215,null,null,"1009","   pajęczański",80382,804,51597,64,179,238,null,null,null,null,null,null,null,null,null,null,null,"02","20","03",3,200000,20000,30,3,220033,"TRZEBNICA",1646.75,null,"12","09",1200,9,1209,"myślenicki",207.5,null,"7360007798"]
[209074,"",985,"",10,3620,"",368,"x","x",null,null,"1010","   piotrkowski",142874,1429,91315,64,43,94,null,null,null,null,null,null,null,null,null,null,null,"02","20","04",2,200000,20000,40,2,220042,"WISZNIA MAŁA",2400.59,null,"12","10",1200,10,1210,"nowosądecki",159.5,null,"7361198317"]
[209075,"",9266,"",93,3835,"",41,"x","x",null,null,"1011","   poddębicki",88121,881,41205,47,156,279,null,null,null,null,null,null,null,null,null,null,null,"02","20","05",2,200000,20000,50,2,220052,"ZAWONIA",2204.15,null,"12","11",1200,11,1211,"nowotarski",142.19,null,"7361699456"]
["","Powiat lubański  (7 gmin)",null,null,null,null,null,null,null,null,null,null,"1012","   radomszczański",144257,1443,113315,79,42,60,null,null,null,null,null,null,null,null,null,null,null,"02","20","06",3,200000,20000,60,3,220063,"ŻMIGRÓD",1485.68,null,"12","12",1200,12,1212,"olkuski",291.72000000000003,null,"7361705814"]
["","",null,null,null,null,null,null,null,null,null,null,"1013","   rawski",64620,646,48808,76,236,246,null,null,null,null,null,null,null,null,null,null,null,"02","21","01",1,200000,21000,10,1,221011,"BOGUSZÓW-GORCE",1025.97,null,"12","13",1200,13,1213,"oświęcimski",289.66000000000003,null,"7361717220"]
[210011,"  Lubań..........................................................................................................................................................................................................................................................",1612,"",16,21168,"",1313,2270,322,null,null,"1014","   sieradzki",149083,1491,118240,79,36,50,null,null,null,null,null,null,null,null,null,null,null,"02","21","02",1,200000,21000,20,1,221021,"JEDLINA-ZDRÓJ",1378.62,null,"12","14",1200,14,1214,"proszowicki",145.32,null,"7361717680"]
[210021,"  Świeradów-Zdrój..........................................................................................................................................................................................................................................................",2072,"",21,4183,"",202,2230,1931,null,null,"1015","   skierniewicki",75338,753,38195,51,193,291,null,null,null,null,null,null,null,null,null,null,null,"02","21","03",1,200000,21000,30,1,221031,"SZCZAWNO-ZDRÓJ",2604.7399999999998,null,"12","15",{"$f":"AR134*100","v":1200},{"$f":"+AS134*1","v":15},{"$f":"AT134+AU134","v":1215},"suski",186.54,null,"7361720593"]
["","",null,null,null,null,null,null,null,null,null,null,"1016","   tomaszowski",102479,1025,117259,114,120,52,null,null,null,null,null,null,null,null,null,null,null,"02","21","04",2,200000,21000,40,2,221042,"CZARNY BÓR",1981.79,null,"12","16",1200,16,1216,"tarnowski",155.99,null,"7371004591"]
[210042,"  Lubań..........................................................................................................................................................................................................................................................",14234,"",142,6593,"",46,755,1373,null,null,"1017","   wieluński",92648,926,76699,83,148,140,null,null,null,null,null,null,null,null,null,null,null,"02","21","05",3,{"$f":"AF136*100000","v":200000},{"$f":"AG136*1000","v":21000},{"$f":"AH136*10","v":50},{"$f":"AI136*1","v":3},{"$f":"SUM(AJ136:AM136)","v":221053},"GŁUSZYCA",991.95,null,"12","17",1200,17,1217,"tatrzański",196.47,null,"7371005969"]
[210062,"  Platerówka..........................................................................................................................................................................................................................................................",4790,"",48,1631,"↓",34,2037,2291,null,null,"1018","   wieruszowski",57713,577,42213,73,263,274,null,null,null,null,null,null,null,null,null,null,null,"02","21","06",3,200000,21000,60,3,221063,"MIEROSZÓW",1425.6,null,"12","18",1200,18,1218,"wadowicki",229.25,null,"7371007419"]
[210072,"  Siekierczyn..........................................................................................................................................................................................................................................................",4950,"",49,4508,"",91,2023,1848,null,null,"1019","   zduńskowolski",36923,369,66766,181,305,171,null,null,null,null,null,null,null,null,null,null,null,"02","21","07",2,200000,21000,70,2,221072,"STARE BOGACZOWICE",1211.17,null,"12","19",1200,19,1219,"wielicki",296.05,null,"7371008784"]
["","",null,null,null,null,null,null,null,null,null,null,"1020","   zgierski",85518,855,165916,194,162,12,null,null,null,null,null,null,null,null,null,null,null,"02","21","08",2,200000,21000,80,2,221082,"WALIM",1613.17,null,"12","61",1200,61,1261,"Kraków",476.73,null,"7371008991"]
[210033,"  Leśna..........................................................................................................................................................................................................................................................",10460,"",105,10093,"",96,1307,857,null,null,""," Miasta na prawach powiatu:",null,null,null,null,null,null,null,null,null,null,null,null,null,null,null,null,null,"02","22","01",3,200000,22000,10,3,222013,"BRZEG DOLNY",2611.64,null,"12","62",1200,62,1262,"Nowy Sącz",292.82,null,"7371022962"]
[210034,"",856,"",9,4484,"",524,"x","x",null,null,""," Cities with powiat status:",null,null,null,null,null,null,null,null,null,null,null,null,null,null,null,null,null,"02","22","02",2,200000,22000,20,2,222022,"WIŃSKO",1123.81,null,"12","63",1200,63,1263,"Tarnów",270.20999999999998,null,"7371152618"]
[210035,"",9604,"",96,5609,"",58,"x","x",null,null,"1061","   Łódź",29325,293,685285,2337,4,3,null,null,null,null,null,null,null,null,null,null,null,"02","22","03",3,200000,22000,30,3,222033,"WOŁÓW",1429.13,null,"14","01",1400,1,1401,"białobrzeski",162.53,null,"7371188119"]
[210053,"  Olszyna..........................................................................................................................................................................................................................................................",4712,"",47,6523,"",138,2044,1385,null,null,"1062","   Piotrków Trybunalski",6724,67,73670,1096,44,49,null,null,null,null,null,null,null,null,null,null,null,"02","23","01",2,200000,23000,10,2,223012,"CZERNICA",2322.4699999999998,null,"14","02",1400,2,1402,"ciechanowski",225.07,null,"7371193876"]
[210054,"",2026,"",20,4359,"",215,"x","x",null,null,"1063","   Skierniewice",3460,35,48178,1392,57,62,null,null,null,null,null,null,null,null,null,null,null,"02","23","02",2,200000,23000,20,2,223022,"DŁUGOŁĘKA",2720.72,null,"14","03",1400,3,1403,"garwoliński",209.05,null,"7371283697"]
[210055,"",2686,"",27,2164,"",81,"x","x",null,null,"","WOJ. MAŁOPOLSKIE",null,null,null,null,null,null,null,null,null,null,null,null,null,null,null,null,null,"02","23","03",2,200000,23000,30,2,223032,"JORDANÓW ŚLĄSKI",1493.21,null,"14","04",1400,4,1404,"gostyniński",173.27,null,"7371362818"]
["","Powiat lubiński  (4 gminy)",null,null,null,null,null,null,null,null,null,null,""," Powiaty:",null,null,null,null,null,null,null,null,null,null,null,null,null,null,null,null,null,"02","23","04",3,200000,23000,40,3,223043,"KĄTY WROCŁAWSKIE",3225.76,null,"14","05",1400,5,1405,"grodziski",470.61,null,"7371410411"]
["","",null,null,null,null,null,null,null,null,null,null,""," Powiats:",null,null,null,null,null,null,null,null,null,null,null,null,null,null,null,null,null,"02","23","05",2,200000,23000,50,2,223052,"KOBIERZYCE",7153.59,null,"14","06",1400,6,1406,"grójecki",232.29,null,"7372206836"]
[211011,"  Lubin..........................................................................................................................................................................................................................................................",4077,"",41,72581,"",1780,2086,53,null,null,"1201","   bocheński",64856,649,106514,164,235,75,null,null,null,null,null,null,null,null,null,null,null,"02","23","06",2,200000,23000,60,2,223062,"MIETKÓW",2151.3200000000002,null,"14","07",1400,7,1407,"kozienicki",230.29,null,"7381010274"]
["","",null,null,null,null,null,null,null,null,null,null,"1202","   brzeski",59052,591,93206,158,257,91,null,null,null,null,null,null,null,null,null,null,null,"02","23","07",3,200000,23000,70,3,223073,"SOBÓTKA",2039.59,null,"14","08",1400,8,1408,"legionowski",422.4,null,"7381013686"]
[211022,"  Lubin..........................................................................................................................................................................................................................................................",28978,"",290,15920,"",55,115,481,null,null,"1203","   chrzanowski",37012,370,125385,339,304,43,null,null,null,null,null,null,null,null,null,null,null,"02","23","08",3,200000,23000,80,3,223083,"SIECHNICE",3478.57,null,"14","09",1400,9,1409,"lipski",138.69,null,"7381021958"]
[211032,"  Rudna..........................................................................................................................................................................................................................................................",21664,"",217,7785,"",36,268,1158,null,null,"1204","   dąbrowski",53025,530,59350,112,274,200,null,null,null,null,null,null,null,null,null,null,null,"02","23","09",2,200000,23000,90,2,223092,"ŻÓRAWINA",2298.1,null,"14","10",1400,10,1410,"łosicki",146.51,null,"7381022314"]
["","",null,null,null,null,null,null,null,null,null,null,"1205","   gorlicki",96646,966,109104,113,137,68,null,null,null,null,null,null,null,null,null,null,null,"02","24","01",3,200000,24000,10,3,224013,"BARDO",1573.42,null,"14","11",1400,11,1411,"makowski",157.13999999999999,null,"7381973883"]
[211043,"  Ścinawa..........................................................................................................................................................................................................................................................",16443,"",164,9968,"",61,558,873,null,null,"1206","   krakowski",123052,1231,277145,225,76,2,null,null,null,null,null,null,null,null,null,null,null,"02","24","02",2,200000,24000,20,2,224022,"CIEPŁOWODY",1919.67,null,"14","12",1400,12,1412,"miński",294.07,null,"7382125507"]
[211044,"",1354,"",13,5589,"",413,"x","x",null,null,"1207","   limanowski",95123,951,131523,138,143,37,null,null,null,null,null,null,null,null,null,null,null,"02","24","03",2,200000,24000,30,2,224032,"KAMIENIEC ZĄBKOWICKI",1645.77,null,"14","13",1400,13,1413,"mławski",208.19,null,"7382129965"]
[211045,"",15089,"",151,4379,"",29,"x","x",null,null,"1208","   miechowski",67629,676,49137,73,226,245,null,null,null,null,null,null,null,null,null,null,null,"02","24","04",2,200000,24000,40,2,224042,"STOSZOWICE",1268.51,null,"14","14",1400,14,1414,"nowodworski",306.70999999999998,null,"7382130282"]
["","Powiat lwówecki  (5 gmin)",null,null,null,null,null,null,null,null,null,null,"1209","   myślenicki",67308,673,127028,189,231,41,null,null,null,null,null,null,null,null,null,null,null,"02","24","05",3,200000,24000,50,3,224053,"ZĄBKOWICE ŚLĄSKIE",1707.48,null,"14","15",1400,15,1415,"ostrołęcki",172.91,null,"7382131749"]
["","",null,null,null,null,null,null,null,null,null,null,"1210","   nowosądecki",154980,1549,216176,139,31,4,null,null,null,null,null,null,null,null,null,null,null,"02","24","06",3,200000,24000,60,3,224063,"ZIĘBICE",1197.22,null,"14","16",1400,16,1416,"ostrowski",186.96,null,"7382144864"]
[212013,"  Gryfów Śląski..........................................................................................................................................................................................................................................................",6667,"",67,9721,"",146,1884,902,null,null,"1211","   nowotarski",147499,1474,191508,130,38,8,null,null,null,null,null,null,null,null,null,null,null,"02","24","07",3,200000,24000,70,3,224073,"ZŁOTY STOK",1105.0899999999999,null,"14","17",1400,17,1417,"otwocki",411.65,null,"7382150787"]
[212014,"",663,"",7,6641,"",1002,"x","x",null,null,"1212","   olkuski",61811,618,112035,181,249,63,null,null,null,null,null,null,null,null,null,null,null,"02","25","01",1,200000,25000,10,1,225011,"ZAWIDÓW",1458.75,null,"14","18",1400,18,1418,"piaseczyński",621.98,null,"8681001825"]
[212015,"",6004,"",60,3080,"",51,"x","x",null,null,"1213","   oświęcimski",40558,406,153737,379,300,23,null,null,null,null,null,null,null,null,null,null,null,"02","25","02",1,200000,25000,20,1,225021,"ZGORZELEC",1832.42,null,"14","19",1400,19,1419,"płocki",204.83,null,"8681021259"]
[212023,"  Lubomierz..........................................................................................................................................................................................................................................................",13053,"",130,6188,"",47,902,1449,null,null,"1214","   proszowicki",41487,415,43523,105,298,271,null,null,null,null,null,null,null,null,null,null,null,"02","25","03",3,200000,25000,30,3,225033,"BOGATYNIA",4761.2,null,"14","20",1400,20,1420,"płoński",190.47,null,"8681021271"]
[212024,"",805,"",8,1990,"",247,"x","x",null,null,"1215","   suski",68571,686,84255,123,223,115,null,null,null,null,null,null,null,null,null,null,null,"02","25","04",3,200000,25000,40,3,225043,"PIEŃSK",1450.08,null,"14","21",1400,21,1421,"pruszkowski",532.41,null,"8681021288"]
[212025,"",12248,"",122,4198,"",34,"x","x",null,null,"1216","   tarnowski",141158,1412,201570,143,46,7,null,null,null,null,null,null,null,null,null,null,null,"02","25","05",2,200000,25000,50,2,225052,"SULIKÓW",2255.4299999999998,null,"14","22",1400,22,1422,"przasnyski",159.37,null,"8681021294"]
[212033,"  Lwówek Śląski..........................................................................................................................................................................................................................................................",23993,"",240,17252,"",72,205,428,null,null,"1217","   tatrzański",47165,472,68146,144,287,168,null,null,null,null,null,null,null,null,null,null,null,"02","25","06",3,200000,25000,60,3,225063,"WĘGLINIEC",1537.46,null,"14","23",1400,23,1423,"przysuski",133.49,null,"8681021302"]
[212034,"",1665,"",17,8870,"",533,"x","x",null,null,"1218","   wadowicki",64588,646,160130,248,237,17,null,null,null,null,null,null,null,null,null,null,null,"02","25","07",2,200000,25000,70,2,225072,"ZGORZELEC",2325.65,null,"14","24",1400,24,1424,"pułtuski",198.88,null,"8681021319"]
[212035,"",22328,"",223,8382,"",38,"x","x",null,null,"1219","   wielicki",41078,411,127078,309,299,40,null,null,null,null,null,null,null,null,null,null,null,"02","26","01",1,200000,26000,10,1,226011,"WOJCIESZÓW",1305.95,null,"14","25",1400,25,1425,"radomski",166.7,null,"8681021360"]
[212043,"  Mirsk..........................................................................................................................................................................................................................................................",18650,"",187,8639,"",46,412,1029,null,null,""," Miasta na prawach powiatu:",null,null,null,null,null,null,null,null,null,null,null,null,null,null,null,null,null,"02","26","02",1,200000,26000,20,1,226021,"ZŁOTORYJA",1627.56,null,"14","26",1400,26,1426,"siedlecki",173.77,null,"8681599283"]
[212044,"",1466,"",15,3902,"",266,"x","x",null,null,""," Cities with powiat status:",null,null,null,null,null,null,null,null,null,null,null,null,null,null,null,null,null,"02","26","03",2,200000,26000,30,2,226032,"PIELGRZYMKA",1240.53,null,"14","27",1400,27,1427,"sierpecki",165.04,null,"8691002648"]
[212045,"",17184,"",172,4737,"",28,"x","x",null,null,"1261","   Kraków",32685,327,771069,2359,2,2,null,null,null,null,null,null,null,null,null,null,null,"02","26","04",3,200000,26000,40,3,226043,"ŚWIERZAWA",1350.02,null,"14","28",1400,28,1428,"sochaczewski",266.86,null,"8691013238"]
[212053,"  Wleń..........................................................................................................................................................................................................................................................",8606,"",86,4259,"",49,1593,1914,null,null,"1262","   Nowy Sącz",5758,58,83896,1457,49,44,null,null,null,null,null,null,null,null,null,null,null,"02","26","05",2,200000,26000,50,2,226052,"ZAGRODNO",1855.47,null,"14","29",1400,29,1429,"sokołowski",208.64,null,"8691186401"]
[212054,"",722,"",7,1778,"",246,"x","x",null,null,"1263","   Tarnów",7238,72,109062,1507,41,35,null,null,null,null,null,null,null,null,null,null,null,"02","26","06",2,200000,26000,60,2,226062,"ZŁOTORYJA",1738.56,null,"14","30",1400,30,1430,"szydłowiecki",141.37,null,"8691186447"]
[212055,"",7884,"",79,2481,"",31,"x","x",null,null,"","WOJ. MAZOWIECKIE",null,null,null,null,null,null,null,null,null,null,null,null,null,null,null,null,null,"02","61","01",1,200000,61000,10,1,261011,"Jelenia Góra",1846.95,null,"14","32",1400,32,1432,"warszawski zachodni",583.66,null,"8691212363"]
["","Powiat milicki  (3 gminy)",null,null,null,null,null,null,null,null,null,null,""," Powiaty:",null,null,null,null,null,null,null,null,null,null,null,null,null,null,null,null,null,"02","62","01",1,200000,62000,10,1,262011,"Legnica",1966.48,null,"14","33",1400,33,1433,"węgrowski",202.2,null,"8691291026"]
["","",null,null,null,null,null,null,null,null,null,null,""," Powiats:",null,null,null,null,null,null,null,null,null,null,null,null,null,null,null,null,null,"02","64","01",1,200000,64000,10,1,264011,"Wrocław",2762.23,null,"14","34",1400,34,1434,"wołomiński",346.16,null,"8691318251"]
[213012,"  Cieszków..........................................................................................................................................................................................................................................................",10083,"",101,4696,"",47,1375,1799,null,null,"1401","   białobrzeski",63910,639,33551,52,240,305,null,null,null,null,null,null,null,null,null,null,null,"02","65","01",1,200000,65000,10,1,265011,"WAŁBRZYCH",1610.61,null,"14","35",1400,35,1435,"wyszkowski",218.44,null,"8691326517"]
[213022,"  Krośnice..........................................................................................................................................................................................................................................................",17854,"",178,8169,"",46,463,1099,null,null,"1402","   ciechanowski",105980,1060,89670,85,111,100,null,null,null,null,null,null,null,null,null,null,null,"04","01","01",1,400000,1000,10,1,401011,"ALEKSANDRÓW KUJAWSKI",1210.99,null,"14","36",1400,36,1436,"zwoleński",148.05000000000001,null,"8691652725"]
["","",null,null,null,null,null,null,null,null,null,null,"1403","   garwoliński",128483,1285,108993,85,68,69,null,null,null,null,null,null,null,null,null,null,null,"04","01","02",1,400000,1000,20,1,401021,"CIECHOCINEK",1986.78,null,"14","37",1400,37,1437,"żuromiński",146.55000000000001,null,"8711665525"]
[213033,"  Milicz..........................................................................................................................................................................................................................................................",43556,"",436,24228,"",56,13,260,null,null,"1404","   gostyniński",61481,615,45203,74,252,262,null,null,null,null,null,null,null,null,null,null,null,"04","01","03",1,400000,1000,30,1,401031,"NIESZAWA",1785.56,null,"14","38",1400,38,1438,"żyrardowski",280.17,null,"8711769963"]
[213034,"",1350,"",14,11357,"",841,"x","x",null,null,"1405","   grodziski",36704,367,94091,256,306,90,null,null,null,null,null,null,null,null,null,null,null,"04","01","04",2,400000,1000,40,2,401042,"ALEKSANDRÓW KUJAWSKI",1081.7,null,"14","61",1400,61,1461,"Ostrołęka",306.72000000000003,null,"8711770280"]
[213035,"",42206,"",422,12871,"",30,"x","x",null,null,"1406","   grójecki",126773,1268,98451,78,71,82,null,null,null,null,null,null,null,null,null,null,null,"04","01","05",2,400000,1000,50,2,401052,"BĄDKOWO",1345.24,null,"14","62",1400,62,1462,"Płock",407.45,null,"8711770363"]
["","Powiat oleśnicki  (8 gmin)",null,null,null,null,null,null,null,null,null,null,"1407","   kozienicki",91610,916,60472,66,151,194,null,null,null,null,null,null,null,null,null,null,null,"04","01","06",2,400000,1000,60,2,401062,"KONECK",1140.19,null,"14","63",1400,63,1463,"Radom",273.06,null,"8711771055"]
["","",null,null,null,null,null,null,null,null,null,null,"1408","   legionowski",39076,391,116775,299,303,54,null,null,null,null,null,null,null,null,null,null,null,"04","01","07",2,400000,1000,70,2,401072,"RACIĄŻEK",1075.6199999999999,null,"14","64",1400,64,1464,"Siedlce",324.26,null,"8711771090"]
[214011,"  Oleśnica..........................................................................................................................................................................................................................................................",2096,"",21,37242,"",1777,2228,142,null,null,"1409","   lipski",74022,740,34214,46,198,303,null,null,null,null,null,null,null,null,null,null,null,"04","01","08",2,400000,1000,80,2,401082,"WAGANIEC",1117.1199999999999,null,"14","65",1400,65,1465,"m. st. Warszawa",775.51,null,"8711771227"]
["","",null,null,null,null,null,null,null,null,null,null,"1410","   łosicki",77245,772,31023,40,190,307,null,null,null,null,null,null,null,null,null,null,null,"04","01","09",2,400000,1000,90,2,401092,"ZAKRZEWO",1725.82,null,"16","01",1600,1,1601,"brzeski",221.91,null,"8711771285"]
[214032,"  Dobroszyce..........................................................................................................................................................................................................................................................",13196,"",132,6667,"",51,883,1360,null,null,"1411","   makowski",106463,1065,45247,43,110,261,null,null,null,null,null,null,null,null,null,null,null,"04","02","01",1,400000,2000,10,1,402011,"BRODNICA",1873.56,null,"16","02",1600,2,1602,"głubczycki",175.43,null,"8731001716"]
[214042,"  Dziadowa Kłoda..........................................................................................................................................................................................................................................................",10579,"",106,4597,"",43,1291,1827,null,null,"1412","   miński",116372,1164,153824,132,91,22,null,null,null,null,null,null,null,null,null,null,null,"04","02","02",2,400000,2000,20,2,402022,"BOBROWO",1107.73,null,"16","03",1600,3,1603,"kędzierzyńsko-kozielski",250.53,null,"8731011086"]
[214062,"  Oleśnica..........................................................................................................................................................................................................................................................",24285,"",242,13535,"",56,199,592,null,null,"1413","   mławski",118182,1182,73102,62,88,153,null,null,null,null,null,null,null,null,null,null,null,"04","02","03",2,400000,2000,30,2,402032,"BRODNICA",1546.72,null,"16","04",1600,4,1604,"kluczborski",185.42,null,"8731014848"]
["","",null,null,null,null,null,null,null,null,null,null,"1414","   nowodworski",69479,695,79291,114,220,129,null,null,null,null,null,null,null,null,null,null,null,"04","02","04",2,400000,2000,40,2,402042,"BRZOZIE",1073.7,null,"16","05",1600,5,1605,"krapkowicki",226.68,null,"8731111741"]
[214023,"  Bierutów..........................................................................................................................................................................................................................................................",14700,"",147,9988,"",68,705,869,null,null,"1415","   ostrołęcki",209355,2093,88735,42,7,103,null,null,null,null,null,null,null,null,null,null,null,"04","02","05",3,400000,2000,50,3,402053,"GÓRZNO",1441.63,null,"16","06",1600,6,1606,"namysłowski",208.24,null,"8731550848"]
[214024,"",836,"",8,4871,"",583,"x","x",null,null,"1416","   ostrowski",121779,1218,72782,60,82,154,null,null,null,null,null,null,null,null,null,null,null,"04","02","06",2,400000,2000,60,2,402062,"BARTNICZKA",1208.56,null,"16","07",1600,7,1607,"nyski",188.89,null,"8732614007"]
[214025,"",13864,"",139,5117,"",37,"x","x",null,null,"1417","   otwocki",61592,616,124036,201,251,44,null,null,null,null,null,null,null,null,null,null,null,"04","02","07",3,400000,2000,70,3,402073,"JABŁONOWO POMORSKIE",1342.93,null,"16","08",1600,8,1608,"oleski",180.98,null,"8732630130"]
[214053,"  Międzybórz..........................................................................................................................................................................................................................................................",8778,"",88,5095,"",58,1565,1705,null,null,"1418","   piaseczyński",62100,621,184951,298,247,9,null,null,null,null,null,null,null,null,null,null,null,"04","02","08",2,400000,2000,80,2,402082,"OSIEK",1209.4100000000001,null,"16","09",1600,9,1609,"opolski",227.14,null,"8732978229"]
[214054,"",641,"",6,2352,"",367,"x","x",null,null,"1419","   płocki",179663,1796,111088,62,15,66,null,null,null,null,null,null,null,null,null,null,null,"04","02","09",2,400000,2000,90,2,402092,"ŚWIEDZIEBNIA",706.87,null,"16","10",1600,10,1610,"prudnicki",171.81,null,"9442226987"]
[214055,"",8137,"",82,2743,"",34,"x","x",null,null,"1420","   płoński",137979,1380,87409,63,55,105,null,null,null,null,null,null,null,null,null,null,null,"04","02","10",2,400000,2000,100,2,402102,"ZBICZNO",1324.49,null,"16","11",1600,11,1611,"strzelecki",202.24,null,"9442243129"]
[214073,"  Syców..........................................................................................................................................................................................................................................................",14511,"",145,16878,"",116,730,441,null,null,"1421","   pruszkowski",24630,246,164240,667,310,14,null,null,null,null,null,null,null,null,null,null,null,"04","03","01",2,400000,3000,10,2,403012,"BIAŁE BŁOTA",2634.62,null,"16","61",1600,61,1661,"Opole",383.53,null,"9442246027"]
[214074,"",1705,"",17,10420,"",611,"x","x",null,null,"1422","   przasnyski",121862,1219,52824,43,81,232,null,null,null,null,null,null,null,null,null,null,null,"04","03","02",2,400000,3000,20,2,403022,"DĄBROWA CHEŁMIŃSKA",1445.97,null,"18","01",1800,1,1801,"bieszczadzki",158.77000000000001,null,"9442253228"]
[214075,"",12806,"",128,6458,"",50,"x","x",null,null,"1423","   przysuski",80119,801,41922,52,181,275,null,null,null,null,null,null,null,null,null,null,null,"04","03","03",2,400000,3000,30,2,403032,"DOBRCZ",1504.65,null,"18","02",1800,2,1802,"brzozowski",140.32,null,"9930336443"]
[214083,"  Twardogóra..........................................................................................................................................................................................................................................................",16786,"",168,13060,"",78,534,624,null,null,"1424","   pułtuski",82742,827,51809,63,173,237,null,null,null,null,null,null,null,null,null,null,null,"04","03","04",3,400000,3000,40,3,403043,"KORONOWO",1455.08,null,"18","03",{"$f":"AR198*100","v":1800},{"$f":"+AS198*1","v":3},{"$f":"AT198+AU198","v":1803},"dębicki",200.56,null,"9930337193"]
[214084,"",829,"",8,6716,"",810,"x","x",null,null,"1425","   radomski",152978,1530,152117,99,33,25,null,null,null,null,null,null,null,null,null,null,null,"04","03","05",2,400000,3000,50,2,403052,"NOWA WIEŚ WIELKA",2450.04,null,"18","04",1800,4,1804,"jarosławski",155.12,null,"9930337247"]
[214085,"",15957,"",160,6344,"",40,"x","x",null,null,"1426","   siedlecki",160348,1603,81352,51,28,122,null,null,null,null,null,null,null,null,null,null,null,"04","03","06",2,{"$f":"AF200*100000","v":400000},{"$f":"AG200*1000","v":3000},{"$f":"AH200*10","v":60},{"$f":"AI200*1","v":2},{"$f":"SUM(AJ200:AM200)","v":403062},"OSIELSKO",3672.61,null,"18","05",1800,5,1805,"jasielski",161.83000000000001,null,"9930340717"]
["","Powiat oławski  (4 gminy)",null,null,null,null,null,null,null,null,null,null,"1427","   sierpecki",85204,852,52196,61,164,234,null,null,null,null,null,null,null,null,null,null,null,"04","03","07",2,400000,3000,70,2,403072,"SICIENKO",1798.07,null,"18","06",1800,6,1806,"kolbuszowski",131.54,null,"9930370109"]
["","",null,null,null,null,null,null,null,null,null,null,"1428","   sochaczewski",73480,735,85105,116,201,112,null,null,null,null,null,null,null,null,null,null,null,"04","03","08",3,400000,3000,80,3,403083,"SOLEC KUJAWSKI",2127.89,null,"18","07",1800,7,1807,"krośnieński",156.07,null,"9930652629"]
[215011,"  Oława..........................................................................................................................................................................................................................................................",2736,"",27,32927,"",1203,2180,167,null,null,"1429","   sokołowski",113117,1131,54217,48,99,229,null,null,null,null,null,null,null,null,null,null,null,"04","04","01",1,400000,4000,10,1,404011,"CHEŁMNO",1440.17,null,"18","08",1800,8,1808,"leżajski",143.35,null,"9930656314"]
["","",null,null,null,null,null,null,null,null,null,null,"1430","   szydłowiecki",45181,452,39864,88,292,284,null,null,null,null,null,null,null,null,null,null,null,"04","04","02",2,400000,4000,20,2,404022,"CHEŁMNO",987.3,null,"18","09",1800,9,1809,"lubaczowski",118.32,null,"9930658661"]
[215022,"  Domaniów..........................................................................................................................................................................................................................................................",9446,"",94,5182,"",55,1480,1682,null,null,"1432","   warszawski zachodni",53379,534,117007,219,272,53,null,null,null,null,null,null,null,null,null,null,null,"04","04","03",2,400000,4000,30,2,404032,"KIJEWO KRÓLEWSKIE",1236.3699999999999,null,"18","10",1800,10,1810,"łańcucki",185.88,null,"9930660913"]
[215042,"  Oława..........................................................................................................................................................................................................................................................",23465,"",235,15200,"",65,220,511,null,null,"1433","   węgrowski",122076,1221,66174,54,80,175,null,null,null,null,null,null,null,null,null,null,null,"04","04","04",2,400000,4000,40,2,404042,"LISEWO",1239.75,null,"18","11",1800,11,1811,"mielecki",227.67]
["","",null,null,null,null,null,null,null,null,null,null,"1434","   wołomiński",95356,954,245357,257,141,3,null,null,null,null,null,null,null,null,null,null,null,"04","04","05",2,400000,4000,50,2,404052,"PAPOWO BISKUPIE",981.91,null,"18","12",1800,12,1812,"niżański",146.75]
[215033,"  Jelcz-Laskowice..........................................................................................................................................................................................................................................................",16763,"",168,23286,"",139,537,280,null,null,"1435","   wyszkowski",87643,876,74065,85,158,152,null,null,null,null,null,null,null,null,null,null,null,"04","04","06",2,400000,4000,60,2,404062,"STOLNO",1622.15,null,"18","13",1800,13,1813,"przemyski",132.82]
[215034,"",1706,"",17,15792,"",926,"x","x",null,null,"1436","   zwoleński",57330,573,36328,63,266,295,null,null,null,null,null,null,null,null,null,null,null,"04","04","07",2,400000,4000,70,2,404072,"UNISŁAW",1121.94,null,"18","14",1800,14,1814,"przeworski",146.16]
[215035,"",15057,"",151,7494,"",50,"x","x",null,null,"1437","   żuromiński",80660,807,38944,48,177,288,null,null,null,null,null,null,null,null,null,null,null,"04","05","01",1,400000,5000,10,1,405011,"GOLUB-DOBRZYŃ",1571.12,null,"18","15",1800,15,1815,"ropczycko-sędziszowski",164.72]
["","Powiat polkowicki  (6 gmin)",null,null,null,null,null,null,null,null,null,null,"1438","   żyrardowski",53254,533,75848,142,273,145,null,null,null,null,null,null,null,null,null,null,null,"04","05","02",2,400000,5000,20,2,405022,"CIECHOCIN",1143.3599999999999,null,"18","16",1800,16,1816,"rzeszowski",187.49]
["","",null,null,null,null,null,null,null,null,null,null,""," Miasta na prawach powiatu:",null,null,null,null,null,null,null,null,null,null,null,null,null,null,null,null,null,"04","05","03",2,400000,5000,30,2,405032,"GOLUB-DOBRZYŃ",1376.41,null,"18","17",1800,17,1817,"sanocki",182.27]
[216022,"  Gaworzyce..........................................................................................................................................................................................................................................................",7676,"",77,4011,"",52,1749,1970,null,null,""," Cities with powiat status:",null,null,null,null,null,null,null,null,null,null,null,null,null,null,null,null,null,"04","05","04",3,400000,5000,40,3,405043,"KOWALEWO POMORSKIE",1398.03,null,"18","18",1800,18,1818,"stalowowolski",210.71]
[216032,"  Grębocice..........................................................................................................................................................................................................................................................",12170,"",121,5367,"",44,1027,1638,null,null,"1461","   Ostrołęka",3346,33,52262,1562,58,60,null,null,null,null,null,null,null,null,null,null,null,"04","05","05",2,400000,5000,50,2,405052,"RADOMIN",1111.07,null,"18","19",1800,19,1819,"strzyżowski",147.26]
[216062,"  Radwanice..........................................................................................................................................................................................................................................................",8424,"",84,4805,"",57,1633,1774,null,null,"1462","   Płock",8804,88,120000,1363,30,32,null,null,null,null,null,null,null,null,null,null,null,"04","05","06",2,400000,5000,60,2,405062,"ZBÓJNO",951.1,null,"18","20",1800,20,1820,"tarnobrzeski",171.84]
["","",null,null,null,null,null,null,null,null,null,null,"1463","   Radom",11180,112,213029,1905,23,14,null,null,null,null,null,null,null,null,null,null,null,"04","06","01",2,400000,6000,10,2,406012,"GRUDZIĄDZ",1861.67,null,"18","21",1800,21,1821,"leski",147.75]
[216013,"  Chocianów..........................................................................................................................................................................................................................................................",22166,"",222,12798,"",58,257,641,null,null,"1464","   Siedlce",3186,32,77872,2444,61,46,null,null,null,null,null,null,null,null,null,null,null,"04","06","02",2,400000,6000,20,2,406022,"GRUTA",1113.42,null,"18","61",1800,61,1861,"Krosno",285.38]
[216014,"",900,"",9,7911,"",879,"x","x",null,null,"1465","   m.st. Warszawa",51724,517,1777972,3437,1,1,null,null,null,null,null,null,null,null,null,null,null,"04","06","03",3,400000,6000,30,3,406033,"ŁASIN",1336.88,null,"18","62",1800,62,1862,"Przemyśl",219.6]
[216015,"",21266,"",213,4887,"",23,"x","x",null,null,"","WOJ. OPOLSKIE",null,null,null,null,null,null,null,null,null,null,null,null,null,null,null,null,null,"04","06","04",3,400000,6000,40,3,406043,"RADZYŃ CHEŁMIŃSKI",2254.29,null,"18","63",1800,63,1863,"Rzeszów",336.54]
[216043,"  Polkowice..........................................................................................................................................................................................................................................................",16765,"",168,27625,"",165,536,207,null,null,""," Powiaty:",null,null,null,null,null,null,null,null,null,null,null,null,null,null,null,null,null,"04","06","05",2,400000,6000,50,2,406052,"ROGÓŹNO",1185.07,null,"18","64",1800,64,1864,"Tarnobrzeg",231.52]
[216044,"",2374,"",24,22487,"",947,"x","x",null,null,""," Powiats:",null,null,null,null,null,null,null,null,null,null,null,null,null,null,null,null,null,"04","06","06",2,400000,6000,60,2,406062,"ŚWIECIE NAD OSĄ",1600.68,null,"20","01",2000,1,2001,"augustowski",183.92]
[216045,"",14391,"",144,5138,"",36,"x","x",null,null,"1601","   brzeski",87596,876,90275,103,159,97,null,null,null,null,null,null,null,null,null,null,null,"04","07","01",1,400000,7000,10,1,407011,"INOWROCŁAW",1645.69,null,"20","02",2000,2,2002,"białostocki",220.29]
[216053,"  Przemków..........................................................................................................................................................................................................................................................",10745,"",107,8376,"",78,1266,1065,null,null,"1602","   głubczycki",67263,673,45883,68,232,258,null,null,null,null,null,null,null,null,null,null,null,"04","07","02",2,400000,7000,20,2,407022,"DĄBROWA BISKUPIA",1310.75,null,"20","03",2000,3,2003,"bielski",198.01]
[216054,"",617,"",6,6149,"",997,"x","x",null,null,"1603","   kędzierzyńsko-kozielski",62513,625,94487,151,243,89,null,null,null,null,null,null,null,null,null,null,null,"04","07","03",3,400000,7000,30,3,407033,"GNIEWKOWO",1404.28,null,"20","04",2000,4,2004,"grajewski",150.53]
[216055,"",10128,"",101,2227,"",22,"x","x",null,null,"1604","   kluczborski",85191,852,65837,77,165,177,null,null,null,null,null,null,null,null,null,null,null,"04","07","04",2,400000,7000,40,2,407042,"INOWROCŁAW",2543.61,null,"20","05",2000,5,2005,"hajnowski",198.24]
["","Powiat strzeliński  (5 gmin)",null,null,null,null,null,null,null,null,null,null,"1605","   krapkowicki",44180,442,63942,145,294,182,null,null,null,null,null,null,null,null,null,null,null,"04","07","05",3,400000,7000,50,3,407053,"JANIKOWO",1899.72,null,"20","06",2000,6,2006,"kolneński",116.66]
["","",null,null,null,null,null,null,null,null,null,null,"1606","   namysłowski",74818,748,42688,57,194,273,null,null,null,null,null,null,null,null,null,null,null,"04","07","06",3,400000,7000,60,3,407063,"KRUSZWICA",1651.02,null,"20","07",2000,7,2007,"łomżyński",119.97]
[217012,"  Borów..........................................................................................................................................................................................................................................................",9865,"",99,5306,"",54,1412,1651,null,null,"1607","   nyski",122388,1224,136946,112,79,31,null,null,null,null,null,null,null,null,null,null,null,"04","07","07",3,400000,7000,70,3,407073,"PAKOŚĆ",1668.86,null,"20","08",2000,8,2008,"moniecki",110.94]
[217022,"  Kondratowice..........................................................................................................................................................................................................................................................",9826,"",98,4298,"",44,1418,1903,null,null,"1608","   oleski",97338,973,64602,66,133,181,null,null,null,null,null,null,null,null,null,null,null,"04","07","08",2,400000,7000,80,2,407082,"ROJEWO",1402.46,null,"20","09",2000,9,2009,"sejneński",144.72999999999999]
[217032,"  Przeworno..........................................................................................................................................................................................................................................................",11197,"",112,4800,"",43,1177,1775,null,null,"1609","   opolski",153430,1534,123520,81,32,45,null,null,null,null,null,null,null,null,null,null,null,"04","07","09",2,400000,7000,90,2,407092,"ZŁOTNIKI KUJAWSKIE",1182.0899999999999,null,"20","10",2000,10,2010,"siemiatycki",136.93]
["","",null,null,null,null,null,null,null,null,null,null,"1610","   prudnicki",57155,572,55524,97,267,221,null,null,null,null,null,null,null,null,null,null,null,"04","08","01",1,400000,8000,10,1,408011,"LIPNO",1269.4000000000001,null,"20","11",2000,11,2011,"sokólski",135.16]
[217043,"  Strzelin..........................................................................................................................................................................................................................................................",17141,"",171,22153,"",129,506,299,null,null,"1611","   strzelecki",74427,744,74665,100,195,149,null,null,null,null,null,null,null,null,null,null,null,"04","08","02",2,400000,8000,20,2,408022,"BOBROWNIKI",1271.28,null,"20","12",2000,12,2012,"suwalski",134.94999999999999]
[217044,"",1034,"",10,12435,"",1203,"x","x",null,null,""," Miasto na prawach powiatu",null,null,null,null,null,null,null,null,null,null,null,null,null,null,null,null,null,"04","08","03",2,400000,8000,30,2,408032,"CHROSTKOWO",1206.75,null,"20","13",2000,13,2013,"wysokomazowiecki",170.17]
[217045,"",16107,"",161,9718,"",60,"x","x",null,null,""," City with powiat status:",null,null,null,null,null,null,null,null,null,null,null,null,null,null,null,null,null,"04","08","04",3,400000,8000,40,3,408043,"DOBRZYŃ NAD WISŁĄ",1251.28,null,"20","14",2000,14,2014,"zambrowski",179.84]
[217053,"  Wiązów..........................................................................................................................................................................................................................................................",14177,"",142,7216,"",51,759,1263,null,null,"1661","   Opole",14888,149,128137,861,15,27,null,null,null,null,null,null,null,null,null,null,null,"04","08","05",2,400000,8000,50,2,408052,"KIKÓŁ",930.49,null,"20","61",2000,61,2061,"Białystok",302.3]
[217054,"",916,"",9,2257,"",246,"x","x",null,null,"","WOJ. PODKARPACKIE",null,null,null,null,null,null,null,null,null,null,null,null,null,null,null,null,null,"04","08","06",2,400000,8000,60,2,408062,"LIPNO",954.18,null,"20","62",2000,62,2062,"Łomża",256.07]
[217055,"",13261,"",133,4959,"",37,"x","x",null,null,""," Powiaty:",null,null,null,null,null,null,null,null,null,null,null,null,null,null,null,null,null,"04","08","07",3,400000,8000,70,3,408073,"SKĘPE",1331.81,null,"20","63",2000,63,2063,"Suwałki",239.22]
["","Powiat średzki  (5 gmin)",null,null,null,null,null,null,null,null,null,null,""," Powiats:",null,null,null,null,null,null,null,null,null,null,null,null,null,null,null,null,null,"04","08","08",2,400000,8000,80,2,408082,"TŁUCHOWO",1332.19,null,"22","01",2200,1,2201,"bytowski",193.26]
["","",null,null,null,null,null,null,null,null,null,null,"1801","   bieszczadzki",113907,1139,21879,19,97,312,null,null,null,null,null,null,null,null,null,null,null,"04","08","09",2,400000,8000,90,2,408092,"WIELGIE",1093.3,null,"22","02",2200,2,2202,"chojnicki",200.16]
[218012,"  Kostomłoty..........................................................................................................................................................................................................................................................",14524,"",145,7162,"",49,728,1270,null,null,"1802","   brzozowski",53934,539,65713,122,271,178,null,null,null,null,null,null,null,null,null,null,null,"04","09","01",2,400000,9000,10,2,409012,"DĄBROWA",1464.29,null,"22","03",2200,3,2203,"człuchowski",173]
[218022,"  Malczyce..........................................................................................................................................................................................................................................................",5257,"",53,5965,"",113,2001,1503,null,null,"1803","   dębicki",77748,777,135471,174,186,35,null,null,null,null,null,null,null,null,null,null,null,"04","09","02",2,400000,9000,20,2,409022,"JEZIORA WIELKIE",1021.58,null,"22","04",2200,4,2204,"gdański",305.36]
[218032,"  Miękinia..........................................................................................................................................................................................................................................................",17948,"",179,16175,"",90,454,467,null,null,"1804","   jarosławski",102866,1029,120714,117,119,46,null,null,null,null,null,null,null,null,null,null,null,"04","09","03",3,400000,9000,30,3,409033,"MOGILNO",1910.72,null,"22","05",2200,5,2205,"kartuski",227.84]
[218052,"  Udanin..........................................................................................................................................................................................................................................................",11089,"",111,5136,"",46,1202,1695,null,null,"1805","   jasielski",83087,831,113962,137,172,58,null,null,null,null,null,null,null,null,null,null,null,"04","09","04",3,400000,9000,40,3,409043,"STRZELNO",1588.29,null,"22","06",2200,6,2206,"kościerski",175.78]
["","",null,null,null,null,null,null,null,null,null,null,"1806","   kolbuszowski",77317,774,62476,81,187,190,null,null,null,null,null,null,null,null,null,null,null,"04","10","01",3,400000,10000,10,3,410013,"KCYNIA",1004.42,null,"22","07",2200,7,2207,"kwidzyński",207.51]
[218043,"  Środa Śląska..........................................................................................................................................................................................................................................................",21596,"",216,19831,"",92,271,349,null,null,"1807","   krośnieński",99311,993,112414,113,130,62,null,null,null,null,null,null,null,null,null,null,null,"04","10","02",3,400000,10000,20,3,410023,"MROCZA",1296.6099999999999,null,"22","08",2200,8,2208,"lęborski",204.58]
[218044,"",1494,"",15,9484,"",635,"x","x",null,null,"1821","   leski",83494,835,26562,32,169,310,null,null,null,null,null,null,null,null,null,null,null,"04","10","03",3,400000,10000,30,3,410033,"NAKŁO NAD NOTECIĄ",1461.97,null,"22","09",2200,9,2209,"malborski",204.23]
[218045,"",20102,"",201,10347,"",51,"x","x",null,null,"1808","   leżajski",58371,584,69562,119,260,167,null,null,null,null,null,null,null,null,null,null,null,"04","10","04",2,400000,10000,40,2,410042,"SADKI",1081.76,null,"22","10",2200,10,2210,"nowodworski",177.52]
["","Powiat świdnicki  (8 gmin)",null,null,null,null,null,null,null,null,null,null,"1809","   lubaczowski",130837,1308,55652,43,61,220,null,null,null,null,null,null,null,null,null,null,null,"04","10","05",3,400000,10000,50,3,410053,"SZUBIN",1390.04,null,"22","11",2200,11,2211,"pucki",231.82]
["","",null,null,null,null,null,null,null,null,null,null,"1810","   łańcucki",45184,452,80834,179,291,123,null,null,null,null,null,null,null,null,null,null,null,"04","11","01",1,400000,11000,10,1,411011,"RADZIEJÓW",1827.19,null,"22","12",2200,12,2212,"słupski",216.35]
[219011,"  Świdnica..........................................................................................................................................................................................................................................................",2176,"",22,57310,"",2634,2219,79,null,null,"1811","   mielecki",88050,881,136673,155,157,32,null,null,null,null,null,null,null,null,null,null,null,"04","11","02",2,400000,11000,20,2,411022,"BYTOŃ",963.33,null,"22","13",2200,13,2213,"starogardzki",212.64]
[219021,"  Świebodzice..........................................................................................................................................................................................................................................................",3043,"",30,22830,"",750,2164,285,null,null,"1812","   niżański",78564,786,66843,85,184,170,null,null,null,null,null,null,null,null,null,null,null,"04","11","03",2,400000,11000,30,2,411032,"DOBRE",1249.25,null,"22","14",2200,14,2214,"tczewski",217.69]
["","",null,null,null,null,null,null,null,null,null,null,"1813","   przemyski",121122,1211,74398,61,85,150,null,null,null,null,null,null,null,null,null,null,null,"04","11","04",2,400000,11000,40,2,411042,"OSIĘCINY",1072.6099999999999,null,"22","15",2200,15,2215,"wejherowski",240.28]
[219032,"  Dobromierz..........................................................................................................................................................................................................................................................",8593,"",86,5212,"",61,1597,1670,null,null,"1814","   przeworski",69802,698,78458,112,218,133,null,null,null,null,null,null,null,null,null,null,null,"04","11","05",3,400000,11000,50,3,411053,"PIOTRKÓW KUJAWSKI",1254.32,null,"22","16",2200,16,2216,"sztumski",150.24]
[219052,"  Marcinowice..........................................................................................................................................................................................................................................................",9524,"",95,6481,"",68,1465,1393,null,null,"1815","   ropczycko-sędziszowski",54831,548,74374,136,269,151,null,null,null,null,null,null,null,null,null,null,null,"04","11","06",2,400000,11000,60,2,411062,"RADZIEJÓW",2019.96,null,"22","61",2200,61,2261,"Gdańsk",429.79]
[219072,"  Świdnica..........................................................................................................................................................................................................................................................",20784,"",208,17155,"",83,302,433,null,null,"1816","   rzeszowski",114713,1147,168167,147,95,11,null,null,null,null,null,null,null,null,null,null,null,"04","11","07",2,400000,11000,70,2,411072,"TOPÓLKA",996.09,null,"22","62",2200,62,2262,"Gdynia",419.74]
["","",null,null,null,null,null,null,null,null,null,null,"1817","   sanocki",115643,1156,94758,82,94,88,null,null,null,null,null,null,null,null,null,null,null,"04","12","01",1,400000,12000,10,1,412011,"RYPIN",1716.23,null,"22","63",2200,63,2263,"Słupsk",280.81]
[219043,"  Jaworzyna Śląska..........................................................................................................................................................................................................................................................",6745,"",67,10297,"",153,1879,842,null,null,"1818","   stalowowolski",83174,832,106619,128,171,74,null,null,null,null,null,null,null,null,null,null,null,"04","12","02",2,400000,12000,20,2,412022,"BRZUZE",959.48,null,"22","64",2200,64,2264,"Sopot",574.63]
[219044,"",434,"",4,5141,"",1185,"x","x",null,null,"1819","   strzyżowski",50347,504,61558,122,279,191,null,null,null,null,null,null,null,null,null,null,null,"04","12","03",2,400000,12000,30,2,412032,"ROGOWO",853.35,null,"24","01",2400,1,2401,"będziński",315.11]
[219045,"",6311,"",63,5156,"",82,"x","x",null,null,"1820","   tarnobrzeski",52106,521,53236,102,278,231,null,null,null,null,null,null,null,null,null,null,null,"04","12","04",2,400000,12000,40,2,412042,"RYPIN",1350.71,null,"24","02",2400,2,2402,"bielski",318.62]
[219063,"  Strzegom..........................................................................................................................................................................................................................................................",14465,"",145,25887,"",179,736,232,null,null,""," Miasta na prawach powiatu:",null,null,null,null,null,null,null,null,null,null,null,null,null,null,null,null,null,"04","12","05",2,400000,12000,50,2,412052,"SKRWILNO",681.23,null,"24","03",2400,3,2403,"cieszyński",270.07]
[219064,"",2049,"",21,16153,"",788,"x","x",null,null,""," Cities with powiat status:",null,null,null,null,null,null,null,null,null,null,null,null,null,null,null,null,null,"04","12","06",2,400000,12000,60,2,412062,"WĄPIELSK",860.11,null,"24","04",2400,4,2404,"częstochowski",221.15]
[219065,"",12416,"",124,9734,"",78,"x","x",null,null,"1861","   Krosno",4350,44,46511,1069,53,64,null,null,null,null,null,null,null,null,null,null,null,"04","13","01",3,400000,13000,10,3,413013,"KAMIEŃ KRAJEŃSKI",1099.47,null,"24","05",{"$f":"AR262*100","v":2400},{"$f":"+AS262*1","v":5},{"$f":"AT262+AU262","v":2405},"gliwicki",282.79000000000002]
[219083,"  Żarów..........................................................................................................................................................................................................................................................",8784,"",88,12443,"",142,1564,666,null,null,"1862","   Przemyśl",4617,46,61251,1327,52,57,null,null,null,null,null,null,null,null,null,null,null,"04","13","02",3,400000,13000,20,3,413023,"SĘPÓLNO KRAJEŃSKIE",1339.04,null,"24","06",2400,6,2406,"kłobucki",238.08]
[219084,"",757,"",8,6755,"",892,"x","x",null,null,"1863","   Rzeszów",12661,126,193883,1531,20,18,null,null,null,null,null,null,null,null,null,null,null,"04","13","03",2,{"$f":"AF264*100000","v":400000},{"$f":"AG264*1000","v":13000},{"$f":"AH264*10","v":30},{"$f":"AI264*1","v":2},{"$f":"SUM(AJ264:AM264)","v":413032},"SOŚNO",863.29,null,"24","07",2400,7,2407,"lubliniecki",217.6]
[219085,"",8027,"",80,5688,"",71,"x","x",null,null,"1864","   Tarnobrzeg",8540,85,47047,551,32,63,null,null,null,null,null,null,null,null,null,null,null,"04","13","04",3,400000,13000,40,3,413043,"WIĘCBORK",1159.8499999999999,null,"24","08",2400,8,2408,"mikołowski",359.41]
["","Powiat trzebnicki  (6 gmin)",null,null,null,null,null,null,null,null,null,null,"","WOJ. PODLASKIE",null,null,null,null,null,null,null,null,null,null,null,null,null,null,null,null,null,"04","14","01",2,400000,14000,10,2,414012,"BUKOWIEC",1499.64,null,"24","09",2400,9,2409,"myszkowski",243.36]
["","",null,null,null,null,null,null,null,null,null,null,""," Powiaty:",null,null,null,null,null,null,null,null,null,null,null,null,null,null,null,null,null,"04","14","02",2,400000,14000,20,2,414022,"DRAGACZ",1424.61,null,"24","10",2400,10,2410,"pszczyński",304.64]
[220042,"  Wisznia Mała..........................................................................................................................................................................................................................................................",10336,"",103,10370,"",100,1333,834,null,null,""," Powiats:",null,null,null,null,null,null,null,null,null,null,null,null,null,null,null,null,null,"04","14","03",2,400000,14000,30,2,414032,"DRZYCIM",1324.37,null,"24","11",2400,11,2411,"raciborski",217.88]
[220052,"  Zawonia..........................................................................................................................................................................................................................................................",11745,"",118,5957,"",51,1089,1507,null,null,"2001","   augustowski",165939,1659,58367,35,23,203,null,null,null,null,null,null,null,null,null,null,null,"04","14","04",2,400000,14000,40,2,414042,"JEŻEWO",1356.51,null,"24","12",2400,12,2412,"rybnicki",274.82]
["","",null,null,null,null,null,null,null,null,null,null,"2002","   białostocki",297644,2975,148145,50,1,27,null,null,null,null,null,null,null,null,null,null,null,"04","14","05",2,400000,14000,50,2,414052,"LNIANO",1348.42,null,"24","13",2400,13,2413,"tarnogórski",306.93]
[220013,"  Oborniki Śląskie..........................................................................................................................................................................................................................................................",15426,"",154,20209,"",131,636,338,null,null,"2003","   bielski",138509,1385,54863,40,53,226,null,null,null,null,null,null,null,null,null,null,null,"04","14","06",3,400000,14000,60,3,414063,"NOWE",1106.3900000000001,null,"24","14",2400,14,2414,"bieruńsko-lędziński",340.35]
[220014,"",1446,"",14,9109,"",630,"x","x",null,null,"2004","   grajewski",96762,968,47518,49,135,250,null,null,null,null,null,null,null,null,null,null,null,"04","14","07",2,400000,14000,70,2,414072,"OSIE",2538.44,null,"24","15",2400,15,2415,"wodzisławski",272.97000000000003]
[220015,"",13980,"",140,11100,"",79,"x","x",null,null,"2005","   hajnowski",162353,1624,43143,27,26,272,null,null,null,null,null,null,null,null,null,null,null,"04","14","08",2,400000,14000,80,2,414082,"PRUSZCZ",1304.4100000000001,null,"24","16",2400,16,2416,"zawierciański",251.53]
[220023,"  Prusice..........................................................................................................................................................................................................................................................",15798,"",158,9362,"",59,617,935,null,null,"2006","   kolneński",94010,940,38396,41,144,290,null,null,null,null,null,null,null,null,null,null,null,"04","14","09",3,400000,14000,90,3,414093,"ŚWIECIE",2443.36,null,"24","17",2400,17,2417,"żywiecki",230.63]
[220024,"",1094,"",11,2232,"",204,"x","x",null,null,"2007","   łomżyński",135459,1355,51000,38,57,239,null,null,null,null,null,null,null,null,null,null,null,"04","14","10",2,400000,14000,100,2,414102,"ŚWIEKATOWO",887.74,null,"24","61",2400,61,2461,"Bielsko-Biała",400.27]
[220025,"",14704,"",147,7130,"",48,"x","x",null,null,"2008","   moniecki",138179,1382,40712,29,54,282,null,null,null,null,null,null,null,null,null,null,null,"04","14","11",2,400000,14000,110,2,414112,"WARLUBIE",1123.52,null,"24","62",2400,62,2462,"Bytom",244.18]
[220033,"  Trzebnica..........................................................................................................................................................................................................................................................",19996,"",200,24300,"",122,347,259,null,null,"2009","   sejneński",85517,855,20092,23,163,313,null,null,null,null,null,null,null,null,null,null,null,"04","15","01",1,400000,15000,10,1,415011,"CHEŁMŻA",1270.78,null,"24","63",2400,63,2463,"Chorzów",294.2]
[220034,"",1061,"",11,13322,"",1256,"x","x",null,null,"2010","   siemiatycki",145946,1459,44689,31,41,264,null,null,null,null,null,null,null,null,null,null,null,"04","15","02",2,400000,15000,20,2,415022,"CHEŁMŻA",1354.8,null,"24","64",2400,64,2464,"Częstochowa",303.93]
[220035,"",18935,"",189,10978,"",58,"x","x",null,null,"2011","   sokólski",205450,2055,67466,33,8,169,null,null,null,null,null,null,null,null,null,null,null,"04","15","03",2,400000,15000,30,2,415032,"CZERNIKOWO",923.93,null,"24","65",2400,65,2465,"Dąbrowa Górnicza",348.79]
[220063,"  Żmigród..........................................................................................................................................................................................................................................................",29177,"",292,14688,"",50,112,533,null,null,"2012","   suwalski",130700,1307,35792,27,63,296,null,null,null,null,null,null,null,null,null,null,null,"04","15","04",2,400000,15000,40,2,415042,"LUBICZ",2043.81,null,"24","66",2400,66,2466,"Gliwice",388.91]
[220064,"",949,"",10,6449,"",680,"x","x",null,null,"2013","   wysokomazowiecki",128891,1289,57248,44,65,210,null,null,null,null,null,null,null,null,null,null,null,"04","15","05",2,400000,15000,50,2,415052,"ŁUBIANKA",1283.3399999999999,null,"24","67",2400,67,2467,"Jastrzębie-Zdrój",277.74]
[220065,"",28228,"",282,8239,"",29,"x","x",null,null,"2014","   zambrowski",73312,733,43816,60,202,268,null,null,null,null,null,null,null,null,null,null,null,"04","15","06",2,400000,15000,60,2,415062,"ŁYSOMICE",2878.12,null,"24","68",2400,68,2468,"Jaworzno",338.35]
["","Powiat wałbrzyski  (8 gmin)",null,null,null,null,null,null,null,null,null,null,""," Miasta na prawach powiatu:",null,null,null,null,null,null,null,null,null,null,null,null,null,null,null,null,null,"04","15","07",2,400000,15000,70,2,415072,"OBROWO",1314.82,null,"24","69",2400,69,2469,"Katowice",449.87]
["","",null,null,null,null,null,null,null,null,null,null,""," Cities with powiat status:",null,null,null,null,null,null,null,null,null,null,null,null,null,null,null,null,null,"04","15","08",2,400000,15000,80,2,415082,"WIELKA NIESZAWKA",2591.25,null,"24","70",2400,70,2470,"Mysłowice",339.45]
[221011,"  Boguszów-Gorce..........................................................................................................................................................................................................................................................",2702,"",27,15444,"",572,2184,501,null,null,"2061","   Białystok",10213,102,297459,2913,26,10,null,null,null,null,null,null,null,null,null,null,null,"04","15","09",2,400000,15000,90,2,415092,"ZŁAWIEŚ WIELKA",1656.03,null,"24","71",2400,71,2471,"Piekary Śląskie",291.86]
[221021,"  Jedlina-Zdrój..........................................................................................................................................................................................................................................................",1745,"",17,4851,"",278,2257,1765,null,null,"2062","   Łomża",3267,33,63000,1928,60,54,null,null,null,null,null,null,null,null,null,null,null,"04","16","01",2,400000,16000,10,2,416012,"CEKCYN",1286.8499999999999,null,"24","72",2400,72,2472,"Ruda Śląska",299.01]
[221031,"  Szczawno-Zdrój..........................................................................................................................................................................................................................................................",1474,"",15,5608,"",380,2281,1571,null,null,"2063","   Suwałki",6551,66,69827,1066,46,50,null,null,null,null,null,null,null,null,null,null,null,"04","16","02",2,400000,16000,20,2,416022,"GOSTYCYN",1124.1199999999999,null,"24","73",2400,73,2473,"Rybnik",309.33]
["","",null,null,null,null,null,null,null,null,null,null,"","WOJ. POMORSKIE",null,null,null,null,null,null,null,null,null,null,null,null,null,null,null,null,null,"04","16","03",2,400000,16000,30,2,416032,"KĘSOWO",928.85,null,"24","74",2400,74,2474,"Siemianowice Śląskie",303.33]
[221042,"  Czarny Bór..........................................................................................................................................................................................................................................................",6640,"",66,4848,"",73,1891,1767,null,null,""," Powiaty:",null,null,null,null,null,null,null,null,null,null,null,null,null,null,null,null,null,"04","16","04",2,400000,16000,40,2,416042,"LUBIEWO",1223.69,null,"24","75",2400,75,2475,"Sosnowiec",314.75]
[221072,"  Stare Bogaczowice..........................................................................................................................................................................................................................................................",8729,"",88,4298,"",49,1573,1903,null,null,""," Powiats:",null,null,null,null,null,null,null,null,null,null,null,null,null,null,null,null,null,"04","16","05",2,400000,16000,50,2,416052,"ŚLIWICE",1668.55,null,"24","76",2400,76,2476,"Świętochłowice",245.03]
[221082,"  Walim..........................................................................................................................................................................................................................................................",7914,"",79,5430,"",69,1716,1617,null,null,"2201","   bytowski",219207,2192,79299,36,6,128,null,null,null,null,null,null,null,null,null,null,null,"04","16","06",3,400000,16000,60,3,416063,"TUCHOLA",1438.25,null,"24","77",2400,77,2477,"Tychy",395.57]
["","",null,null,null,null,null,null,null,null,null,null,"2202","   chojnicki",136421,1364,97551,72,56,84,null,null,null,null,null,null,null,null,null,null,null,"04","17","01",1,400000,17000,10,1,417011,"WĄBRZEŹNO",1686.5,null,"24","78",2400,78,2478,"Zabrze",266.14999999999998]
[221053,"  Głuszyca..........................................................................................................................................................................................................................................................",6212,"",62,8659,"",139,1935,1024,null,null,"2203","   człuchowski",157527,1575,56370,36,30,216,null,null,null,null,null,null,null,null,null,null,null,"04","17","02",2,400000,17000,20,2,417022,"DĘBOWA ŁĄKA",1233.06,null,"24","79",2400,79,2479,"Żory",296.02]
[221054,"",1621,"",16,6381,"",394,"x","x",null,null,"2204","   gdański",79375,794,116199,146,182,55,null,null,null,null,null,null,null,null,null,null,null,"04","17","03",2,400000,17000,30,2,417032,"KSIĄŻKI",969.97,null,"26","01",2600,1,2601,"buski",168.7]
[221055,"",4591,"",46,2278,"",50,"x","x",null,null,"2205","   kartuski",112054,1121,136619,122,100,34,null,null,null,null,null,null,null,null,null,null,null,"04","17","04",2,400000,17000,40,2,417042,"PŁUŻNICA",1253.1400000000001,null,"26","02",2600,2,2602,"jędrzejowski",159.35]
[221063,"  Mieroszów..........................................................................................................................................................................................................................................................",7606,"",76,6866,"",90,1759,1324,null,null,"2206","   kościerski",116567,1166,72528,62,90,155,null,null,null,null,null,null,null,null,null,null,null,"04","17","05",2,400000,17000,50,2,417052,"RYŃSK",1251.1500000000001,null,"26","03",2600,3,2603,"kazimierski",105.05]
[221064,"",1031,"",10,4106,"",398,"x","x",null,null,"2207","   kwidzyński",83470,835,83291,100,170,118,null,null,null,null,null,null,null,null,null,null,null,"04","18","01",1,400000,18000,10,1,418011,"KOWAL",1233.24,null,"26","04",2600,4,2604,"kielecki",181.87]
[221065,"",6575,"",66,2760,"",42,"x","x",null,null,"2208","   lęborski",70777,708,66280,94,215,173,null,null,null,null,null,null,null,null,null,null,null,"04","18","02",2,400000,18000,20,2,418022,"BARUCHOWO",1010.37,null,"26","05",2600,5,2605,"konecki",161.59]
["","Powiat wołowski  (3 gminy)",null,null,null,null,null,null,null,null,null,null,"2209","   malborski",49423,494,63748,129,282,185,null,null,null,null,null,null,null,null,null,null,null,"04","18","03",2,400000,18000,30,2,418032,"BONIEWO",776.83,null,"26","06",2600,6,2606,"opatowski",137.34]
["","",null,null,null,null,null,null,null,null,null,null,"2210","   nowodworski",67408,674,35746,53,230,297,null,null,null,null,null,null,null,null,null,null,null,"04","18","04",3,400000,18000,40,3,418043,"BRZEŚĆ KUJAWSKI",1967.31,null,"26","07",2600,7,2607,"ostrowiecki",196.4]
[222022,"  Wińsko..........................................................................................................................................................................................................................................................",24946,"",250,8369,"",34,185,1067,null,null,"2211","   pucki",58118,581,85726,148,262,111,null,null,null,null,null,null,null,null,null,null,null,"04","18","05",2,400000,18000,50,2,418052,"CHOCEŃ",1031.6300000000001,null,"26","08",2600,8,2608,"pińczowski",160.11000000000001]
["","",null,null,null,null,null,null,null,null,null,null,"2212","   słupski",230424,2304,98816,43,4,81,null,null,null,null,null,null,null,null,null,null,null,"04","18","06",3,400000,18000,60,3,418063,"CHODECZ",1221.1099999999999,null,"26","09",2600,9,2609,"sandomierski",170.43]
[222013,"  Brzeg Dolny..........................................................................................................................................................................................................................................................",9440,"",94,16131,"",171,1481,472,null,null,"2213","   starogardzki",134534,1345,128004,95,59,39,null,null,null,null,null,null,null,null,null,null,null,"04","18","07",2,400000,18000,70,2,418072,"FABIANKI",1740.36,null,"26","10",2600,10,2610,"skarżyski",211.92]
[222014,"",1720,"",17,12492,"",726,"x","x",null,null,"2216","   sztumski",73074,731,41569,57,203,276,null,null,null,null,null,null,null,null,null,null,null,"04","18","08",3,400000,18000,80,3,418083,"IZBICA KUJAWSKA",953.31,null,"26","11",2600,11,2611,"starachowicki",200.79]
[222015,"",7720,"",77,3639,"",47,"x","x",null,null,"2214","   tczewski",69711,697,115876,166,219,56,null,null,null,null,null,null,null,null,null,null,null,"04","18","09",2,400000,18000,90,2,418092,"KOWAL",940.7,null,"26","12",2600,12,2612,"staszowski",176.04]
[222033,"  Wołów..........................................................................................................................................................................................................................................................",33110,"",331,22556,"",68,66,289,null,null,"2215","   wejherowski",128525,1285,215908,168,67,5,null,null,null,null,null,null,null,null,null,null,null,"04","18","10",2,400000,18000,100,2,418102,"LUBANIE",2007.44,null,"26","13",2600,13,2613,"włoszczowski",161.04]
[222034,"",1854,"",19,12425,"",670,"x","x",null,null,""," Miasta na prawach powiatu:",null,null,null,null,null,null,null,null,null,null,null,null,null,null,null,null,null,"04","18","11",3,400000,18000,110,3,418113,"LUBIEŃ KUJAWSKI",1320.08,null,"26","61",2600,61,2661,"Kielce",325.04000000000002]
[222035,"",31256,"",312,10131,"",32,"x","x",null,null,""," Cities with powiat status:",null,null,null,null,null,null,null,null,null,null,null,null,null,null,null,null,null,"04","18","12",3,400000,18000,120,3,418123,"LUBRANIEC",1037.48,null,"28","01",2800,1,2801,"bartoszycki",161.58000000000001]
["","Powiat wrocławski  (9 gmin)",null,null,null,null,null,null,null,null,null,null,"2261","   Gdańsk",26196,262,466631,1781,7,6,null,null,null,null,null,null,null,null,null,null,null,"04","18","13",2,400000,18000,130,2,418132,"WŁOCŁAWEK",1720.34,null,"28","02",2800,2,2802,"braniewski",175.29]
["","",null,null,null,null,null,null,null,null,null,null,"2262","   Gdynia",13514,135,246309,1823,18,12,null,null,null,null,null,null,null,null,null,null,null,"04","19","01",3,400000,19000,10,3,419013,"BARCIN",2427.58,null,"28","03",2800,3,2803,"działdowski",179.38]
[223012,"  Czernica..........................................................................................................................................................................................................................................................",8363,"",84,15573,"",186,1642,496,null,null,"2263","   Słupsk",4315,43,91007,2109,54,42,null,null,null,null,null,null,null,null,null,null,null,"04","19","02",2,400000,19000,20,2,419022,"GĄSAWA",1388.1,null,"28","04",2800,4,2804,"elbląski",157.58000000000001]
[223022,"  Długołęka..........................................................................................................................................................................................................................................................",21284,"",213,32153,"",151,280,171,null,null,"2264","   Sopot",1728,17,36046,2086,64,66,null,null,null,null,null,null,null,null,null,null,null,"04","19","03",3,400000,19000,30,3,419033,"JANOWIEC WIELKOPOLSKI",1245.31,null,"28","05",2800,5,2805,"ełcki",174.37]
[223032,"  Jordanów Śląski..........................................................................................................................................................................................................................................................",5669,"",57,3161,"",56,1976,2165,null,null,"","WOJ. ŚLĄSKIE",null,null,null,null,null,null,null,null,null,null,null,null,null,null,null,null,null,"04","19","04",3,400000,19000,40,3,419043,"ŁABISZYN",1136.78,null,"28","06",2800,6,2806,"giżycki",203.28]
[223052,"  Kobierzyce..........................................................................................................................................................................................................................................................",14926,"",149,21097,"",141,682,324,null,null,""," Powiaty:",null,null,null,null,null,null,null,null,null,null,null,null,null,null,null,null,null,"04","19","05",2,400000,19000,50,2,419052,"ROGOWO",1163.44,null,"28","07",2800,7,2807,"iławski",200.15]
[223062,"  Mietków..........................................................................................................................................................................................................................................................",8338,"",83,3785,"",45,1647,2033,null,null,""," Powiats:",null,null,null,null,null,null,null,null,null,null,null,null,null,null,null,null,null,"04","19","06",3,400000,19000,60,3,419063,"ŻNIN",1424.14,null,"28","08",2800,8,2808,"kętrzyński",163.27000000000001]
[223092,"  Żórawina..........................................................................................................................................................................................................................................................",12027,"",120,10865,"",90,1048,791,null,null,"2401","   będziński",36413,364,148762,409,307,26,null,null,null,null,null,null,null,null,null,null,null,"04","61","01",1,400000,61000,10,1,461011,"Bydgoszcz",1978.59,null,"28","09",2800,9,2809,"lidzbarski",163.61000000000001]
["","",null,null,null,null,null,null,null,null,null,null,"2402","   bielski",45864,459,165000,360,290,13,null,null,null,null,null,null,null,null,null,null,null,"04","62","01",1,400000,62000,10,1,462011,"Grudziądz",1601.48,null,"28","10",2800,10,2810,"mrągowski",192.94]
[223043,"  Kąty Wrocławskie..........................................................................................................................................................................................................................................................",17666,"",177,24639,"",139,475,252,null,null,"2414","   bieruńsko-lędziński",15815,158,59760,378,313,197,null,null,null,null,null,null,null,null,null,null,null,"04","63","01",1,400000,63000,10,1,463011,"Toruń",2052.79,null,"28","11",2800,11,2811,"nidzicki",148.58000000000001]
[223044,"",861,"",9,6948,"",807,"x","x",null,null,"2403","   cieszyński",73029,730,178139,244,204,10,null,null,null,null,null,null,null,null,null,null,null,"04","64","01",1,400000,64000,10,1,464011,"Włocławek",2221.02,null,"28","12",2800,12,2812,"nowomiejski",143.80000000000001]
[223045,"",16805,"",168,17691,"",105,"x","x",null,null,"2404","   częstochowski",152205,1521,134919,89,34,36,null,null,null,null,null,null,null,null,null,null,null,"06","01","01",1,600000,1000,10,1,601011,"MIĘDZYRZEC PODLASKI",1410,null,"28","13",2800,13,2813,"olecki",160.29]
[223083,"  Siechnice..........................................................................................................................................................................................................................................................",9871,"",99,21960,"",222,1410,304,null,null,"2405","   gliwicki",66437,664,115558,174,234,57,null,null,null,null,null,null,null,null,null,null,null,"06","01","02",1,600000,1000,20,1,601021,"TERESPOL",1466.44,null,"28","14",2800,14,2814,"olsztyński",230.03]
[223084,"",1563,"",16,7892,"",505,"x","x",null,null,"2406","   kłobucki",88859,889,84924,96,154,113,null,null,null,null,null,null,null,null,null,null,null,"06","01","03",2,600000,1000,30,2,601032,"BIAŁA PODLASKA",1150.53,null,"28","15",2800,15,2815,"ostródzki",188.87]
[223085,"",8308,"",83,14068,"",169,"x","x",null,null,"2407","   lubliniecki",82225,822,76593,93,174,143,null,null,null,null,null,null,null,null,null,null,null,"06","01","04",2,600000,1000,40,2,601042,"DRELÓW",790.06,null,"28","16",2800,16,2816,"piski",152.80000000000001]
[223073,"  Sobótka..........................................................................................................................................................................................................................................................",13626,"",136,12827,"",94,820,640,null,null,"2408","   mikołowski",23310,233,98373,422,311,83,null,null,null,null,null,null,null,null,null,null,null,"06","01","05",2,600000,1000,50,2,601052,"JANÓW PODLASKI",1099.45,null,"28","17",2800,17,2817,"szczycieński",175.37]
[223074,"",3220,"",32,6957,"",216,"x","x",null,null,"2409","   myszkowski",47925,479,71119,148,284,162,null,null,null,null,null,null,null,null,null,null,null,"06","01","06",2,600000,1000,60,2,601062,"KODEŃ",788.76,null,"28","18",2800,18,2818,"gołdapski",138.61000000000001]
[223075,"",10406,"",104,5870,"",56,"x","x",null,null,"2410","   pszczyński",47116,471,111202,236,288,65,null,null,null,null,null,null,null,null,null,null,null,"06","01","07",2,600000,1000,70,2,601072,"KONSTANTYNÓW",822.84,null,"28","19",{"$f":"AR326*100","v":2800},{"$f":"+AS326*1","v":19},{"$f":"AT326+AU326","v":2819},"węgorzewski",162.59]
["","Powiat ząbkowicki  (7 gmin)",null,null,null,null,null,null,null,null,null,null,"2411","   raciborski",54376,544,108513,200,270,70,null,null,null,null,null,null,null,null,null,null,null,"06","01","08",2,600000,1000,80,2,601082,"LEŚNA PODLASKA",742.01,null,"28","61",2800,61,2861,"Elbląg",285.61]
["","",null,null,null,null,null,null,null,null,null,null,"2412","   rybnicki",22364,224,78104,349,312,135,null,null,null,null,null,null,null,null,null,null,null,"06","01","09",2,{"$f":"AF328*100000","v":600000},{"$f":"AG328*1000","v":1000},{"$f":"AH328*10","v":90},{"$f":"AI328*1","v":2},{"$f":"SUM(AJ328:AM328)","v":601092},"ŁOMAZY",834.58,null,"28","62",2800,62,2862,"Olsztyn",346.06]
[224022,"  Ciepłowody..........................................................................................................................................................................................................................................................",7741,"",77,3014,"",39,1742,2185,null,null,"2413","   tarnogórski",64419,644,139833,217,238,30,null,null,null,null,null,null,null,null,null,null,null,"06","01","10",2,600000,1000,100,2,601102,"MIĘDZYRZEC PODLASKI",909.82,null,"30","01",3000,1,3001,"chodzieski",252.58]
[224032,"  Kamieniec Ząbkowicki..........................................................................................................................................................................................................................................................",9669,"",97,8182,"",85,1436,1097,null,null,"2415","   wodzisławski",28675,287,157616,550,309,19,null,null,null,null,null,null,null,null,null,null,null,"06","01","11",2,600000,1000,110,2,601112,"PISZCZAC",827.09,null,"30","02",3000,2,3002,"czarnkowsko-trzcianecki",198.87]
[224042,"  Stoszowice..........................................................................................................................................................................................................................................................",11072,"",112,5415,"",49,1207,1621,null,null,"2416","   zawierciański",100223,1003,118434,118,128,49,null,null,null,null,null,null,null,null,null,null,null,"06","01","12",2,600000,1000,120,2,601122,"ROKITNO",864.9,null,"30","03",3000,3,3003,"gnieźnieński",221.98]
["","",null,null,null,null,null,null,null,null,null,null,"2417","   żywiecki",104006,1040,153226,147,115,24,null,null,null,null,null,null,null,null,null,null,null,"06","01","13",2,600000,1000,130,2,601132,"ROSSOSZ",803.19,null,"30","04",3000,4,3004,"gostyński",230.39]
[224013,"  Bardo..........................................................................................................................................................................................................................................................",7303,"",73,5328,"",73,1806,1646,null,null,""," Miasta na prawach powiatu:",null,null,null,null,null,null,null,null,null,null,null,null,null,null,null,null,null,"06","01","14",2,600000,1000,140,2,601142,"SŁAWATYCZE",868.83,null,"30","05",3000,5,3005,"grodziski",221.03]
[224014,"",471,"",5,2563,"",544,"x","x",null,null,""," Cities with powiat status:",null,null,null,null,null,null,null,null,null,null,null,null,null,null,null,null,null,"06","01","15",2,600000,1000,150,2,601152,"SOSNÓWKA",793.83,null,"30","06",3000,6,3006,"jarociński",212.04]
[224015,"",6832,"",68,2765,"",40,"x","x",null,null,"2461","   Bielsko-Biała",12451,125,171259,1375,21,22,null,null,null,null,null,null,null,null,null,null,null,"06","01","16",2,600000,1000,160,2,601162,"TERESPOL",2794.21,null,"30","07",3000,7,3007,"kaliski",197.16]
[224053,"  Ząbkowice Śląskie..........................................................................................................................................................................................................................................................",14613,"",146,21885,"",150,718,307,null,null,"2462","   Bytom",6944,69,166795,2402,42,23,null,null,null,null,null,null,null,null,null,null,null,"06","01","17",2,600000,1000,170,2,601172,"TUCZNA",879.41,null,"30","08",3000,8,3008,"kępiński",342.39]
[224054,"",1367,"",14,15072,"",1103,"x","x",null,null,"2463","   Chorzów",3324,33,108434,3262,59,36,null,null,null,null,null,null,null,null,null,null,null,"06","01","18",2,600000,1000,180,2,601182,"WISZNICE",1069.44,null,"30","09",3000,9,3009,"kolski",186.69]
[224055,"",13246,"",132,6813,"",51,"x","x",null,null,"2464","   Częstochowa",15971,160,222292,1392,13,13,null,null,null,null,null,null,null,null,null,null,null,"06","01","19",2,600000,1000,190,2,601192,"ZALESIE",1487.33,null,"30","10",3000,10,3010,"koniński",171.35]
[224063,"  Ziębice..........................................................................................................................................................................................................................................................",22228,"",222,17088,"",77,254,437,null,null,"2465","   Dąbrowa Górnicza",18873,189,120259,637,10,30,null,null,null,null,null,null,null,null,null,null,null,"06","02","01",1,600000,2000,10,1,602011,"BIŁGORAJ",1615.75,null,"30","11",3000,11,3011,"kościański",235.25]
[224064,"",1507,"",15,8759,"",581,"x","x",null,null,"2466","   Gliwice",13388,134,179806,1343,19,19,null,null,null,null,null,null,null,null,null,null,null,"06","02","02",2,600000,2000,20,2,602022,"ALEKSANDRÓW",512.37,null,"30","12",3000,12,3012,"krotoszyński",223.36]
[224065,"",20721,"",207,8329,"",40,"x","x",null,null,"2467","   Jastrzębie-Zdrój",8533,85,89128,1045,33,43,null,null,null,null,null,null,null,null,null,null,null,"06","02","03",2,600000,2000,30,2,602032,"BIŁGORAJ",915.04,null,"30","13",3000,13,3013,"leszczyński",207.67]
[224073,"  Złoty Stok..........................................................................................................................................................................................................................................................",7527,"",75,4516,"",60,1770,1846,null,null,"2468","   Jaworzno",15259,153,91563,600,14,41,null,null,null,null,null,null,null,null,null,null,null,"06","02","04",2,600000,2000,40,2,602042,"BISZCZA",865.12,null,"30","14",3000,14,3014,"międzychodzki",215.08]
[224074,"",773,"",8,2787,"",361,"x","x",null,null,"2469","   Katowice",16464,165,294510,1789,12,11,null,null,null,null,null,null,null,null,null,null,null,"06","02","05",3,600000,2000,50,3,602053,"FRAMPOL",793.25,null,"30","15",3000,15,3015,"nowotomyski",257.99]
[224075,"",6754,"",67,1729,"",26,"x","x",null,null,"2470","   Mysłowice",6562,66,74586,1137,45,47,null,null,null,null,null,null,null,null,null,null,null,"06","02","06",2,600000,2000,60,2,602062,"GORAJ",635.07000000000005,null,"30","16",3000,16,3016,"obornicki",222.66]
["","Powiat zgorzelecki  (7 gmin)",null,null,null,null,null,null,null,null,null,null,"2471","   Piekary Śląskie",3998,40,55299,1383,55,59,null,null,null,null,null,null,null,null,null,null,null,"06","02","07",3,600000,2000,70,3,602073,"JÓZEFÓW",799.8,null,"30","17",3000,17,3017,"ostrowski",252.68]
["","",null,null,null,null,null,null,null,null,null,null,"2472","   Ruda Śląska",7773,78,138000,1775,40,26,null,null,null,null,null,null,null,null,null,null,null,"06","02","08",2,600000,2000,80,2,602082,"KSIĘŻPOL",895.16,null,"30","18",3000,18,3018,"ostrzeszowski",217.9]
[225011,"  Zawidów..........................................................................................................................................................................................................................................................",607,"",6,4217,"",695,2334,1925,null,null,"2473","   Rybnik",14836,148,138696,935,16,25,null,null,null,null,null,null,null,null,null,null,null,"06","02","09",2,600000,2000,90,2,602092,"ŁUKOWA",1330.65,null,"30","19",3000,19,3019,"pilski",244.86]
[225021,"  Zgorzelec..........................................................................................................................................................................................................................................................",1588,"",16,30521,"",1922,2271,183,null,null,"2474","   Siemianowice Śląskie",2550,25,67154,2633,63,51,null,null,null,null,null,null,null,null,null,null,null,"06","02","10",2,600000,2000,100,2,602102,"OBSZA",732.07,null,"30","20",3000,20,3020,"pleszewski",190.74]
["","",null,null,null,null,null,null,null,null,null,null,"2475","   Sosnowiec",9106,91,202036,2219,28,16,null,null,null,null,null,null,null,null,null,null,null,"06","02","11",2,600000,2000,110,2,602112,"POTOK GÓRNY",454.97,null,"30","21",3000,21,3021,"poznański",422.7]
[225052,"  Sulików..........................................................................................................................................................................................................................................................",9451,"",95,6061,"",64,1479,1477,null,null,"2476","   Świętochłowice",1331,13,50012,3757,65,61,null,null,null,null,null,null,null,null,null,null,null,"06","02","12",3,600000,2000,120,3,602123,"TARNOGRÓD",1115,null,"30","22",3000,22,3022,"rawicki",211.98]
[225072,"  Zgorzelec..........................................................................................................................................................................................................................................................",13715,"",137,8509,"",62,812,1049,null,null,"2477","   Tychy",8181,82,127831,1563,37,28,null,null,null,null,null,null,null,null,null,null,null,"06","02","13",2,600000,2000,130,2,602132,"TERESZPOL",797.95,null,"30","23",3000,23,3023,"słupecki",189.52]
["","",null,null,null,null,null,null,null,null,null,null,"2478","   Zabrze",8040,80,173374,2156,38,20,null,null,null,null,null,null,null,null,null,null,null,"06","02","14",2,600000,2000,140,2,602142,"TUROBIN",763.98,null,"30","24",3000,24,3024,"szamotulski",262.54000000000002]
[225033,"  Bogatynia..........................................................................................................................................................................................................................................................",13612,"",136,23210,"",171,821,281,null,null,"2479","   Żory",6464,65,62456,966,47,56,null,null,null,null,null,null,null,null,null,null,null,"06","03","01",1,600000,3000,10,1,603011,"REJOWIEC FABRYCZNY",1285.1400000000001,null,"30","25",3000,25,3025,"średzki",251.42]
[225034,"",5988,"",60,17559,"",293,"x","x",null,null,"","WOJ. ŚWIĘTOKRZYSKIE",null,null,null,null,null,null,null,null,null,null,null,null,null,null,null,null,null,"06","03","02",2,600000,3000,20,2,603022,"BIAŁOPOLE",890.27,null,"30","26",3000,26,3026,"śremski",243.55]
[225035,"",7624,"",76,5651,"",74,"x","x",null,null,""," Powiaty:",null,null,null,null,null,null,null,null,null,null,null,null,null,null,null,null,null,"06","03","03",2,600000,3000,30,2,603032,"CHEŁM",1296.06,null,"30","27",3000,27,3027,"turecki",208.96]
[225043,"  Pieńsk..........................................................................................................................................................................................................................................................",11053,"",111,9112,"",82,1211,965,null,null,""," Powiats:",null,null,null,null,null,null,null,null,null,null,null,null,null,null,null,null,null,"06","03","04",2,600000,3000,40,2,603042,"DOROHUSK",1159.6400000000001,null,"30","28",3000,28,3028,"wągrowiecki",187.37]
[225044,"",992,"",10,5848,"",590,"x","x",null,null,"2601","   buski",96800,968,72058,74,134,157,null,null,null,null,null,null,null,null,null,null,null,"06","03","05",2,600000,3000,50,2,603052,"DUBIENKA",806.95,null,"30","29",3000,29,3029,"wolsztyński",244.74]
[225045,"",10061,"",101,3264,"",32,"x","x",null,null,"2602","   jędrzejowski",125696,1257,86076,68,72,110,null,null,null,null,null,null,null,null,null,null,null,"06","03","06",2,600000,3000,60,2,603062,"KAMIEŃ",1048.3399999999999,null,"30","30",3000,30,3030,"wrzesiński",250.36]
[225063,"  Węgliniec..........................................................................................................................................................................................................................................................",33834,"",338,8373,"",25,62,1066,null,null,"2603","   kazimierski",42218,422,33851,80,297,304,null,null,null,null,null,null,null,null,null,null,null,"06","03","07",2,600000,3000,70,2,603072,"LEŚNIOWICE",890.23,null,"30","31",3000,31,3031,"złotowski",171.81]
[225064,"",873,"",9,2860,"",328,"x","x",null,null,"2604","   kielecki",224607,2246,210694,94,5,6,null,null,null,null,null,null,null,null,null,null,null,"06","03","08",2,600000,3000,80,2,603082,"REJOWIEC FABRYCZNY",876.83,null,"30","61",3000,61,3061,"Kalisz",346.4]
[225065,"",32961,"",329,5513,"",17,"x","x",null,null,"2605","   konecki",113972,1139,80648,71,96,124,null,null,null,null,null,null,null,null,null,null,null,"06","03","09",2,600000,3000,90,2,603092,"RUDA-HUTA",700.86,null,"30","62",3000,62,3062,"Konin",282.95999999999998]
["","Powiat złotoryjski  (6 gmin)",null,null,null,null,null,null,null,null,null,null,"2606","   opatowski",91090,911,52577,58,152,233,null,null,null,null,null,null,null,null,null,null,null,"06","03","10",2,600000,3000,100,2,603102,"SAWIN",882.35,null,"30","63",3000,63,3063,"Leszno",346.56]
["","",null,null,null,null,null,null,null,null,null,null,"2607","   ostrowiecki",61678,617,110127,179,250,67,null,null,null,null,null,null,null,null,null,null,null,"06","03","11",3,600000,3000,110,3,603113,"SIEDLISZCZE",821.25,null,"30","64",3000,64,3064,"Poznań",489.26]
[226011,"  Wojcieszów..........................................................................................................................................................................................................................................................",3217,"",32,3676,"",114,2155,2060,null,null,"2608","   pińczowski",61285,613,39271,64,254,286,null,null,null,null,null,null,null,null,null,null,null,"06","03","12",2,600000,3000,120,2,603122,"WIERZBICA",977.06,null,"32","01",3200,1,3201,"białogardzki",175.75]
[226021,"  Złotoryja..........................................................................................................................................................................................................................................................",1151,"",12,15655,"",1360,2309,491,null,null,"2609","   sandomierski",67589,676,77773,115,227,137,null,null,null,null,null,null,null,null,null,null,null,"06","03","13",2,600000,3000,130,2,603132,"WOJSŁAWICE",753.79,null,"32","02",3200,2,3202,"choszczeński",164.4]
["","",null,null,null,null,null,null,null,null,null,null,"2610","   skarżyski",39543,395,74817,189,302,148,null,null,null,null,null,null,null,null,null,null,null,"06","03","14",2,600000,3000,140,2,603142,"ŻMUDŹ",830.77,null,"32","03",3200,3,3203,"drawski",175.5]
[226032,"  Pielgrzymka..........................................................................................................................................................................................................................................................",10485,"",105,4582,"",44,1302,1830,null,null,"2611","   starachowicki",52341,523,90377,173,277,96,null,null,null,null,null,null,null,null,null,null,null,"06","03","15",3,600000,3000,150,3,603153,"REJOWIEC",906.92,null,"32","04",3200,4,3204,"goleniowski",235.06]
[226052,"  Zagrodno..........................................................................................................................................................................................................................................................",12234,"",122,5306,"",43,1017,1651,null,null,"2612","   staszowski",92480,925,72167,78,150,156,null,null,null,null,null,null,null,null,null,null,null,"06","04","01",1,600000,4000,10,1,604011,"HRUBIESZÓW",1483.72,null,"32","05",3200,5,3205,"gryficki",189.83]
[226062,"  Złotoryja..........................................................................................................................................................................................................................................................",14495,"",145,7098,"",49,732,1281,null,null,"2613","   włoszczowski",90786,908,45336,50,153,260,null,null,null,null,null,null,null,null,null,null,null,"06","04","02",2,600000,4000,20,2,604022,"DOŁHOBYCZÓW",1169.68,null,"32","06",3200,6,3206,"gryfiński",190.52]
["","",null,null,null,null,null,null,null,null,null,null,""," Miasto na prawach powiatu",null,null,null,null,null,null,null,null,null,null,null,null,null,null,null,null,null,"06","04","03",2,600000,4000,30,2,604032,"HORODŁO",1159.19,null,"32","07",3200,7,3207,"kamieński",200.97]
[226043,"  Świerzawa..........................................................................................................................................................................................................................................................",15999,"",160,7552,"",47,594,1195,null,null,""," City with powiat status",null,null,null,null,null,null,null,null,null,null,null,null,null,null,null,null,null,"06","04","04",2,600000,4000,40,2,604042,"HRUBIESZÓW",925.12,null,"32","08",3200,8,3208,"kołobrzeski",268.64999999999998]
[226044,"",176,"",2,2291,"",1302,"x","x",null,null,"2661","   Kielce",10965,110,195774,1785,24,17,null,null,null,null,null,null,null,null,null,null,null,"06","04","05",2,600000,4000,50,2,604052,"MIRCZE",1107.18,null,"32","09",3200,9,3209,"koszaliński",217.71]
[226045,"",15823,"",158,5261,"",33,"x","x",null,null,"","WOJ. WARMIŃSKO-MAZURSKIE",null,null,null,null,null,null,null,null,null,null,null,null,null,null,null,null,null,"06","04","06",2,600000,4000,60,2,604062,"TRZESZCZANY",910.82,null,"32","10",3200,10,3210,"myśliborski",184.59]
["","",null,null,null,null,null,null,null,null,null,null,""," Powiaty:",null,null,null,null,null,null,null,null,null,null,null,null,null,null,null,null,null,"06","04","07",2,600000,4000,70,2,604072,"UCHANIE",1131.7,null,"32","11",3200,11,3211,"policki",389.96]
[261011,"  Jelenia Góra..........................................................................................................................................................................................................................................................",10922,"",109,79480,"",728,1237,46,null,null,""," Powiats:",null,null,null,null,null,null,null,null,null,null,null,null,null,null,null,null,null,"06","04","08",2,600000,4000,80,2,604082,"WERBKOWICE",1299.6300000000001,null,"32","12",3200,12,3212,"pyrzycki",153.53]
[262011,"  Legnica..........................................................................................................................................................................................................................................................",5629,"",56,99752,"",1772,1979,39,null,null,"2801","   bartoszycki",130749,1307,57916,44,62,205,null,null,null,null,null,null,null,null,null,null,null,"06","05","01",2,600000,5000,10,2,605012,"BATORZ",812.86,null,"32","13",3200,13,3213,"sławieński",178.25]
[265011,"  Wałbrzych..........................................................................................................................................................................................................................................................",8470,"",85,112594,"",1329,1624,33,null,null,"2802","   braniewski",120165,1202,41391,34,86,278,null,null,null,null,null,null,null,null,null,null,null,"06","05","02",2,600000,5000,20,2,605022,"CHRZANÓW",718.89,null,"32","14",3200,14,3214,"stargardzki",216.27]
[264011,"  Wrocław (a)..........................................................................................................................................................................................................................................................",29282,"",293,640648,"↑",2188,110,4,null,null,"2803","   działdowski",95393,954,65442,69,140,179,null,null,null,null,null,null,null,null,null,null,null,"06","05","03",2,600000,5000,30,2,605032,"DZWOLA",794.05,null,"32","15",3200,15,3215,"szczecinecki",198.28]
["","WOJ. KUJAWSKO-POMORSKIE",null,null,null,null,null,null,null,null,null,null,"2804","   elbląski",141558,1416,57549,41,44,206,null,null,null,null,null,null,null,null,null,null,null,"06","05","04",2,600000,5000,40,2,605042,"GODZISZÓW",758.46,null,"32","16",3200,16,3216,"świdwiński",180.52]
["","Powiat aleksandrowski  (9 gmin)",null,null,null,null,null,null,null,null,null,null,"2805","   ełcki",111279,1113,91359,82,105,93,null,null,null,null,null,null,null,null,null,null,null,"06","05","05",3,600000,5000,50,3,605053,"JANÓW LUBELSKI",1415.18,null,"32","17",3200,17,3217,"wałecki",192.64]
["","",null,null,null,null,null,null,null,null,null,null,"2806","   giżycki",111951,1120,56754,51,102,211,null,null,null,null,null,null,null,null,null,null,null,"06","05","06",3,600000,5000,60,3,605063,"MODLIBORZYCE",1081.47,null,"32","18",3200,18,3218,"łobeski",159.22999999999999]
[401011,"  Aleksandrów Kujawski..........................................................................................................................................................................................................................................................",723,"",7,12220,"",1690,2333,680,null,null,"2818","   gołdapski",77229,772,26908,35,191,309,null,null,null,null,null,null,null,null,null,null,null,"06","05","07",2,600000,5000,70,2,605072,"POTOK WIELKI",773.87,null,"32","61",3200,61,3261,"Koszalin",317.08999999999997]
[401021,"  Ciechocinek..........................................................................................................................................................................................................................................................",1526,"",15,10596,"",694,2277,817,null,null,"2807","   iławski",138522,1385,93020,67,52,92,null,null,null,null,null,null,null,null,null,null,null,"06","06","01",1,600000,6000,10,1,606011,"KRASNYSTAW",1579.52,null,"32","62",3200,62,3262,"Szczecin",325.16000000000003]
[401031,"  Nieszawa..........................................................................................................................................................................................................................................................",979,"",10,1886,"↓",193,2324,2283,null,null,"2808","   kętrzyński",121299,1213,62924,52,84,189,null,null,null,null,null,null,null,null,null,null,null,"06","06","02",2,600000,6000,20,2,606022,"FAJSŁAWICE",943.2,null,"32","63",3200,63,3263,"Świnoujście",285.64]
["","",null,null,null,null,null,null,null,null,null,null,"2809","   lidzbarski",92500,925,41512,45,149,277,null,null,null,null,null,null,null,null,null,null,null,"06","06","03",2,600000,6000,30,2,606032,"GORZKÓW",944.13,null,null,null,0,0,0,"",287.95]
[401042,"  Aleksandrów Kujawski..........................................................................................................................................................................................................................................................",13145,"",131,11849,"",90,891,711,null,null,"2810","   mrągowski",106538,1065,50080,47,108,243,null,null,null,null,null,null,null,null,null,null,null,"06","06","04",2,600000,6000,40,2,606042,"IZBICA",817.94]
[401052,"  Bądkowo..........................................................................................................................................................................................................................................................",7970,"",80,4278,"",54,1705,1911,null,null,"2811","   nidzicki",96064,961,33068,34,139,306,null,null,null,null,null,null,null,null,null,null,null,"06","06","05",2,600000,6000,50,2,606052,"KRASNYSTAW",1511.11]
[401062,"  Koneck..........................................................................................................................................................................................................................................................",6784,"",68,3160,"",47,1875,2166,null,null,"2812","   nowomiejski",69393,694,43997,63,221,265,null,null,null,null,null,null,null,null,null,null,null,"06","06","06",2,600000,6000,60,2,606062,"KRAŚNICZYN",1066.3900000000001]
[401072,"  Raciążek..........................................................................................................................................................................................................................................................",3288,"",33,3176,"",97,2148,2160,null,null,"2813","   olecki",87360,874,34433,39,161,301,null,null,null,null,null,null,null,null,null,null,null,"06","06","07",2,600000,6000,70,2,606072,"ŁOPIENNIK GÓRNY",1036.83]
[401082,"  Waganiec..........................................................................................................................................................................................................................................................",5452,"",55,4580,"",84,1990,1832,null,null,"2814","   olsztyński",283802,2837,126018,44,2,42,null,null,null,null,null,null,null,null,null,null,null,"06","06","09",2,600000,6000,90,2,606092,"RUDNIK",798.67]
[401092,"  Zakrzewo..........................................................................................................................................................................................................................................................",7596,"",76,3529,"",46,1760,2087,null,null,"2815","   ostródzki",176629,1766,104780,59,17,77,null,null,null,null,null,null,null,null,null,null,null,"06","06","10",2,600000,6000,100,2,606102,"SIENNICA RÓŻANA",968.62]
["","Powiat brodnicki  (10 gmin)",null,null,null,null,null,null,null,null,null,null,"2816","   piski",177458,1775,56570,32,16,212,null,null,null,null,null,null,null,null,null,null,null,"06","06","11",2,{"$f":"AF392*100000","v":600000},{"$f":"AG392*1000","v":6000},{"$f":"AH392*10","v":110},{"$f":"AI392*1","v":2},{"$f":"SUM(AJ392:AM392)","v":606112},"ŻÓŁKIEWKA",1071.6199999999999]
["","",null,null,null,null,null,null,null,null,null,null,"2817","   szczycieński",193321,1933,69885,36,9,165,null,null,null,null,null,null,null,null,null,null,null,"06","07","01",1,600000,7000,10,1,607011,"KRAŚNIK",1430.53]
[402011,"  Brodnica..........................................................................................................................................................................................................................................................",2315,"",23,28774,"",1243,2210,197,null,null,"2819","   węgorzewski",69322,693,22873,33,222,311,null,null,null,null,null,null,null,null,null,null,null,"06","07","02",3,600000,7000,20,3,607023,"ANNOPOL",835.21]
["","",null,null,null,null,null,null,null,null,null,null,""," Miasta na prawach powiatu:",null,null,null,null,null,null,null,null,null,null,null,null,null,null,null,null,null,"06","07","03",2,600000,7000,30,2,607032,"DZIERZKOWICE",832.33]
[402062,"  Bartniczka..........................................................................................................................................................................................................................................................",8340,"",83,4708,"",56,1646,1797,null,null,""," Cities with powiat status:",null,null,null,null,null,null,null,null,null,null,null,null,null,null,null,null,null,"06","07","04",2,600000,7000,40,2,607042,"GOŚCIERADÓW",1190.8699999999999]
[402022,"  Bobrowo..........................................................................................................................................................................................................................................................",14591,"",145,6334,"",43,721,1421,null,null,"2861","   Elbląg",7982,80,120142,1505,39,31,null,null,null,null,null,null,null,null,null,null,null,"06","07","05",2,600000,7000,50,2,607052,"KRAŚNIK",1009.92]
[402032,"  Brodnica..........................................................................................................................................................................................................................................................",12687,"",127,8348,"",66,960,1070,null,null,"2862","   Olsztyn",8833,88,172362,1951,29,21,null,null,null,null,null,null,null,null,null,null,null,"06","07","06",2,600000,7000,60,2,607062,"SZASTARKA",646.38]
[402042,"  Brzozie..........................................................................................................................................................................................................................................................",9366,"",94,3793,"",40,1490,2031,null,null,"","WOJ. WIELKOPOLSKIE",null,null,null,null,null,null,null,null,null,null,null,null,null,null,null,null,null,"06","07","07",2,600000,7000,70,2,607072,"TRZYDNIK DUŻY",865.29]
[402082,"  Osiek..........................................................................................................................................................................................................................................................",7500,"",75,4026,"",54,1778,1965,null,null,""," Powiaty:",null,null,null,null,null,null,null,null,null,null,null,null,null,null,null,null,null,"06","07","08",3,600000,7000,80,3,607083,"URZĘDÓW",751.06]
[402092,"  Świedziebnia..........................................................................................................................................................................................................................................................",10367,"",104,5205,"",50,1325,1675,null,null,""," Powiats:",null,null,null,null,null,null,null,null,null,null,null,null,null,null,null,null,null,"06","07","09",2,600000,7000,90,2,607092,"WILKOŁAZ",989.35]
[402102,"  Zbiczno..........................................................................................................................................................................................................................................................",13377,"",134,4873,"",36,862,1755,null,null,"3001","   chodzieski",68506,685,47229,69,224,252,null,null,null,null,null,null,null,null,null,null,null,"06","07","10",2,600000,7000,100,2,607102,"ZAKRZÓWEK",754.62]
["","",null,null,null,null,null,null,null,null,null,null,"3002","   czarnkowsko-trzcianecki",180605,1806,87420,48,14,104,null,null,null,null,null,null,null,null,null,null,null,"06","08","01",1,600000,8000,10,1,608011,"LUBARTÓW",1709.27]
[402053,"  Górzno..........................................................................................................................................................................................................................................................",11968,"",120,3901,"",33,1058,2001,null,null,"3003","   gnieźnieński",125503,1255,145317,116,74,29,null,null,null,null,null,null,null,null,null,null,null,"06","08","02",2,600000,8000,20,2,608022,"ABRAMÓW",796.17]
[402054,"",343,"",4,1370,"",399,"x","x",null,null,"3004","   gostyński",81025,810,76011,94,175,144,null,null,null,null,null,null,null,null,null,null,null,"06","08","03",2,600000,8000,30,2,608032,"FIRLEJ",855.74]
[402055,"",11625,"",116,2531,"",22,"x","x",null,null,"3005","   grodziski",64187,642,51972,81,239,236,null,null,null,null,null,null,null,null,null,null,null,"06","08","04",2,600000,8000,40,2,608042,"JEZIORZANY",910.93]
[402073,"  Jabłonowo Pomorskie..........................................................................................................................................................................................................................................................",13486,"",135,8936,"",66,840,995,null,null,"3006","   jarociński",58729,587,71686,122,258,160,null,null,null,null,null,null,null,null,null,null,null,"06","08","05",2,600000,8000,50,2,608052,"KAMIONKA",918.26]
[402074,"",335,"",3,3758,"",1122,"x","x",null,null,"3007","   kaliski",115999,1160,83030,72,93,119,null,null,null,null,null,null,null,null,null,null,null,"06","08","06",3,600000,8000,60,3,608063,"KOCK",707.41]
[402075,"",13151,"",132,5178,"",39,"x","x",null,null,"3008","   kępiński",60826,608,56486,93,255,213,null,null,null,null,null,null,null,null,null,null,null,"06","08","07",2,600000,8000,70,2,608072,"LUBARTÓW",1306.31]
["","Powiat bydgoski  (8 gmin)",null,null,null,null,null,null,null,null,null,null,"3009","   kolski",101071,1011,87216,86,125,106,null,null,null,null,null,null,null,null,null,null,null,"06","08","08",2,600000,8000,80,2,608082,"MICHÓW",1109.53]
["","",null,null,null,null,null,null,null,null,null,null,"3010","   koniński",157824,1578,129966,82,29,38,null,null,null,null,null,null,null,null,null,null,null,"06","08","09",2,600000,8000,90,2,608092,"NIEDŹWIADA",694.25]
[403012,"  Białe Błota (a) ..........................................................................................................................................................................................................................................................",12242,"",122,21792,"",178,1016,309,null,null,"3011","   kościański",72242,722,79230,110,208,130,null,null,null,null,null,null,null,null,null,null,null,"06","08","10",3,600000,8000,100,3,608103,"OSTRÓW LUBELSKI",1020.11]
[403022,"  Dąbrowa Chełmińska..........................................................................................................................................................................................................................................................",12504,"",125,8349,"",67,977,1069,null,null,"3012","   krotoszyński",71368,714,77488,109,210,139,null,null,null,null,null,null,null,null,null,null,null,"06","08","11",2,600000,8000,110,2,608112,"OSTRÓWEK",587.19000000000005]
[403032,"  Dobrcz..........................................................................................................................................................................................................................................................",13007,"",130,11670,"",90,908,726,null,null,"3013","   leszczyński",80581,806,56485,70,178,214,null,null,null,null,null,null,null,null,null,null,null,"06","08","12",2,600000,8000,120,2,608122,"SERNIKI",614.38]
[403052,"  Nowa Wieś Wielka..........................................................................................................................................................................................................................................................",14828,"",148,10129,"",68,691,856,null,null,"3014","   międzychodzki",73644,736,36982,50,200,294,null,null,null,null,null,null,null,null,null,null,null,"06","08","13",2,600000,8000,130,2,608132,"UŚCIMÓW",1101.8800000000001]
[403062,"  Osielsko..........................................................................................................................................................................................................................................................",10172,"",102,14234,"",140,1358,560,null,null,"3015","   nowotomyski",101362,1014,75363,74,124,147,null,null,null,null,null,null,null,null,null,null,null,"06","09","01",3,600000,9000,10,3,609013,"BEŁŻYCE",1252.02]
[403072,"  Sicienko..........................................................................................................................................................................................................................................................",17999,"",180,10139,"",56,449,855,null,null,"3016","   obornicki",71104,711,59858,84,213,196,null,null,null,null,null,null,null,null,null,null,null,"06","09","02",2,600000,9000,20,2,609022,"BORZECHÓW",702.36]
["","",null,null,null,null,null,null,null,null,null,null,"3017","   ostrowski",116012,1160,161519,139,92,15,null,null,null,null,null,null,null,null,null,null,null,"06","09","03",3,600000,9000,30,3,609033,"BYCHAWA",1055.26]
[403043,"  Koronowo..........................................................................................................................................................................................................................................................",41153,"↑",412,24198,"",59,21,262,null,null,"3018","   ostrzeszowski",77263,773,55403,72,189,222,null,null,null,null,null,null,null,null,null,null,null,"06","09","04",2,600000,9000,40,2,609042,"GARBÓW",1104.28]
[403044,"",2815,"",28,11182,"",397,"x","x",null,null,"3019","   pilski",126821,1268,136621,108,69,33,null,null,null,null,null,null,null,null,null,null,null,"06","09","05",2,600000,9000,50,2,609052,"GŁUSK",1628.55]
[403045,"",38338,"",384,13016,"",34,"x","x",null,null,"3020","   pleszewski",71307,713,63147,89,211,187,null,null,null,null,null,null,null,null,null,null,null,"06","09","06",2,600000,9000,60,2,609062,"JABŁONNA",980.79]
[403083,"  Solec Kujawski..........................................................................................................................................................................................................................................................",17507,"",175,16814,"",96,485,446,null,null,"3021","   poznański",189988,1900,390308,205,10,1,null,null,null,null,null,null,null,null,null,null,null,"06","09","07",2,600000,9000,70,2,609072,"JASTKÓW",1615.03]
[403084,"",1868,"",19,15641,"",837,"x","x",null,null,"3022","   rawicki",55352,554,60405,109,268,195,null,null,null,null,null,null,null,null,null,null,null,"06","09","08",2,600000,9000,80,2,609082,"KONOPNICA",1988.02]
[403085,"",15639,"",156,1173,"",8,"x","x",null,null,"3023","   słupecki",83801,838,59371,71,168,199,null,null,null,null,null,null,null,null,null,null,null,"06","09","09",2,600000,9000,90,2,609092,"KRZCZONÓW",995.35]
["","Powiat chełmiński  (7 gmin)",null,null,null,null,null,null,null,null,null,null,"3024","   szamotulski",111929,1119,91185,81,103,95,null,null,null,null,null,null,null,null,null,null,null,"06","09","10",2,600000,9000,100,2,609102,"NIEDRZWICA DUŻA",1157.1300000000001]
["","",null,null,null,null,null,null,null,null,null,null,"3025","   średzki",62386,624,58456,94,245,202,null,null,null,null,null,null,null,null,null,null,null,"06","09","11",2,600000,9000,110,2,609112,"NIEMCE",1614.51]
[404011,"  Chełmno..........................................................................................................................................................................................................................................................",1356,"",14,19720,"",1454,2293,351,null,null,"3026","   śremski",57410,574,61325,107,265,192,null,null,null,null,null,null,null,null,null,null,null,"06","09","12",2,600000,9000,120,2,609122,"STRZYŻEWICE",1182.27]
["","",null,null,null,null,null,null,null,null,null,null,"3027","   turecki",92943,929,84101,90,147,116,null,null,null,null,null,null,null,null,null,null,null,"06","09","13",2,600000,9000,130,2,609132,"WOJCIECHÓW",917.85]
[404022,"  Chełmno..........................................................................................................................................................................................................................................................",11371,"",114,6050,"",53,1145,1482,null,null,"3028","   wągrowiecki",103965,1040,70274,68,117,164,null,null,null,null,null,null,null,null,null,null,null,"06","09","14",2,600000,9000,140,2,609142,"WÓLKA",1460.55]
[404032,"  Kijewo Królewskie..........................................................................................................................................................................................................................................................",7184,"",72,4538,"",63,1822,1838,null,null,"3029","   wolsztyński",67973,680,57326,84,225,209,null,null,null,null,null,null,null,null,null,null,null,"06","09","15",2,600000,9000,150,2,609152,"WYSOKIE",939.1]
[404042,"  Lisewo..........................................................................................................................................................................................................................................................",8631,"",86,5273,"",61,1588,1660,null,null,"3030","   wrzesiński",70357,704,77667,110,217,138,null,null,null,null,null,null,null,null,null,null,null,"06","09","16",2,600000,9000,160,2,609162,"ZAKRZEW",767.13]
[404052,"  Papowo Biskupie..........................................................................................................................................................................................................................................................",7045,"",70,4360,"",62,1844,1886,null,null,"3031","   złotowski",166017,1660,69606,42,22,166,null,null,null,null,null,null,null,null,null,null,null,"06","10","01",2,600000,10000,10,2,610012,"CYCÓW",2306.67]
[404062,"  Stolno..........................................................................................................................................................................................................................................................",9852,"",98,5255,"",53,1414,1663,null,null,""," Miasta na prawach powiatu:",null,null,null,null,null,null,null,null,null,null,null,null,null,null,null,null,null,"06","10","02",2,600000,10000,20,2,610022,"LUDWIN",1565.38]
[404072,"  Unisław..........................................................................................................................................................................................................................................................",7255,"",73,6997,"",96,1811,1300,null,null,""," Cities with powiat status:",null,null,null,null,null,null,null,null,null,null,null,null,null,null,null,null,null,"06","10","03",3,600000,10000,30,3,610033,"ŁĘCZNA",1512.49]
["","Powiat golubsko-dobrzyński  (6 gmin)",null,null,null,null,null,null,null,null,null,null,"3061","   Kalisz",6942,69,100975,1455,43,38,null,null,null,null,null,null,null,null,null,null,null,"06","10","04",2,600000,10000,40,2,610042,"MILEJÓW",1129.22]
["","",null,null,null,null,null,null,null,null,null,null,"3062","   Konin",8231,82,74151,901,36,48,null,null,null,null,null,null,null,null,null,null,null,"06","10","05",2,600000,10000,50,2,610052,"PUCHACZÓW",3883.8]
[405011,"  Golub-Dobrzyń..........................................................................................................................................................................................................................................................",750,"",8,12630,"",1684,2332,653,null,null,"3063","   Leszno",3186,32,63952,2007,61,52,null,null,null,null,null,null,null,null,null,null,null,"06","10","06",2,600000,10000,60,2,610062,"SPICZYN",953.29]
["","",null,null,null,null,null,null,null,null,null,null,"3064","   Poznań",26191,262,536438,2048,8,5,null,null,null,null,null,null,null,null,null,null,null,"06","11","01",1,600000,11000,10,1,611011,"ŁUKÓW",1726.07]
[405022,"  Ciechocin..........................................................................................................................................................................................................................................................",10123,"",101,4034,"",40,1365,1962,null,null,"","WOJ. ZACHODNIOPOMORSKIE",null,null,null,null,null,null,null,null,null,null,null,null,null,null,null,null,null,"06","11","02",1,600000,11000,20,1,611021,"STOCZEK ŁUKOWSKI",1564.33]
[405032,"  Golub-Dobrzyń..........................................................................................................................................................................................................................................................",19779,"",198,8727,"",44,357,1016,null,null,""," Powiaty:",null,null,null,null,null,null,null,null,null,null,null,null,null,null,null,null,null,"06","11","03",2,600000,11000,30,2,611032,"ADAMÓW",797.07]
[405052,"  Radomin..........................................................................................................................................................................................................................................................",8081,"",81,3878,"",48,1690,2008,null,null,""," Powiats:",null,null,null,null,null,null,null,null,null,null,null,null,null,null,null,null,null,"06","11","04",2,600000,11000,40,2,611042,"KRZYWDA",809.46]
[405062,"  Zbójno..........................................................................................................................................................................................................................................................",8432,"",84,4382,"",52,1631,1882,null,null,"3201","   białogardzki",84546,845,47846,57,166,249,null,null,null,null,null,null,null,null,null,null,null,"06","11","05",2,600000,11000,50,2,611052,"ŁUKÓW",1095.5]
["","",null,null,null,null,null,null,null,null,null,null,"3202","   choszczeński",132763,1328,48602,37,60,247,null,null,null,null,null,null,null,null,null,null,null,"06","11","06",2,600000,11000,60,2,611062,"SEROKOMLA",686.42]
[405043,"  Kowalewo Pomorskie..........................................................................................................................................................................................................................................................",14120,"",141,11489,"",81,768,741,null,null,"3203","   drawski",176424,1764,57397,33,19,208,null,null,null,null,null,null,null,null,null,null,null,"06","11","07",2,600000,11000,70,2,611072,"STANIN",859.49]
[405044,"",445,"",4,4143,"",931,"x","x",null,null,"3204","   goleniowski",161548,1616,82540,51,27,120,null,null,null,null,null,null,null,null,null,null,null,"06","11","08",2,600000,11000,80,2,611082,"STOCZEK ŁUKOWSKI",1170.29]
[405045,"",13675,"",137,7346,"",54,"x","x",null,null,"3205","   gryficki",102105,1021,60617,59,122,193,null,null,null,null,null,null,null,null,null,null,null,"06","11","09",2,600000,11000,90,2,611092,"TRZEBIESZÓW",1200.58]
["","Powiat grudziądzki  (6 gmin)",null,null,null,null,null,null,null,null,null,null,"3206","   gryfiński",186911,1870,82530,44,13,121,null,null,null,null,null,null,null,null,null,null,null,"06","11","10",2,600000,11000,100,2,611102,"WOJCIESZKÓW",687.22]
["","",null,null,null,null,null,null,null,null,null,null,"3207","   kamieński",100716,1007,47227,47,126,253,null,null,null,null,null,null,null,null,null,null,null,"06","11","11",2,600000,11000,110,2,611112,"WOLA MYSŁOWSKA",924.64]
[406012,"  Grudziądz..........................................................................................................................................................................................................................................................",16533,"",165,12762,"",77,554,643,null,null,"3208","   kołobrzeski",72466,725,79547,110,207,126,null,null,null,null,null,null,null,null,null,null,null,"06","12","01",2,600000,12000,10,2,612012,"CHODEL",872.32]
[406022,"  Gruta..........................................................................................................................................................................................................................................................",12375,"",124,6427,"",52,1000,1401,null,null,"3209","   koszaliński",165346,1653,66355,40,24,172,null,null,null,null,null,null,null,null,null,null,null,"06","12","02",3,600000,12000,20,3,612023,"JÓZEFÓW nad Wisłą",711.87]
[406052,"  Rogóźno..........................................................................................................................................................................................................................................................",11624,"",116,4245,"",37,1109,1920,null,null,"3218","   łobeski",106513,1065,37104,35,109,292,null,null,null,null,null,null,null,null,null,null,null,"06","12","03",2,600000,12000,30,2,612032,"KARCZMISKA",827.89]
[406062,"  Świecie nad Osą..........................................................................................................................................................................................................................................................",9475,"",95,4212,"",44,1474,1927,null,null,"3210","   myśliborski",118240,1182,66264,56,87,174,null,null,null,null,null,null,null,null,null,null,null,"06","12","04",2,600000,12000,40,2,612042,"ŁAZISKA",905.98]
["","",null,null,null,null,null,null,null,null,null,null,"3211","   policki",66533,665,79476,119,233,127,null,null,null,null,null,null,null,null,null,null,null,"06","12","05",3,600000,12000,50,3,612053,"OPOLE LUBELSKIE",1142.3599999999999]
[406033,"  Łasin..........................................................................................................................................................................................................................................................",13655,"",137,7942,"",58,817,1138,null,null,"3212","   pyrzycki",72600,726,39639,55,206,285,null,null,null,null,null,null,null,null,null,null,null,"06","12","06",3,600000,12000,60,3,612063,"PONIATOWA",1109.9100000000001]
[406034,"",479,"",5,3298,"",689,"x","x",null,null,"3213","   sławieński",104320,1043,56409,54,113,215,null,null,null,null,null,null,null,null,null,null,null,"06","12","07",2,600000,12000,70,2,612072,"WILKÓW",1002.09]
[406035,"",13176,"",132,4644,"",35,"x","x",null,null,"3214","   stargardzki",151994,1520,120112,79,35,47,null,null,null,null,null,null,null,null,null,null,null,"06","13","01",2,{"$f":"AF456*100000","v":600000},{"$f":"AG456*1000","v":13000},{"$f":"AH456*10","v":10},{"$f":"AI456*1","v":2},{"$f":"SUM(AJ456:AM456)","v":613012},"DĘBOWA KŁODA",951.02]
[406043,"  Radzyń Chełmiński..........................................................................................................................................................................................................................................................",9114,"",91,4683,"",51,1520,1803,null,null,"3215","   szczecinecki",176542,1766,77965,44,18,136,null,null,null,null,null,null,null,null,null,null,null,"06","13","02",2,600000,13000,20,2,613022,"JABŁOŃ",771.07]
[406044,"",178,"",2,1864,"",1047,"x","x",null,null,"3216","   świdwiński",109306,1093,47242,43,106,251,null,null,null,null,null,null,null,null,null,null,null,"06","13","03",2,600000,13000,30,2,613032,"MILANÓW",1026.2]
[406045,"",8936,"",89,2819,"",32,"x","x",null,null,"3217","   wałecki",141498,1415,53462,38,45,230,null,null,null,null,null,null,null,null,null,null,null,"06","13","04",3,600000,13000,40,3,613043,"PARCZEW",1483.55]
["","Powiat inowrocławski  (9 gmin)",null,null,null,null,null,null,null,null,null,null,""," Miasta na prawach powiatu:",null,null,null,null,null,null,null,null,null,null,null,null,null,null,null,null,null,"06","13","05",2,600000,13000,50,2,613052,"PODEDWÓRZE",1048.6300000000001]
["","",null,null,null,null,null,null,null,null,null,null,""," Cities with powiat status:",null,null,null,null,null,null,null,null,null,null,null,null,null,null,null,null,null,"06","13","06",2,600000,13000,60,2,613062,"SIEMIEŃ",753.07]
[407011,"  Inowrocław..........................................................................................................................................................................................................................................................",3042,"",30,73114,"",2403,2165,52,null,null,"3261","   Koszalin",9834,98,107321,1091,27,37,null,null,null,null,null,null,null,null,null,null,null,"06","13","07",2,600000,13000,70,2,613072,"SOSNOWICA",1208.82]
["","",null,null,null,null,null,null,null,null,null,null,"3262","   Szczecin",30060,301,402465,1339,3,7,null,null,null,null,null,null,null,null,null,null,null,"06","14","01",1,600000,14000,10,1,614011,"PUŁAWY",2505.3000000000002]
[407022,"  Dąbrowa Biskupia..........................................................................................................................................................................................................................................................",14728,"",147,5141,"",35,702,1692,null,null,"3263","   Świnoujście",20207,202,40910,202,9,65,null,null,null,null,null,null,null,null,null,null,null,"06","14","02",2,600000,14000,20,2,614022,"BARANÓW",1031.93]
[407042,"  Inowrocław..........................................................................................................................................................................................................................................................",17165,"",172,11771,"",69,502,716,null,null,null,null,null,null,null,null,null,null,null,null,null,null,null,null,null,null,null,null,null,"06","14","03",2,600000,14000,30,2,614032,"JANOWIEC",1069.8499999999999]
[407082,"  Rojewo..........................................................................................................................................................................................................................................................",11976,"",120,4746,"",40,1056,1791,null,null,null,null,null,null,null,null,null,null,null,null,null,null,null,null,null,null,null,null,null,"06","14","04",3,600000,14000,40,3,614043,"KAZIMIERZ DOLNY",1381.67]
[407092,"  Złotniki Kujawskie..........................................................................................................................................................................................................................................................",13553,"",136,9183,"",68,832,952,null,null,null,null,null,null,null,null,null,null,null,null,null,null,null,null,null,null,null,null,null,"06","14","05",2,600000,14000,50,2,614052,"KOŃSKOWOLA",1454.63]
["","",null,null,null,null,null,null,null,null,null,null,null,null,null,null,null,null,null,null,null,null,null,null,null,null,null,null,null,null,null,"06","14","06",2,600000,14000,60,2,614062,"KURÓW",1182.55]
[407033,"  Gniewkowo..........................................................................................................................................................................................................................................................",17972,"",180,14447,"",80,451,548,null,null,null,null,null,null,null,null,null,null,null,null,null,null,null,null,null,null,null,null,null,"06","14","07",2,600000,14000,70,2,614072,"MARKUSZÓW",1131.5999999999999]
[407034,"",918,"",9,7141,"",778,"x","x",null,null,null,null,null,null,null,null,null,null,null,null,null,null,null,null,null,null,null,null,null,"06","14","08",3,600000,14000,80,3,614083,"NAŁĘCZÓW",1712.62]
[407035,"",17054,"",171,7306,"",43,"x","x",null,null,null,null,null,null,null,null,null,null,null,null,null,null,null,null,null,null,null,null,null,"06","14","09",2,600000,14000,90,2,614092,"PUŁAWY",1347.58]
[407053,"  Janikowo..........................................................................................................................................................................................................................................................",9195,"",92,13159,"",143,1512,618,null,null,null,null,null,null,null,null,null,null,null,null,null,null,null,null,null,null,null,null,null,"06","14","10",2,600000,14000,100,2,614102,"WĄWOLNICA",1038.3900000000001]
[407054,"",951,"",10,8758,"",921,"x","x",null,null,null,null,null,null,null,null,null,null,null,null,null,null,null,null,null,null,null,null,null,"06","14","11",2,600000,14000,110,2,614112,"ŻYRZYN",1036.78]
[407055,"",8244,"",82,4401,"",53,"x","x",null,null,null,null,null,null,null,null,null,null,null,null,null,null,null,null,null,null,null,null,null,"06","15","01",1,600000,15000,10,1,615011,"RADZYŃ PODLASKI",1581.51]
[407063,"  Kruszwica..........................................................................................................................................................................................................................................................",26241,"",262,19307,"",74,149,363,null,null,null,null,null,null,null,null,null,null,null,null,null,null,null,null,null,null,null,null,null,"06","15","02",2,600000,15000,20,2,615022,"BORKI",688.19]
[407064,"",664,"",7,8818,"",1328,"x","x",null,null,null,null,null,null,null,null,null,null,null,null,null,null,null,null,null,null,null,null,null,"06","15","03",2,600000,15000,30,2,615032,"CZEMIERNIKI",923.79]
[407065,"",25577,"",255,10489,"",41,"x","x",null,null,null,null,null,null,null,null,null,null,null,null,null,null,null,null,null,null,null,null,null,"06","15","04",2,600000,15000,40,2,615042,"KĄKOLEWNICA",882.87]
[407073,"  Pakość..........................................................................................................................................................................................................................................................",8646,"",86,9779,"",113,1585,896,null,null,null,null,null,null,null,null,null,null,null,null,null,null,null,null,null,null,null,null,null,"06","15","05",2,600000,15000,50,2,615052,"KOMARÓWKA PODLASKA",814.87]
[407074,"",346,"",3,5723,"",1654,"x","x",null,null,null,null,null,null,null,null,null,null,null,null,null,null,null,null,null,null,null,null,null,"06","15","06",2,600000,15000,60,2,615062,"RADZYŃ PODLASKI",1048.79]
[407075,"",8300,"",83,4056,"",49,"x","x",null,null,null,null,null,null,null,null,null,null,null,null,null,null,null,null,null,null,null,null,null,"06","15","07",2,600000,15000,70,2,615072,"ULAN-MAJORAT",868.5]
["","Powiat lipnowski  (9 gmin)",null,null,null,null,null,null,null,null,null,null,null,null,null,null,null,null,null,null,null,null,null,null,null,null,null,null,null,null,null,"06","15","08",2,600000,15000,80,2,615082,"WOHYŃ",941.38]
["","",null,null,null,null,null,null,null,null,null,null,null,null,null,null,null,null,null,null,null,null,null,null,null,null,null,null,null,null,null,"06","16","01",1,600000,16000,10,1,616011,"DĘBLIN",1838.31]
[408011,"  Lipno..........................................................................................................................................................................................................................................................",1099,"",11,14478,"",1317,2312,545,null,null,null,null,null,null,null,null,null,null,null,null,null,null,null,null,null,null,null,null,null,"06","16","02",2,600000,16000,20,2,616022,"KŁOCZEW",901.85]
["","",null,null,null,null,null,null,null,null,null,null,null,null,null,null,null,null,null,null,null,null,null,null,null,null,null,null,null,null,null,"06","16","03",2,600000,16000,30,2,616032,"NOWODWÓR",663.12]
[408022,"  Bobrowniki..........................................................................................................................................................................................................................................................",9539,"",96,3092,"",32,1463,2175,null,null,null,null,null,null,null,null,null,null,null,null,null,null,null,null,null,null,null,null,null,"06","16","04",3,600000,16000,40,3,616043,"RYKI",1431.28]
[408032,"  Chrostkowo..........................................................................................................................................................................................................................................................",7406,"",74,2877,"",39,1791,2207,null,null,null,null,null,null,null,null,null,null,null,null,null,null,null,null,null,null,null,null,null,"06","16","05",2,600000,16000,50,2,616052,"STĘŻYCA",1439.91]
[408052,"  Kikół..........................................................................................................................................................................................................................................................",9830,"",98,7124,"",72,1417,1278,null,null,null,null,null,null,null,null,null,null,null,null,null,null,null,null,null,null,null,null,null,"06","16","06",2,600000,16000,60,2,616062,"UŁĘŻ",922.5]
[408062,"  Lipno..........................................................................................................................................................................................................................................................",21004,"",210,11863,"",56,290,708,null,null,null,null,null,null,null,null,null,null,null,null,null,null,null,null,null,null,null,null,null,"06","17","01",1,600000,17000,10,1,617011,"ŚWIDNIK",1648.14]
[408082,"  Tłuchowo..........................................................................................................................................................................................................................................................",9935,"",99,4675,"",47,1401,1805,null,null,null,null,null,null,null,null,null,null,null,null,null,null,null,null,null,null,null,null,null,"06","17","02",2,600000,17000,20,2,617022,"MEŁGIEW",1364.84]
[408092,"  Wielgie..........................................................................................................................................................................................................................................................",13368,"",134,6738,"",50,863,1349,null,null,null,null,null,null,null,null,null,null,null,null,null,null,null,null,null,null,null,null,null,"06","17","03",3,600000,17000,30,3,617033,"PIASKI",1204.1600000000001]
["","",null,null,null,null,null,null,null,null,null,null,null,null,null,null,null,null,null,null,null,null,null,null,null,null,null,null,null,null,null,"06","17","04",2,600000,17000,40,2,617042,"RYBCZEWICE",973.81]
[408043,"  Dobrzyń nad Wisłą..........................................................................................................................................................................................................................................................",11518,"",115,7668,"",67,1124,1180,null,null,null,null,null,null,null,null,null,null,null,null,null,null,null,null,null,null,null,null,null,"06","17","05",2,600000,17000,50,2,617052,"TRAWNIKI",1179.43]
[408044,"",541,"",5,2139,"",395,"x","x",null,null,null,null,null,null,null,null,null,null,null,null,null,null,null,null,null,null,null,null,null,"06","18","01",1,600000,18000,10,1,618011,"TOMASZÓW LUBELSKI",1627.63]
[408045,"",10977,"",110,5529,"",50,"x","x",null,null,null,null,null,null,null,null,null,null,null,null,null,null,null,null,null,null,null,null,null,"06","18","02",2,600000,18000,20,2,618022,"BEŁŻEC",860.93]
[408073,"  Skępe..........................................................................................................................................................................................................................................................",17875,"",179,7547,"",42,460,1197,null,null,null,null,null,null,null,null,null,null,null,null,null,null,null,null,null,null,null,null,null,"06","18","03",2,600000,18000,30,2,618032,"JARCZÓW",1360.42]
[408074,"",748,"",8,3603,"",482,"x","x",null,null,null,null,null,null,null,null,null,null,null,null,null,null,null,null,null,null,null,null,null,"06","18","04",2,600000,18000,40,2,618042,"KRYNICE",865.32]
[408075,"",17127,"",171,3944,"",23,"x","x",null,null,null,null,null,null,null,null,null,null,null,null,null,null,null,null,null,null,null,null,null,"06","18","05",3,600000,18000,50,3,618053,"LUBYCZA KRÓLEWSKA",1143.98]
["","Powiat mogileński  (4 gminy)",null,null,null,null,null,null,null,null,null,null,null,null,null,null,null,null,null,null,null,null,null,null,null,null,null,null,null,null,null,"06","18","06",3,600000,18000,60,3,618063,"ŁASZCZÓW",1307.18]
["","",null,null,null,null,null,null,null,null,null,null,null,null,null,null,null,null,null,null,null,null,null,null,null,null,null,null,null,null,null,"06","18","07",2,600000,18000,70,2,618072,"RACHANIE",802.45]
[409012,"  Dąbrowa..........................................................................................................................................................................................................................................................",11029,"",110,4623,"",42,1219,1817,null,null,null,null,null,null,null,null,null,null,null,null,null,null,null,null,null,null,null,null,null,"06","18","08",2,600000,18000,80,2,618082,"SUSIEC",645.89]
[409022,"  Jeziora Wielkie..........................................................................................................................................................................................................................................................",12373,"",124,4924,"",40,1001,1742,null,null,null,null,null,null,null,null,null,null,null,null,null,null,null,null,null,null,null,null,null,"06","18","09",2,600000,18000,90,2,618092,"TARNAWATKA",711.27]
["","",null,null,null,null,null,null,null,null,null,null,null,null,null,null,null,null,null,null,null,null,null,null,null,null,null,null,null,null,null,"06","18","10",2,600000,18000,100,2,618102,"TELATYN",963.82]
[409033,"  Mogilno..........................................................................................................................................................................................................................................................",25620,"",256,24625,"",96,164,253,null,null,null,null,null,null,null,null,null,null,null,null,null,null,null,null,null,null,null,null,null,"06","18","11",2,600000,18000,110,2,618112,"TOMASZÓW LUBELSKI",1102.5]
[409034,"",832,"",8,11880,"",1428,"x","x",null,null,null,null,null,null,null,null,null,null,null,null,null,null,null,null,null,null,null,null,null,"06","18","12",3,600000,18000,120,3,618123,"TYSZOWCE",1192.79]
[409035,"",24788,"",248,12745,"",51,"x","x",null,null,null,null,null,null,null,null,null,null,null,null,null,null,null,null,null,null,null,null,null,"06","18","13",2,600000,18000,130,2,618132,"ULHÓWEK",953.88]
[409043,"  Strzelno..........................................................................................................................................................................................................................................................",18490,"",185,11649,"",63,422,728,null,null,null,null,null,null,null,null,null,null,null,null,null,null,null,null,null,null,null,null,null,"06","19","01",1,600000,19000,10,1,619011,"WŁODAWA",1294.8800000000001]
[409044,"",446,"",5,5663,"",1270,"x","x",null,null,null,null,null,null,null,null,null,null,null,null,null,null,null,null,null,null,null,null,null,"06","19","02",2,600000,19000,20,2,619022,"HANNA",693.17]
[409045,"",18044,"",180,5986,"",33,"x","x",null,null,null,null,null,null,null,null,null,null,null,null,null,null,null,null,null,null,null,null,null,"06","19","03",2,600000,19000,30,2,619032,"HAŃSK",1101.3]
["","Powiat nakielski  (5 gmin)",null,null,null,null,null,null,null,null,null,null,null,null,null,null,null,null,null,null,null,null,null,null,null,null,null,null,null,null,null,"06","19","04",2,600000,19000,40,2,619042,"STARY BRUS",764.31]
["","",null,null,null,null,null,null,null,null,null,null,null,null,null,null,null,null,null,null,null,null,null,null,null,null,null,null,null,null,null,"06","19","05",2,600000,19000,50,2,619052,"URSZULIN",1169.81]
[410042,"  Sadki..........................................................................................................................................................................................................................................................",15375,"",154,7273,"",47,642,1250,null,null,null,null,null,null,null,null,null,null,null,null,null,null,null,null,null,null,null,null,null,"06","19","06",2,600000,19000,60,2,619062,"WŁODAWA",1442.32]
["","",null,null,null,null,null,null,null,null,null,null,null,null,null,null,null,null,null,null,null,null,null,null,null,null,null,null,null,null,null,"06","19","07",2,600000,19000,70,2,619072,"WOLA UHRUSKA",965.01]
[410013,"  Kcynia..........................................................................................................................................................................................................................................................",29663,"",297,13452,"",45,101,597,null,null,null,null,null,null,null,null,null,null,null,null,null,null,null,null,null,null,null,null,null,"06","19","08",2,600000,19000,80,2,619082,"WYRYKI",920.45]
[410014,"",684,"",7,4670,"",683,"x","x",null,null,null,null,null,null,null,null,null,null,null,null,null,null,null,null,null,null,null,null,null,"06","20","01",2,600000,20000,10,2,620012,"ADAMÓW",979.51]
[410015,"",28979,"",290,8782,"",30,"x","x",null,null,null,null,null,null,null,null,null,null,null,null,null,null,null,null,null,null,null,null,null,"06","20","02",2,600000,20000,20,2,620022,"GRABOWIEC",928.32]
[410023,"  Mrocza..........................................................................................................................................................................................................................................................",15051,"",150,9262,"",62,675,947,null,null,null,null,null,null,null,null,null,null,null,null,null,null,null,null,null,null,null,null,null,"06","20","03",2,600000,20000,30,2,620032,"KOMARÓW-OSADA",831.06]
[410024,"",501,"",5,4366,"",871,"x","x",null,null,null,null,null,null,null,null,null,null,null,null,null,null,null,null,null,null,null,null,null,"06","20","04",3,600000,20000,40,3,620043,"KRASNOBRÓD",1078.6099999999999]
[410025,"",14550,"",145,4896,"",34,"x","x",null,null,null,null,null,null,null,null,null,null,null,null,null,null,null,null,null,null,null,null,null,"06","20","05",2,600000,20000,50,2,620052,"ŁABUNIE",820.73]
[410033,"  Nakło nad Notecią..........................................................................................................................................................................................................................................................",18693,"",187,31847,"",170,411,174,null,null,null,null,null,null,null,null,null,null,null,null,null,null,null,null,null,null,null,null,null,"06","20","06",2,600000,20000,60,2,620062,"MIĄCZYN",946.75]
[410034,"",1082,"",11,18353,"",1696,"x","x",null,null,null,null,null,null,null,null,null,null,null,null,null,null,null,null,null,null,null,null,null,"06","20","07",2,{"$f":"AF520*100000","v":600000},{"$f":"AG520*1000","v":20000},{"$f":"AH520*10","v":70},{"$f":"AI520*1","v":2},{"$f":"SUM(AJ520:AM520)","v":620072},"NIELISZ",736.29]
[410035,"",17611,"",176,13494,"",77,"x","x",null,null,null,null,null,null,null,null,null,null,null,null,null,null,null,null,null,null,null,null,null,"06","20","08",2,600000,20000,80,2,620082,"RADECZNICA",720.72]
[410053,"  Szubin..........................................................................................................................................................................................................................................................",33226,"",332,24756,"",75,64,248,null,null,null,null,null,null,null,null,null,null,null,null,null,null,null,null,null,null,null,null,null,"06","20","09",2,600000,20000,90,2,620092,"SITNO",1045.55]
[410054,"",765,"",8,9576,"",1252,"x","x",null,null,null,null,null,null,null,null,null,null,null,null,null,null,null,null,null,null,null,null,null,"06","20","10",2,600000,20000,100,2,620102,"SKIERBIESZÓW",965.47]
[410055,"",32461,"",324,15180,"",47,"x","x",null,null,null,null,null,null,null,null,null,null,null,null,null,null,null,null,null,null,null,null,null,"06","20","11",2,600000,20000,110,2,620112,"STARY ZAMOŚĆ",859.62]
["","Powiat radziejowski  (7 gmin)",null,null,null,null,null,null,null,null,null,null,null,null,null,null,null,null,null,null,null,null,null,null,null,null,null,null,null,null,null,"06","20","12",2,600000,20000,120,2,620122,"SUŁÓW",708.45]
["","",null,null,null,null,null,null,null,null,null,null,null,null,null,null,null,null,null,null,null,null,null,null,null,null,null,null,null,null,null,"06","20","13",3,600000,20000,130,3,620133,"SZCZEBRZESZYN",1172.57]
[411011,"  Radziejów..........................................................................................................................................................................................................................................................",569,"",6,5602,"",985,2336,1575,null,null,null,null,null,null,null,null,null,null,null,null,null,null,null,null,null,null,null,null,null,"06","20","14",2,600000,20000,140,2,620142,"ZAMOŚĆ",1251.95]
["","",null,null,null,null,null,null,null,null,null,null,null,null,null,null,null,null,null,null,null,null,null,null,null,null,null,null,null,null,null,"06","20","15",3,600000,20000,150,3,620153,"ZWIERZYNIEC",1560.96]
[411022,"  Bytoń..........................................................................................................................................................................................................................................................",7337,"",73,3484,"",47,1801,2096,null,null,null,null,null,null,null,null,null,null,null,null,null,null,null,null,null,null,null,null,null,"06","61","01",1,600000,61000,10,1,661011,"Biała Podlaska",1634.43]
[411032,"  Dobre..........................................................................................................................................................................................................................................................",7082,"",71,5409,"",76,1839,1623,null,null,null,null,null,null,null,null,null,null,null,null,null,null,null,null,null,null,null,null,null,"06","62","01",1,600000,62000,10,1,662011,"Chełm",1590.1]
[411042,"  Osięciny..........................................................................................................................................................................................................................................................",12312,"",122,7654,"",62,1008,1183,null,null,null,null,null,null,null,null,null,null,null,null,null,null,null,null,null,null,null,null,null,"06","63","01",1,600000,63000,10,1,663011,"Lublin",2047.31]
[411062,"  Radziejów..........................................................................................................................................................................................................................................................",9265,"",93,4395,"",47,1505,1878,null,null,null,null,null,null,null,null,null,null,null,null,null,null,null,null,null,null,null,null,null,"06","64","01",1,600000,64000,10,1,664011,"Zamość",1573.67]
[411072,"  Topólka..........................................................................................................................................................................................................................................................",10288,"",103,4849,"",47,1340,1766,null,null,null,null,null,null,null,null,null,null,null,null,null,null,null,null,null,null,null,null,null,"08","01","01",1,800000,1000,10,1,801011,"KOSTRZYN nad Odrą",2728.66]
["","",null,null,null,null,null,null,null,null,null,null,null,null,null,null,null,null,null,null,null,null,null,null,null,null,null,null,null,null,null,"08","01","02",2,800000,1000,20,2,801022,"BOGDANIEC",1568.19]
[411053,"  Piotrków Kujawski..........................................................................................................................................................................................................................................................",13867,"",139,9321,"",67,796,941,null,null,null,null,null,null,null,null,null,null,null,null,null,null,null,null,null,null,null,null,null,"08","01","03",2,800000,1000,30,2,801032,"DESZCZNO",2019.68]
[411054,"",976,"",9,4468,"",458,"x","x",null,null,null,null,null,null,null,null,null,null,null,null,null,null,null,null,null,null,null,null,null,"08","01","04",2,800000,1000,40,2,801042,"KŁODAWA",2447.92]
[411055,"",12891,"",130,4853,"",38,"x","x",null,null,null,null,null,null,null,null,null,null,null,null,null,null,null,null,null,null,null,null,null,"08","01","05",2,800000,1000,50,2,801052,"LUBISZYN",1836.41]
["","Powiat rypiński  (6 gmin)",null,null,null,null,null,null,null,null,null,null,null,null,null,null,null,null,null,null,null,null,null,null,null,null,null,null,null,null,null,"08","01","06",2,800000,1000,60,2,801062,"SANTOK",1851.6]
["","",null,null,null,null,null,null,null,null,null,null,null,null,null,null,null,null,null,null,null,null,null,null,null,null,null,null,null,null,null,"08","01","07",3,800000,1000,70,3,801073,"WITNICA",1604.52]
[412011,"  Rypin..........................................................................................................................................................................................................................................................",1096,"",10,16354,"",1492,2314,458,null,null,null,null,null,null,null,null,null,null,null,null,null,null,null,null,null,null,null,null,null,"08","02","01",1,800000,2000,10,1,802011,"GUBIN",1526.11]
["","",null,null,null,null,null,null,null,null,null,null,null,null,null,null,null,null,null,null,null,null,null,null,null,null,null,null,null,null,null,"08","02","02",2,800000,2000,20,2,802022,"BOBROWICE",3517.38]
[412022,"  Brzuze..........................................................................................................................................................................................................................................................",8640,"",87,5322,"",62,1586,1648,null,null,null,null,null,null,null,null,null,null,null,null,null,null,null,null,null,null,null,null,null,"08","02","03",2,800000,2000,30,2,802032,"BYTNICA",1664.52]
[412032,"  Rogowo..........................................................................................................................................................................................................................................................",14101,"",141,4751,"",34,773,1788,null,null,null,null,null,null,null,null,null,null,null,null,null,null,null,null,null,null,null,null,null,"08","02","04",2,800000,2000,40,2,802042,"DĄBIE",1357.03]
[412042,"  Rypin..........................................................................................................................................................................................................................................................",13208,"",132,7487,"",57,881,1211,null,null,null,null,null,null,null,null,null,null,null,null,null,null,null,null,null,null,null,null,null,"08","02","05",2,800000,2000,50,2,802052,"GUBIN",1490.9]
[412052,"  Skrwilno..........................................................................................................................................................................................................................................................",12281,"",123,5909,"",48,1012,1518,null,null,null,null,null,null,null,null,null,null,null,null,null,null,null,null,null,null,null,null,null,"08","02","06",3,800000,2000,60,3,802063,"KROSNO ODRZAŃSKIE",1771.67]
[412062,"  Wąpielsk..........................................................................................................................................................................................................................................................",9321,"",93,4003,"",43,1498,1971,null,null,null,null,null,null,null,null,null,null,null,null,null,null,null,null,null,null,null,null,null,"08","02","07",2,800000,2000,70,2,802072,"MASZEWO",1847.73]
["","Powiat sępoleński  (4 gminy)",null,null,null,null,null,null,null,null,null,null,null,null,null,null,null,null,null,null,null,null,null,null,null,null,null,null,null,null,null,"08","03","01",2,800000,3000,10,2,803012,"BLEDZEW",1536.53]
["","",null,null,null,null,null,null,null,null,null,null,null,null,null,null,null,null,null,null,null,null,null,null,null,null,null,null,null,null,null,"08","03","02",3,800000,3000,20,3,803023,"MIĘDZYRZECZ",1879.48]
[413032,"  Sośno..........................................................................................................................................................................................................................................................",16264,"",163,5027,"",31,573,1718,null,null,null,null,null,null,null,null,null,null,null,null,null,null,null,null,null,null,null,null,null,"08","03","03",2,800000,3000,30,2,803032,"PRZYTOCZNA",2264.0100000000002]
["","",null,null,null,null,null,null,null,null,null,null,null,null,null,null,null,null,null,null,null,null,null,null,null,null,null,null,null,null,null,"08","03","04",2,800000,3000,40,2,803042,"PSZCZEW",2399.0700000000002]
[413013,"  Kamień Krajeński..........................................................................................................................................................................................................................................................",16331,"",163,6966,"",43,565,1305,null,null,null,null,null,null,null,null,null,null,null,null,null,null,null,null,null,null,null,null,null,"08","03","05",3,800000,3000,50,3,803053,"SKWIERZYNA",1729.1]
[413014,"",365,"",4,2386,"",654,"x","x",null,null,null,null,null,null,null,null,null,null,null,null,null,null,null,null,null,null,null,null,null,"08","03","06",3,800000,3000,60,3,803063,"TRZCIEL",1365.84]
[413015,"",15966,"",159,4580,"",29,"x","x",null,null,null,null,null,null,null,null,null,null,null,null,null,null,null,null,null,null,null,null,null,"08","04","01",1,800000,4000,10,1,804011,"NOWA SÓL",1646.44]
[413023,"  Sępólno Krajeńskie..........................................................................................................................................................................................................................................................",22912,"",229,15803,"",69,232,488,null,null,null,null,null,null,null,null,null,null,null,null,null,null,null,null,null,null,null,null,null,"08","04","02",3,800000,4000,20,3,804023,"BYTOM ODRZAŃSKI",1295.32]
[413024,"",655,"",7,9118,"",1392,"x","x",null,null,null,null,null,null,null,null,null,null,null,null,null,null,null,null,null,null,null,null,null,"08","04","03",2,800000,4000,30,2,804032,"KOLSKO",1100.8]
[413025,"",22257,"",222,6685,"",30,"x","x",null,null,null,null,null,null,null,null,null,null,null,null,null,null,null,null,null,null,null,null,null,"08","04","04",3,800000,4000,40,3,804043,"KOŻUCHÓW",1331.04]
[413043,"  Więcbork..........................................................................................................................................................................................................................................................",23602,"",236,13351,"",57,214,601,null,null,null,null,null,null,null,null,null,null,null,null,null,null,null,null,null,null,null,null,null,"08","04","05",2,800000,4000,50,2,804052,"NOWA SÓL",1518.37]
[413044,"",431,"",4,5966,"",1384,"x","x",null,null,null,null,null,null,null,null,null,null,null,null,null,null,null,null,null,null,null,null,null,"08","04","06",3,800000,4000,60,3,804063,"NOWE MIASTECZKO",1225.25]
[413045,"",23171,"",232,7385,"",32,"x","x",null,null,null,null,null,null,null,null,null,null,null,null,null,null,null,null,null,null,null,null,null,"08","04","07",3,800000,4000,70,3,804073,"OTYŃ",1225.52]
["","Powiat świecki  (11 gmin)",null,null,null,null,null,null,null,null,null,null,null,null,null,null,null,null,null,null,null,null,null,null,null,null,null,null,null,null,null,"08","04","08",2,800000,4000,80,2,804082,"SIEDLISKO",1197.3599999999999]
["","",null,null,null,null,null,null,null,null,null,null,null,null,null,null,null,null,null,null,null,null,null,null,null,null,null,null,null,null,null,"08","05","01",3,800000,5000,10,3,805013,"CYBINKA",1704.13]
[414012,"  Bukowiec..........................................................................................................................................................................................................................................................",11100,"",111,5140,"",46,1200,1693,null,null,null,null,null,null,null,null,null,null,null,null,null,null,null,null,null,null,null,null,null,"08","05","02",2,800000,5000,20,2,805022,"GÓRZYCA",1775.8]
[414022,"  Dragacz..........................................................................................................................................................................................................................................................",11181,"",112,7228,"",65,1181,1258,null,null,null,null,null,null,null,null,null,null,null,null,null,null,null,null,null,null,null,null,null,"08","05","03",3,800000,5000,30,3,805033,"OŚNO LUBUSKIE",1763.62]
[414032,"  Drzycim..........................................................................................................................................................................................................................................................",10841,"",108,4952,"",46,1251,1734,null,null,null,null,null,null,null,null,null,null,null,null,null,null,null,null,null,null,null,null,null,"08","05","04",3,800000,5000,40,3,805043,"RZEPIN",2370.77]
[414042,"  Jeżewo..........................................................................................................................................................................................................................................................",15646,"",156,8138,"",52,621,1105,null,null,null,null,null,null,null,null,null,null,null,null,null,null,null,null,null,null,null,null,null,"08","05","05",3,800000,5000,50,3,805053,"SŁUBICE",2388.4699999999998]
[414052,"  Lniano..........................................................................................................................................................................................................................................................",8839,"",88,4305,"",49,1554,1899,null,null,null,null,null,null,null,null,null,null,null,null,null,null,null,null,null,null,null,null,null,"08","06","01",3,800000,6000,10,3,806013,"DOBIEGNIEW",1689.55]
[414072,"  Osie..........................................................................................................................................................................................................................................................",20904,"",209,5499,"",26,293,1602,null,null,null,null,null,null,null,null,null,null,null,null,null,null,null,null,null,null,null,null,null,"08","06","02",3,800000,6000,20,3,806023,"DREZDENKO",2221.04]
[414082,"  Pruszcz..........................................................................................................................................................................................................................................................",14249,"",143,9574,"",67,753,916,null,null,null,null,null,null,null,null,null,null,null,null,null,null,null,null,null,null,null,null,null,"08","06","03",2,800000,6000,30,2,806032,"STARE KUROWO",1247.95]
[414102,"  Świekatowo..........................................................................................................................................................................................................................................................",6383,"",64,3599,"",56,1916,2078,null,null,null,null,null,null,null,null,null,null,null,null,null,null,null,null,null,null,null,null,null,"08","06","04",3,800000,6000,40,3,806043,"STRZELCE KRAJEŃSKIE",1514.87]
[414112,"  Warlubie..........................................................................................................................................................................................................................................................",20111,"",201,6519,"",32,340,1386,null,null,null,null,null,null,null,null,null,null,null,null,null,null,null,null,null,null,null,null,null,"08","06","05",2,800000,6000,50,2,806052,"ZWIERZYN",1334.35]
["","",null,null,null,null,null,null,null,null,null,null,null,null,null,null,null,null,null,null,null,null,null,null,null,null,null,null,null,null,null,"08","07","01",2,800000,7000,10,2,807012,"KRZESZYCE",1393.61]
[414063,"  Nowe..........................................................................................................................................................................................................................................................",10671,"",107,10277,"",96,1276,844,null,null,null,null,null,null,null,null,null,null,null,null,null,null,null,null,null,null,null,null,null,"08","07","02",3,800000,7000,20,3,807023,"LUBNIEWICE",2035.86]
[414064,"",357,"",3,5864,"",1643,"x","x",null,null,null,null,null,null,null,null,null,null,null,null,null,null,null,null,null,null,null,null,null,"08","07","03",2,800000,7000,30,2,807032,"SŁOŃSK",1359.47]
[414065,"",10314,"",104,4413,"",43,"x","x",null,null,null,null,null,null,null,null,null,null,null,null,null,null,null,null,null,null,null,null,null,"08","07","04",3,800000,7000,40,3,807043,"SULĘCIN",1977.47]
[414093,"  Świecie..........................................................................................................................................................................................................................................................",17493,"",175,34050,"",195,488,158,null,null,null,null,null,null,null,null,null,null,null,null,null,null,null,null,null,null,null,null,null,"08","07","05",3,800000,7000,50,3,807053,"TORZYM",1682.21]
[414094,"",1187,"",12,25831,"",2176,"x","x",null,null,null,null,null,null,null,null,null,null,null,null,null,null,null,null,null,null,null,null,null,"08","08","01",2,800000,8000,10,2,808012,"LUBRZA",2140]
[414095,"",16306,"",163,8219,"",50,"x","x",null,null,null,null,null,null,null,null,null,null,null,null,null,null,null,null,null,null,null,null,null,"08","08","02",2,800000,8000,20,2,808022,"ŁAGÓW",1883.79]
["","Powiat toruński  (9 gmin)",null,null,null,null,null,null,null,null,null,null,null,null,null,null,null,null,null,null,null,null,null,null,null,null,null,null,null,null,null,"08","08","03",2,800000,8000,30,2,808032,"SKĄPE",1740.04]
["","",null,null,null,null,null,null,null,null,null,null,null,null,null,null,null,null,null,null,null,null,null,null,null,null,null,null,null,null,null,"08","08","04",2,800000,8000,40,2,808042,"SZCZANIEC",1106.44]
[415011,"  Chełmża..........................................................................................................................................................................................................................................................",784,"",7,14532,"",1854,2330,540,null,null,null,null,null,null,null,null,null,null,null,null,null,null,null,null,null,null,null,null,null,"08","08","05",3,800000,8000,50,3,808053,"ŚWIEBODZIN",1851]
["","",null,null,null,null,null,null,null,null,null,null,null,null,null,null,null,null,null,null,null,null,null,null,null,null,null,null,null,null,null,"08","08","06",3,800000,8000,60,3,808063,"ZBĄSZYNEK",2326.0700000000002]
[415022,"  Chełmża..........................................................................................................................................................................................................................................................",17895,"",180,9838,"",55,458,888,null,null,null,null,null,null,null,null,null,null,null,null,null,null,null,null,null,null,null,null,null,"08","09","01",3,800000,9000,10,3,809013,"BABIMOST",2188.75]
[415032,"  Czernikowo..........................................................................................................................................................................................................................................................",17014,"",170,9086,"",53,518,971,null,null,null,null,null,null,null,null,null,null,null,null,null,null,null,null,null,null,null,null,null,"08","09","02",2,800000,9000,20,2,809022,"BOJADŁA",1468.82]
[415042,"  Lubicz..........................................................................................................................................................................................................................................................",10575,"",106,19907,"",188,1293,346,null,null,null,null,null,null,null,null,null,null,null,null,null,null,null,null,null,null,null,null,null,"08","09","03",3,{"$f":"AF584*100000","v":800000},{"$f":"AG584*1000","v":9000},{"$f":"AH584*10","v":30},{"$f":"AI584*1","v":3},{"$f":"SUM(AJ584:AM584)","v":809033},"CZERWIEŃSK",1873.64]
[415052,"  Łubianka..........................................................................................................................................................................................................................................................",8450,"",84,7133,"",84,1630,1276,null,null,null,null,null,null,null,null,null,null,null,null,null,null,null,null,null,null,null,null,null,"08","09","04",3,800000,9000,40,3,809043,"KARGOWA",1875.06]
[415062,"  Łysomice..........................................................................................................................................................................................................................................................",12694,"",127,10019,"",79,957,867,null,null,null,null,null,null,null,null,null,null,null,null,null,null,null,null,null,null,null,null,null,"08","09","05",3,800000,9000,50,3,809053,"NOWOGRÓD BOBRZAŃSKI",1735.01]
[415072,"  Obrowo..........................................................................................................................................................................................................................................................",16217,"",162,17148,"",106,579,434,null,null,null,null,null,null,null,null,null,null,null,null,null,null,null,null,null,null,null,null,null,"08","09","06",3,800000,9000,60,3,809063,"SULECHÓW",1707.88]
[415082,"  Wielka Nieszawka..........................................................................................................................................................................................................................................................",21622,"",216,5176,"",24,270,1684,null,null,null,null,null,null,null,null,null,null,null,null,null,null,null,null,null,null,null,null,null,"08","09","07",2,800000,9000,70,2,809072,"ŚWIDNICA",2233.5700000000002]
[415092,"  Zławieś Wielka..........................................................................................................................................................................................................................................................",17791,"",178,14096,"",79,468,565,null,null,null,null,null,null,null,null,null,null,null,null,null,null,null,null,null,null,null,null,null,"08","09","08",2,800000,9000,80,2,809082,"TRZEBIECHÓW",1434.38]
["","Powiat tucholski  (6 gmin)",null,null,null,null,null,null,null,null,null,null,null,null,null,null,null,null,null,null,null,null,null,null,null,null,null,null,null,null,null,"08","09","09",2,800000,9000,90,2,809092,"ZABÓR",1535.81]
["","",null,null,null,null,null,null,null,null,null,null,null,null,null,null,null,null,null,null,null,null,null,null,null,null,null,null,null,null,null,"08","10","01",1,800000,10000,10,1,810011,"GOZDNICA",1509.63]
[416012,"  Cekcyn..........................................................................................................................................................................................................................................................",25326,"",252,6815,"",27,176,1333,null,null,null,null,null,null,null,null,null,null,null,null,null,null,null,null,null,null,null,null,null,"08","10","02",1,800000,10000,20,1,810021,"ŻAGAŃ",1677.2]
[416022,"  Gostycyn..........................................................................................................................................................................................................................................................",13580,"",136,5191,"",38,828,1680,null,null,null,null,null,null,null,null,null,null,null,null,null,null,null,null,null,null,null,null,null,"08","10","03",2,800000,10000,30,2,810032,"BRZEŹNICA",950.29]
[416032,"  Kęsowo..........................................................................................................................................................................................................................................................",10922,"",109,4465,"",41,1237,1857,null,null,null,null,null,null,null,null,null,null,null,null,null,null,null,null,null,null,null,null,null,"08","10","04",3,800000,10000,40,3,810043,"IŁOWA",1798.74]
[416042,"  Lubiewo..........................................................................................................................................................................................................................................................",16280,"",163,5998,"",37,572,1497,null,null,null,null,null,null,null,null,null,null,null,null,null,null,null,null,null,null,null,null,null,"08","10","05",3,800000,10000,50,3,810053,"MAŁOMICE",1174.48]
[416052,"  Śliwice..........................................................................................................................................................................................................................................................",17472,"",175,5586,"",32,490,1579,null,null,null,null,null,null,null,null,null,null,null,null,null,null,null,null,null,null,null,null,null,"08","10","06",2,800000,10000,60,2,810062,"NIEGOSŁAWICE",1914.63]
["","",null,null,null,null,null,null,null,null,null,null,null,null,null,null,null,null,null,null,null,null,null,null,null,null,null,null,null,null,null,"08","10","07",3,800000,10000,70,3,810073,"SZPROTAWA",1442.61]
[416063,"  Tuchola..........................................................................................................................................................................................................................................................",23966,"",240,20319,"",85,206,335,null,null,null,null,null,null,null,null,null,null,null,null,null,null,null,null,null,null,null,null,null,"08","10","08",2,800000,10000,80,2,810082,"WYMIARKI",1547.94]
[416064,"",1769,"",18,13680,"",773,"x","x",null,null,null,null,null,null,null,null,null,null,null,null,null,null,null,null,null,null,null,null,null,"08","10","09",2,800000,10000,90,2,810092,"ŻAGAŃ",1758.58]
[416065,"",22197,"",222,6639,"",30,"x","x",null,null,null,null,null,null,null,null,null,null,null,null,null,null,null,null,null,null,null,null,null,"08","11","01",1,800000,11000,10,1,811011,"ŁĘKNICA",1279.73]
["","Powiat wąbrzeski  (5 gmin)",null,null,null,null,null,null,null,null,null,null,null,null,null,null,null,null,null,null,null,null,null,null,null,null,null,null,null,null,null,"08","11","02",1,800000,11000,20,1,811021,"ŻARY",2215.7399999999998]
["","",null,null,null,null,null,null,null,null,null,null,null,null,null,null,null,null,null,null,null,null,null,null,null,null,null,null,null,null,null,"08","11","03",2,800000,11000,30,2,811032,"BRODY",1709.09]
[417011,"  Wąbrzeźno..........................................................................................................................................................................................................................................................",853,"",9,13605,"",1595,2328,589,null,null,null,null,null,null,null,null,null,null,null,null,null,null,null,null,null,null,null,null,null,"08","11","04",3,800000,11000,40,3,811043,"JASIEŃ",1437.99]
["","",null,null,null,null,null,null,null,null,null,null,null,null,null,null,null,null,null,null,null,null,null,null,null,null,null,null,null,null,null,"08","11","05",2,800000,11000,50,2,811052,"LIPINKI ŁUŻYCKIE",1168.28]
[417022,"  Dębowa Łąka..........................................................................................................................................................................................................................................................",8612,"",86,3203,"",37,1592,2152,null,null,null,null,null,null,null,null,null,null,null,null,null,null,null,null,null,null,null,null,null,"08","11","06",3,800000,11000,60,3,811063,"LUBSKO",1254.0999999999999]
[417032,"  Książki..........................................................................................................................................................................................................................................................",8619,"",86,4184,"",49,1589,1930,null,null,null,null,null,null,null,null,null,null,null,null,null,null,null,null,null,null,null,null,null,"08","11","07",2,800000,11000,70,2,811072,"PRZEWÓZ",1680.94]
[417042,"  Płużnica..........................................................................................................................................................................................................................................................",12038,"",120,4829,"",40,1046,1770,null,null,null,null,null,null,null,null,null,null,null,null,null,null,null,null,null,null,null,null,null,"08","11","08",2,800000,11000,80,2,811082,"TRZEBIEL",1149.17]
[417052,"  Ryńsk..........................................................................................................................................................................................................................................................",20073,"",201,8592,"",43,342,1037,null,null,null,null,null,null,null,null,null,null,null,null,null,null,null,null,null,null,null,null,null,"08","11","09",2,800000,11000,90,2,811092,"TUPLICE",1157.77]
["","Powiat włocławski  (13 gmin)",null,null,null,null,null,null,null,null,null,null,null,null,null,null,null,null,null,null,null,null,null,null,null,null,null,null,null,null,null,"08","11","10",2,800000,11000,100,2,811102,"ŻARY",1806.24]
["","",null,null,null,null,null,null,null,null,null,null,null,null,null,null,null,null,null,null,null,null,null,null,null,null,null,null,null,null,null,"08","12","01",3,800000,12000,10,3,812013,"SŁAWA",2104.27]
[418011,"  Kowal..........................................................................................................................................................................................................................................................",468,"↓",5,3499,"",748,2339,2094,null,null,null,null,null,null,null,null,null,null,null,null,null,null,null,null,null,null,null,null,null,"08","12","02",3,800000,12000,20,3,812023,"SZLICHTYNGOWA",1515.76]
["","",null,null,null,null,null,null,null,null,null,null,null,null,null,null,null,null,null,null,null,null,null,null,null,null,null,null,null,null,null,"08","12","03",3,800000,12000,30,3,812033,"WSCHOWA",1299.78]
[418022,"  Baruchowo..........................................................................................................................................................................................................................................................",10674,"",107,3459,"",32,1274,2105,null,null,null,null,null,null,null,null,null,null,null,null,null,null,null,null,null,null,null,null,null,"08","61","01",1,800000,61000,10,1,861011,"Gorzów Wielkopolski",1928.94]
[418032,"  Boniewo..........................................................................................................................................................................................................................................................",7762,"",78,3406,"",44,1738,2115,null,null,null,null,null,null,null,null,null,null,null,null,null,null,null,null,null,null,null,null,null,"08","62","01",1,800000,62000,10,1,862011,"Zielona Góra",2256.91]
[418052,"  Choceń..........................................................................................................................................................................................................................................................",9985,"",100,7961,"",80,1392,1133,null,null,null,null,null,null,null,null,null,null,null,null,null,null,null,null,null,null,null,null,null,"10","01","01",1,1000000,1000,10,1,1001011,"BEŁCHATÓW",2120.39]
[418072,"  Fabianki..........................................................................................................................................................................................................................................................",7584,"",76,10081,"",133,1761,859,null,null,null,null,null,null,null,null,null,null,null,null,null,null,null,null,null,null,null,null,null,"10","01","02",2,1000000,1000,20,2,1001022,"BEŁCHATÓW",2104.54]
[418092,"  Kowal..........................................................................................................................................................................................................................................................",11479,"",115,3937,"",34,1128,1989,null,null,null,null,null,null,null,null,null,null,null,null,null,null,null,null,null,null,null,null,null,"10","01","03",2,1000000,1000,30,2,1001032,"DRUŻBICE",1142.3]
[418102,"  Lubanie..........................................................................................................................................................................................................................................................",6941,"",69,4598,"",66,1856,1826,null,null,null,null,null,null,null,null,null,null,null,null,null,null,null,null,null,null,null,null,null,"10","01","04",2,1000000,1000,40,2,1001042,"KLESZCZÓW",31028.400000000001]
[418132,"  Włocławek..........................................................................................................................................................................................................................................................",22062,"",220,7239,"",33,258,1253,null,null,null,null,null,null,null,null,null,null,null,null,null,null,null,null,null,null,null,null,null,"10","01","05",2,1000000,1000,50,2,1001052,"KLUKI",2050.5]
["","",null,null,null,null,null,null,null,null,null,null,null,null,null,null,null,null,null,null,null,null,null,null,null,null,null,null,null,null,null,"10","01","06",2,1000000,1000,60,2,1001062,"RUSIEC",1722.98]
[418043,"  Brześć Kujawski..........................................................................................................................................................................................................................................................",15095,"",151,11547,"",76,667,737,null,null,null,null,null,null,null,null,null,null,null,null,null,null,null,null,null,null,null,null,null,"10","01","07",2,1000000,1000,70,2,1001072,"SZCZERCÓW",4946.82]
[418044,"",704,"",7,4659,"",662,"x","x",null,null,null,null,null,null,null,null,null,null,null,null,null,null,null,null,null,null,null,null,null,"10","01","08",3,1000000,1000,80,3,1001083,"ZELÓW",1188.42]
[418045,"",14391,"",144,6888,"",48,"x","x",null,null,null,null,null,null,null,null,null,null,null,null,null,null,null,null,null,null,null,null,null,"10","02","01",1,1000000,2000,10,1,1002011,"KUTNO",2342.21]
[418063,"  Chodecz..........................................................................................................................................................................................................................................................",12209,"",122,6042,"",49,1025,1485,null,null,null,null,null,null,null,null,null,null,null,null,null,null,null,null,null,null,null,null,null,"10","02","02",2,1000000,2000,20,2,1002022,"BEDLNO",1538.36]
[418064,"",139,"",1,1899,"",1366,"x","x",null,null,null,null,null,null,null,null,null,null,null,null,null,null,null,null,null,null,null,null,null,"10","02","03",2,1000000,2000,30,2,1002032,"DĄBROWICE",1917.87]
[418065,"",12070,"",121,4143,"",34,"x","x",null,null,null,null,null,null,null,null,null,null,null,null,null,null,null,null,null,null,null,null,null,"10","02","04",3,1000000,2000,40,3,1002043,"KROŚNIEWICE",1331.3]
[418083,"  Izbica Kujawska..........................................................................................................................................................................................................................................................",13210,"",132,7688,"",58,880,1176,null,null,null,null,null,null,null,null,null,null,null,null,null,null,null,null,null,null,null,null,null,"10","02","05",2,1000000,2000,50,2,1002052,"KRZYŻANÓW",2065.13]
[418084,"",224,"",2,2631,"",1175,"x","x",null,null,null,null,null,null,null,null,null,null,null,null,null,null,null,null,null,null,null,null,null,"10","02","06",2,1000000,2000,60,2,1002062,"KUTNO",1472.43]
[418085,"",12986,"",130,5057,"",39,"x","x",null,null,null,null,null,null,null,null,null,null,null,null,null,null,null,null,null,null,null,null,null,"10","02","07",2,1000000,2000,70,2,1002072,"ŁANIĘTA",962.36]
[418113,"  Lubień Kujawski..........................................................................................................................................................................................................................................................",15091,"",151,7390,"",49,668,1228,null,null,null,null,null,null,null,null,null,null,null,null,null,null,null,null,null,null,null,null,null,"10","02","08",2,1000000,2000,80,2,1002082,"NOWE OSTROWY",1358.05]
[418114,"",231,"",2,1397,"",605,"x","x",null,null,null,null,null,null,null,null,null,null,null,null,null,null,null,null,null,null,null,null,null,"10","02","09",2,1000000,2000,90,2,1002092,"OPORÓW",1134.77]
[418115,"",14860,"",149,5993,"",40,"x","x",null,null,null,null,null,null,null,null,null,null,null,null,null,null,null,null,null,null,null,null,null,"10","02","10",2,1000000,2000,100,2,1002102,"STRZELCE",1324.7]
[418123,"  Lubraniec..........................................................................................................................................................................................................................................................",14803,"",148,9505,"",64,693,921,null,null,null,null,null,null,null,null,null,null,null,null,null,null,null,null,null,null,null,null,null,"10","02","11",3,1000000,2000,110,3,1002113,"ŻYCHLIN",1548.23]
[418124,"",197,"",2,3028,"",1537,"x","x",null,null,null,null,null,null,null,null,null,null,null,null,null,null,null,null,null,null,null,null,null,"10","03","01",2,1000000,3000,10,2,1003012,"BUCZEK",1847.35]
[418125,"",14606,"",146,6477,"",44,"x","x",null,null,null,null,null,null,null,null,null,null,null,null,null,null,null,null,null,null,null,null,null,"10","03","02",3,1000000,3000,20,3,1003023,"ŁASK",1572.65]
["","Powiat żniński  (6 gmin)",null,null,null,null,null,null,null,null,null,null,null,null,null,null,null,null,null,null,null,null,null,null,null,null,null,null,null,null,null,"10","03","03",2,1000000,3000,30,2,1003032,"SĘDZIEJOWICE",1210.5]
["","",null,null,null,null,null,null,null,null,null,null,null,null,null,null,null,null,null,null,null,null,null,null,null,null,null,null,null,null,null,"10","03","04",2,1000000,3000,40,2,1003042,"WIDAWA",1103.92]
[419022,"  Gąsawa..........................................................................................................................................................................................................................................................",13584,"",136,5294,"",39,827,1655,null,null,null,null,null,null,null,null,null,null,null,null,null,null,null,null,null,null,null,null,null,"10","03","05",2,1000000,3000,50,2,1003052,"WODZIERADY",1660.94]
[419052,"  Rogowo..........................................................................................................................................................................................................................................................",17885,"",179,6865,"",38,459,1325,null,null,null,null,null,null,null,null,null,null,null,null,null,null,null,null,null,null,null,null,null,"10","04","01",1,1000000,4000,10,1,1004011,"ŁĘCZYCA",1653.43]
["","",null,null,null,null,null,null,null,null,null,null,null,null,null,null,null,null,null,null,null,null,null,null,null,null,null,null,null,null,null,"10","04","02",2,1000000,4000,20,2,1004022,"DASZYNA",1161.93]
[419013,"  Barcin..........................................................................................................................................................................................................................................................",12088,"",121,14818,"",123,1042,525,null,null,null,null,null,null,null,null,null,null,null,null,null,null,null,null,null,null,null,null,null,"10","04","03",2,1000000,4000,30,2,1004032,"GÓRA ŚW. MAŁGORZATY",1054.6600000000001]
[419014,"",370,"",4,7468,"",2018,"x","x",null,null,null,null,null,null,null,null,null,null,null,null,null,null,null,null,null,null,null,null,null,"10","04","04",2,1000000,4000,40,2,1004042,"GRABÓW",1029.92]
[419015,"",11718,"",117,7350,"",63,"x","x",null,null,null,null,null,null,null,null,null,null,null,null,null,null,null,null,null,null,null,null,null,"10","04","05",2,1000000,4000,50,2,1004052,"ŁĘCZYCA",1755.52]
[419033,"  Janowiec Wielkopolski..........................................................................................................................................................................................................................................................",13073,"",131,9051,"",69,900,980,null,null,null,null,null,null,null,null,null,null,null,null,null,null,null,null,null,null,null,null,null,"10","04","06",2,1000000,4000,60,2,1004062,"PIĄTEK",1208.94]
[419034,"",304,"",3,3966,"",1305,"x","x",null,null,null,null,null,null,null,null,null,null,null,null,null,null,null,null,null,null,null,null,null,"10","04","07",2,1000000,4000,70,2,1004072,"ŚWINICE WARCKIE",854.07]
[419035,"",12769,"",128,5085,"",40,"x","x",null,null,null,null,null,null,null,null,null,null,null,null,null,null,null,null,null,null,null,null,null,"10","04","08",2,1000000,4000,80,2,1004082,"WITONIA",1083.07]
[419043,"  Łabiszyn..........................................................................................................................................................................................................................................................",16700,"",167,10162,"",61,543,852,null,null,null,null,null,null,null,null,null,null,null,null,null,null,null,null,null,null,null,null,null,"10","05","01",1,1000000,5000,10,1,1005011,"ŁOWICZ",1984.55]
[419044,"",289,"",3,4501,"",1557,"x","x",null,null,null,null,null,null,null,null,null,null,null,null,null,null,null,null,null,null,null,null,null,"10","05","02",2,{"$f":"AF648*100000","v":1000000},{"$f":"AG648*1000","v":5000},{"$f":"AH648*10","v":20},{"$f":"AI648*1","v":2},{"$f":"SUM(AJ648:AM648)","v":1005022},"BIELAWY",1175.46]
[419045,"",16411,"",164,5661,"",34,"x","x",null,null,null,null,null,null,null,null,null,null,null,null,null,null,null,null,null,null,null,null,null,"10","05","03",2,1000000,5000,30,2,1005032,"CHĄŚNO",1071.78]
[419063,"  Żnin..........................................................................................................................................................................................................................................................",25147,"",251,24223,"",96,179,261,null,null,null,null,null,null,null,null,null,null,null,null,null,null,null,null,null,null,null,null,null,"10","05","04",2,1000000,5000,40,2,1005042,"DOMANIEWICE",1208.1500000000001]
[419064,"",835,"",8,13934,"",1669,"x","x",null,null,null,null,null,null,null,null,null,null,null,null,null,null,null,null,null,null,null,null,null,"10","05","05",2,1000000,5000,50,2,1005052,"KIERNOZIA",1051.5]
[419065,"",24312,"",243,10289,"",42,"x","x",null,null,null,null,null,null,null,null,null,null,null,null,null,null,null,null,null,null,null,null,null,"10","05","06",2,1000000,5000,60,2,1005062,"KOCIERZEW POŁUDNIOWY",915.84]
["","",null,null,null,null,null,null,null,null,null,null,null,null,null,null,null,null,null,null,null,null,null,null,null,null,null,null,null,null,null,"10","05","07",2,1000000,5000,70,2,1005072,"ŁOWICZ",1237.3399999999999]
[461011,"  Bydgoszcz..........................................................................................................................................................................................................................................................",17598,"",176,350178,"↑",1990,479,8,null,null,null,null,null,null,null,null,null,null,null,null,null,null,null,null,null,null,null,null,null,"10","05","08",2,1000000,5000,80,2,1005082,"ŁYSZKOWICE",1460.13]
[462011,"  Grudziądz..........................................................................................................................................................................................................................................................",5776,"",58,95045,"",1646,1959,40,null,null,null,null,null,null,null,null,null,null,null,null,null,null,null,null,null,null,null,null,null,"10","05","09",2,1000000,5000,90,2,1005092,"NIEBORÓW",1362.84]
[463011,"  Toruń..........................................................................................................................................................................................................................................................",11572,"",116,202074,"",1746,1120,15,null,null,null,null,null,null,null,null,null,null,null,null,null,null,null,null,null,null,null,null,null,"10","05","10",2,1000000,5000,100,2,1005102,"ZDUNY",1078.6600000000001]
[464011,"  Włocławek..........................................................................................................................................................................................................................................................",8432,"",84,110802,"",1314,1631,34,null,null,null,null,null,null,null,null,null,null,null,null,null,null,null,null,null,null,null,null,null,"10","06","02",2,1000000,6000,20,2,1006022,"ANDRESPOL",1901.52]
["","WOJ. LUBELSKIE",null,null,null,null,null,null,null,null,null,null,null,null,null,null,null,null,null,null,null,null,null,null,null,null,null,null,null,null,null,"10","06","03",2,1000000,6000,30,2,1006032,"BRÓJCE",1874.25]
["","Powiat bialski  (19 gmin)",null,null,null,null,null,null,null,null,null,null,null,null,null,null,null,null,null,null,null,null,null,null,null,null,null,null,null,null,null,"10","06","07",3,1000000,6000,70,3,1006073,"KOLUSZKI",2066.56]
["","",null,null,null,null,null,null,null,null,null,null,null,null,null,null,null,null,null,null,null,null,null,null,null,null,null,null,null,null,null,"10","06","08",2,1000000,6000,80,2,1006082,"NOWOSOLNA",3682.26]
[601011,"  Międzyrzec Podlaski..........................................................................................................................................................................................................................................................",2003,"",20,16796,"",839,2238,447,null,null,null,null,null,null,null,null,null,null,null,null,null,null,null,null,null,null,null,null,null,"10","06","10",3,1000000,6000,100,3,1006103,"RZGÓW",3867.83]
[601021,"  Terespol (c)..........................................................................................................................................................................................................................................................",1011,"",10,5557,"",550,2322,1588,null,null,null,null,null,null,null,null,null,null,null,null,null,null,null,null,null,null,null,null,null,"10","06","11",3,1000000,6000,110,3,1006113,"TUSZYN",2101.36]
["","",null,null,null,null,null,null,null,null,null,null,null,null,null,null,null,null,null,null,null,null,null,null,null,null,null,null,null,null,null,"10","07","01",2,1000000,7000,10,2,1007012,"BIAŁACZÓW",817.96]
[601032,"  Biała Podlaska..........................................................................................................................................................................................................................................................",32540,"↑",325,14334,"",44,73,552,null,null,null,null,null,null,null,null,null,null,null,null,null,null,null,null,null,null,null,null,null,"10","07","02",3,1000000,7000,20,3,1007023,"DRZEWICA",892.62]
[601042,"  Drelów..........................................................................................................................................................................................................................................................",22806,"",228,5433,"",24,235,1616,null,null,null,null,null,null,null,null,null,null,null,null,null,null,null,null,null,null,null,null,null,"10","07","03",2,1000000,7000,30,2,1007032,"MNISZKÓW",1255.32]
[601052,"  Janów Podlaski..........................................................................................................................................................................................................................................................",13577,"",136,5344,"",39,829,1642,null,null,null,null,null,null,null,null,null,null,null,null,null,null,null,null,null,null,null,null,null,"10","07","04",3,1000000,7000,40,3,1007043,"OPOCZNO",1671.9]
[601062,"  Kodeń..........................................................................................................................................................................................................................................................",15104,"",151,3585,"",24,664,2081,null,null,null,null,null,null,null,null,null,null,null,null,null,null,null,null,null,null,null,null,null,"10","07","05",2,1000000,7000,50,2,1007052,"PARADYŻ",1257.02]
[601072,"  Konstantynów..........................................................................................................................................................................................................................................................",8692,"",87,4155,"",48,1578,1937,null,null,null,null,null,null,null,null,null,null,null,null,null,null,null,null,null,null,null,null,null,"10","07","06",2,1000000,7000,60,2,1007062,"POŚWIĘTNE",909.8]
[601082,"  Leśna Podlaska..........................................................................................................................................................................................................................................................",9823,"",98,4245,"",43,1420,1920,null,null,null,null,null,null,null,null,null,null,null,null,null,null,null,null,null,null,null,null,null,"10","07","07",2,1000000,7000,70,2,1007072,"SŁAWNO",1583.86]
[601092,"  Łomazy..........................................................................................................................................................................................................................................................",19860,"",199,4963,"",25,353,1730,null,null,null,null,null,null,null,null,null,null,null,null,null,null,null,null,null,null,null,null,null,"10","07","08",2,1000000,7000,80,2,1007082,"ŻARNÓW",847.33]
[601102,"  Międzyrzec Podlaski..........................................................................................................................................................................................................................................................",26092,"",261,10532,"",40,154,822,null,null,null,null,null,null,null,null,null,null,null,null,null,null,null,null,null,null,null,null,null,"10","08","01",1,1000000,8000,10,1,1008011,"KONSTANTYNÓW ŁÓDZKI",1998.44]
[601112,"  Piszczac..........................................................................................................................................................................................................................................................",17019,"",170,7231,"",42,516,1256,null,null,null,null,null,null,null,null,null,null,null,null,null,null,null,null,null,null,null,null,null,"10","08","02",1,1000000,8000,20,1,1008021,"PABIANICE",1690.92]
[601122,"  Rokitno..........................................................................................................................................................................................................................................................",14089,"",141,2989,"",21,775,2189,null,null,null,null,null,null,null,null,null,null,null,null,null,null,null,null,null,null,null,null,null,"10","08","03",2,1000000,8000,30,2,1008032,"DŁUTÓW",1401.52]
[601132,"  Rossosz..........................................................................................................................................................................................................................................................",7648,"",76,2237,"",29,1752,2270,null,null,null,null,null,null,null,null,null,null,null,null,null,null,null,null,null,null,null,null,null,"10","08","04",2,1000000,8000,40,2,1008042,"DOBROŃ",1867.92]
[601142,"  Sławatycze (c)..........................................................................................................................................................................................................................................................",7189,"",72,2337,"",33,1819,2264,null,null,null,null,null,null,null,null,null,null,null,null,null,null,null,null,null,null,null,null,null,"10","08","05",2,1000000,8000,50,2,1008052,"KSAWERÓW",2554.4499999999998]
[601152,"  Sosnówka..........................................................................................................................................................................................................................................................",14836,"",148,2440,"",16,690,2254,null,null,null,null,null,null,null,null,null,null,null,null,null,null,null,null,null,null,null,null,null,"10","08","06",2,1000000,8000,60,2,1008062,"LUTOMIERSK",1738.18]
[601162,"  Terespol (c)..........................................................................................................................................................................................................................................................",14149,"",142,6762,"",48,763,1344,null,null,null,null,null,null,null,null,null,null,null,null,null,null,null,null,null,null,null,null,null,"10","08","07",2,1000000,8000,70,2,1008072,"PABIANICE",2773.99]
[601172,"  Tuczna..........................................................................................................................................................................................................................................................",16957,"",170,3040,"",18,525,2182,null,null,null,null,null,null,null,null,null,null,null,null,null,null,null,null,null,null,null,null,null,"10","09","01",3,1000000,9000,10,3,1009013,"DZIAŁOSZYN",2947.65]
[601182,"  Wisznice..........................................................................................................................................................................................................................................................",17320,"",173,4975,"",29,495,1728,null,null,null,null,null,null,null,null,null,null,null,null,null,null,null,null,null,null,null,null,null,"10","09","02",2,1000000,9000,20,2,1009022,"KIEŁCZYGŁÓW",1412.54]
[601192,"  Zalesie..........................................................................................................................................................................................................................................................",14711,"",147,4436,"",30,704,1864,null,null,null,null,null,null,null,null,null,null,null,null,null,null,null,null,null,null,null,null,null,"10","09","03",2,1000000,9000,30,2,1009032,"NOWA BRZEŹNICA",1081.81]
["","Powiat biłgorajski  (14 gmin)",null,null,null,null,null,null,null,null,null,null,null,null,null,null,null,null,null,null,null,null,null,null,null,null,null,null,null,null,null,"10","09","04",3,1000000,9000,40,3,1009043,"PAJĘCZNO",1575.62]
["","",null,null,null,null,null,null,null,null,null,null,null,null,null,null,null,null,null,null,null,null,null,null,null,null,null,null,null,null,null,"10","09","05",2,1000000,9000,50,2,1009052,"RZĄŚNIA",10145.42]
[602011,"  Biłgoraj..........................................................................................................................................................................................................................................................",2110,"",21,26391,"",1251,2224,227,null,null,null,null,null,null,null,null,null,null,null,null,null,null,null,null,null,null,null,null,null,"10","09","06",2,1000000,9000,60,2,1009062,"SIEMKOWICE",993.51]
["","",null,null,null,null,null,null,null,null,null,null,null,null,null,null,null,null,null,null,null,null,null,null,null,null,null,null,null,null,null,"10","09","07",2,1000000,9000,70,2,1009072,"STRZELCE WIELKIE",918.77]
[602022,"  Aleksandrów..........................................................................................................................................................................................................................................................",5426,"",54,3251,"",60,1993,2147,null,null,null,null,null,null,null,null,null,null,null,null,null,null,null,null,null,null,null,null,null,"10","09","08",2,1000000,9000,80,2,1009082,"SULMIERZYCE",5377.93]
[602032,"  Biłgoraj..........................................................................................................................................................................................................................................................",26266,"",263,13329,"",51,148,604,null,null,null,null,null,null,null,null,null,null,null,null,null,null,null,null,null,null,null,null,null,"10","10","01",2,1000000,10000,10,2,1010012,"ALEKSANDRÓW",834.8]
[602042,"  Biszcza..........................................................................................................................................................................................................................................................",10631,"",106,3784,"",36,1284,2034,null,null,null,null,null,null,null,null,null,null,null,null,null,null,null,null,null,null,null,null,null,"10","10","02",2,1000000,10000,20,2,1010022,"CZARNOCIN",1103.0999999999999]
[602062,"  Goraj..........................................................................................................................................................................................................................................................",6787,"",68,4131,"",61,1873,1942,null,null,null,null,null,null,null,null,null,null,null,null,null,null,null,null,null,null,null,null,null,"10","10","03",2,1000000,10000,30,2,1010032,"GORZKOWICE",1309.4100000000001]
[602082,"  Księżpol..........................................................................................................................................................................................................................................................",14128,"",141,6930,"",49,767,1312,null,null,null,null,null,null,null,null,null,null,null,null,null,null,null,null,null,null,null,null,null,"10","10","04",2,1000000,10000,40,2,1010042,"GRABICA",2150.83]
[602092,"  Łukowa..........................................................................................................................................................................................................................................................",14872,"",149,4264,"",29,688,1913,null,null,null,null,null,null,null,null,null,null,null,null,null,null,null,null,null,null,null,null,null,"10","10","05",2,1000000,10000,50,2,1010052,"ŁĘKI SZLACHECKIE",806.99]
[602102,"  Obsza..........................................................................................................................................................................................................................................................",11323,"",113,4291,"",38,1156,1907,null,null,null,null,null,null,null,null,null,null,null,null,null,null,null,null,null,null,null,null,null,"10","10","06",2,1000000,10000,60,2,1010062,"MOSZCZENICA",1696.84]
[602112,"  Potok Górny..........................................................................................................................................................................................................................................................",11116,"",111,5403,"",49,1196,1624,null,null,null,null,null,null,null,null,null,null,null,null,null,null,null,null,null,null,null,null,null,"10","10","07",2,1000000,10000,70,2,1010072,"RĘCZNO",909.93]
[602132,"  Tereszpol..........................................................................................................................................................................................................................................................",14401,"",144,3911,"",27,743,1996,null,null,null,null,null,null,null,null,null,null,null,null,null,null,null,null,null,null,null,null,null,"10","10","08",2,1000000,10000,80,2,1010082,"ROZPRZA",1082.73]
[602142,"  Turobin..........................................................................................................................................................................................................................................................",16219,"",162,6117,"",38,578,1464,null,null,null,null,null,null,null,null,null,null,null,null,null,null,null,null,null,null,null,null,null,"10","10","09",3,1000000,10000,90,3,1010093,"SULEJÓW",1329.21]
["","",null,null,null,null,null,null,null,null,null,null,null,null,null,null,null,null,null,null,null,null,null,null,null,null,null,null,null,null,null,"10","10","10",2,1000000,10000,100,2,1010102,"WOLA KRZYSZTOPORSKA",1852.55]
[602053,"  Frampol..........................................................................................................................................................................................................................................................",10760,"",108,6158,"",57,1262,1456,null,null,null,null,null,null,null,null,null,null,null,null,null,null,null,null,null,null,null,null,null,"10","10","11",3,1000000,10000,110,3,1010113,"WOLBÓRZ",2442.36]
[602054,"",467,"",5,1437,"",308,"x","x",null,null,null,null,null,null,null,null,null,null,null,null,null,null,null,null,null,null,null,null,null,"10","11","01",2,1000000,11000,10,2,1011012,"DALIKÓW",1018.93]
[602055,"",10293,"",103,4721,"",46,"x","x",null,null,null,null,null,null,null,null,null,null,null,null,null,null,null,null,null,null,null,null,null,"10","11","02",2,1000000,11000,20,2,1011022,"PĘCZNIEW",1188.4100000000001]
[602073,"  Józefów..........................................................................................................................................................................................................................................................",12646,"",127,6775,"",54,964,1339,null,null,null,null,null,null,null,null,null,null,null,null,null,null,null,null,null,null,null,null,null,"10","11","03",3,1000000,11000,30,3,1011033,"PODDĘBICE",1439.55]
[602074,"",500,"",5,2492,"",498,"x","x",null,null,null,null,null,null,null,null,null,null,null,null,null,null,null,null,null,null,null,null,null,"10","11","04",3,1000000,11000,40,3,1011043,"UNIEJÓW",1568.03]
[602075,"",12146,"",122,4283,"",35,"x","x",null,null,null,null,null,null,null,null,null,null,null,null,null,null,null,null,null,null,null,null,null,"10","11","05",2,1000000,11000,50,2,1011052,"WARTKOWICE",1860.09]
[602123,"  Tarnogród..........................................................................................................................................................................................................................................................",11425,"",114,6700,"",59,1138,1355,null,null,null,null,null,null,null,null,null,null,null,null,null,null,null,null,null,null,null,null,null,"10","11","06",2,1000000,11000,60,2,1011062,"ZADZIM",976.37]
[602124,"",1069,"",11,3351,"",313,"x","x",null,null,null,null,null,null,null,null,null,null,null,null,null,null,null,null,null,null,null,null,null,"10","12","01",1,1000000,12000,10,1,1012011,"RADOMSKO",2052.0300000000002]
[602125,"",10356,"",103,3349,"",32,"x","x",null,null,null,null,null,null,null,null,null,null,null,null,null,null,null,null,null,null,null,null,null,"10","12","02",2,1000000,12000,20,2,1012022,"DOBRYSZYCE",1524.28]
["","Powiat chełmski  (15 gmin)",null,null,null,null,null,null,null,null,null,null,null,null,null,null,null,null,null,null,null,null,null,null,null,null,null,null,null,null,null,"10","12","03",2,1000000,12000,30,2,1012032,"GIDLE",937.03]
["","",null,null,null,null,null,null,null,null,null,null,null,null,null,null,null,null,null,null,null,null,null,null,null,null,null,null,null,null,null,"10","12","04",2,1000000,12000,40,2,1012042,"GOMUNICE",1271.81]
[603011,"  Rejowiec Fabryczny..........................................................................................................................................................................................................................................................",1428,"",15,4417,"",309,2285,1869,null,null,null,null,null,null,null,null,null,null,null,null,null,null,null,null,null,null,null,null,null,"10","12","05",3,1000000,12000,50,3,1012053,"KAMIEŃSK",2552.15]
["","",null,null,null,null,null,null,null,null,null,null,null,null,null,null,null,null,null,null,null,null,null,null,null,null,null,null,null,null,null,"10","12","06",2,1000000,12000,60,2,1012062,"KOBIELE WIELKIE",1150]
[603022,"  Białopole..........................................................................................................................................................................................................................................................",10361,"",103,2938,"",28,1326,2196,null,null,null,null,null,null,null,null,null,null,null,null,null,null,null,null,null,null,null,null,null,"10","12","07",2,1000000,12000,70,2,1012072,"KODRĄB",1204.48]
[603032,"  Chełm..........................................................................................................................................................................................................................................................",22180,"",223,14781,"",67,256,527,null,null,null,null,null,null,null,null,null,null,null,null,null,null,null,null,null,null,null,null,null,"10","12","08",2,1000000,12000,80,2,1012082,"LGOTA WIELKA",1191.8800000000001]
[603042,"  Dorohusk (c)..........................................................................................................................................................................................................................................................",19242,"",192,6428,"",33,382,1400,null,null,null,null,null,null,null,null,null,null,null,null,null,null,null,null,null,null,null,null,null,"10","12","09",2,1000000,12000,90,2,1012092,"ŁADZICE",1582.88]
[603052,"  Dubienka..........................................................................................................................................................................................................................................................",9612,"",96,2358,"",25,1447,2261,null,null,null,null,null,null,null,null,null,null,null,null,null,null,null,null,null,null,null,null,null,"10","12","10",2,{"$f":"AF712*100000","v":1000000},{"$f":"AG712*1000","v":12000},{"$f":"AH712*10","v":100},{"$f":"AI712*1","v":2},{"$f":"SUM(AJ712:AM712)","v":1012102},"MASŁOWICE",1437.01]
[603062,"  Kamień..........................................................................................................................................................................................................................................................",9683,"",97,4158,"",43,1432,1936,null,null,null,null,null,null,null,null,null,null,null,null,null,null,null,null,null,null,null,null,null,"10","12","11",3,1000000,12000,110,3,1012113,"PRZEDBÓRZ",1169.1600000000001]
[603072,"  Leśniowice..........................................................................................................................................................................................................................................................",11766,"",118,3616,"",31,1087,2074,null,null,null,null,null,null,null,null,null,null,null,null,null,null,null,null,null,null,null,null,null,"10","12","12",2,1000000,12000,120,2,1012122,"RADOMSKO",1539.91]
[603082,"  Rejowiec Fabryczny..........................................................................................................................................................................................................................................................",8774,"",88,4233,"",48,1566,1921,null,null,null,null,null,null,null,null,null,null,null,null,null,null,null,null,null,null,null,null,null,"10","12","13",2,1000000,12000,130,2,1012132,"WIELGOMŁYNY",959.6]
[603092,"  Ruda-Huta..........................................................................................................................................................................................................................................................",11221,"",112,4531,"",40,1172,1841,null,null,null,null,null,null,null,null,null,null,null,null,null,null,null,null,null,null,null,null,null,"10","12","14",2,1000000,12000,140,2,1012142,"ŻYTNO",806.32]
[603102,"  Sawin..........................................................................................................................................................................................................................................................",19022,"",190,5494,"",29,392,1604,null,null,null,null,null,null,null,null,null,null,null,null,null,null,null,null,null,null,null,null,null,"10","13","01",1,1000000,13000,10,1,1013011,"RAWA MAZOWIECKA",2562.59]
[603122,"  Wierzbica..........................................................................................................................................................................................................................................................",14579,"",146,5119,"",35,723,1701,null,null,null,null,null,null,null,null,null,null,null,null,null,null,null,null,null,null,null,null,null,"10","13","02",3,1000000,13000,20,3,1013023,"BIAŁA RAWSKA",1472.74]
[603132,"  Wojsławice..........................................................................................................................................................................................................................................................",11046,"",110,3801,"",34,1213,2030,null,null,null,null,null,null,null,null,null,null,null,null,null,null,null,null,null,null,null,null,null,"10","13","03",2,1000000,13000,30,2,1013032,"CIELĄDZ",923.87]
[603142,"  Żmudź..........................................................................................................................................................................................................................................................",13607,"",136,3110,"",23,823,2170,null,null,null,null,null,null,null,null,null,null,null,null,null,null,null,null,null,null,null,null,null,"10","13","04",2,1000000,13000,40,2,1013042,"RAWA MAZOWIECKA",1622.16]
["","",null,null,null,null,null,null,null,null,null,null,null,null,null,null,null,null,null,null,null,null,null,null,null,null,null,null,null,null,null,"10","13","05",2,1000000,13000,50,2,1013052,"REGNÓW",1289.1500000000001]
[603153,"  Rejowiec..........................................................................................................................................................................................................................................................",10625,"",106,6420,"",60,1286,1403,null,null,null,null,null,null,null,null,null,null,null,null,null,null,null,null,null,null,null,null,null,"10","13","06",2,1000000,13000,60,2,1013062,"SADKOWICE",993.72]
[603154,"",650,"",6,2070,"",318,"x","x",null,null,null,null,null,null,null,null,null,null,null,null,null,null,null,null,null,null,null,null,null,"10","14","01",1,1000000,14000,10,1,1014011,"SIERADZ",1856.01]
[603155,"",9975,"",100,4350,"",44,"x","x",null,null,null,null,null,null,null,null,null,null,null,null,null,null,null,null,null,null,null,null,null,"10","14","02",3,1000000,14000,20,3,1014023,"BŁASZKI",1185.9100000000001]
[603113,"  Siedliszcze..........................................................................................................................................................................................................................................................",15414,"",154,6824,"",44,638,1332,null,null,null,null,null,null,null,null,null,null,null,null,null,null,null,null,null,null,null,null,null,"10","14","03",2,1000000,14000,30,2,1014032,"BRĄSZEWICE",1013.3]
[603114,"",1316,"",13,1412,"",107,"x","x",null,null,null,null,null,null,null,null,null,null,null,null,null,null,null,null,null,null,null,null,null,"10","14","04",2,1000000,14000,40,2,1014042,"BRZEŹNIO",1106.1500000000001]
[603115,"",14098,"",141,5412,"",38,"x","x",null,null,null,null,null,null,null,null,null,null,null,null,null,null,null,null,null,null,null,null,null,"10","14","05",2,1000000,14000,50,2,1014052,"BURZENIN",1057.44]
["","Powiat hrubieszowski  (8 gmin)",null,null,null,null,null,null,null,null,null,null,null,null,null,null,null,null,null,null,null,null,null,null,null,null,null,null,null,null,null,"10","14","06",2,1000000,14000,60,2,1014062,"GOSZCZANÓW",1088.73]
["","",null,null,null,null,null,null,null,null,null,null,null,null,null,null,null,null,null,null,null,null,null,null,null,null,null,null,null,null,null,"10","14","07",2,1000000,14000,70,2,1014072,"KLONOWA",1078.6500000000001]
[604011,"  Hrubieszów (c)..........................................................................................................................................................................................................................................................",3303,"",33,17735,"",537,2146,414,null,null,null,null,null,null,null,null,null,null,null,null,null,null,null,null,null,null,null,null,null,"10","14","08",2,1000000,14000,80,2,1014082,"SIERADZ",1500.38]
["","",null,null,null,null,null,null,null,null,null,null,null,null,null,null,null,null,null,null,null,null,null,null,null,null,null,null,null,null,null,"10","14","09",3,1000000,14000,90,3,1014093,"WARTA",974.8]
[604022,"  Dołhobyczów (c)..........................................................................................................................................................................................................................................................",21261,"",213,5454,"",26,284,1614,null,null,null,null,null,null,null,null,null,null,null,null,null,null,null,null,null,null,null,null,null,"10","14","10",2,1000000,14000,100,2,1014102,"WRÓBLEW",1579.43]
[604032,"  Horodło (c)..........................................................................................................................................................................................................................................................",13022,"",130,5203,"",40,907,1677,null,null,null,null,null,null,null,null,null,null,null,null,null,null,null,null,null,null,null,null,null,"10","14","11",3,1000000,14000,110,3,1014113,"ZŁOCZEW",1074.93]
[604042,"  Hrubieszów..........................................................................................................................................................................................................................................................",25921,"",259,10033,"",39,157,865,null,null,null,null,null,null,null,null,null,null,null,null,null,null,null,null,null,null,null,null,null,"10","15","01",2,1000000,15000,10,2,1015012,"BOLIMÓW",1379.9]
[604052,"  Mircze..........................................................................................................................................................................................................................................................",23488,"",235,7121,"",30,217,1279,null,null,null,null,null,null,null,null,null,null,null,null,null,null,null,null,null,null,null,null,null,"10","15","02",2,1000000,15000,20,2,1015022,"GŁUCHÓW",1292.17]
[604062,"  Trzeszczany..........................................................................................................................................................................................................................................................",9029,"",90,4164,"",46,1527,1935,null,null,null,null,null,null,null,null,null,null,null,null,null,null,null,null,null,null,null,null,null,"10","15","03",2,1000000,15000,30,2,1015032,"GODZIANÓW",996.57]
[604072,"  Uchanie..........................................................................................................................................................................................................................................................",12063,"",121,4577,"",38,1044,1833,null,null,null,null,null,null,null,null,null,null,null,null,null,null,null,null,null,null,null,null,null,"10","15","04",2,1000000,15000,40,2,1015042,"KOWIESY",1346.52]
[604082,"  Werbkowice..........................................................................................................................................................................................................................................................",18715,"",187,9411,"",50,410,930,null,null,null,null,null,null,null,null,null,null,null,null,null,null,null,null,null,null,null,null,null,"10","15","05",2,1000000,15000,50,2,1015052,"LIPCE REYMONTOWSKIE",1057.04]
["","Powiat janowski  (7 gmin)",null,null,null,null,null,null,null,null,null,null,null,null,null,null,null,null,null,null,null,null,null,null,null,null,null,null,null,null,null,"10","15","06",2,1000000,15000,60,2,1015062,"MAKÓW",1183.44]
["","",null,null,null,null,null,null,null,null,null,null,null,null,null,null,null,null,null,null,null,null,null,null,null,null,null,null,null,null,null,"10","15","07",2,1000000,15000,70,2,1015072,"NOWY KAWĘCZYN",1516.35]
[605012,"  Batorz..........................................................................................................................................................................................................................................................",7084,"",71,3320,"",47,1838,2135,null,null,null,null,null,null,null,null,null,null,null,null,null,null,null,null,null,null,null,null,null,"10","15","08",2,1000000,15000,80,2,1015082,"SKIERNIEWICE",1595.46]
[605022,"  Chrzanów..........................................................................................................................................................................................................................................................",7169,"",72,2943,"",41,1826,2195,null,null,null,null,null,null,null,null,null,null,null,null,null,null,null,null,null,null,null,null,null,"10","15","09",2,1000000,15000,90,2,1015092,"SŁUPIA",2355.5700000000002]
[605032,"  Dzwola..........................................................................................................................................................................................................................................................",20037,"",200,6287,"",31,344,1427,null,null,null,null,null,null,null,null,null,null,null,null,null,null,null,null,null,null,null,null,null,"10","16","01",1,1000000,16000,10,1,1016011,"TOMASZÓW MAZOWIECKI",1727.79]
[605042,"  Godziszów..........................................................................................................................................................................................................................................................",10167,"",102,5836,"",57,1359,1533,null,null,null,null,null,null,null,null,null,null,null,null,null,null,null,null,null,null,null,null,null,"10","16","02",2,1000000,16000,20,2,1016022,"BĘDKÓW",802.64]
[605072,"  Potok Wielki..........................................................................................................................................................................................................................................................",9944,"",99,4683,"",47,1398,1803,null,null,null,null,null,null,null,null,null,null,null,null,null,null,null,null,null,null,null,null,null,"10","16","03",2,1000000,16000,30,2,1016032,"BUDZISZEWICE",1113.29]
["","",null,null,null,null,null,null,null,null,null,null,null,null,null,null,null,null,null,null,null,null,null,null,null,null,null,null,null,null,null,"10","16","04",2,1000000,16000,40,2,1016042,"CZERNIEWICE",1134.8]
[605053,"  Janów Lubelski..........................................................................................................................................................................................................................................................",17870,"",179,15985,"",89,461,479,null,null,null,null,null,null,null,null,null,null,null,null,null,null,null,null,null,null,null,null,null,"10","16","05",2,1000000,16000,50,2,1016052,"INOWŁÓDZ",2096.1799999999998]
[605054,"",1480,"",15,11940,"",807,"x","x",null,null,null,null,null,null,null,null,null,null,null,null,null,null,null,null,null,null,null,null,null,"10","16","06",2,1000000,16000,60,2,1016062,"LUBOCHNIA",1558.31]
[605055,"",16390,"",164,4045,"",25,"x","x",null,null,null,null,null,null,null,null,null,null,null,null,null,null,null,null,null,null,null,null,null,"10","16","07",2,1000000,16000,70,2,1016072,"ROKICINY",1411.79]
[605063,"  Modliborzyce..........................................................................................................................................................................................................................................................",15257,"",153,7003,"",46,652,1297,null,null,null,null,null,null,null,null,null,null,null,null,null,null,null,null,null,null,null,null,null,"10","16","08",2,1000000,16000,80,2,1016082,"RZECZYCA",793.46]
[605064,"",789,"",8,1460,"",185,"x","x",null,null,null,null,null,null,null,null,null,null,null,null,null,null,null,null,null,null,null,null,null,"10","16","09",2,1000000,16000,90,2,1016092,"TOMASZÓW MAZOWIECKI",2185.63]
[605065,"",14468,"",145,5543,"",38,"x","x",null,null,null,null,null,null,null,null,null,null,null,null,null,null,null,null,null,null,null,null,null,"10","16","10",2,1000000,16000,100,2,1016102,"UJAZD",2754.07]
["","Powiat krasnostawski  (10 gmin)",null,null,null,null,null,null,null,null,null,null,null,null,null,null,null,null,null,null,null,null,null,null,null,null,null,null,null,null,null,"10","16","11",2,1000000,16000,110,2,1016112,"ŻELECHLINEK",905.68]
["","",null,null,null,null,null,null,null,null,null,null,null,null,null,null,null,null,null,null,null,null,null,null,null,null,null,null,null,null,null,"10","17","01",2,1000000,17000,10,2,1017012,"BIAŁA",961.65]
[606011,"  Krasnystaw..........................................................................................................................................................................................................................................................",4213,"",42,18778,"",446,2077,378,null,null,null,null,null,null,null,null,null,null,null,null,null,null,null,null,null,null,null,null,null,"10","17","02",2,1000000,17000,20,2,1017022,"CZARNOŻYŁY",1493.16]
["","",null,null,null,null,null,null,null,null,null,null,null,null,null,null,null,null,null,null,null,null,null,null,null,null,null,null,null,null,null,"10","17","03",2,1000000,17000,30,2,1017032,"KONOPNICA",1077]
[606022,"  Fajsławice..........................................................................................................................................................................................................................................................",7065,"",71,4577,"",65,1842,1833,null,null,null,null,null,null,null,null,null,null,null,null,null,null,null,null,null,null,null,null,null,"10","17","04",2,1000000,17000,40,2,1017042,"MOKRSKO",966.28]
[606032,"  Gorzków..........................................................................................................................................................................................................................................................",9668,"",97,3503,"",36,1437,2093,null,null,null,null,null,null,null,null,null,null,null,null,null,null,null,null,null,null,null,null,null,"10","17","05",2,1000000,17000,50,2,1017052,"OSJAKÓW",1075.06]
[606042,"  Izbica..........................................................................................................................................................................................................................................................",13827,"",138,8221,"",59,800,1090,null,null,null,null,null,null,null,null,null,null,null,null,null,null,null,null,null,null,null,null,null,"10","17","06",2,1000000,17000,60,2,1017062,"OSTRÓWEK",1065.53]
[606052,"  Krasnystaw..........................................................................................................................................................................................................................................................",15082,"",151,8619,"",57,669,1034,null,null,null,null,null,null,null,null,null,null,null,null,null,null,null,null,null,null,null,null,null,"10","17","07",2,1000000,17000,70,2,1017072,"PĄTNÓW",727.8]
[606062,"  Kraśniczyn..........................................................................................................................................................................................................................................................",11009,"",110,3683,"",33,1223,2058,null,null,null,null,null,null,null,null,null,null,null,null,null,null,null,null,null,null,null,null,null,"10","17","08",2,1000000,17000,80,2,1017082,"SKOMLIN",811.38]
[606072,"  Łopiennik Górny..........................................................................................................................................................................................................................................................",10619,"",106,3944,"",37,1287,1987,null,null,null,null,null,null,null,null,null,null,null,null,null,null,null,null,null,null,null,null,null,"10","17","09",3,1000000,17000,90,3,1017093,"WIELUŃ",2199.87]
[606092,"  Rudnik..........................................................................................................................................................................................................................................................",8853,"",89,3042,"",34,1552,2181,null,null,null,null,null,null,null,null,null,null,null,null,null,null,null,null,null,null,null,null,null,"10","17","10",2,1000000,17000,100,2,1017102,"WIERZCHLAS",1006.39]
[606102,"  Siennica Różana..........................................................................................................................................................................................................................................................",9840,"",98,4139,"",42,1415,1940,null,null,null,null,null,null,null,null,null,null,null,null,null,null,null,null,null,null,null,null,null,"10","18","01",2,1000000,18000,10,2,1018012,"BOLESŁAWIEC",1033.47]
[606112,"  Żółkiewka..........................................................................................................................................................................................................................................................",12968,"",130,5419,"",42,914,1620,null,null,null,null,null,null,null,null,null,null,null,null,null,null,null,null,null,null,null,null,null,"10","18","02",2,1000000,18000,20,2,1018022,"CZASTARY",886.76]
["","Powiat kraśnicki  (10 gmin)",null,null,null,null,null,null,null,null,null,null,null,null,null,null,null,null,null,null,null,null,null,null,null,null,null,null,null,null,null,"10","18","03",2,1000000,18000,30,2,1018032,"GALEWICE",1094.29]
["","",null,null,null,null,null,null,null,null,null,null,null,null,null,null,null,null,null,null,null,null,null,null,null,null,null,null,null,null,null,"10","18","04",2,1000000,18000,40,2,1018042,"LUTUTÓW",1033.8800000000001]
[607011,"  Kraśnik..........................................................................................................................................................................................................................................................",2610,"",26,34539,"",1323,2191,154,null,null,null,null,null,null,null,null,null,null,null,null,null,null,null,null,null,null,null,null,null,"10","18","05",2,1000000,18000,50,2,1018052,"ŁUBNICE",1300.3699999999999]
["","",null,null,null,null,null,null,null,null,null,null,null,null,null,null,null,null,null,null,null,null,null,null,null,null,null,null,null,null,null,"10","18","06",2,1000000,18000,60,2,1018062,"SOKOLNIKI",1153.69]
[607032,"  Dzierzkowice..........................................................................................................................................................................................................................................................",8729,"",87,5305,"",61,1573,1652,null,null,null,null,null,null,null,null,null,null,null,null,null,null,null,null,null,null,null,null,null,"10","18","07",3,1000000,18000,70,3,1018073,"WIERUSZÓW",2273.13]
[607042,"  Gościeradów..........................................................................................................................................................................................................................................................",15929,"",159,7240,"",45,605,1252,null,null,null,null,null,null,null,null,null,null,null,null,null,null,null,null,null,null,null,null,null,"10","19","01",1,1000000,19000,10,1,1019011,"ZDUŃSKA WOLA",1597.34]
[607052,"  Kraśnik..........................................................................................................................................................................................................................................................",10466,"",105,7373,"",70,1305,1229,null,null,null,null,null,null,null,null,null,null,null,null,null,null,null,null,null,null,null,null,null,"10","19","02",3,1000000,19000,20,3,1019023,"SZADEK",1226.44]
[607062,"  Szastarka..........................................................................................................................................................................................................................................................",7331,"",73,5791,"",79,1803,1541,null,null,null,null,null,null,null,null,null,null,null,null,null,null,null,null,null,null,null,null,null,"10","19","03",2,1000000,19000,30,2,1019032,"ZAPOLICE",1134.3]
[607072,"  Trzydnik Duży..........................................................................................................................................................................................................................................................",10411,"",104,6417,"",62,1316,1404,null,null,null,null,null,null,null,null,null,null,null,null,null,null,null,null,null,null,null,null,null,"10","19","04",2,1000000,19000,40,2,1019042,"ZDUŃSKA WOLA",1415.41]
[607092,"  Wilkołaz..........................................................................................................................................................................................................................................................",8170,"",82,5531,"",68,1677,1595,null,null,null,null,null,null,null,null,null,null,null,null,null,null,null,null,null,null,null,null,null,"10","20","01",1,1000000,20000,10,1,1020011,"GŁOWNO",1496.02]
[607102,"  Zakrzówek..........................................................................................................................................................................................................................................................",9917,"",99,6530,"",66,1403,1382,null,null,null,null,null,null,null,null,null,null,null,null,null,null,null,null,null,null,null,null,null,"10","20","02",1,{"$f":"AF776*100000","v":1000000},{"$f":"AG776*1000","v":20000},{"$f":"AH776*10","v":20},{"$f":"AI776*1","v":1},{"$f":"SUM(AJ776:AM776)","v":1020021},"OZORKÓW",1522.32]
["","",null,null,null,null,null,null,null,null,null,null,null,null,null,null,null,null,null,null,null,null,null,null,null,null,null,null,null,null,null,"10","20","03",1,1000000,20000,30,1,1020031,"ZGIERZ",1722.78]
[607023,"  Annopol..........................................................................................................................................................................................................................................................",15113,"",151,8680,"",57,663,1020,null,null,null,null,null,null,null,null,null,null,null,null,null,null,null,null,null,null,null,null,null,"10","20","04",3,1000000,20000,40,3,1020043,"ALEKSANDRÓW ŁÓDZKI",1867.41]
[607024,"",773,"",8,2528,"",327,"x","x",null,null,null,null,null,null,null,null,null,null,null,null,null,null,null,null,null,null,null,null,null,"10","20","05",2,1000000,20000,50,2,1020052,"GŁOWNO",1012.54]
[607025,"",14340,"",143,6152,"",43,"x","x",null,null,null,null,null,null,null,null,null,null,null,null,null,null,null,null,null,null,null,null,null,"10","20","06",2,1000000,20000,60,2,1020062,"OZORKÓW",1992.78]
[607083,"  Urzędów..........................................................................................................................................................................................................................................................",11854,"",119,8637,"",73,1074,1030,null,null,null,null,null,null,null,null,null,null,null,null,null,null,null,null,null,null,null,null,null,"10","20","07",2,1000000,20000,70,2,1020072,"PARZĘCZEW",1805.03]
[607084,"",1291,"",13,1709,"",132,"x","x",null,null,null,null,null,null,null,null,null,null,null,null,null,null,null,null,null,null,null,null,null,"10","20","08",3,1000000,20000,80,3,1020083,"STRYKÓW",4210.8100000000004]
[607085,"",10563,"",106,6928,"",66,"x","x",null,null,null,null,null,null,null,null,null,null,null,null,null,null,null,null,null,null,null,null,null,"10","20","09",2,1000000,20000,90,2,1020092,"ZGIERZ",2073.1999999999998]
["","Powiat lubartowski  (13 gmin)",null,null,null,null,null,null,null,null,null,null,null,null,null,null,null,null,null,null,null,null,null,null,null,null,null,null,null,null,null,"10","21","01",1,1000000,21000,10,1,1021011,"BRZEZINY",1447.16]
["","",null,null,null,null,null,null,null,null,null,null,null,null,null,null,null,null,null,null,null,null,null,null,null,null,null,null,null,null,null,"10","21","02",2,1000000,21000,20,2,1021022,"BRZEZINY",1439.46]
[608011,"  Lubartów..........................................................................................................................................................................................................................................................",1391,"",14,21995,"",1581,2287,301,null,null,null,null,null,null,null,null,null,null,null,null,null,null,null,null,null,null,null,null,null,"10","21","03",2,1000000,21000,30,2,1021032,"DMOSIN",1610.39]
["","",null,null,null,null,null,null,null,null,null,null,null,null,null,null,null,null,null,null,null,null,null,null,null,null,null,null,null,null,null,"10","21","04",2,1000000,21000,40,2,1021042,"JEŻÓW",1217.46]
[608022,"  Abramów..........................................................................................................................................................................................................................................................",8460,"",85,4066,"",48,1625,1958,null,null,null,null,null,null,null,null,null,null,null,null,null,null,null,null,null,null,null,null,null,"10","21","05",2,1000000,21000,50,2,1021052,"ROGÓW",1116.81]
[608032,"  Firlej..........................................................................................................................................................................................................................................................",12646,"",126,5914,"",47,964,1516,null,null,null,null,null,null,null,null,null,null,null,null,null,null,null,null,null,null,null,null,null,"10","61","01",1,1000000,61000,10,1,1061011,"Łódź",2135.16]
[608042,"  Jeziorzany..........................................................................................................................................................................................................................................................",6645,"",66,2816,"",42,1888,2215,null,null,null,null,null,null,null,null,null,null,null,null,null,null,null,null,null,null,null,null,null,"10","62","01",1,1000000,62000,10,1,1062011,"Piotrków Trybunalski",1901.93]
[608052,"  Kamionka..........................................................................................................................................................................................................................................................",11169,"",112,6467,"",58,1187,1395,null,null,null,null,null,null,null,null,null,null,null,null,null,null,null,null,null,null,null,null,null,"10","63","01",1,1000000,63000,10,1,1063011,"Skierniewice",1996.41]
[608072,"  Lubartów..........................................................................................................................................................................................................................................................",15870,"",158,11736,"",74,609,720,null,null,null,null,null,null,null,null,null,null,null,null,null,null,null,null,null,null,null,null,null,"12","01","01",1,1200000,1000,10,1,1201011,"BOCHNIA",2176.94]
[608082,"  Michów..........................................................................................................................................................................................................................................................",13599,"",136,5905,"",43,824,1521,null,null,null,null,null,null,null,null,null,null,null,null,null,null,null,null,null,null,null,null,null,"12","01","02",2,1200000,1000,20,2,1201022,"BOCHNIA",1295.4100000000001]
[608092,"  Niedźwiada..........................................................................................................................................................................................................................................................",9576,"",96,6221,"",65,1456,1443,null,null,null,null,null,null,null,null,null,null,null,null,null,null,null,null,null,null,null,null,null,"12","01","03",2,1200000,1000,30,2,1201032,"DRWINIA",1109.4000000000001]
[608112,"  Ostrówek..........................................................................................................................................................................................................................................................",8985,"",90,3882,"",43,1534,2006,null,null,null,null,null,null,null,null,null,null,null,null,null,null,null,null,null,null,null,null,null,"12","01","04",2,1200000,1000,40,2,1201042,"LIPNICA MUROWANA",787.46]
[608122,"  Serniki..........................................................................................................................................................................................................................................................",7560,"",76,4927,"",65,1763,1741,null,null,null,null,null,null,null,null,null,null,null,null,null,null,null,null,null,null,null,null,null,"12","01","05",2,1200000,1000,50,2,1201052,"ŁAPANÓW",1137.83]
[608132,"  Uścimów..........................................................................................................................................................................................................................................................",10708,"",107,3194,"",30,1272,2153,null,null,null,null,null,null,null,null,null,null,null,null,null,null,null,null,null,null,null,null,null,"12","01","06",3,1200000,1000,60,3,1201063,"NOWY WIŚNICZ",1218.8800000000001]
["","",null,null,null,null,null,null,null,null,null,null,null,null,null,null,null,null,null,null,null,null,null,null,null,null,null,null,null,null,null,"12","01","07",2,1200000,1000,70,2,1201072,"RZEZAWA",1017.63]
[608063,"  Kock..........................................................................................................................................................................................................................................................",10107,"",101,6438,"",64,1368,1399,null,null,null,null,null,null,null,null,null,null,null,null,null,null,null,null,null,null,null,null,null,"12","01","08",2,1200000,1000,80,2,1201082,"TRZCIANA",1151.25]
[608064,"",1678,"",17,3315,"",198,"x","x",null,null,null,null,null,null,null,null,null,null,null,null,null,null,null,null,null,null,null,null,null,"12","01","09",2,1200000,1000,90,2,1201092,"ŻEGOCINA",981.08]
[608065,"",8429,"",84,3123,"",37,"x","x",null,null,null,null,null,null,null,null,null,null,null,null,null,null,null,null,null,null,null,null,null,"12","02","01",2,1200000,2000,10,2,1202012,"BORZĘCIN",1199.73]
[608103,"  Ostrów Lubelski..........................................................................................................................................................................................................................................................",12158,"",122,5228,"",43,1031,1668,null,null,null,null,null,null,null,null,null,null,null,null,null,null,null,null,null,null,null,null,null,"12","02","02",3,1200000,2000,20,3,1202023,"BRZESKO",1665.15]
[608104,"",2977,"",30,2092,"",70,"x","x",null,null,null,null,null,null,null,null,null,null,null,null,null,null,null,null,null,null,null,null,null,"12","02","03",3,1200000,2000,30,3,1202033,"CZCHÓW",1046.5999999999999]
[608105,"",9181,"",92,3136,"",34,"x","x",null,null,null,null,null,null,null,null,null,null,null,null,null,null,null,null,null,null,null,null,null,"12","02","04",2,1200000,2000,40,2,1202042,"DĘBNO",1019]
["","Powiat lubelski  (16 gmin)",null,null,null,null,null,null,null,null,null,null,null,null,null,null,null,null,null,null,null,null,null,null,null,null,null,null,null,null,null,"12","02","05",2,1200000,2000,50,2,1202052,"GNOJNIK",1001.32]
["","",null,null,null,null,null,null,null,null,null,null,null,null,null,null,null,null,null,null,null,null,null,null,null,null,null,null,null,null,null,"12","02","06",2,1200000,2000,60,2,1202062,"IWKOWA",973.47]
[609022,"  Borzechów..........................................................................................................................................................................................................................................................",6746,"",68,3762,"",56,1878,2043,null,null,null,null,null,null,null,null,null,null,null,null,null,null,null,null,null,null,null,null,null,"12","02","07",2,1200000,2000,70,2,1202072,"SZCZUROWA",1069.93]
[609042,"  Garbów..........................................................................................................................................................................................................................................................",10262,"",103,9073,"",88,1345,977,null,null,null,null,null,null,null,null,null,null,null,null,null,null,null,null,null,null,null,null,null,"12","03","01",3,1200000,3000,10,3,1203013,"ALWERNIA",1849.95]
[609052,"  Głusk..........................................................................................................................................................................................................................................................",6425,"",64,11148,"",174,1913,767,null,null,null,null,null,null,null,null,null,null,null,null,null,null,null,null,null,null,null,null,null,"12","03","02",2,1200000,3000,20,2,1203022,"BABICE",1514.6]
[609062,"  Jabłonna..........................................................................................................................................................................................................................................................",13121,"",131,8052,"",61,895,1119,null,null,null,null,null,null,null,null,null,null,null,null,null,null,null,null,null,null,null,null,null,"12","03","03",3,1200000,3000,30,3,1203033,"CHRZANÓW",1886.18]
[609072,"  Jastków..........................................................................................................................................................................................................................................................",11313,"",113,14032,"",124,1159,571,null,null,null,null,null,null,null,null,null,null,null,null,null,null,null,null,null,null,null,null,null,"12","03","04",3,1200000,3000,40,3,1203043,"LIBIĄŻ",1981.85]
[609082,"  Konopnica..........................................................................................................................................................................................................................................................",9306,"",93,13848,"",149,1500,576,null,null,null,null,null,null,null,null,null,null,null,null,null,null,null,null,null,null,null,null,null,"12","03","05",3,1200000,3000,50,3,1203053,"TRZEBINIA",2323.89]
[609092,"  Krzczonów..........................................................................................................................................................................................................................................................",12795,"",128,4406,"",34,943,1873,null,null,null,null,null,null,null,null,null,null,null,null,null,null,null,null,null,null,null,null,null,"12","04","01",2,1200000,4000,10,2,1204012,"BOLESŁAW",834.44]
[609102,"  Niedrzwica Duża..........................................................................................................................................................................................................................................................",10673,"",107,11895,"",111,1275,703,null,null,null,null,null,null,null,null,null,null,null,null,null,null,null,null,null,null,null,null,null,"12","04","02",3,1200000,4000,20,3,1204023,"DĄBROWA TARNOWSKA",1032.42]
[609112,"  Niemce..........................................................................................................................................................................................................................................................",14111,"",141,19509,"",138,769,356,null,null,null,null,null,null,null,null,null,null,null,null,null,null,null,null,null,null,null,null,null,"12","04","03",2,1200000,4000,30,2,1204032,"GRĘBOSZÓW",884.26]
[609122,"  Strzyżewice..........................................................................................................................................................................................................................................................",10880,"",109,8069,"",74,1242,1116,null,null,null,null,null,null,null,null,null,null,null,null,null,null,null,null,null,null,null,null,null,"12","04","04",2,1200000,4000,40,2,1204042,"MĘDRZECHÓW",779.95]
[609132,"  Wojciechów..........................................................................................................................................................................................................................................................",8079,"",81,6009,"",74,1691,1492,null,null,null,null,null,null,null,null,null,null,null,null,null,null,null,null,null,null,null,null,null,"12","04","05",2,1200000,4000,50,2,1204052,"OLESNO",807.77]
[609142,"  Wólka..........................................................................................................................................................................................................................................................",7276,"",73,12237,"",168,1809,678,null,null,null,null,null,null,null,null,null,null,null,null,null,null,null,null,null,null,null,null,null,"12","04","06",2,1200000,4000,60,2,1204062,"RADGOSZCZ",566.34]
[609152,"  Wysokie..........................................................................................................................................................................................................................................................",11390,"",114,4461,"",39,1142,1858,null,null,null,null,null,null,null,null,null,null,null,null,null,null,null,null,null,null,null,null,null,"12","04","07",3,1200000,4000,70,3,1204073,"SZCZUCIN",965.77]
[609162,"  Zakrzew..........................................................................................................................................................................................................................................................",7542,"",75,2899,"",38,1767,2202,null,null,null,null,null,null,null,null,null,null,null,null,null,null,null,null,null,null,null,null,null,"12","05","01",1,1200000,5000,10,1,1205011,"GORLICE",1616.68]
["","",null,null,null,null,null,null,null,null,null,null,null,null,null,null,null,null,null,null,null,null,null,null,null,null,null,null,null,null,null,"12","05","02",3,1200000,5000,20,3,1205023,"BIECZ",973.3]
[609013,"  Bełżyce..........................................................................................................................................................................................................................................................",13397,"",134,13278,"",99,855,607,null,null,null,null,null,null,null,null,null,null,null,null,null,null,null,null,null,null,null,null,null,"12","05","03",3,1200000,5000,30,3,1205033,"BOBOWA",677.37]
[609014,"",2346,"",23,6551,"",279,"x","x",null,null,null,null,null,null,null,null,null,null,null,null,null,null,null,null,null,null,null,null,null,"12","05","04",2,1200000,5000,40,2,1205042,"GORLICE",883.52]
[609015,"",11051,"",111,6727,"",61,"x","x",null,null,null,null,null,null,null,null,null,null,null,null,null,null,null,null,null,null,null,null,null,"12","05","05",2,1200000,5000,50,2,1205052,"LIPINKI",757.39]
[609033,"  Bychawa..........................................................................................................................................................................................................................................................",14637,"",146,11709,"",80,713,721,null,null,null,null,null,null,null,null,null,null,null,null,null,null,null,null,null,null,null,null,null,"12","05","06",2,1200000,5000,60,2,1205062,"ŁUŻNA",688.89]
[609034,"",669,"",7,4942,"",739,"x","x",null,null,null,null,null,null,null,null,null,null,null,null,null,null,null,null,null,null,null,null,null,"12","05","07",2,1200000,5000,70,2,1205072,"MOSZCZENICA",648.38]
[609035,"",13968,"",139,6767,"",48,"x","x",null,null,null,null,null,null,null,null,null,null,null,null,null,null,null,null,null,null,null,null,null,"12","05","08",2,1200000,5000,80,2,1205082,"ROPA",635.24]
["","Powiat łęczyński  (6 gmin)",null,null,null,null,null,null,null,null,null,null,null,null,null,null,null,null,null,null,null,null,null,null,null,null,null,null,null,null,null,"12","05","09",2,1200000,5000,90,2,1205092,"SĘKOWA",965.01]
["","",null,null,null,null,null,null,null,null,null,null,null,null,null,null,null,null,null,null,null,null,null,null,null,null,null,null,null,null,null,"12","05","10",2,1200000,5000,100,2,1205102,"UŚCIE GORLICKIE",921.05]
[610012,"  Cyców..........................................................................................................................................................................................................................................................",14811,"",148,7967,"",54,692,1132,null,null,null,null,null,null,null,null,null,null,null,null,null,null,null,null,null,null,null,null,null,"12","06","01",2,1200000,6000,10,2,1206012,"CZERNICHÓW",1422.42]
[610022,"  Ludwin..........................................................................................................................................................................................................................................................",12217,"",122,5595,"",46,1024,1576,null,null,null,null,null,null,null,null,null,null,null,null,null,null,null,null,null,null,null,null,null,"12","06","02",2,1200000,6000,20,2,1206022,"IGOŁOMIA-WAWRZEŃCZYCE",1277.04]
[610042,"  Milejów..........................................................................................................................................................................................................................................................",11654,"",117,9107,"",78,1105,967,null,null,null,null,null,null,null,null,null,null,null,null,null,null,null,null,null,null,null,null,null,"12","06","03",2,1200000,6000,30,2,1206032,"IWANOWICE",1306.3800000000001]
[610052,"  Puchaczów..........................................................................................................................................................................................................................................................",9153,"",92,5684,"",62,1516,1557,null,null,null,null,null,null,null,null,null,null,null,null,null,null,null,null,null,null,null,null,null,"12","06","04",2,1200000,6000,40,2,1206042,"JERZMANOWICE-PRZEGINIA",1243.6600000000001]
[610062,"  Spiczyn..........................................................................................................................................................................................................................................................",8315,"",83,5706,"",69,1653,1553,null,null,null,null,null,null,null,null,null,null,null,null,null,null,null,null,null,null,null,null,null,"12","06","05",2,1200000,6000,50,2,1206052,"KOCMYRZÓW-LUBORZYCA",1544.93]
["","",null,null,null,null,null,null,null,null,null,null,null,null,null,null,null,null,null,null,null,null,null,null,null,null,null,null,null,null,null,"12","06","06",3,1200000,6000,60,3,1206063,"KRZESZOWICE",1723.93]
[610033,"  Łęczna..........................................................................................................................................................................................................................................................",7514,"",75,23398,"",311,1773,277,null,null,null,null,null,null,null,null,null,null,null,null,null,null,null,null,null,null,null,null,null,"12","06","07",2,1200000,6000,70,2,1206072,"LISZKI",1525.69]
[610034,"",1900,"",19,19006,"",1000,"x","x",null,null,null,null,null,null,null,null,null,null,null,null,null,null,null,null,null,null,null,null,null,"12","06","08",2,1200000,6000,80,2,1206082,"MICHAŁOWICE",2165.58]
[610035,"",5614,"",56,4392,"",78,"x","x",null,null,null,null,null,null,null,null,null,null,null,null,null,null,null,null,null,null,null,null,null,"12","06","09",2,1200000,6000,90,2,1206092,"MOGILANY",2262.73]
["","Powiat łukowski  (11 gmin)",null,null,null,null,null,null,null,null,null,null,null,null,null,null,null,null,null,null,null,null,null,null,null,null,null,null,null,null,null,"12","06","10",3,1200000,6000,100,3,1206103,"SKAŁA",1191.94]
["","",null,null,null,null,null,null,null,null,null,null,null,null,null,null,null,null,null,null,null,null,null,null,null,null,null,null,null,null,null,"12","06","11",3,{"$f":"AF840*100000","v":1200000},{"$f":"AG840*1000","v":6000},{"$f":"AH840*10","v":110},{"$f":"AI840*1","v":3},{"$f":"SUM(AJ840:AM840)","v":1206113},"SKAWINA",2236.9499999999998]
[611011,"  Łuków..........................................................................................................................................................................................................................................................",3575,"",36,30025,"",840,2121,191,null,null,null,null,null,null,null,null,null,null,null,null,null,null,null,null,null,null,null,null,null,"12","06","12",3,1200000,6000,120,3,1206123,"SŁOMNIKI",1354.69]
[611021,"  Stoczek Łukowski..........................................................................................................................................................................................................................................................",915,"↓",9,2536,"",277,2325,2245,null,null,null,null,null,null,null,null,null,null,null,null,null,null,null,null,null,null,null,null,null,"12","06","13",2,1200000,6000,130,2,1206132,"SUŁOSZOWA",800.63]
["","",null,null,null,null,null,null,null,null,null,null,null,null,null,null,null,null,null,null,null,null,null,null,null,null,null,null,null,null,null,"12","06","14",3,1200000,6000,140,3,1206143,"ŚWIĄTNIKI GÓRNE",1911.11]
[611032,"  Adamów..........................................................................................................................................................................................................................................................",9867,"",99,5623,"",57,1411,1567,null,null,null,null,null,null,null,null,null,null,null,null,null,null,null,null,null,null,null,null,null,"12","06","15",2,1200000,6000,150,2,1206152,"WIELKA WIEŚ",3033.84]
[611042,"  Krzywda..........................................................................................................................................................................................................................................................",16096,"",161,10526,"",65,588,823,null,null,null,null,null,null,null,null,null,null,null,null,null,null,null,null,null,null,null,null,null,"12","06","16",2,1200000,6000,160,2,1206162,"ZABIERZÓW",2477.29]
[611052,"  Łuków..........................................................................................................................................................................................................................................................",30755,"",307,18148,"",59,91,395,null,null,null,null,null,null,null,null,null,null,null,null,null,null,null,null,null,null,null,null,null,"12","06","17",2,1200000,6000,170,2,1206172,"ZIELONKI",2568.85]
[611062,"  Serokomla..........................................................................................................................................................................................................................................................",7733,"",77,3966,"",51,1744,1980,null,null,null,null,null,null,null,null,null,null,null,null,null,null,null,null,null,null,null,null,null,"12","07","01",1,1200000,7000,10,1,1207011,"LIMANOWA",1901.96]
[611072,"  Stanin..........................................................................................................................................................................................................................................................",16082,"",161,9751,"",61,590,899,null,null,null,null,null,null,null,null,null,null,null,null,null,null,null,null,null,null,null,null,null,"12","07","02",1,1200000,7000,20,1,1207021,"MSZANA DOLNA",1386.96]
[611082,"  Stoczek Łukowski..........................................................................................................................................................................................................................................................",17346,"",173,7860,"",45,494,1147,null,null,null,null,null,null,null,null,null,null,null,null,null,null,null,null,null,null,null,null,null,"12","07","03",2,1200000,7000,30,2,1207032,"DOBRA",949.95]
[611092,"  Trzebieszów..........................................................................................................................................................................................................................................................",14054,"",141,7416,"",53,778,1221,null,null,null,null,null,null,null,null,null,null,null,null,null,null,null,null,null,null,null,null,null,"12","07","04",2,1200000,7000,40,2,1207042,"JODŁOWNIK",943.48]
[611102,"  Wojcieszków..........................................................................................................................................................................................................................................................",10891,"",109,6903,"",63,1241,1317,null,null,null,null,null,null,null,null,null,null,null,null,null,null,null,null,null,null,null,null,null,"12","07","05",2,1200000,7000,50,2,1207052,"KAMIENICA",768.29]
[611112,"  Wola Mysłowska..........................................................................................................................................................................................................................................................",12107,"",121,4695,"",39,1040,1800,null,null,null,null,null,null,null,null,null,null,null,null,null,null,null,null,null,null,null,null,null,"12","07","06",2,1200000,7000,60,2,1207062,"LASKOWA",890.05]
["","Powiat opolski  (7 gmin)",null,null,null,null,null,null,null,null,null,null,null,null,null,null,null,null,null,null,null,null,null,null,null,null,null,null,null,null,null,"12","07","07",2,1200000,7000,70,2,1207072,"LIMANOWA",935.63]
["","",null,null,null,null,null,null,null,null,null,null,null,null,null,null,null,null,null,null,null,null,null,null,null,null,null,null,null,null,null,"12","07","08",2,1200000,7000,80,2,1207082,"ŁUKOWICA",679.46]
[612012,"  Chodel..........................................................................................................................................................................................................................................................",10837,"",108,6623,"",61,1252,1368,null,null,null,null,null,null,null,null,null,null,null,null,null,null,null,null,null,null,null,null,null,"12","07","09",2,1200000,7000,90,2,1207092,"MSZANA DOLNA",887.86]
[612032,"  Karczmiska..........................................................................................................................................................................................................................................................",9461,"",95,5619,"",59,1476,1569,null,null,null,null,null,null,null,null,null,null,null,null,null,null,null,null,null,null,null,null,null,"12","07","10",2,1200000,7000,100,2,1207102,"NIEDŹWIEDŹ",699.43]
[612042,"  Łaziska..........................................................................................................................................................................................................................................................",10929,"",109,4963,"",45,1235,1730,null,null,null,null,null,null,null,null,null,null,null,null,null,null,null,null,null,null,null,null,null,"12","07","11",2,1200000,7000,110,2,1207112,"SŁOPNICE",638.24]
[612072,"  Wilków..........................................................................................................................................................................................................................................................",7794,"",78,4431,"",57,1730,1865,null,null,null,null,null,null,null,null,null,null,null,null,null,null,null,null,null,null,null,null,null,"12","07","12",2,1200000,7000,120,2,1207122,"TYMBARK",1368.59]
["","",null,null,null,null,null,null,null,null,null,null,null,null,null,null,null,null,null,null,null,null,null,null,null,null,null,null,null,null,null,"12","08","01",2,1200000,8000,10,2,1208012,"CHARSZNICA",999.66]
[612023,"  Józefów nad Wisłą..........................................................................................................................................................................................................................................................",14155,"",141,6593,"",47,762,1373,null,null,null,null,null,null,null,null,null,null,null,null,null,null,null,null,null,null,null,null,null,"12","08","02",2,1200000,8000,20,2,1208022,"GOŁCZA",1019.03]
[612024,"",365,"",3,923,"",253,"x","x",null,null,null,null,null,null,null,null,null,null,null,null,null,null,null,null,null,null,null,null,null,"12","08","03",2,1200000,8000,30,2,1208032,"KOZŁÓW",886.81]
[612025,"",13790,"",138,5670,"",41,"x","x",null,null,null,null,null,null,null,null,null,null,null,null,null,null,null,null,null,null,null,null,null,"12","08","04",2,1200000,8000,40,2,1208042,"KSIĄŻ WIELKI",1085.17]
[612053,"  Opole Lubelskie..........................................................................................................................................................................................................................................................",19372,"",194,17234,"",89,379,431,null,null,null,null,null,null,null,null,null,null,null,null,null,null,null,null,null,null,null,null,null,"12","08","05",3,1200000,8000,50,3,1208053,"MIECHÓW",1411.93]
[612054,"",1512,"",15,8470,"",560,"x","x",null,null,null,null,null,null,null,null,null,null,null,null,null,null,null,null,null,null,null,null,null,"12","08","06",2,1200000,8000,60,2,1208062,"RACŁAWICE",1043.3399999999999]
[612055,"",17860,"",179,8764,"",49,"x","x",null,null,null,null,null,null,null,null,null,null,null,null,null,null,null,null,null,null,null,null,null,"12","08","07",2,1200000,8000,70,2,1208072,"SŁABOSZÓW",940.46]
[612063,"  Poniatowa..........................................................................................................................................................................................................................................................",8454,"",85,14263,"",169,1627,557,null,null,null,null,null,null,null,null,null,null,null,null,null,null,null,null,null,null,null,null,null,"12","09","01",3,1200000,9000,10,3,1209013,"DOBCZYCE",1728.97]
[612064,"",1526,"",15,9195,"",603,"x","x",null,null,null,null,null,null,null,null,null,null,null,null,null,null,null,null,null,null,null,null,null,"12","09","02",2,1200000,9000,20,2,1209022,"LUBIEŃ",782.43]
[612065,"",6928,"",70,5068,"",73,"x","x",null,null,null,null,null,null,null,null,null,null,null,null,null,null,null,null,null,null,null,null,null,"12","09","03",3,1200000,9000,30,3,1209033,"MYŚLENICE",1718.41]
["","Powiat parczewski  (7 gmin)",null,null,null,null,null,null,null,null,null,null,null,null,null,null,null,null,null,null,null,null,null,null,null,null,null,null,null,null,null,"12","09","04",2,1200000,9000,40,2,1209042,"PCIM",1210.8499999999999]
["","",null,null,null,null,null,null,null,null,null,null,null,null,null,null,null,null,null,null,null,null,null,null,null,null,null,null,null,null,null,"12","09","05",2,1200000,9000,50,2,1209052,"RACIECHOWICE",1017.42]
[613012,"  Dębowa Kłoda..........................................................................................................................................................................................................................................................",18837,"",188,3962,"",21,401,1981,null,null,null,null,null,null,null,null,null,null,null,null,null,null,null,null,null,null,null,null,null,"12","09","06",2,1200000,9000,60,2,1209062,"SIEPRAW",1444.31]
[613022,"  Jabłoń..........................................................................................................................................................................................................................................................",11035,"",110,3861,"",35,1216,2012,null,null,null,null,null,null,null,null,null,null,null,null,null,null,null,null,null,null,null,null,null,"12","09","07",3,1200000,9000,70,3,1209073,"SUŁKOWICE",1134.3599999999999]
[613032,"  Milanów..........................................................................................................................................................................................................................................................",11672,"",117,3835,"",33,1100,2018,null,null,null,null,null,null,null,null,null,null,null,null,null,null,null,null,null,null,null,null,null,"12","09","08",2,1200000,9000,80,2,1209082,"TOKARNIA",836.72]
[613052,"  Podedwórze..........................................................................................................................................................................................................................................................",10713,"",107,1634,"↓",15,1271,2290,null,null,null,null,null,null,null,null,null,null,null,null,null,null,null,null,null,null,null,null,null,"12","09","09",2,1200000,9000,90,2,1209092,"WIŚNIOWA",958.47]
[613062,"  Siemień..........................................................................................................................................................................................................................................................",11121,"",111,4582,"",41,1194,1830,null,null,null,null,null,null,null,null,null,null,null,null,null,null,null,null,null,null,null,null,null,"12","10","01",1,1200000,10000,10,1,1210011,"GRYBÓW",951.62]
[613072,"  Sosnowica..........................................................................................................................................................................................................................................................",17162,"",172,2605,"",15,503,2238,null,null,null,null,null,null,null,null,null,null,null,null,null,null,null,null,null,null,null,null,null,"12","10","02",2,1200000,10000,20,2,1210022,"CHEŁMIEC",1550.01]
["","",null,null,null,null,null,null,null,null,null,null,null,null,null,null,null,null,null,null,null,null,null,null,null,null,null,null,null,null,null,"12","10","03",2,1200000,10000,30,2,1210032,"GRÓDEK NAD DUNAJCEM",1321.72]
[613043,"  Parczew..........................................................................................................................................................................................................................................................",14680,"",147,14475,"",99,706,546,null,null,null,null,null,null,null,null,null,null,null,null,null,null,null,null,null,null,null,null,null,"12","10","04",2,1200000,10000,40,2,1210042,"GRYBÓW",770.63]
[613044,"",805,"",8,10650,"",1323,"x","x",null,null,null,null,null,null,null,null,null,null,null,null,null,null,null,null,null,null,null,null,null,"12","10","05",2,1200000,10000,50,2,1210052,"KAMIONKA WIELKA",1056.8499999999999]
[613045,"",13875,"",139,3825,"",28,"x","x",null,null,null,null,null,null,null,null,null,null,null,null,null,null,null,null,null,null,null,null,null,"12","10","06",2,1200000,10000,60,2,1210062,"KORZENNA",656.55]
["","Powiat puławski  (11 gmin)",null,null,null,null,null,null,null,null,null,null,null,null,null,null,null,null,null,null,null,null,null,null,null,null,null,null,null,null,null,"12","10","07",3,1200000,10000,70,3,1210073,"KRYNICA-ZDRÓJ",1743.11]
["","",null,null,null,null,null,null,null,null,null,null,null,null,null,null,null,null,null,null,null,null,null,null,null,null,null,null,null,null,null,"12","10","08",2,1200000,10000,80,2,1210082,"ŁABOWA",917.99]
[614011,"  Puławy..........................................................................................................................................................................................................................................................",5049,"",51,47774,"",946,2016,99,null,null,null,null,null,null,null,null,null,null,null,null,null,null,null,null,null,null,null,null,null,"12","10","09",2,1200000,10000,90,2,1210092,"ŁĄCKO",771.43]
["","",null,null,null,null,null,null,null,null,null,null,null,null,null,null,null,null,null,null,null,null,null,null,null,null,null,null,null,null,null,"12","10","10",2,1200000,10000,100,2,1210102,"ŁOSOSINA DOLNA",1225.25]
[614022,"  Baranów..........................................................................................................................................................................................................................................................",8492,"",85,3915,"",46,1617,1995,null,null,null,null,null,null,null,null,null,null,null,null,null,null,null,null,null,null,null,null,null,"12","10","11",3,1200000,10000,110,3,1210113,"MUSZYNA",1460.7]
[614032,"  Janowiec..........................................................................................................................................................................................................................................................",7882,"",79,3677,"",47,1718,2059,null,null,null,null,null,null,null,null,null,null,null,null,null,null,null,null,null,null,null,null,null,"12","10","12",2,1200000,10000,120,2,1210122,"NAWOJOWA",1188.9100000000001]
[614052,"  Końskowola..........................................................................................................................................................................................................................................................",8988,"",90,8862,"",99,1533,1003,null,null,null,null,null,null,null,null,null,null,null,null,null,null,null,null,null,null,null,null,null,"12","10","13",3,1200000,10000,130,3,1210133,"PIWNICZNA-ZDRÓJ",977.43]
[614062,"  Kurów..........................................................................................................................................................................................................................................................",10099,"",101,7674,"",76,1372,1178,null,null,null,null,null,null,null,null,null,null,null,null,null,null,null,null,null,null,null,null,null,"12","10","14",2,1200000,10000,140,2,1210142,"PODEGRODZIE",934.69]
[614072,"  Markuszów..........................................................................................................................................................................................................................................................",4040,"",40,2964,"",73,2092,2191,null,null,null,null,null,null,null,null,null,null,null,null,null,null,null,null,null,null,null,null,null,"12","10","15",2,1200000,10000,150,2,1210152,"RYTRO",937.25]
[614092,"  Puławy..........................................................................................................................................................................................................................................................",16119,"",161,12044,"",75,585,694,null,null,null,null,null,null,null,null,null,null,null,null,null,null,null,null,null,null,null,null,null,"12","10","16",3,1200000,10000,160,3,1210163,"STARY SĄCZ",1049.71]
[614102,"  Wąwolnica..........................................................................................................................................................................................................................................................",6285,"",63,4687,"",75,1926,1802,null,null,null,null,null,null,null,null,null,null,null,null,null,null,null,null,null,null,null,null,null,"12","11","01",1,1200000,11000,10,1,1211011,"NOWY TARG",1700.49]
[614112,"  Żyrzyn..........................................................................................................................................................................................................................................................",12920,"",129,6455,"",50,922,1398,null,null,null,null,null,null,null,null,null,null,null,null,null,null,null,null,null,null,null,null,null,"12","11","02",3,1200000,11000,20,3,1211023,"SZCZAWNICA",1659.62]
["","",null,null,null,null,null,null,null,null,null,null,null,null,null,null,null,null,null,null,null,null,null,null,null,null,null,null,null,null,null,"12","11","03",2,1200000,11000,30,2,1211032,"CZARNY DUNAJEC",599.09]
[614043,"  Kazimierz Dolny..........................................................................................................................................................................................................................................................",7241,"",72,6717,"",93,1813,1353,null,null,null,null,null,null,null,null,null,null,null,null,null,null,null,null,null,null,null,null,null,"12","11","04",2,1200000,11000,40,2,1211042,"CZORSZTYN",1183.4100000000001]
[614044,"",3044,"",31,2579,"",85,"x","x",null,null,null,null,null,null,null,null,null,null,null,null,null,null,null,null,null,null,null,null,null,"12","11","05",2,1200000,11000,50,2,1211052,"JABŁONKA",899.94]
[614045,"",4197,"",41,4138,"",99,"x","x",null,null,null,null,null,null,null,null,null,null,null,null,null,null,null,null,null,null,null,null,null,"12","11","06",2,1200000,11000,60,2,1211062,"KROŚCIENKO NAD DUNAJCEM",919.96]
[614083,"  Nałęczów..........................................................................................................................................................................................................................................................",6294,"",63,8993,"",143,1924,988,null,null,null,null,null,null,null,null,null,null,null,null,null,null,null,null,null,null,null,null,null,"12","11","07",2,1200000,11000,70,2,1211072,"LIPNICA WIELKA",519.09]
[614084,"",1382,"",14,3768,"",273,"x","x",null,null,null,null,null,null,null,null,null,null,null,null,null,null,null,null,null,null,null,null,null,"12","11","08",2,1200000,11000,80,2,1211082,"ŁAPSZE NIŻNE",1003.23]
[614085,"",4912,"",49,5225,"",106,"x","x",null,null,null,null,null,null,null,null,null,null,null,null,null,null,null,null,null,null,null,null,null,"12","11","09",2,1200000,11000,90,2,1211092,"NOWY TARG",669.16]
["","Powiat radzyński  (8 gmin)",null,null,null,null,null,null,null,null,null,null,null,null,null,null,null,null,null,null,null,null,null,null,null,null,null,null,null,null,null,"12","11","10",2,1200000,11000,100,2,1211102,"OCHOTNICA DOLNA",985.37]
["","",null,null,null,null,null,null,null,null,null,null,null,null,null,null,null,null,null,null,null,null,null,null,null,null,null,null,null,null,null,"12","11","11",2,1200000,11000,110,2,1211112,"RABA WYŻNA",727.83]
[615011,"  Radzyń Podlaski..........................................................................................................................................................................................................................................................",1931,"",19,15731,"",815,2244,490,null,null,null,null,null,null,null,null,null,null,null,null,null,null,null,null,null,null,null,null,null,"12","11","12",3,1200000,11000,120,3,1211123,"RABKA-ZDRÓJ",1305.71]
["","",null,null,null,null,null,null,null,null,null,null,null,null,null,null,null,null,null,null,null,null,null,null,null,null,null,null,null,null,null,"12","11","13",2,1200000,11000,130,2,1211132,"SPYTKOWICE",977.22]
[615022,"  Borki..........................................................................................................................................................................................................................................................",11182,"",112,6035,"",54,1180,1488,null,null,null,null,null,null,null,null,null,null,null,null,null,null,null,null,null,null,null,null,null,"12","11","14",2,{"$f":"AF904*100000","v":1200000},{"$f":"AG904*1000","v":11000},{"$f":"AH904*10","v":140},{"$f":"AI904*1","v":2},{"$f":"SUM(AJ904:AM904)","v":1211142},"SZAFLARY",799.58]
[615032,"  Czemierniki..........................................................................................................................................................................................................................................................",10749,"",107,4365,"",41,1265,1883,null,null,null,null,null,null,null,null,null,null,null,null,null,null,null,null,null,null,null,null,null,"12","12","01",1,1200000,12000,10,1,1212011,"BUKOWNO",2718.4]
[615042,"  Kąkolewnica..........................................................................................................................................................................................................................................................",14753,"",148,8102,"",55,700,1110,null,null,null,null,null,null,null,null,null,null,null,null,null,null,null,null,null,null,null,null,null,"12","12","03",2,1200000,12000,30,2,1212032,"BOLESŁAW",2594.73]
[615052,"  Komarówka Podlaska..........................................................................................................................................................................................................................................................",13797,"",138,4250,"",31,803,1917,null,null,null,null,null,null,null,null,null,null,null,null,null,null,null,null,null,null,null,null,null,"12","12","04",2,1200000,12000,40,2,1212042,"KLUCZE",2270.42]
[615062,"  Radzyń Podlaski..........................................................................................................................................................................................................................................................",15499,"",155,8086,"",52,629,1114,null,null,null,null,null,null,null,null,null,null,null,null,null,null,null,null,null,null,null,null,null,"12","12","05",3,1200000,12000,50,3,1212053,"OLKUSZ",1799.15]
[615072,"  Ulan-Majorat..........................................................................................................................................................................................................................................................",10778,"",108,6016,"",56,1259,1490,null,null,null,null,null,null,null,null,null,null,null,null,null,null,null,null,null,null,null,null,null,"12","12","06",2,1200000,12000,60,2,1212062,"TRZYCIĄŻ",1198.04]
[615082,"  Wohyń..........................................................................................................................................................................................................................................................",17817,"",178,6693,"",38,466,1357,null,null,null,null,null,null,null,null,null,null,null,null,null,null,null,null,null,null,null,null,null,"12","12","07",3,1200000,12000,70,3,1212073,"WOLBROM",1752.99]
["","Powiat rycki  (6 gmin)",null,null,null,null,null,null,null,null,null,null,null,null,null,null,null,null,null,null,null,null,null,null,null,null,null,null,null,null,null,"12","13","01",1,1200000,13000,10,1,1213011,"OŚWIĘCIM",2377.4299999999998]
["","",null,null,null,null,null,null,null,null,null,null,null,null,null,null,null,null,null,null,null,null,null,null,null,null,null,null,null,null,null,"12","13","02",3,1200000,13000,20,3,1213023,"BRZESZCZE",2220.96]
[616011,"  Dęblin..........................................................................................................................................................................................................................................................",3833,"",38,16149,"",421,2103,469,null,null,null,null,null,null,null,null,null,null,null,null,null,null,null,null,null,null,null,null,null,"12","13","03",3,1200000,13000,30,3,1213033,"CHEŁMEK",1661.22]
["","",null,null,null,null,null,null,null,null,null,null,null,null,null,null,null,null,null,null,null,null,null,null,null,null,null,null,null,null,null,"12","13","04",3,1200000,13000,40,3,1213043,"KĘTY",1834.73]
[616022,"  Kłoczew..........................................................................................................................................................................................................................................................",14306,"",143,7189,"",50,750,1267,null,null,null,null,null,null,null,null,null,null,null,null,null,null,null,null,null,null,null,null,null,"12","13","05",2,1200000,13000,50,2,1213052,"OSIEK",1446.74]
[616032,"  Nowodwór..........................................................................................................................................................................................................................................................",7187,"",72,4099,"",57,1820,1950,null,null,null,null,null,null,null,null,null,null,null,null,null,null,null,null,null,null,null,null,null,"12","13","06",2,1200000,13000,60,2,1213062,"OŚWIĘCIM",1847.69]
[616052,"  Stężyca..........................................................................................................................................................................................................................................................",11604,"",116,5157,"",44,1113,1688,null,null,null,null,null,null,null,null,null,null,null,null,null,null,null,null,null,null,null,null,null,"12","13","07",2,1200000,13000,70,2,1213072,"POLANKA WIELKA",1312.13]
[616062,"  Ułęż..........................................................................................................................................................................................................................................................",8347,"",84,3181,"",38,1645,2159,null,null,null,null,null,null,null,null,null,null,null,null,null,null,null,null,null,null,null,null,null,"12","13","08",2,1200000,13000,80,2,1213082,"PRZECISZÓW",1337.6]
["","",null,null,null,null,null,null,null,null,null,null,null,null,null,null,null,null,null,null,null,null,null,null,null,null,null,null,null,null,null,"12","13","09",3,1200000,13000,90,3,1213093,"ZATOR",1829.22]
[616043,"  Ryki..........................................................................................................................................................................................................................................................",16176,"",162,20391,"",126,582,334,null,null,null,null,null,null,null,null,null,null,null,null,null,null,null,null,null,null,null,null,null,"12","14","01",2,1200000,14000,10,2,1214012,"KONIUSZA",1157.8599999999999]
[616044,"",2722,"",28,9667,"",355,"x","x",null,null,null,null,null,null,null,null,null,null,null,null,null,null,null,null,null,null,null,null,null,"12","14","02",3,1200000,14000,20,3,1214023,"KOSZYCE",1027.32]
[616045,"",13454,"",134,10724,"",80,"x","x",null,null,null,null,null,null,null,null,null,null,null,null,null,null,null,null,null,null,null,null,null,"12","14","03",3,1200000,14000,30,3,1214033,"NOWE BRZESKO",1067.97]
["","Powiat świdnicki  (5 gmin)",null,null,null,null,null,null,null,null,null,null,null,null,null,null,null,null,null,null,null,null,null,null,null,null,null,null,null,null,null,"12","14","04",2,1200000,14000,40,2,1214042,"PAŁECZNICA",1115.6600000000001]
["","",null,null,null,null,null,null,null,null,null,null,null,null,null,null,null,null,null,null,null,null,null,null,null,null,null,null,null,null,null,"12","14","05",3,1200000,14000,50,3,1214053,"PROSZOWICE",1198.98]
[617011,"  Świdnik (a)..........................................................................................................................................................................................................................................................",2035,"",20,39312,"",1932,2234,130,null,null,null,null,null,null,null,null,null,null,null,null,null,null,null,null,null,null,null,null,null,"12","14","06",2,1200000,14000,60,2,1214062,"RADZIEMICE",1105.25]
["","",null,null,null,null,null,null,null,null,null,null,null,null,null,null,null,null,null,null,null,null,null,null,null,null,null,null,null,null,null,"12","15","01",1,1200000,15000,10,1,1215011,"JORDANÓW",1706.43]
[617022,"  Mełgiew..........................................................................................................................................................................................................................................................",9485,"",95,9780,"",103,1472,895,null,null,null,null,null,null,null,null,null,null,null,null,null,null,null,null,null,null,null,null,null,"12","15","02",1,1200000,15000,20,1,1215021,"SUCHA BESKIDZKA",1920.34]
[617042,"  Rybczewice..........................................................................................................................................................................................................................................................",9913,"",99,3421,"",35,1404,2109,null,null,null,null,null,null,null,null,null,null,null,null,null,null,null,null,null,null,null,null,null,"12","15","03",2,1200000,15000,30,2,1215032,"BUDZÓW",800.17]
[617052,"  Trawniki..........................................................................................................................................................................................................................................................",8416,"",84,8975,"",107,1636,989,null,null,null,null,null,null,null,null,null,null,null,null,null,null,null,null,null,null,null,null,null,"12","15","04",2,1200000,15000,40,2,1215042,"BYSTRA-SIDZINA",820.86]
["","",null,null,null,null,null,null,null,null,null,null,null,null,null,null,null,null,null,null,null,null,null,null,null,null,null,null,null,null,null,"12","15","05",2,1200000,15000,50,2,1215052,"JORDANÓW",921.56]
[617033,"  Piaski..........................................................................................................................................................................................................................................................",16986,"",170,10551,"",62,522,821,null,null,null,null,null,null,null,null,null,null,null,null,null,null,null,null,null,null,null,null,null,"12","15","06",3,1200000,15000,60,3,1215063,"MAKÓW PODHALAŃSKI",1328.17]
[617034,"",844,"",8,2556,"",303,"x","x",null,null,null,null,null,null,null,null,null,null,null,null,null,null,null,null,null,null,null,null,null,"12","15","07",2,1200000,15000,70,2,1215072,"STRYSZAWA",1191.6400000000001]
[617035,"",16142,"",162,7995,"",50,"x","x",null,null,null,null,null,null,null,null,null,null,null,null,null,null,null,null,null,null,null,null,null,"12","15","08",2,1200000,15000,80,2,1215082,"ZAWOJA",1040.46]
["","Powiat tomaszowski  (13 gmin)",null,null,null,null,null,null,null,null,null,null,null,null,null,null,null,null,null,null,null,null,null,null,null,null,null,null,null,null,null,"12","15","09",2,1200000,15000,90,2,1215092,"ZEMBRZYCE",1127.97]
["","",null,null,null,null,null,null,null,null,null,null,null,null,null,null,null,null,null,null,null,null,null,null,null,null,null,null,null,null,null,"12","16","01",3,1200000,16000,10,3,1216013,"CIĘŻKOWICE",872.34]
[618011,"  Tomaszów Lubelski..........................................................................................................................................................................................................................................................",1329,"",13,19198,"",1445,2298,367,null,null,null,null,null,null,null,null,null,null,null,null,null,null,null,null,null,null,null,null,null,"12","16","02",2,1200000,16000,20,2,1216022,"GROMNIK",705.97]
["","",null,null,null,null,null,null,null,null,null,null,null,null,null,null,null,null,null,null,null,null,null,null,null,null,null,null,null,null,null,"12","16","03",2,1200000,16000,30,2,1216032,"LISIA GÓRA",1109.2]
[618022,"  Bełżec..........................................................................................................................................................................................................................................................",3353,"",33,3337,"",100,2142,2129,null,null,null,null,null,null,null,null,null,null,null,null,null,null,null,null,null,null,null,null,null,"12","16","04",2,1200000,16000,40,2,1216042,"PLEŚNA",941.91]
[618032,"  Jarczów..........................................................................................................................................................................................................................................................",10664,"",107,3438,"",32,1277,2107,null,null,null,null,null,null,null,null,null,null,null,null,null,null,null,null,null,null,null,null,null,"12","16","05",3,1200000,16000,50,3,1216053,"RADŁÓW",1206.5999999999999]
[618042,"  Krynice..........................................................................................................................................................................................................................................................",7356,"",74,3260,"",44,1798,2145,null,null,null,null,null,null,null,null,null,null,null,null,null,null,null,null,null,null,null,null,null,"12","16","06",3,1200000,16000,60,3,1216063,"RYGLICE",853.6]
[618072,"  Rachanie..........................................................................................................................................................................................................................................................",9430,"",94,5155,"",55,1483,1689,null,null,null,null,null,null,null,null,null,null,null,null,null,null,null,null,null,null,null,null,null,"12","16","07",2,1200000,16000,70,2,1216072,"RZEPIENNIK STRZYŻEWSKI",867.62]
[618082,"  Susiec..........................................................................................................................................................................................................................................................",19075,"",191,7497,"",39,389,1210,null,null,null,null,null,null,null,null,null,null,null,null,null,null,null,null,null,null,null,null,null,"12","16","08",2,1200000,16000,80,2,1216082,"SKRZYSZÓW",1117.47]
[618092,"  Tarnawatka..........................................................................................................................................................................................................................................................",8283,"",83,3941,"",48,1657,1988,null,null,null,null,null,null,null,null,null,null,null,null,null,null,null,null,null,null,null,null,null,"12","16","09",2,1200000,16000,90,2,1216092,"TARNÓW",1733.81]
[618102,"  Telatyn..........................................................................................................................................................................................................................................................",11180,"",112,3992,"",36,1182,1974,null,null,null,null,null,null,null,null,null,null,null,null,null,null,null,null,null,null,null,null,null,"12","16","10",3,1200000,16000,100,3,1216103,"TUCHÓW",928.12]
[618112,"  Tomaszów Lubelski..........................................................................................................................................................................................................................................................",17089,"",171,11393,"",67,509,749,null,null,null,null,null,null,null,null,null,null,null,null,null,null,null,null,null,null,null,null,null,"12","16","11",2,1200000,16000,110,2,1216112,"WIERZCHOSŁAWICE",1472]
[618132,"  Ulhówek..........................................................................................................................................................................................................................................................",14663,"",147,4619,"",32,711,1818,null,null,null,null,null,null,null,null,null,null,null,null,null,null,null,null,null,null,null,null,null,"12","16","12",2,1200000,16000,120,2,1216122,"WIETRZYCHOWICE",1047.58]
["","",null,null,null,null,null,null,null,null,null,null,null,null,null,null,null,null,null,null,null,null,null,null,null,null,null,null,null,null,null,"12","16","13",3,1200000,16000,130,3,1216133,"WOJNICZ",1173.7]
[618053,"  Lubycza Królewska..........................................................................................................................................................................................................................................................",20807,"",208,6217,"",30,298,1444,null,null,null,null,null,null,null,null,null,null,null,null,null,null,null,null,null,null,null,null,null,"12","16","14",3,1200000,16000,140,3,1216143,"ZAKLICZYN",864.85]
[618054,"",392,"",4,2443,"",623,"x","x",null,null,null,null,null,null,null,null,null,null,null,null,null,null,null,null,null,null,null,null,null,"12","16","15",3,1200000,16000,150,3,1216153,"ŻABNO",1385.94]
[618055,"",20415,"",204,3774,"",18,"x","x",null,null,null,null,null,null,null,null,null,null,null,null,null,null,null,null,null,null,null,null,null,"12","16","16",2,1200000,16000,160,2,1216162,"SZERZYNY",666.2]
[618063,"  Łaszczów..........................................................................................................................................................................................................................................................",12829,"",128,6063,"",47,939,1476,null,null,null,null,null,null,null,null,null,null,null,null,null,null,null,null,null,null,null,null,null,"12","17","01",1,1200000,17000,10,1,1217011,"ZAKOPANE",2524.4499999999998]
[618064,"",501,"",5,2154,"",430,"x","x",null,null,null,null,null,null,null,null,null,null,null,null,null,null,null,null,null,null,null,null,null,"12","17","02",2,1200000,17000,20,2,1217022,"BIAŁY DUNAJEC",990.23]
[618065,"",12328,"",123,3909,"",32,"x","x",null,null,null,null,null,null,null,null,null,null,null,null,null,null,null,null,null,null,null,null,null,"12","17","03",2,1200000,17000,30,2,1217032,"BUKOWINA TATRZAŃSKA",1622.97]
[618123,"  Tyszowce..........................................................................................................................................................................................................................................................",12831,"",128,5605,"",44,938,1573,null,null,null,null,null,null,null,null,null,null,null,null,null,null,null,null,null,null,null,null,null,"12","17","04",2,1200000,17000,40,2,1217042,"KOŚCIELISKO",1370.49]
[618124,"",1852,"",19,2132,"",115,"x","x",null,null,null,null,null,null,null,null,null,null,null,null,null,null,null,null,null,null,null,null,null,"12","17","05",2,1200000,17000,50,2,1217052,"PORONIN",1194.26]
[618125,"",10979,"",109,3473,"",32,"x","x",null,null,null,null,null,null,null,null,null,null,null,null,null,null,null,null,null,null,null,null,null,"12","18","01",3,1200000,18000,10,3,1218013,"ANDRYCHÓW",1534.85]
["","Powiat włodawski  (8 gmin)",null,null,null,null,null,null,null,null,null,null,null,null,null,null,null,null,null,null,null,null,null,null,null,null,null,null,null,null,null,"12","18","02",2,1200000,18000,20,2,1218022,"BRZEŹNICA",1192.31]
["","",null,null,null,null,null,null,null,null,null,null,null,null,null,null,null,null,null,null,null,null,null,null,null,null,null,null,null,null,null,"12","18","03",3,1200000,18000,30,3,1218033,"KALWARIA ZEBRZYDOWSKA",1631.17]
[619011,"  Włodawa..........................................................................................................................................................................................................................................................",1797,"",18,13220,"",736,2253,612,null,null,null,null,null,null,null,null,null,null,null,null,null,null,null,null,null,null,null,null,null,"12","18","04",2,1200000,18000,40,2,1218042,"LANCKORONA",1022.9]
["","",null,null,null,null,null,null,null,null,null,null,null,null,null,null,null,null,null,null,null,null,null,null,null,null,null,null,null,null,null,"12","18","05",2,1200000,18000,50,2,1218052,"MUCHARZ",1486.43]
[619022,"  Hanna..........................................................................................................................................................................................................................................................",13929,"",139,2905,"",21,791,2201,null,null,null,null,null,null,null,null,null,null,null,null,null,null,null,null,null,null,null,null,null,"12","18","06",2,1200000,18000,60,2,1218062,"SPYTKOWICE",1244.3900000000001]
[619032,"  Hańsk..........................................................................................................................................................................................................................................................",17627,"",176,3750,"",21,477,2044,null,null,null,null,null,null,null,null,null,null,null,null,null,null,null,null,null,null,null,null,null,"12","18","07",2,1200000,18000,70,2,1218072,"STRYSZÓW",1048.6600000000001]
[619042,"  Stary Brus..........................................................................................................................................................................................................................................................",13167,"",132,2103,"",16,887,2275,null,null,null,null,null,null,null,null,null,null,null,null,null,null,null,null,null,null,null,null,null,"12","18","08",2,1200000,18000,80,2,1218082,"TOMICE",1168.04]
[619052,"  Urszulin..........................................................................................................................................................................................................................................................",17214,"",172,4179,"",24,499,1933,null,null,null,null,null,null,null,null,null,null,null,null,null,null,null,null,null,null,null,null,null,"12","18","09",3,1200000,18000,90,3,1218093,"WADOWICE",2036.14]
[619062,"  Włodawa..........................................................................................................................................................................................................................................................",24503,"",245,6059,"",25,191,1478,null,null,null,null,null,null,null,null,null,null,null,null,null,null,null,null,null,null,null,null,null,"12","18","10",2,1200000,18000,100,2,1218102,"WIEPRZ",1119.26]
[619072,"  Wola Uhruska..........................................................................................................................................................................................................................................................",15407,"",154,3879,"",25,639,2007,null,null,null,null,null,null,null,null,null,null,null,null,null,null,null,null,null,null,null,null,null,"12","19","01",2,1200000,19000,10,2,1219012,"BISKUPICE",1294.3699999999999]
[619082,"  Wyryki..........................................................................................................................................................................................................................................................",21998,"",220,2573,"",12,259,2241,null,null,null,null,null,null,null,null,null,null,null,null,null,null,null,null,null,null,null,null,null,"12","19","02",2,1200000,19000,20,2,1219022,"GDÓW",1367.47]
["","Powiat zamojski  (15 gmin)",null,null,null,null,null,null,null,null,null,null,null,null,null,null,null,null,null,null,null,null,null,null,null,null,null,null,null,null,null,"12","19","03",2,{"$f":"AF968*100000","v":1200000},{"$f":"AG968*1000","v":19000},{"$f":"AH968*10","v":30},{"$f":"AI968*1","v":2},{"$f":"SUM(AJ968:AM968)","v":1219032},"KŁAJ",1885.98]
["","",null,null,null,null,null,null,null,null,null,null,null,null,null,null,null,null,null,null,null,null,null,null,null,null,null,null,null,null,null,"12","19","04",3,1200000,19000,40,3,1219043,"NIEPOŁOMICE",2652.47]
[620012,"  Adamów..........................................................................................................................................................................................................................................................",11066,"",111,4708,"",43,1209,1797,null,null,null,null,null,null,null,null,null,null,null,null,null,null,null,null,null,null,null,null,null,"12","19","05",3,1200000,19000,50,3,1219053,"WIELICZKA",1900.98]
[620022,"  Grabowiec..........................................................................................................................................................................................................................................................",12847,"",128,4013,"",31,936,1969,null,null,null,null,null,null,null,null,null,null,null,null,null,null,null,null,null,null,null,null,null,"12","61","01",1,1200000,61000,10,1,1261011,"Kraków",2714.38]
[620032,"  Komarów-Osada..........................................................................................................................................................................................................................................................",12380,"",124,5023,"",41,999,1719,null,null,null,null,null,null,null,null,null,null,null,null,null,null,null,null,null,null,null,null,null,"12","62","01",1,1200000,62000,10,1,1262011,"Nowy Sącz",2087.56]
[620052,"  Łabunie..........................................................................................................................................................................................................................................................",8731,"",87,6237,"",71,1572,1436,null,null,null,null,null,null,null,null,null,null,null,null,null,null,null,null,null,null,null,null,null,"12","63","01",1,1200000,63000,10,1,1263011,"Tarnów",2023.45]
[620062,"  Miączyn..........................................................................................................................................................................................................................................................",15607,"",156,5818,"",37,625,1538,null,null,null,null,null,null,null,null,null,null,null,null,null,null,null,null,null,null,null,null,null,"14","01","01",3,1400000,1000,10,3,1401013,"BIAŁOBRZEGI",1703.44]
[620072,"  Nielisz..........................................................................................................................................................................................................................................................",11226,"",112,5488,"",49,1170,1606,null,null,null,null,null,null,null,null,null,null,null,null,null,null,null,null,null,null,null,null,null,"14","01","02",2,1400000,1000,20,2,1401022,"PROMNA",1045.96]
[620082,"  Radecznica..........................................................................................................................................................................................................................................................",10995,"",110,5720,"",52,1227,1552,null,null,null,null,null,null,null,null,null,null,null,null,null,null,null,null,null,null,null,null,null,"14","01","03",2,1400000,1000,30,2,1401032,"RADZANÓW",781.54]
[620092,"  Sitno..........................................................................................................................................................................................................................................................",11174,"",112,6756,"",60,1184,1345,null,null,null,null,null,null,null,null,null,null,null,null,null,null,null,null,null,null,null,null,null,"14","01","04",2,1400000,1000,40,2,1401042,"STARA BŁOTNICA",897.95]
[620102,"  Skierbieszów..........................................................................................................................................................................................................................................................",13921,"",139,5162,"",37,792,1687,null,null,null,null,null,null,null,null,null,null,null,null,null,null,null,null,null,null,null,null,null,"14","01","05",2,1400000,1000,50,2,1401052,"STROMIEC",1012.64]
[620112,"  Stary Zamość..........................................................................................................................................................................................................................................................",9751,"",98,5190,"",53,1427,1681,null,null,null,null,null,null,null,null,null,null,null,null,null,null,null,null,null,null,null,null,null,"14","01","06",3,1400000,1000,60,3,1401063,"WYŚMIERZYCE",1066.53]
[620122,"  Sułów..........................................................................................................................................................................................................................................................",9324,"",93,4532,"",49,1497,1840,null,null,null,null,null,null,null,null,null,null,null,null,null,null,null,null,null,null,null,null,null,"14","02","01",1,1400000,2000,10,1,1402011,"CIECHANÓW",1799.05]
[620142,"  Zamość..........................................................................................................................................................................................................................................................",19613,"",196,23130,"",118,372,282,null,null,null,null,null,null,null,null,null,null,null,null,null,null,null,null,null,null,null,null,null,"14","02","02",2,1400000,2000,20,2,1402022,"CIECHANÓW",2263.65]
["","",null,null,null,null,null,null,null,null,null,null,null,null,null,null,null,null,null,null,null,null,null,null,null,null,null,null,null,null,null,"14","02","03",3,1400000,2000,30,3,1402033,"GLINOJECK",2040.22]
[620043,"  Krasnobród..........................................................................................................................................................................................................................................................",12689,"",127,7126,"",56,959,1277,null,null,null,null,null,null,null,null,null,null,null,null,null,null,null,null,null,null,null,null,null,"14","02","04",2,1400000,2000,40,2,1402042,"GOŁYMIN-OŚRODEK",1077.6500000000001]
[620044,"",699,"",7,3094,"",443,"x","x",null,null,null,null,null,null,null,null,null,null,null,null,null,null,null,null,null,null,null,null,null,"14","02","05",2,1400000,2000,50,2,1402052,"GRUDUSK",1128.0999999999999]
[620045,"",11990,"",120,4032,"",34,"x","x",null,null,null,null,null,null,null,null,null,null,null,null,null,null,null,null,null,null,null,null,null,"14","02","06",2,1400000,2000,60,2,1402062,"OJRZEŃ",835.73]
[620133,"  Szczebrzeszyn..........................................................................................................................................................................................................................................................",12350,"",123,11262,"",91,1005,758,null,null,null,null,null,null,null,null,null,null,null,null,null,null,null,null,null,null,null,null,null,"14","02","07",2,1400000,2000,70,2,1402072,"OPINOGÓRA GÓRNA",1550.81]
[620134,"",2912,"",29,5040,"",173,"x","x",null,null,null,null,null,null,null,null,null,null,null,null,null,null,null,null,null,null,null,null,null,"14","02","08",2,1400000,2000,80,2,1402082,"REGIMIN",1471.89]
[620135,"",9438,"",94,6222,"",66,"x","x",null,null,null,null,null,null,null,null,null,null,null,null,null,null,null,null,null,null,null,null,null,"14","02","09",2,1400000,2000,90,2,1402092,"SOŃSK",1237.56]
[620153,"  Zwierzyniec..........................................................................................................................................................................................................................................................",15355,"",154,6770,"",44,644,1341,null,null,null,null,null,null,null,null,null,null,null,null,null,null,null,null,null,null,null,null,null,"14","03","01",1,1400000,3000,10,1,1403011,"GARWOLIN",2201.56]
[620154,"",619,"",6,3194,"",516,"x","x",null,null,null,null,null,null,null,null,null,null,null,null,null,null,null,null,null,null,null,null,null,"14","03","02",1,1400000,3000,20,1,1403021,"ŁASKARZEW",1287.99]
[620155,"",14736,"",148,3576,"",24,"x","x",null,null,null,null,null,null,null,null,null,null,null,null,null,null,null,null,null,null,null,null,null,"14","03","03",2,1400000,3000,30,2,1403032,"BOROWIE",1040.21]
["","",null,null,null,null,null,null,null,null,null,null,null,null,null,null,null,null,null,null,null,null,null,null,null,null,null,null,null,null,null,"14","03","04",2,1400000,3000,40,2,1403042,"GARWOLIN",1563.16]
[661011,"  Biała Podlaska..........................................................................................................................................................................................................................................................",4940,"",49,57352,"",1161,2025,78,null,null,null,null,null,null,null,null,null,null,null,null,null,null,null,null,null,null,null,null,null,"14","03","05",2,1400000,3000,50,2,1403052,"GÓRZNO",1045.4000000000001]
[662011,"  Chełm..........................................................................................................................................................................................................................................................",3528,"",35,62670,"",1776,2125,65,null,null,null,null,null,null,null,null,null,null,null,null,null,null,null,null,null,null,null,null,null,"14","03","06",2,1400000,3000,60,2,1403062,"ŁASKARZEW",938.07]
[663011,"  Lublin..........................................................................................................................................................................................................................................................",14747,"",148,339682,"↑",2303,701,9,null,null,null,null,null,null,null,null,null,null,null,null,null,null,null,null,null,null,null,null,null,"14","03","07",2,1400000,3000,70,2,1403072,"MACIEJOWICE",1133.79]
[664011,"  Zamość..........................................................................................................................................................................................................................................................",3034,"",30,63813,"",2103,2166,63,null,null,null,null,null,null,null,null,null,null,null,null,null,null,null,null,null,null,null,null,null,"14","03","08",2,1400000,3000,80,2,1403082,"MIASTKÓW KOŚCIELNY",1344.22]
["","WOJ. LUBUSKIE",null,null,null,null,null,null,null,null,null,null,null,null,null,null,null,null,null,null,null,null,null,null,null,null,null,null,null,null,null,"14","03","09",2,1400000,3000,90,2,1403092,"PARYSÓW",901.93]
["","Powiat gorzowski  (7 gmin)",null,null,null,null,null,null,null,null,null,null,null,null,null,null,null,null,null,null,null,null,null,null,null,null,null,null,null,null,null,"14","03","10",3,1400000,3000,100,3,1403103,"PILAWA",1659.56]
["","",null,null,null,null,null,null,null,null,null,null,null,null,null,null,null,null,null,null,null,null,null,null,null,null,null,null,null,null,null,"14","03","11",2,1400000,3000,110,2,1403112,"SOBOLEW",1357.34]
[801011,"  Kostrzyn nad Odrą..........................................................................................................................................................................................................................................................",4614,"",46,17776,"",385,2054,409,null,null,null,null,null,null,null,null,null,null,null,null,null,null,null,null,null,null,null,null,null,"14","03","12",2,1400000,3000,120,2,1403122,"TROJANÓW",981.26]
["","",null,null,null,null,null,null,null,null,null,null,null,null,null,null,null,null,null,null,null,null,null,null,null,null,null,null,null,null,null,"14","03","13",2,1400000,3000,130,2,1403132,"WILGA",1469.05]
[801062,"  Santok..........................................................................................................................................................................................................................................................",16939,"",169,8486,"",50,528,1052,null,null,null,null,null,null,null,null,null,null,null,null,null,null,null,null,null,null,null,null,null,"14","04","04",3,1400000,4000,40,3,1404043,"SANNIKI",1211.3]
[801074,"",824,"",8,6763,"",821,"x","x",null,null,null,null,null,null,null,null,null,null,null,null,null,null,null,null,null,null,null,null,null,"14","05","02",1,1400000,5000,20,1,1405021,"PODKOWA LEŚNA",4531.74]
["","Powiat krośnieński  (7 gmin)",null,null,null,null,null,null,null,null,null,null,null,null,null,null,null,null,null,null,null,null,null,null,null,null,null,null,null,null,null,"14","05","04",3,1400000,5000,40,3,1405043,"GRODZISK MAZOWIECKI",3391.6]
[802032,"  Bytnica..........................................................................................................................................................................................................................................................",20873,"",209,2520,"",12,294,2247,null,null,null,null,null,null,null,null,null,null,null,null,null,null,null,null,null,null,null,null,null,"14","06","03",2,1400000,6000,30,2,1406032,"CHYNÓW",1404.64]
[802063,"  Krosno Odrzańskie..........................................................................................................................................................................................................................................................",21240,"",212,17898,"",84,285,404,null,null,null,null,null,null,null,null,null,null,null,null,null,null,null,null,null,null,null,null,null,"14","06","08",3,1400000,6000,80,3,1406083,"NOWE MIASTO n. PILICĄ",1684.07]
["","",null,null,null,null,null,null,null,null,null,null,null,null,null,null,null,null,null,null,null,null,null,null,null,null,null,null,null,null,null,"14","07","02",2,1400000,7000,20,2,1407022,"GŁOWACZÓW",1063.68]
[803012,"  Bledzew..........................................................................................................................................................................................................................................................",24748,"",247,4401,"",18,186,1877,null,null,null,null,null,null,null,null,null,null,null,null,null,null,null,null,null,null,null,null,null,"14","07","03",2,1400000,7000,30,2,1407032,"GNIEWOSZÓW",918.34]
[803024,"",1026,"",10,18099,"",1764,"x","x",null,null,null,null,null,null,null,null,null,null,null,null,null,null,null,null,null,null,null,null,null,"14","08","01",1,1400000,8000,10,1,1408011,"LEGIONOWO",2162.4699999999998]
[803055,"",24892,"",249,2510,"",10,"x","x",null,null,null,null,null,null,null,null,null,null,null,null,null,null,null,null,null,null,null,null,null,"14","08","05",2,1400000,8000,50,2,1408052,"WIELISZEW",2953.27]
[803065,"",17447,"",175,4067,"",23,"x","x",null,null,null,null,null,null,null,null,null,null,null,null,null,null,null,null,null,null,null,null,null,"14","09","03",3,1400000,9000,30,3,1409033,"LIPSKO",1482.71]
["","",null,null,null,null,null,null,null,null,null,null,null,null,null,null,null,null,null,null,null,null,null,null,null,null,null,null,null,null,null,"14","09","05",2,1400000,9000,50,2,1409052,"SIENNO",879.79]
[804082,"  Siedlisko..........................................................................................................................................................................................................................................................",9216,"",92,3622,"",39,1510,2072,null,null,null,null,null,null,null,null,null,null,null,null,null,null,null,null,null,null,null,null,null,"14","10","04",2,1400000,10000,40,2,1410042,"PLATERÓW",879.79]
[804043,"  Kożuchów..........................................................................................................................................................................................................................................................",17918,"",179,16056,"",90,457,476,null,null,null,null,null,null,null,null,null,null,null,null,null,null,null,null,null,null,null,null,null,"14","11","03",2,1400000,11000,30,2,1411032,"KARNIEWO",1144.43]
[804064,"",329,"",3,2770,"",842,"x","x",null,null,null,null,null,null,null,null,null,null,null,null,null,null,null,null,null,null,null,null,null,"14","11","07",3,1400000,11000,70,3,1411073,"RÓŻAN",1585.77]
[804065,"",7357,"",74,2621,"",36,"x","x",null,null,null,null,null,null,null,null,null,null,null,null,null,null,null,null,null,null,null,null,null,"14","11","08",2,1400000,11000,80,2,1411082,"RZEWNIE",1354.36]
["","",null,null,null,null,null,null,null,null,null,null,null,null,null,null,null,null,null,null,null,null,null,null,null,null,null,null,null,null,null,"14","12","05",2,1400000,12000,50,2,1412052,"DĘBE WIELKIE",1506.25]
[805014,"",529,"",6,2756,"",521,"x","x",null,null,null,null,null,null,null,null,null,null,null,null,null,null,null,null,null,null,null,null,null,"14","12","09",3,1400000,12000,90,3,1412093,"KAŁUSZYN",1450.85]
[805034,"",801,"",8,3949,"",493,"x","x",null,null,null,null,null,null,null,null,null,null,null,null,null,null,null,null,null,null,null,null,null,"14","12","12",3,1400000,12000,120,3,1412123,"MROZY",1290.47]
[805043,"  Rzepin..........................................................................................................................................................................................................................................................",19099,"",191,9775,"",51,387,898,null,null,null,null,null,null,null,null,null,null,null,null,null,null,null,null,null,null,null,null,null,"14","12","14",2,1400000,12000,140,2,1412142,"STANISŁAWÓW",1476.65]
[805055,"",16636,"",167,3296,"",20,"x","x",null,null,null,null,null,null,null,null,null,null,null,null,null,null,null,null,null,null,null,null,null,"14","13","04",2,1400000,13000,40,2,1413042,"RADZANÓW",1151.6600000000001]
[806032,"  Stare Kurowo..........................................................................................................................................................................................................................................................",7757,"",78,4082,"",53,1740,1955,null,null,null,null,null,null,null,null,null,null,null,null,null,null,null,null,null,null,null,null,null,"14","13","07",2,1400000,13000,70,2,1413072,"SZREŃSK",1077.99]
[806023,"  Drezdenko..........................................................................................................................................................................................................................................................",39991,"↑",400,17236,"",43,26,430,null,null,null,null,null,null,null,null,null,null,null,null,null,null,null,null,null,null,null,null,null,"14","14","03",2,1400000,14000,30,2,1414032,"LEONCIN",1554.78]
[806024,"",1072,"",11,10182,"",950,"x","x",null,null,null,null,null,null,null,null,null,null,null,null,null,null,null,null,null,null,null,null,null,"14","14","04",3,1400000,14000,40,3,1414043,"NASIELSK",1369.71]
["","Powiat sulęciński  (5 gmin)",null,null,null,null,null,null,null,null,null,null,null,null,null,null,null,null,null,null,null,null,null,null,null,null,null,null,null,null,null,"14","15","03",2,1400000,15000,30,2,1415032,"CZERWIN",1947.38]
["","",null,null,null,null,null,null,null,null,null,null,null,null,null,null,null,null,null,null,null,null,null,null,null,null,null,null,null,null,null,"14","15","07",2,1400000,15000,70,2,1415072,"ŁYSE",1899.52]
[807025,"",11758,"",118,1098,"",9,"x","x",null,null,null,null,null,null,null,null,null,null,null,null,null,null,null,null,null,null,null,null,null,"14","15","10",2,{"$f":"AF1096*100000","v":1400000},{"$f":"AG1096*1000","v":15000},{"$f":"AH1096*10","v":100},{"$f":"AI1096*1","v":2},{"$f":"SUM(AJ1096:AM1096)","v":1415102},"RZEKUŃ",1669.57]
[807044,"",856,"",9,10157,"",1187,"x","x",null,null,null,null,null,null,null,null,null,null,null,null,null,null,null,null,null,null,null,null,null,"14","16","01",1,1400000,16000,10,1,1416011,"OSTRÓW MAZOWIECKA",1835.62]
["","Powiat świebodziński  (6 gmin)",null,null,null,null,null,null,null,null,null,null,null,null,null,null,null,null,null,null,null,null,null,null,null,null,null,null,null,null,null,"14","16","06",2,1400000,16000,60,2,1416062,"NUR",979.37]
[808022,"  Łagów..........................................................................................................................................................................................................................................................",19914,"",200,5001,"",25,349,1723,null,null,null,null,null,null,null,null,null,null,null,null,null,null,null,null,null,null,null,null,null,"14","16","09",2,1400000,16000,90,2,1416092,"SZULBORZE WIELKIE",896.33]
[808055,"",20948,"",209,8285,"",40,"x","x",null,null,null,null,null,null,null,null,null,null,null,null,null,null,null,null,null,null,null,null,null,"14","17","04",3,1400000,17000,40,3,1417043,"KARCZEW",5818.06]
[808063,"  Zbąszynek..........................................................................................................................................................................................................................................................",9408,"",94,8315,"",88,1486,1076,null,null,null,null,null,null,null,null,null,null,null,null,null,null,null,null,null,null,null,null,null,"14","17","05",2,1400000,17000,50,2,1417052,"KOŁBIEL",1853.07]
[812013,"  Sława..........................................................................................................................................................................................................................................................",32700,"",327,12747,"",39,70,644,null,null,null,null,null,null,null,null,null,null,null,null,null,null,null,null,null,null,null,null,null,"14","18","02",3,1400000,18000,20,3,1418023,"KONSTANCIN-JEZIORNA",4687.16]
[812024,"",155,"",2,1288,"",831,"x","x",null,null,null,null,null,null,null,null,null,null,null,null,null,null,null,null,null,null,null,null,null,"14","18","06",3,1400000,18000,60,3,1418063,"TARCZYN",2066.19]
[812034,"",925,"",9,13953,"",1508,"x","x",null,null,null,null,null,null,null,null,null,null,null,null,null,null,null,null,null,null,null,null,null,"14","19","03",2,1400000,19000,30,2,1419032,"BRUDZEŃ DUŻY",1248.22]
["","Powiat zielonogórski  (9 gmin)",null,null,null,null,null,null,null,null,null,null,null,null,null,null,null,null,null,null,null,null,null,null,null,null,null,null,null,null,null,"14","19","05",3,1400000,19000,50,3,1419053,"DROBIN",1038.75]
[809092,"  Zabór..........................................................................................................................................................................................................................................................",9338,"",93,4277,"",46,1495,1912,null,null,null,null,null,null,null,null,null,null,null,null,null,null,null,null,null,null,null,null,null,"14","19","10",2,1400000,19000,100,2,1419102,"RADZANOWO",1747.42]
[809014,"",365,"",4,3927,"",1076,"x","x",null,null,null,null,null,null,null,null,null,null,null,null,null,null,null,null,null,null,null,null,null,"14","19","13",2,1400000,19000,130,2,1419132,"STARA BIAŁA",2812.5]
[809044,"",455,"",5,3754,"",825,"x","x",null,null,null,null,null,null,null,null,null,null,null,null,null,null,null,null,null,null,null,null,null,"14","20","04",2,1400000,20000,40,2,1420042,"CZERWIŃSK NAD WISŁĄ",816.44]
[809045,"",12398,"",124,2075,"",17,"x","x",null,null,null,null,null,null,null,null,null,null,null,null,null,null,null,null,null,null,null,null,null,"14","20","05",2,1400000,20000,50,2,1420052,"DZIERZĄŻNIA",1068.3900000000001]
[809064,"",688,"",7,16925,"",2460,"x","x",null,null,null,null,null,null,null,null,null,null,null,null,null,null,null,null,null,null,null,null,null,"14","20","10",2,1400000,20000,100,2,1420102,"RACIĄŻ",1314.13]
[810011,"  Gozdnica..........................................................................................................................................................................................................................................................",2392,"",24,3061,"",128,2203,2180,null,null,null,null,null,null,null,null,null,null,null,null,null,null,null,null,null,null,null,null,null,"14","21","02",1,1400000,21000,20,1,1421021,"PRUSZKÓW",2435.09]
[810062,"  Niegosławice..........................................................................................................................................................................................................................................................",13641,"",136,4446,"",33,818,1862,null,null,null,null,null,null,null,null,null,null,null,null,null,null,null,null,null,null,null,null,null,"14","21","06",2,1400000,21000,60,2,1421062,"RASZYN",3427.09]
[810082,"  Wymiarki..........................................................................................................................................................................................................................................................",6309,"",63,2297,"↓",36,1922,2268,null,null,null,null,null,null,null,null,null,null,null,null,null,null,null,null,null,null,null,null,null,"14","22","01",1,1400000,22000,10,1,1422011,"PRZASNYSZ",1815.35]
[810045,"",14385,"",143,2970,"",21,"x","x",null,null,null,null,null,null,null,null,null,null,null,null,null,null,null,null,null,null,null,null,null,"14","22","06",2,1400000,22000,60,2,1422062,"KRZYNOWŁOGA MAŁA",949.23]
[810055,"",7422,"",75,1717,"",23,"x","x",null,null,null,null,null,null,null,null,null,null,null,null,null,null,null,null,null,null,null,null,null,"14","23","02",2,1400000,23000,20,2,1423022,"GIELNIÓW",774.88]
[811011,"  Łęknica..........................................................................................................................................................................................................................................................",1643,"↓",16,2483,"",151,2265,2252,null,null,null,null,null,null,null,null,null,null,null,null,null,null,null,null,null,null,null,null,null,"14","23","08",2,1400000,23000,80,2,1423082,"WIENIAWA",952.82]
[811021,"  Żary..........................................................................................................................................................................................................................................................",3349,"",33,37682,"",1125,2143,140,null,null,null,null,null,null,null,null,null,null,null,null,null,null,null,null,null,null,null,null,null,"14","24","01",2,1400000,24000,10,2,1424012,"GZY",1003.69]
[811082,"  Trzebiel..........................................................................................................................................................................................................................................................",16635,"",166,5692,"",34,548,1556,null,null,null,null,null,null,null,null,null,null,null,null,null,null,null,null,null,null,null,null,null,"14","24","06",2,1400000,24000,60,2,1424062,"WINNICA",1339.99]
[811043,"  Jasień..........................................................................................................................................................................................................................................................",12679,"",127,7069,"",56,961,1284,null,null,null,null,null,null,null,null,null,null,null,null,null,null,null,null,null,null,null,null,null,"14","25","03",3,1400000,25000,30,3,1425033,"IŁŻA",1289.78]
[811064,"",1251,"",13,14000,"",1119,"x","x",null,null,null,null,null,null,null,null,null,null,null,null,null,null,null,null,null,null,null,null,null,"14","25","07",2,1400000,25000,70,2,1425072,"KOWALA",1270.46]
[811065,"",17016,"",170,4550,"",27,"x","x",null,null,null,null,null,null,null,null,null,null,null,null,null,null,null,null,null,null,null,null,null,"14","25","08",2,1400000,25000,80,2,1425082,"PIONKI",918.71]
["","Powiat bełchatowski  (8 gmin)",null,null,null,null,null,null,null,null,null,null,null,null,null,null,null,null,null,null,null,null,null,null,null,null,null,null,null,null,null,"14","25","13",2,1400000,25000,130,2,1425132,"ZAKRZEW",1109.5999999999999]
["","",null,null,null,null,null,null,null,null,null,null,null,null,null,null,null,null,null,null,null,null,null,null,null,null,null,null,null,null,null,"14","26","03",2,1400000,26000,30,2,1426032,"KOTUŃ",1182.04]
[1001072,"  Szczerców..........................................................................................................................................................................................................................................................",12895,"",129,8216,"",64,927,1091,null,null,null,null,null,null,null,null,null,null,null,null,null,null,null,null,null,null,null,null,null,"14","26","09",2,1400000,26000,90,2,1426092,"SKÓRZEC",1134.8499999999999]
["","",null,null,null,null,null,null,null,null,null,null,null,null,null,null,null,null,null,null,null,null,null,null,null,null,null,null,null,null,null,"14","26","10",2,1400000,26000,100,2,1426102,"SUCHOŻEBRY",1502.4]
["","",null,null,null,null,null,null,null,null,null,null,null,null,null,null,null,null,null,null,null,null,null,null,null,null,null,null,null,null,null,"14","27","02",2,1400000,27000,20,2,1427022,"GOZDOWO",1017.64]
[1021032,"  Dmosin..........................................................................................................................................................................................................................................................",10019,"",100,4480,"",45,1385,1854,null,null,null,null,null,null,null,null,null,null,null,null,null,null,null,null,null,null,null,null,null,"14","27","06",2,1400000,27000,60,2,1427062,"SZCZUTOWO",747.05]
["","",null,null,null,null,null,null,null,null,null,null,null,null,null,null,null,null,null,null,null,null,null,null,null,null,null,null,null,null,null,"14","28","03",2,1400000,28000,30,2,1428032,"IŁÓW",1511.89]
[1002011,"  Kutno..........................................................................................................................................................................................................................................................",3359,"",34,44172,"",1315,2141,114,null,null,null,null,null,null,null,null,null,null,null,null,null,null,null,null,null,null,null,null,null,"14","28","04",2,1400000,28000,40,2,1428042,"MŁODZIESZYN",1386.19]
[1002062,"  Kutno..........................................................................................................................................................................................................................................................",12231,"",122,8720,"",71,1019,1017,null,null,null,null,null,null,null,null,null,null,null,null,null,null,null,null,null,null,null,null,null,"14","29","01",1,1400000,29000,10,1,1429011,"SOKOŁÓW PODLASKI",2052.29]
[1002092,"  Oporów..........................................................................................................................................................................................................................................................",6785,"",68,2546,"",38,1874,2244,null,null,null,null,null,null,null,null,null,null,null,null,null,null,null,null,null,null,null,null,null,"14","29","04",2,1400000,29000,40,2,1429042,"JABŁONNA LACKA",1355.81]
[1002113,"  Żychlin..........................................................................................................................................................................................................................................................",7664,"",77,11986,"",156,1750,695,null,null,null,null,null,null,null,null,null,null,null,null,null,null,null,null,null,null,null,null,null,"14","30","01",2,1400000,30000,10,2,1430012,"CHLEWISKA",819.6]
[1002114,"",868,"",9,8220,"",947,"x","x",null,null,null,null,null,null,null,null,null,null,null,null,null,null,null,null,null,null,null,null,null,"14","30","02",2,1400000,30000,20,2,1430022,"JASTRZĄB",1041.1300000000001]
[1003032,"  Sędziejowice..........................................................................................................................................................................................................................................................",12004,"",120,6413,"",53,1054,1406,null,null,null,null,null,null,null,null,null,null,null,null,null,null,null,null,null,null,null,null,null,"14","32","02",2,1400000,32000,20,2,1432022,"IZABELIN",4081.47]
[1003023,"  Łask..........................................................................................................................................................................................................................................................",14537,"",145,27747,"",191,727,206,null,null,null,null,null,null,null,null,null,null,null,null,null,null,null,null,null,null,null,null,null,"14","32","06",3,1400000,32000,60,3,1432063,"OŻARÓW MAZOWIECKI",4334.8900000000003]
["","",null,null,null,null,null,null,null,null,null,null,null,null,null,null,null,null,null,null,null,null,null,null,null,null,null,null,null,null,null,"14","33","03",2,1400000,33000,30,2,1433032,"KORYTNICA",2682.32]
[1004011,"  Łęczyca..........................................................................................................................................................................................................................................................",895,"↓",9,14094,"",1575,2327,566,null,null,null,null,null,null,null,null,null,null,null,null,null,null,null,null,null,null,null,null,null,"14","33","04",2,1400000,33000,40,2,1433042,"LIW",1441.7]
[1004052,"  Łęczyca..........................................................................................................................................................................................................................................................",15057,"",151,8532,"",57,674,1044,null,null,null,null,null,null,null,null,null,null,null,null,null,null,null,null,null,null,null,null,null,"14","33","09",2,1400000,33000,90,2,1433092,"WIERZBNO",1271.22]
[1004082,"  Witonia..........................................................................................................................................................................................................................................................",6045,"",60,3262,"",54,1945,2144,null,null,null,null,null,null,null,null,null,null,null,null,null,null,null,null,null,null,null,null,null,"14","34","03",1,1400000,34000,30,1,1434031,"ZĄBKI",2031.6]
[1005032,"  Chąśno..........................................................................................................................................................................................................................................................",7183,"",72,2919,"",41,1823,2197,null,null,null,null,null,null,null,null,null,null,null,null,null,null,null,null,null,null,null,null,null,"14","34","09",3,1400000,34000,90,3,1434093,"RADZYMIN",2724.93]
[1005042,"  Domaniewice..........................................................................................................................................................................................................................................................",8617,"",86,4664,"",54,1590,1806,null,null,null,null,null,null,null,null,null,null,null,null,null,null,null,null,null,null,null,null,null,"14","34","10",2,1400000,34000,100,2,1434102,"STRACHÓWKA",1298.67]
[1005092,"  Nieborów..........................................................................................................................................................................................................................................................",10390,"",104,9396,"",90,1319,933,null,null,null,null,null,null,null,null,null,null,null,null,null,null,null,null,null,null,null,null,null,"14","35","03",2,1400000,35000,30,2,1435032,"RZĄŚNIK",1116.42]
[1006022,"  Andrespol..........................................................................................................................................................................................................................................................",2574,"",25,14083,"",547,2192,567,null,null,null,null,null,null,null,null,null,null,null,null,null,null,null,null,null,null,null,null,null,"14","36","01",2,1400000,36000,10,2,1436012,"KAZANÓW",564.1]
[1006073,"  Koluszki..........................................................................................................................................................................................................................................................",15480,"",155,23374,"",151,632,278,null,null,null,null,null,null,null,null,null,null,null,null,null,null,null,null,null,null,null,null,null,"14","36","05",3,1400000,36000,50,3,1436053,"ZWOLEŃ",1376.97]
[1006074,"",990,"",11,13026,"",1316,"x","x",null,null,null,null,null,null,null,null,null,null,null,null,null,null,null,null,null,null,null,null,null,"14","37","01",3,1400000,37000,10,3,1437013,"BIEŻUŃ",1343.45]
[1006113,"  Tuszyn..........................................................................................................................................................................................................................................................",12990,"",130,12389,"",95,911,669,null,null,null,null,null,null,null,null,null,null,null,null,null,null,null,null,null,null,null,null,null,"14","37","06",3,1400000,37000,60,3,1437063,"ŻUROMIN",1448.08]
["","Powiat opoczyński  (8 gmin)",null,null,null,null,null,null,null,null,null,null,null,null,null,null,null,null,null,null,null,null,null,null,null,null,null,null,null,null,null,"14","38","03",2,1400000,38000,30,2,1438032,"PUSZCZA MARIAŃSKA",1345.57]
[1007072,"  Sławno..........................................................................................................................................................................................................................................................",12931,"",129,7672,"",59,919,1179,null,null,null,null,null,null,null,null,null,null,null,null,null,null,null,null,null,null,null,null,null,"14","64","01",1,1400000,64000,10,1,1464011,"Siedlce",1997.79]
[1007082,"  Żarnów..........................................................................................................................................................................................................................................................",14106,"",141,5947,"",42,770,1510,null,null,null,null,null,null,null,null,null,null,null,null,null,null,null,null,null,null,null,null,null,"14","65","01",1,1400000,65000,10,1,1465011,"m. st. Warszawa",4073.38]
[1007043,"  Opoczno..........................................................................................................................................................................................................................................................",19064,"",191,34353,"",180,390,155,null,null,null,null,null,null,null,null,null,null,null,null,null,null,null,null,null,null,null,null,null,"16","01","05",2,1600000,1000,50,2,1601052,"LUBSZA",1526.66]
["","",null,null,null,null,null,null,null,null,null,null,null,null,null,null,null,null,null,null,null,null,null,null,null,null,null,null,null,null,null,"16","02","03",3,1600000,2000,30,3,1602033,"GŁUBCZYCE",1674.05]
[1008032,"  Dłutów..........................................................................................................................................................................................................................................................",10123,"",101,4632,"",46,1365,1812,null,null,null,null,null,null,null,null,null,null,null,null,null,null,null,null,null,null,null,null,null,"16","03","03",2,1600000,3000,30,2,1603032,"CISEK",1311.13]
[1008042,"  Dobroń..........................................................................................................................................................................................................................................................",9546,"",95,7707,"",81,1462,1171,null,null,null,null,null,null,null,null,null,null,null,null,null,null,null,null,null,null,null,null,null,"16","03","04",2,1600000,3000,40,2,1603042,"PAWŁOWICZKI",1379.97]
["","",null,null,null,null,null,null,null,null,null,null,null,null,null,null,null,null,null,null,null,null,null,null,null,null,null,null,null,null,null,"16","04","03",2,1600000,4000,30,2,1604032,"LASOWICE WIELKIE",1019.53]
[1009052,"  Rząśnia..........................................................................................................................................................................................................................................................",8614,"",86,4909,"",57,1591,1747,null,null,null,null,null,null,null,null,null,null,null,null,null,null,null,null,null,null,null,null,null,"16","05","02",3,1600000,5000,20,3,1605023,"KRAPKOWICE",1857.24]
[1009014,"",494,"",5,5922,"",1199,"x","x",null,null,null,null,null,null,null,null,null,null,null,null,null,null,null,null,null,null,null,null,null,"16","06","03",2,1600000,6000,30,2,1606032,"POKÓJ",1308.2]
[1009015,"",11598,"",116,6677,"",58,"x","x",null,null,null,null,null,null,null,null,null,null,null,null,null,null,null,null,null,null,null,null,null,"16","06","04",2,1600000,6000,40,2,1606042,"ŚWIERCZÓW",1254.96]
["","",null,null,null,null,null,null,null,null,null,null,null,null,null,null,null,null,null,null,null,null,null,null,null,null,null,null,null,null,null,"16","07","04",2,1600000,7000,40,2,1607042,"ŁAMBINOWICE",1390.72]
[1010042,"  Grabica..........................................................................................................................................................................................................................................................",12762,"",128,6078,"",48,949,1471,null,null,null,null,null,null,null,null,null,null,null,null,null,null,null,null,null,null,null,null,null,"16","07","08",2,1600000,7000,80,2,1607082,"PAKOSŁAWICE",1450.06]
[1010082,"  Rozprza..........................................................................................................................................................................................................................................................",16308,"",163,12342,"",76,568,673,null,null,null,null,null,null,null,null,null,null,null,null,null,null,null,null,null,null,null,null,null,"16","08","03",3,1600000,8000,30,3,1608033,"OLESNO",1492.4]
[1010102,"  Wola Krzysztoporska..........................................................................................................................................................................................................................................................",17075,"",171,11929,"",70,511,699,null,null,null,null,null,null,null,null,null,null,null,null,null,null,null,null,null,null,null,null,null,"16","08","04",3,1600000,8000,40,3,1608043,"PRASZKA",1559.88]
[1010113,"  Wolbórz..........................................................................................................................................................................................................................................................",15166,"",152,7787,"",51,658,1156,null,null,null,null,null,null,null,null,null,null,null,null,null,null,null,null,null,null,null,null,null,"16","09","02",2,1600000,9000,20,2,1609022,"DĄBROWA",1641.34]
["","Powiat poddębicki  (6 gmin)",null,null,null,null,null,null,null,null,null,null,null,null,null,null,null,null,null,null,null,null,null,null,null,null,null,null,null,null,null,"16","09","05",2,1600000,9000,50,2,1609052,"ŁUBNIANY",1565.87]
["","",null,null,null,null,null,null,null,null,null,null,null,null,null,null,null,null,null,null,null,null,null,null,null,null,null,null,null,null,null,"16","09","11",2,1600000,9000,110,2,1609112,"TARNÓW OPOLSKI",1719.97]
[1011033,"  Poddębice..........................................................................................................................................................................................................................................................",22454,"",225,15606,"",70,248,492,null,null,null,null,null,null,null,null,null,null,null,null,null,null,null,null,null,null,null,null,null,"16","09","12",3,1600000,9000,120,3,1609123,"TUŁOWICE",1757.37]
[1011045,"",11678,"",117,4020,"",34,"x","x",null,null,null,null,null,null,null,null,null,null,null,null,null,null,null,null,null,null,null,null,null,"16","10","04",3,1600000,10000,40,3,1610043,"PRUDNIK",1324.36]
["","",null,null,null,null,null,null,null,null,null,null,null,null,null,null,null,null,null,null,null,null,null,null,null,null,null,null,null,null,null,"16","11","04",3,1600000,11000,40,3,1611043,"LEŚNICA",1689.38]
[1012062,"  Kobiele Wielkie..........................................................................................................................................................................................................................................................",10172,"",102,4449,"",44,1358,1861,null,null,null,null,null,null,null,null,null,null,null,null,null,null,null,null,null,null,null,null,null,"16","61","01",1,1600000,61000,10,1,1661011,"Opole",2739.32]
[1012072,"  Kodrąb..........................................................................................................................................................................................................................................................",10583,"",106,4571,"",43,1289,1835,null,null,null,null,null,null,null,null,null,null,null,null,null,null,null,null,null,null,null,null,null,"18","01","03",2,1800000,1000,30,2,1801032,"CZARNA",1689.18]
[1012132,"  Wielgomłyny..........................................................................................................................................................................................................................................................",12315,"",123,4596,"",37,1006,1828,null,null,null,null,null,null,null,null,null,null,null,null,null,null,null,null,null,null,null,null,null,"18","02","03",2,1800000,2000,30,2,1802032,"DYDNIA",866.22]
[1012053,"  Kamieńsk..........................................................................................................................................................................................................................................................",9644,"",96,5912,"",61,1441,1517,null,null,null,null,null,null,null,null,null,null,null,null,null,null,null,null,null,null,null,null,null,"18","02","06",2,1800000,2000,60,2,1802062,"NOZDRZEC",744.39]
["","Powiat rawski  (6 gmin)",null,null,null,null,null,null,null,null,null,null,null,null,null,null,null,null,null,null,null,null,null,null,null,null,null,null,null,null,null,"18","03","06",3,1800000,3000,60,3,1803063,"PILZNO",1437.43]
["","",null,null,null,null,null,null,null,null,null,null,null,null,null,null,null,null,null,null,null,null,null,null,null,null,null,null,null,null,null,"18","03","07",2,1800000,3000,70,2,1803072,"ŻYRAKÓW",1357.79]
[1013052,"  Regnów..........................................................................................................................................................................................................................................................",4635,"",46,1821,"↓",39,2050,2284,null,null,null,null,null,null,null,null,null,null,null,null,null,null,null,null,null,null,null,null,null,"18","04","05",2,1800000,4000,50,2,1804052,"LASZKI",917.23]
[1013024,"",953,"",9,3197,"",335,"x","x",null,null,null,null,null,null,null,null,null,null,null,null,null,null,null,null,null,null,null,null,null,"18","04","09",2,1800000,4000,90,2,1804092,"ROKIETNICA",1241.81]
[1014011,"  Sieradz..........................................................................................................................................................................................................................................................",5122,"",51,42267,"",825,2010,117,null,null,null,null,null,null,null,null,null,null,null,null,null,null,null,null,null,null,null,null,null,"18","05","02",2,1800000,5000,20,2,1805022,"BRZYSKA",733.76]
["","",null,null,null,null,null,null,null,null,null,null,null,null,null,null,null,null,null,null,null,null,null,null,null,null,null,null,null,null,null,"18","05","03",2,1800000,5000,30,2,1805032,"DĘBOWIEC",720.2]
[1014072,"  Klonowa..........................................................................................................................................................................................................................................................",9498,"",95,2859,"",30,1467,2208,null,null,null,null,null,null,null,null,null,null,null,null,null,null,null,null,null,null,null,null,null,"18","05","08",2,1800000,5000,80,2,1805082,"OSIEK JASIELSKI",677.32]
["","",null,null,null,null,null,null,null,null,null,null,null,null,null,null,null,null,null,null,null,null,null,null,null,null,null,null,null,null,null,"18","06","01",2,1800000,6000,10,2,1806012,"CMOLAS",777.62]
[1014095,"",24349,"",243,9474,"",39,"x","x",null,null,null,null,null,null,null,null,null,null,null,null,null,null,null,null,null,null,null,null,null,"18","07","01",2,1800000,7000,10,2,1807012,"CHORKÓWKA",987.09]
[1014113,"  Złoczew..........................................................................................................................................................................................................................................................",11726,"",117,7219,"",62,1094,1261,null,null,null,null,null,null,null,null,null,null,null,null,null,null,null,null,null,null,null,null,null,"18","07","02",3,1800000,7000,20,3,1807023,"DUKLA",1100.8699999999999]
[1015012,"  Bolimów..........................................................................................................................................................................................................................................................",11171,"",112,4031,"",36,1186,1964,null,null,null,null,null,null,null,null,null,null,null,null,null,null,null,null,null,null,null,null,null,"18","07","07",2,1800000,7000,70,2,1807072,"MIEJSCE PIASTOWE",1019.48]
[1015052,"  Lipce Reymontowskie..........................................................................................................................................................................................................................................................",4291,"",43,3294,"",77,2071,2140,null,null,null,null,null,null,null,null,null,null,null,null,null,null,null,null,null,null,null,null,null,"18","08","01",1,1800000,8000,10,1,1808011,"LEŻAJSK",1715.81]
[1015092,"  Słupia..........................................................................................................................................................................................................................................................",4109,"",41,2629,"",64,2085,2235,null,null,null,null,null,null,null,null,null,null,null,null,null,null,null,null,null,null,null,null,null,"18","08","05",3,{"$f":"AF1416*100000","v":1800000},{"$f":"AG1416*1000","v":8000},{"$f":"AH1416*10","v":50},{"$f":"AI1416*1","v":3},{"$f":"SUM(AJ1416:AM1416)","v":1808053},"NOWA SARZYNA",1135.23]
["","Powiat tomaszowski  (11 gmin)",null,null,null,null,null,null,null,null,null,null,null,null,null,null,null,null,null,null,null,null,null,null,null,null,null,null,null,null,null,"18","09","01",1,1800000,9000,10,1,1809011,"LUBACZÓW",1268.99]
[1016032,"  Budziszewice..........................................................................................................................................................................................................................................................",3017,"",30,2183,"",72,2167,2274,null,null,null,null,null,null,null,null,null,null,null,null,null,null,null,null,null,null,null,null,null,"18","09","06",3,1800000,9000,60,3,1809063,"OLESZYCE",1170.8900000000001]
[1016062,"  Lubochnia..........................................................................................................................................................................................................................................................",13137,"",131,7161,"",55,893,1271,null,null,null,null,null,null,null,null,null,null,null,null,null,null,null,null,null,null,null,null,null,"18","10","01",1,1800000,10000,10,1,1810011,"ŁAŃCUT",1876.43]
["","Powiat wieluński  (10 gmin)",null,null,null,null,null,null,null,null,null,null,null,null,null,null,null,null,null,null,null,null,null,null,null,null,null,null,null,null,null,"18","10","07",2,1800000,10000,70,2,1810072,"ŻOŁYNIA",1161.02]
["","",null,null,null,null,null,null,null,null,null,null,null,null,null,null,null,null,null,null,null,null,null,null,null,null,null,null,null,null,null,"18","11","01",1,1800000,11000,10,1,1811011,"MIELEC",2266.59]
[1017052,"  Osjaków..........................................................................................................................................................................................................................................................",10109,"",101,4798,"",47,1367,1777,null,null,null,null,null,null,null,null,null,null,null,null,null,null,null,null,null,null,null,null,null,"18","11","06",2,1800000,11000,60,2,1811062,"PADEW NARODOWA",1063.8800000000001]
[1017102,"  Wierzchlas..........................................................................................................................................................................................................................................................",11895,"",118,6648,"",56,1069,1365,null,null,null,null,null,null,null,null,null,null,null,null,null,null,null,null,null,null,null,null,null,"18","11","10",2,1800000,11000,100,2,1811102,"WADOWICE GÓRNE",1186.8399999999999]
[1017095,"",11377,"",114,9128,"",80,"x","x",null,null,null,null,null,null,null,null,null,null,null,null,null,null,null,null,null,null,null,null,null,"18","12","04",2,1800000,12000,40,2,1812042,"KRZESZÓW",846.71]
["","Powiat wieruszowski  (7 gmin)",null,null,null,null,null,null,null,null,null,null,null,null,null,null,null,null,null,null,null,null,null,null,null,null,null,null,null,null,null,"18","12","05",3,1800000,12000,50,3,1812053,"NISKO",1511.42]
[1018042,"  Lututów..........................................................................................................................................................................................................................................................",7612,"",76,4598,"",60,1757,1826,null,null,null,null,null,null,null,null,null,null,null,null,null,null,null,null,null,null,null,null,null,"18","13","03",2,1800000,13000,30,2,1813032,"FREDROPOL",912.07]
["","",null,null,null,null,null,null,null,null,null,null,null,null,null,null,null,null,null,null,null,null,null,null,null,null,null,null,null,null,null,"18","13","06",2,1800000,13000,60,2,1813062,"MEDYKA",1279.8]
[1019011,"  Zduńska Wola..........................................................................................................................................................................................................................................................",2457,"",25,42094,"",1713,2200,119,null,null,null,null,null,null,null,null,null,null,null,null,null,null,null,null,null,null,null,null,null,"18","14","02",2,1800000,14000,20,2,1814022,"ADAMÓWKA",811.71]
["","",null,null,null,null,null,null,null,null,null,null,null,null,null,null,null,null,null,null,null,null,null,null,null,null,null,null,null,null,null,"18","14","03",2,1800000,14000,30,2,1814032,"GAĆ",947.58]
[1019024,"",1793,"",17,1917,"",107,"x","x",null,null,null,null,null,null,null,null,null,null,null,null,null,null,null,null,null,null,null,null,null,"18","14","08",2,1800000,14000,80,2,1814082,"TRYŃCZA",1242.51]
[1020011,"  Głowno..........................................................................................................................................................................................................................................................",1984,"",20,14291,"",720,2240,555,null,null,null,null,null,null,null,null,null,null,null,null,null,null,null,null,null,null,null,null,null,"18","15","03",3,1800000,15000,30,3,1815033,"ROPCZYCE",1509.26]
[1020062,"  Ozorków..........................................................................................................................................................................................................................................................",9551,"",96,7009,"",73,1461,1294,null,null,null,null,null,null,null,null,null,null,null,null,null,null,null,null,null,null,null,null,null,"18","16","03",3,1800000,16000,30,3,1816033,"BOGUCHWAŁA",1460.84]
[1020072,"  Parzęczew..........................................................................................................................................................................................................................................................",10389,"",104,5077,"",49,1320,1711,null,null,null,null,null,null,null,null,null,null,null,null,null,null,null,null,null,null,null,null,null,"18","16","04",2,1800000,16000,40,2,1816042,"CHMIELNIK",1120.3800000000001]
[1020044,"",1382,"",14,21682,"",1569,"x","x",null,null,null,null,null,null,null,null,null,null,null,null,null,null,null,null,null,null,null,null,null,"18","16","08",2,{"$f":"AF1480*100000","v":1800000},{"$f":"AG1480*1000","v":16000},{"$f":"AH1480*10","v":80},{"$f":"AI1480*1","v":2},{"$f":"SUM(AJ1480:AM1480)","v":1816082},"KAMIEŃ",785.64]
[1020084,"",815,"",8,3494,"",429,"x","x",null,null,null,null,null,null,null,null,null,null,null,null,null,null,null,null,null,null,null,null,null,"18","16","11",3,1800000,16000,110,3,1816113,"SOKOŁÓW MAŁOPOLSKI",879.49]
["","WOJ. MAŁOPOLSKIE",null,null,null,null,null,null,null,null,null,null,null,null,null,null,null,null,null,null,null,null,null,null,null,null,null,null,null,null,null,"18","17","03",2,1800000,17000,30,2,1817032,"BUKOWSKO",1072.81]
["","Powiat bocheński  (9 gmin)",null,null,null,null,null,null,null,null,null,null,null,null,null,null,null,null,null,null,null,null,null,null,null,null,null,null,null,null,null,"18","17","04",2,1800000,17000,40,2,1817042,"KOMAŃCZA",1343]
[1201032,"  Drwinia..........................................................................................................................................................................................................................................................",10833,"",108,6517,"",60,1253,1387,null,null,null,null,null,null,null,null,null,null,null,null,null,null,null,null,null,null,null,null,null,"18","18","01",1,1800000,18000,10,1,1818011,"STALOWA WOLA",2034.94]
[1201082,"  Trzciana..........................................................................................................................................................................................................................................................",4409,"",44,5582,"",127,2064,1581,null,null,null,null,null,null,null,null,null,null,null,null,null,null,null,null,null,null,null,null,null,"18","18","05",3,1800000,18000,50,3,1818053,"ZAKLIKÓW",1056.78]
[1201065,"",7719,"",77,11276,"",146,"x","x",null,null,null,null,null,null,null,null,null,null,null,null,null,null,null,null,null,null,null,null,null,"18","19","04",3,1800000,19000,40,3,1819043,"STRZYŻÓW",1014.2]
["","Powiat brzeski  (7 gmin)",null,null,null,null,null,null,null,null,null,null,null,null,null,null,null,null,null,null,null,null,null,null,null,null,null,null,null,null,null,"18","19","05",2,1800000,19000,50,2,1819052,"WIŚNIOWA",811.76]
[1202052,"  Gnojnik..........................................................................................................................................................................................................................................................",5499,"",55,8027,"",146,1985,1126,null,null,null,null,null,null,null,null,null,null,null,null,null,null,null,null,null,null,null,null,null,"18","20","04",3,1800000,20000,40,3,1820043,"NOWA DĘBA",1657.1]
["","",null,null,null,null,null,null,null,null,null,null,null,null,null,null,null,null,null,null,null,null,null,null,null,null,null,null,null,null,null,"18","21","03",3,1800000,21000,30,3,1821033,"LESKO",1151.05]
[1202035,"",5234,"",52,7459,"",143,"x","x",null,null,null,null,null,null,null,null,null,null,null,null,null,null,null,null,null,null,null,null,null,"18","64","01",1,1800000,64000,10,1,1864011,"Tarnobrzeg",1458.25]
["","Powiat chrzanowski  (5 gmin)",null,null,null,null,null,null,null,null,null,null,null,null,null,null,null,null,null,null,null,null,null,null,null,null,null,null,null,null,null,"20","01","01",1,2000000,1000,10,1,2001011,"AUGUSTÓW",1704.87]
[1203015,"",6529,"",65,9270,"",142,"x","x",null,null,null,null,null,null,null,null,null,null,null,null,null,null,null,null,null,null,null,null,null,"20","01","07",2,2000000,1000,70,2,2001072,"SZTABIN",839.78]
[1203035,"",4112,"",41,10224,"",249,"x","x",null,null,null,null,null,null,null,null,null,null,null,null,null,null,null,null,null,null,null,null,null,"20","02","03",2,2000000,2000,30,2,2002032,"DOBRZYNIEWO DUŻE",1321.74]
[1203054,"",3194,"",32,19846,"",621,"x","x",null,null,null,null,null,null,null,null,null,null,null,null,null,null,null,null,null,null,null,null,null,"20","02","08",2,2000000,2000,80,2,2002082,"POŚWIĘTNE",1190.6199999999999]
[1203055,"",7346,"",73,14151,"",193,"x","x",null,null,null,null,null,null,null,null,null,null,null,null,null,null,null,null,null,null,null,null,null,"20","02","09",3,2000000,2000,90,3,2002093,"SUPRAŚL",2193.39]
[1204032,"  Gręboszów..........................................................................................................................................................................................................................................................",4851,"",49,3368,"",69,2031,2123,null,null,null,null,null,null,null,null,null,null,null,null,null,null,null,null,null,null,null,null,null,"20","02","13",3,2000000,2000,130,3,2002133,"WASILKÓW",1876.17]
[1204062,"  Radgoszcz..........................................................................................................................................................................................................................................................",8810,"",88,7439,"",84,1559,1217,null,null,null,null,null,null,null,null,null,null,null,null,null,null,null,null,null,null,null,null,null,"20","03","01",1,2000000,3000,10,1,2003011,"BIELSK PODLASKI",1831.06]
[1204074,"",685,"",7,4173,"",609,"x","x",null,null,null,null,null,null,null,null,null,null,null,null,null,null,null,null,null,null,null,null,null,"20","03","07",2,2000000,3000,70,2,2003072,"RUDKA",830.84]
[1204075,"",11263,"",112,9007,"",80,"x","x",null,null,null,null,null,null,null,null,null,null,null,null,null,null,null,null,null,null,null,null,null,"20","03","08",2,2000000,3000,80,2,2003082,"WYSZKI",790.87]
[1205052,"  Lipinki..........................................................................................................................................................................................................................................................",6646,"",66,6806,"",102,1887,1335,null,null,null,null,null,null,null,null,null,null,null,null,null,null,null,null,null,null,null,null,null,"20","04","06",2,2000000,4000,60,2,2004062,"WĄSOSZ",904.58]
[1205082,"  Ropa..........................................................................................................................................................................................................................................................",4911,"",49,5498,"",112,2028,1603,null,null,null,null,null,null,null,null,null,null,null,null,null,null,null,null,null,null,null,null,null,"20","05","03",2,2000000,5000,30,2,2005032,"CZEREMCHA",1262.1300000000001]
[1205024,"",1771,"",17,4599,"",260,"x","x",null,null,null,null,null,null,null,null,null,null,null,null,null,null,null,null,null,null,null,null,null,"20","05","08",2,2000000,5000,80,2,2005082,"NAREW",2105.7800000000002]
[1205025,"",8054,"",81,12259,"",152,"x","x",null,null,null,null,null,null,null,null,null,null,null,null,null,null,null,null,null,null,null,null,null,"20","05","09",2,2000000,5000,90,2,2005092,"NAREWKA",2344.2399999999998]
["","Powiat krakowski  (17 gmin)",null,null,null,null,null,null,null,null,null,null,null,null,null,null,null,null,null,null,null,null,null,null,null,null,null,null,null,null,null,"20","06","04",2,2000000,6000,40,2,2006042,"MAŁY PŁOCK",605.62]
[1206022,"  Igołomia-Wawrzeńczyce..........................................................................................................................................................................................................................................................",6279,"",63,7724,"",123,1927,1168,null,null,null,null,null,null,null,null,null,null,null,null,null,null,null,null,null,null,null,null,null,"20","07","01",3,2000000,7000,10,3,2007013,"JEDWABNE",913.29]
[1206092,"  Mogilany..........................................................................................................................................................................................................................................................",4363,"",44,14052,"",322,2067,569,null,null,null,null,null,null,null,null,null,null,null,null,null,null,null,null,null,null,null,null,null,"20","07","07",2,2000000,7000,70,2,2007072,"ŚNIADOWO",921.82]
[1206132,"  Sułoszowa..........................................................................................................................................................................................................................................................",5338,"",53,5830,"",109,1997,1534,null,null,null,null,null,null,null,null,null,null,null,null,null,null,null,null,null,null,null,null,null,"20","07","08",2,2000000,7000,80,2,2007082,"WIZNA",934.41]
[1206064,"",1697,"",18,10051,"",592,"x","x",null,null,null,null,null,null,null,null,null,null,null,null,null,null,null,null,null,null,null,null,null,"20","08","05",2,2000000,8000,50,2,2008052,"KRYPNO",625.91]
[1206104,"",297,"",3,3803,"",1280,"x","x",null,null,null,null,null,null,null,null,null,null,null,null,null,null,null,null,null,null,null,null,null,"20","09","01",1,2000000,9000,10,1,2009011,"SEJNY",1273.8399999999999]
[1206123,"  Słomniki..........................................................................................................................................................................................................................................................",11298,"",113,13680,"",121,1160,584,null,null,null,null,null,null,null,null,null,null,null,null,null,null,null,null,null,null,null,null,null,"20","10","01",1,2000000,10000,10,1,2010011,"SIEMIATYCZE",1706.39]
[1206124,"",343,"",3,4348,"",1268,"x","x",null,null,null,null,null,null,null,null,null,null,null,null,null,null,null,null,null,null,null,null,null,"20","10","02",3,2000000,10000,20,3,2010023,"DROHICZYN",1148.07]
[1206145,"",1591,"",16,7668,"",482,"x","x",null,null,null,null,null,null,null,null,null,null,null,null,null,null,null,null,null,null,null,null,null,"20","10","06",2,2000000,10000,60,2,2010062,"MILEJCZYCE",1012.14]
[1207021,"  Mszana Dolna..........................................................................................................................................................................................................................................................",2710,"",27,7948,"",293,2183,1136,null,null,null,null,null,null,null,null,null,null,null,null,null,null,null,null,null,null,null,null,null,"20","11","01",3,2000000,11000,10,3,2011013,"DĄBROWA BIAŁOSTOCKA",926.25]
[1207062,"  Laskowa..........................................................................................................................................................................................................................................................",7248,"",72,8149,"",112,1812,1102,null,null,null,null,null,null,null,null,null,null,null,null,null,null,null,null,null,null,null,null,null,"20","11","06",2,2000000,11000,60,2,2011062,"NOWY DWÓR",579.15]
[1207072,"  Limanowa..........................................................................................................................................................................................................................................................",15223,"",152,25466,"",167,654,242,null,null,null,null,null,null,null,null,null,null,null,null,null,null,null,null,null,null,null,null,null,"20","11","07",2,2000000,11000,70,2,2011072,"SIDRA",967.68]
["","Powiat miechowski  (7 gmin)",null,null,null,null,null,null,null,null,null,null,null,null,null,null,null,null,null,null,null,null,null,null,null,null,null,null,null,null,null,"20","12","03",2,2000000,12000,30,2,2012032,"JELENIEWO",1515.95]
[1208022,"  Gołcza..........................................................................................................................................................................................................................................................",9002,"",90,6078,"",68,1532,1471,null,null,null,null,null,null,null,null,null,null,null,null,null,null,null,null,null,null,null,null,null,"20","12","06",2,2000000,12000,60,2,2012062,"RUTKA-TARTAK",835.78]
["","",null,null,null,null,null,null,null,null,null,null,null,null,null,null,null,null,null,null,null,null,null,null,null,null,null,null,null,null,null,"20","13","02",3,2000000,13000,20,3,2013023,"CIECHANOWIEC",1117.21]
[1208053,"  Miechów..........................................................................................................................................................................................................................................................",14836,"",148,19737,"",133,690,350,null,null,null,null,null,null,null,null,null,null,null,null,null,null,null,null,null,null,null,null,null,"20","13","03",3,2000000,13000,30,3,2013033,"CZYŻEW",1399.66]
["","",null,null,null,null,null,null,null,null,null,null,null,null,null,null,null,null,null,null,null,null,null,null,null,null,null,null,null,null,null,"20","13","07",2,2000000,13000,70,2,2013072,"NOWE PIEKUTY",862.17]
[1209062,"  Siepraw..........................................................................................................................................................................................................................................................",3185,"",32,8953,"",281,2157,991,null,null,null,null,null,null,null,null,null,null,null,null,null,null,null,null,null,null,null,null,null,"20","14","01",1,2000000,14000,10,1,2014011,"ZAMBRÓW",1244.23]
[1209014,"",1297,"",14,6434,"",496,"x","x",null,null,null,null,null,null,null,null,null,null,null,null,null,null,null,null,null,null,null,null,null,"20","61","01",1,2000000,61000,10,1,2061011,"Białystok",1847.37]
[1209015,"",5342,"",52,8838,"",165,"x","x",null,null,null,null,null,null,null,null,null,null,null,null,null,null,null,null,null,null,null,null,null,"20","62","01",1,2000000,62000,10,1,2062011,"Łomża",1562.37]
[1209075,"",4392,"",44,8283,"",189,"x","x",null,null,null,null,null,null,null,null,null,null,null,null,null,null,null,null,null,null,null,null,null,"22","01","05",2,2200000,1000,50,2,2201052,"LIPNICA",1750.91]
[1210011,"  Grybów..........................................................................................................................................................................................................................................................",1695,"↓",17,6038,"",356,2261,1486,null,null,null,null,null,null,null,null,null,null,null,null,null,null,null,null,null,null,null,null,null,"22","01","08",2,2200000,1000,80,2,2201082,"STUDZIENICE",1626.68]
[1210052,"  Kamionka Wielka..........................................................................................................................................................................................................................................................",6498,"",65,10363,"",159,1902,835,null,null,null,null,null,null,null,null,null,null,null,null,null,null,null,null,null,null,null,null,null,"22","02","03",2,2200000,2000,30,2,2202032,"CHOJNICE",1655.58]
[1210062,"  Korzenna..........................................................................................................................................................................................................................................................",10695,"",107,14500,"",136,1273,543,null,null,null,null,null,null,null,null,null,null,null,null,null,null,null,null,null,null,null,null,null,"22","02","04",3,2200000,2000,40,3,2202043,"CZERSK",1188.32]
[1210122,"  Nawojowa..........................................................................................................................................................................................................................................................",5021,"",50,8703,"",173,2017,1019,null,null,null,null,null,null,null,null,null,null,null,null,null,null,null,null,null,null,null,null,null,"22","03","03",2,2200000,3000,30,2,2203032,"CZŁUCHÓW",1238.74]
[1210073,"  Krynica-Zdrój..........................................................................................................................................................................................................................................................",14513,"",145,16777,"",116,729,448,null,null,null,null,null,null,null,null,null,null,null,null,null,null,null,null,null,null,null,null,null,"22","03","07",2,2200000,3000,70,2,2203072,"RZECZENICA",1551.76]
[1210115,"",11701,"",117,6743,"",58,"x","x",null,null,null,null,null,null,null,null,null,null,null,null,null,null,null,null,null,null,null,null,null,"22","04","05",2,2200000,4000,50,2,2204052,"PRZYWIDZ",1185.7]
[1210133,"  Piwniczna-Zdrój..........................................................................................................................................................................................................................................................",12646,"",126,10650,"",84,964,811,null,null,null,null,null,null,null,null,null,null,null,null,null,null,null,null,null,null,null,null,null,"22","04","06",2,2200000,4000,60,2,2204062,"PSZCZÓŁKI",1596.22]
["","Powiat nowotarski  (14 gmin)",null,null,null,null,null,null,null,null,null,null,null,null,null,null,null,null,null,null,null,null,null,null,null,null,null,null,null,null,null,"22","05","04",2,2200000,5000,40,2,2205042,"SIERAKOWICE",1164.8800000000001]
["","",null,null,null,null,null,null,null,null,null,null,null,null,null,null,null,null,null,null,null,null,null,null,null,null,null,null,null,null,null,"22","05","07",2,2200000,5000,70,2,2205072,"SULĘCZYNO",1359.93]
[1211072,"  Lipnica Wielka..........................................................................................................................................................................................................................................................",6736,"",67,5998,"",89,1880,1497,null,null,null,null,null,null,null,null,null,null,null,null,null,null,null,null,null,null,null,null,null,"22","06","04",2,2200000,6000,40,2,2206042,"KOŚCIERZYNA",1836.28]
[1211082,"  Łapsze Niżne..........................................................................................................................................................................................................................................................",12579,"",126,9341,"",74,971,937,null,null,null,null,null,null,null,null,null,null,null,null,null,null,null,null,null,null,null,null,null,"22","06","05",2,2200000,6000,50,2,2206052,"LINIEWO",1073.95]
[1211132,"  Spytkowice..........................................................................................................................................................................................................................................................",3218,"",32,4533,"",141,2154,1839,null,null,null,null,null,null,null,null,null,null,null,null,null,null,null,null,null,null,null,null,null,"22","07","01",1,2200000,7000,10,1,2207011,"KWIDZYN",2212.29]
[1211124,"",3631,"",36,12780,"",352,"x","x",null,null,null,null,null,null,null,null,null,null,null,null,null,null,null,null,null,null,null,null,null,"22","07","05",2,2200000,7000,50,2,2207052,"RYJEWO",960.27]
["","Powiat olkuski  (6 gmin)",null,null,null,null,null,null,null,null,null,null,null,null,null,null,null,null,null,null,null,null,null,null,null,null,null,null,null,null,null,"22","08","04",2,2200000,8000,40,2,2208042,"NOWA WIEŚ LĘBORSKA",1459.78]
["","",null,null,null,null,null,null,null,null,null,null,null,null,null,null,null,null,null,null,null,null,null,null,null,null,null,null,null,null,null,"22","08","05",2,2200000,8000,50,2,2208052,"WICKO",3413.96]
["","",null,null,null,null,null,null,null,null,null,null,null,null,null,null,null,null,null,null,null,null,null,null,null,null,null,null,null,null,null,"22","09","08",2,2200000,9000,80,2,2209082,"STARE POLE",2054.73]
[1212055,"",12515,"",126,13418,"",107,"x","x",null,null,null,null,null,null,null,null,null,null,null,null,null,null,null,null,null,null,null,null,null,"22","10","03",2,2200000,10000,30,2,2210032,"OSTASZEWO",1486.46]
["","",null,null,null,null,null,null,null,null,null,null,null,null,null,null,null,null,null,null,null,null,null,null,null,null,null,null,null,null,null,"22","11","03",1,2200000,11000,30,1,2211031,"PUCK",1602.05]
[1213011,"  Oświęcim..........................................................................................................................................................................................................................................................",3000,"",30,38300,"",1277,2169,137,null,null,null,null,null,null,null,null,null,null,null,null,null,null,null,null,null,null,null,null,null,"22","11","04",3,2200000,11000,40,3,2211043,"WŁADYSŁAWOWO",2423.92]
[1213072,"  Polanka Wielka..........................................................................................................................................................................................................................................................",2389,"",24,4297,"",180,2205,1904,null,null,null,null,null,null,null,null,null,null,null,null,null,null,null,null,null,null,null,null,null,"22","12","01",1,2200000,12000,10,1,2212011,"USTKA",1662.46]
[1213024,"",1904,"",19,11226,"",590,"x","x",null,null,null,null,null,null,null,null,null,null,null,null,null,null,null,null,null,null,null,null,null,"22","12","05",3,2200000,12000,50,3,2212053,"KĘPICE",1203.29]
[1213043,"  Kęty..........................................................................................................................................................................................................................................................",7608,"",76,34193,"",449,1758,156,null,null,null,null,null,null,null,null,null,null,null,null,null,null,null,null,null,null,null,null,null,"22","12","10",2,2200000,12000,100,2,2212102,"USTKA",3162.15]
[1213044,"",2305,"",23,18744,"",813,"x","x",null,null,null,null,null,null,null,null,null,null,null,null,null,null,null,null,null,null,null,null,null,"22","13","01",3,2200000,13000,10,3,2213013,"CZARNA WODA",2048.5]
["","",null,null,null,null,null,null,null,null,null,null,null,null,null,null,null,null,null,null,null,null,null,null,null,null,null,null,null,null,null,"22","13","07",2,2200000,13000,70,2,2213072,"OSIECZNA",1154.94]
[1214062,"  Radziemice..........................................................................................................................................................................................................................................................",5797,"",58,3417,"",59,1957,2112,null,null,null,null,null,null,null,null,null,null,null,null,null,null,null,null,null,null,null,null,null,"22","13","10",2,2200000,13000,100,2,2213102,"SKÓRCZ",1207.77]
[1214033,"  Nowe Brzesko..........................................................................................................................................................................................................................................................",5442,"",54,5752,"",106,1991,1546,null,null,null,null,null,null,null,null,null,null,null,null,null,null,null,null,null,null,null,null,null,"22","14","02",3,{"$f":"AF1736*100000","v":2200000},{"$f":"AG1736*1000","v":14000},{"$f":"AH1736*10","v":20},{"$f":"AI1736*1","v":3},{"$f":"SUM(AJ1736:AM1736)","v":2214023},"GNIEW",1263.48]
[1214034,"",726,"",8,1683,"",232,"x","x",null,null,null,null,null,null,null,null,null,null,null,null,null,null,null,null,null,null,null,null,null,"22","14","03",2,2200000,14000,30,2,2214032,"MORZESZCZYN",1215.74]
[1214055,"",9269,"",93,10231,"",110,"x","x",null,null,null,null,null,null,null,null,null,null,null,null,null,null,null,null,null,null,null,null,null,"22","15","01",1,2200000,15000,10,1,2215011,"REDA",1530.17]
[1215021,"  Sucha Beskidzka..........................................................................................................................................................................................................................................................",2765,"",28,9165,"",331,2178,953,null,null,null,null,null,null,null,null,null,null,null,null,null,null,null,null,null,null,null,null,null,"22","15","05",2,2200000,15000,50,2,2215052,"GNIEWINO",2838.95]
[1215072,"  Stryszawa..........................................................................................................................................................................................................................................................",11381,"",114,11888,"",104,1144,705,null,null,null,null,null,null,null,null,null,null,null,null,null,null,null,null,null,null,null,null,null,"22","15","10",2,2200000,15000,100,2,2215102,"WEJHEROWO",1653.93]
[1215082,"  Zawoja..........................................................................................................................................................................................................................................................",12878,"",128,9126,"",71,929,963,null,null,null,null,null,null,null,null,null,null,null,null,null,null,null,null,null,null,null,null,null,"22","16","01",3,2200000,16000,10,3,2216013,"DZIERZGOŃ",1089.67]
["","Powiat tarnowski  (16 gmin)",null,null,null,null,null,null,null,null,null,null,null,null,null,null,null,null,null,null,null,null,null,null,null,null,null,null,null,null,null,"22","62","01",1,2200000,62000,10,1,2262011,"Gdynia",2439.54]
[1216032,"  Lisia Góra..........................................................................................................................................................................................................................................................",10432,"",105,15332,"",147,1313,504,null,null,null,null,null,null,null,null,null,null,null,null,null,null,null,null,null,null,null,null,null,"24","01","01",1,2400000,1000,10,1,2401011,"BĘDZIN",2135.12]
[1216092,"  Tarnów..........................................................................................................................................................................................................................................................",8272,"",83,26028,"",315,1661,231,null,null,null,null,null,null,null,null,null,null,null,null,null,null,null,null,null,null,null,null,null,"24","01","06",2,2400000,1000,60,2,2401062,"PSARY",2140.38]
[1216112,"  Wierzchosławice..........................................................................................................................................................................................................................................................",7515,"",75,10825,"",144,1772,797,null,null,null,null,null,null,null,null,null,null,null,null,null,null,null,null,null,null,null,null,null,"24","01","07",3,2400000,1000,70,3,2401073,"SIEWIERZ",2562.89]
[1216014,"",999,"",11,2469,"",247,"x","x",null,null,null,null,null,null,null,null,null,null,null,null,null,null,null,null,null,null,null,null,null,"24","02","03",2,2400000,2000,30,2,2402032,"BUCZKOWICE",1568.74]
[1216055,"",6936,"",69,6983,"",101,"x","x",null,null,null,null,null,null,null,null,null,null,null,null,null,null,null,null,null,null,null,null,null,"24","02","07",2,2400000,2000,70,2,2402072,"KOZY",1956.51]
[1216104,"",1810,"",18,6671,"",369,"x","x",null,null,null,null,null,null,null,null,null,null,null,null,null,null,null,null,null,null,null,null,null,"24","03","02",1,2400000,3000,20,1,2403021,"USTROŃ",2567.9899999999998]
[1216105,"",8176,"",82,11372,"",139,"x","x",null,null,null,null,null,null,null,null,null,null,null,null,null,null,null,null,null,null,null,null,null,"24","03","03",1,2400000,3000,30,1,2403031,"WISŁA",2398.6]
[1216145,"",11804,"",118,10817,"",92,"x","x",null,null,null,null,null,null,null,null,null,null,null,null,null,null,null,null,null,null,null,null,null,"24","03","09",2,2400000,3000,90,2,2403092,"ISTEBNA",1140.24]
[1216155,"",9043,"",91,14664,"",162,"x","x",null,null,null,null,null,null,null,null,null,null,null,null,null,null,null,null,null,null,null,null,null,"24","03","12",2,2400000,3000,120,2,2403122,"ZEBRZYDOWICE",1423.39]
[1217022,"  Biały Dunajec..........................................................................................................................................................................................................................................................",3523,"",35,7184,"",204,2126,1268,null,null,null,null,null,null,null,null,null,null,null,null,null,null,null,null,null,null,null,null,null,"24","04","05",2,2400000,4000,50,2,2404052,"KŁOMNICE",1385.06]
[1217032,"  Bukowina Tatrzańska..........................................................................................................................................................................................................................................................",13186,"",132,13351,"",101,885,601,null,null,null,null,null,null,null,null,null,null,null,null,null,null,null,null,null,null,null,null,null,"24","04","06",3,2400000,4000,60,3,2404063,"KONIECPOL",1329.97]
["","",null,null,null,null,null,null,null,null,null,null,null,null,null,null,null,null,null,null,null,null,null,null,null,null,null,null,null,null,null,"24","04","10",2,2400000,4000,100,2,2404102,"MSTÓW",1436.85]
[1218062,"  Spytkowice..........................................................................................................................................................................................................................................................",5138,"",52,10379,"",202,2007,831,null,null,null,null,null,null,null,null,null,null,null,null,null,null,null,null,null,null,null,null,null,"24","04","14",2,2400000,4000,140,2,2404142,"PRZYRÓW",1150.53]
[1218013,"  Andrychów..........................................................................................................................................................................................................................................................",10039,"",100,43654,"",435,1382,115,null,null,null,null,null,null,null,null,null,null,null,null,null,null,null,null,null,null,null,null,null,"24","05","03",2,2400000,5000,30,2,2405032,"GIERAŁTOWICE",2980.78]
[1218014,"",1033,"",10,20260,"",1961,"x","x",null,null,null,null,null,null,null,null,null,null,null,null,null,null,null,null,null,null,null,null,null,"24","05","04",2,2400000,5000,40,2,2405042,"PILCHOWICE",1971.67]
[1218094,"",1054,"",11,18774,"",1781,"x","x",null,null,null,null,null,null,null,null,null,null,null,null,null,null,null,null,null,null,null,null,null,"24","06","02",3,2400000,6000,20,3,2406023,"KRZEPICE",1515.44]
["","",null,null,null,null,null,null,null,null,null,null,null,null,null,null,null,null,null,null,null,null,null,null,null,null,null,null,null,null,null,"24","06","05",2,2400000,6000,50,2,2406052,"OPATÓW",1089.49]
[1219043,"  Niepołomice..........................................................................................................................................................................................................................................................",9627,"",96,28455,"",296,1444,201,null,null,null,null,null,null,null,null,null,null,null,null,null,null,null,null,null,null,null,null,null,"24","07","01",1,2400000,7000,10,1,2407011,"LUBLINIEC",2122.7600000000002]
[1219044,"",2740,"",28,13001,"",474,"x","x",null,null,null,null,null,null,null,null,null,null,null,null,null,null,null,null,null,null,null,null,null,"24","07","02",2,2400000,7000,20,2,2407022,"BORONÓW",1599.2]
[1219055,"",8626,"",87,36019,"",418,"x","x",null,null,null,null,null,null,null,null,null,null,null,null,null,null,null,null,null,null,null,null,null,"24","07","06",2,2400000,7000,60,2,2407062,"KOSZĘCIN",1261.1300000000001]
[1263011,"  Tarnów..........................................................................................................................................................................................................................................................",7238,"",72,109062,"",1507,1814,35,null,null,null,null,null,null,null,null,null,null,null,null,null,null,null,null,null,null,null,null,null,"24","08","02",1,2400000,8000,20,1,2408021,"MIKOŁÓW",2794.68]
[1401032,"  Radzanów..........................................................................................................................................................................................................................................................",8252,"",83,3893,"",47,1663,2004,null,null,null,null,null,null,null,null,null,null,null,null,null,null,null,null,null,null,null,null,null,"24","09","02",3,2400000,9000,20,3,2409023,"KOZIEGŁOWY",1477.43]
[1401042,"  Stara Błotnica..........................................................................................................................................................................................................................................................",9605,"",96,5326,"",55,1448,1647,null,null,null,null,null,null,null,null,null,null,null,null,null,null,null,null,null,null,null,null,null,"24","09","03",2,2400000,9000,30,2,2409032,"NIEGOWA",993.5]
[1401063,"  Wyśmierzyce..........................................................................................................................................................................................................................................................",10579,"",106,2766,"",26,1291,2218,null,null,null,null,null,null,null,null,null,null,null,null,null,null,null,null,null,null,null,null,null,"24","10","04",2,2400000,10000,40,2,2410042,"PAWŁOWICE",2839.67]
["","Powiat ciechanowski  (9 gmin)",null,null,null,null,null,null,null,null,null,null,null,null,null,null,null,null,null,null,null,null,null,null,null,null,null,null,null,null,null,"24","11","01",1,2400000,11000,10,1,2411011,"RACIBÓRZ",1766.62]
[1402042,"  Gołymin-Ośrodek..........................................................................................................................................................................................................................................................",11071,"",111,3818,"",34,1208,2023,null,null,null,null,null,null,null,null,null,null,null,null,null,null,null,null,null,null,null,null,null,"24","11","06",2,2400000,11000,60,2,2411062,"NĘDZA",1146.46]
[1402052,"  Grudusk..........................................................................................................................................................................................................................................................",9675,"",97,3624,"",37,1435,2071,null,null,null,null,null,null,null,null,null,null,null,null,null,null,null,null,null,null,null,null,null,"24","11","07",2,2400000,11000,70,2,2411072,"PIETROWICE WIELKIE",1931.36]
[1402092,"  Sońsk..........................................................................................................................................................................................................................................................",15471,"",154,7773,"",50,634,1159,null,null,null,null,null,null,null,null,null,null,null,null,null,null,null,null,null,null,null,null,null,"24","12","03",2,2400000,12000,30,2,2412032,"JEJKOWICE",1619.6]
[1402035,"",14648,"",147,4844,"",33,"x","x",null,null,null,null,null,null,null,null,null,null,null,null,null,null,null,null,null,null,null,null,null,"24","13","02",1,2400000,13000,20,1,2413021,"MIASTECZKO ŚLĄSKIE",2514.5]
["","",null,null,null,null,null,null,null,null,null,null,null,null,null,null,null,null,null,null,null,null,null,null,null,null,null,null,null,null,null,"24","13","07",2,2400000,13000,70,2,2413072,"ŚWIERKLANIEC",2127]
[1403032,"  Borowie..........................................................................................................................................................................................................................................................",8022,"",80,5211,"",65,1699,1671,null,null,null,null,null,null,null,null,null,null,null,null,null,null,null,null,null,null,null,null,null,"24","13","08",2,2400000,13000,80,2,2413082,"TWORÓG",1480.42]
[1403092,"  Parysów..........................................................................................................................................................................................................................................................",6415,"",64,4105,"",64,1914,1948,null,null,null,null,null,null,null,null,null,null,null,null,null,null,null,null,null,null,null,null,null,"24","14","05",2,2400000,14000,50,2,2414052,"CHEŁM ŚLĄSKI",3399.51]
[1403132,"  Wilga..........................................................................................................................................................................................................................................................",11840,"",118,5297,"",45,1075,1654,null,null,null,null,null,null,null,null,null,null,null,null,null,null,null,null,null,null,null,null,null,"24","15","03",1,2400000,15000,30,1,2415031,"RYDUŁTOWY",1681.94]
[1403143,"  Żelechów..........................................................................................................................................................................................................................................................",8749,"",87,8363,"",96,1570,1068,null,null,null,null,null,null,null,null,null,null,null,null,null,null,null,null,null,null,null,null,null,"24","15","08",2,2400000,15000,80,2,2415082,"MARKLOWICE",2480.8200000000002]
[1403144,"",1213,"",12,3995,"",329,"x","x",null,null,null,null,null,null,null,null,null,null,null,null,null,null,null,null,null,null,null,null,null,"24","15","09",2,2400000,15000,90,2,2415092,"MSZANA",2067.23]
[1404011,"  Gostynin..........................................................................................................................................................................................................................................................",3240,"",32,18647,"",576,2153,380,null,null,null,null,null,null,null,null,null,null,null,null,null,null,null,null,null,null,null,null,null,"24","16","04",2,2400000,16000,40,2,2416042,"KROCZYCE",1130.49]
[1404052,"  Szczawin Kościelny..........................................................................................................................................................................................................................................................",12716,"",127,4871,"",38,953,1757,null,null,null,null,null,null,null,null,null,null,null,null,null,null,null,null,null,null,null,null,null,"24","16","08",3,2400000,16000,80,3,2416083,"SZCZEKOCINY",1492.62]
["","Powiat grodziski  (6 gmin)",null,null,null,null,null,null,null,null,null,null,null,null,null,null,null,null,null,null,null,null,null,null,null,null,null,null,null,null,null,"24","17","03",2,2400000,17000,30,2,2417032,"GILOWICE",1399.35]
["","",null,null,null,null,null,null,null,null,null,null,null,null,null,null,null,null,null,null,null,null,null,null,null,null,null,null,null,null,null,"24","17","04",2,2400000,17000,40,2,2417042,"JELEŚNIA",1329.69]
[1405062,"  Żabia Wola..........................................................................................................................................................................................................................................................",10543,"",106,8713,"",83,1296,1018,null,null,null,null,null,null,null,null,null,null,null,null,null,null,null,null,null,null,null,null,null,"24","17","10",2,2400000,17000,100,2,2417102,"RADZIECHOWY-WIEPRZ",1029.4100000000001]
[1405044,"",1319,"",14,31505,"",2389,"x","x",null,null,null,null,null,null,null,null,null,null,null,null,null,null,null,null,null,null,null,null,null,"24","17","13",2,2400000,17000,130,2,2417132,"ŚWINNA",1128.8900000000001]
[1406022,"  Błędów..........................................................................................................................................................................................................................................................",13405,"",134,7461,"",56,853,1214,null,null,null,null,null,null,null,null,null,null,null,null,null,null,null,null,null,null,null,null,null,"24","63","01",1,2400000,63000,10,1,2463011,"Chorzów",2007.95]
[1406032,"  Chynów..........................................................................................................................................................................................................................................................",13499,"",135,9858,"",73,837,887,null,null,null,null,null,null,null,null,null,null,null,null,null,null,null,null,null,null,null,null,null,"24","64","01",1,2400000,64000,10,1,2464011,"Częstochowa",1995.36]
["","",null,null,null,null,null,null,null,null,null,null,null,null,null,null,null,null,null,null,null,null,null,null,null,null,null,null,null,null,null,"24","68","01",1,2400000,68000,10,1,2468011,"Jaworzno",2262.8000000000002]
[1406074,"",1298,"",13,2260,"",174,"x","x",null,null,null,null,null,null,null,null,null,null,null,null,null,null,null,null,null,null,null,null,null,"24","73","01",1,2400000,73000,10,1,2473011,"Rybnik",2130.2600000000002]
[1406085,"",14726,"",148,3977,"",27,"x","x",null,null,null,null,null,null,null,null,null,null,null,null,null,null,null,null,null,null,null,null,null,"24","77","01",1,2400000,77000,10,1,2477011,"Tychy",2662.07]
[1406113,"  Warka..........................................................................................................................................................................................................................................................",20227,"",202,19259,"",95,334,364,null,null,null,null,null,null,null,null,null,null,null,null,null,null,null,null,null,null,null,null,null,"24","78","01",1,2400000,78000,10,1,2478011,"Zabrze",1659.97]
[1407022,"  Głowaczów..........................................................................................................................................................................................................................................................",18584,"",186,7230,"",39,416,1257,null,null,null,null,null,null,null,null,null,null,null,null,null,null,null,null,null,null,null,null,null,"26","01","05",2,2600000,1000,50,2,2601052,"SOLEC-ZDRÓJ",1009.3]
[1407062,"  Magnuszew..........................................................................................................................................................................................................................................................",14106,"",141,6764,"",48,770,1343,null,null,null,null,null,null,null,null,null,null,null,null,null,null,null,null,null,null,null,null,null,"26","01","08",3,2600000,1000,80,3,2601083,"WIŚLICA",876.47]
[1407055,"",23358,"",234,12328,"",53,"x","x",null,null,null,null,null,null,null,null,null,null,null,null,null,null,null,null,null,null,null,null,null,"26","02","05",2,2600000,2000,50,2,2602052,"OKSA",662.41]
["","Powiat legionowski  (5 gmin)",null,null,null,null,null,null,null,null,null,null,null,null,null,null,null,null,null,null,null,null,null,null,null,null,null,null,null,null,null,"26","02","06",3,2600000,2000,60,3,2602063,"SĘDZISZÓW",1457.84]
[1408022,"  Jabłonna..........................................................................................................................................................................................................................................................",6480,"",65,19253,"",297,1904,365,null,null,null,null,null,null,null,null,null,null,null,null,null,null,null,null,null,null,null,null,null,"26","03","01",2,2600000,3000,10,2,2603012,"BEJSCE",726.98]
[1408044,"",1343,"",13,4416,"",329,"x","x",null,null,null,null,null,null,null,null,null,null,null,null,null,null,null,null,null,null,null,null,null,"26","04","01",2,2600000,4000,10,2,2604012,"BIELINY",823.42]
[1409012,"  Chotcza..........................................................................................................................................................................................................................................................",8982,"",90,2351,"",26,1535,2262,null,null,null,null,null,null,null,null,null,null,null,null,null,null,null,null,null,null,null,null,null,"26","04","05",3,2600000,4000,50,3,2604053,"DALESZYCE",1827.4]
[1409022,"  Ciepielów..........................................................................................................................................................................................................................................................",13477,"",135,5571,"",41,842,1586,null,null,null,null,null,null,null,null,null,null,null,null,null,null,null,null,null,null,null,null,null,"26","04","06",2,2600000,4000,60,2,2604062,"GÓRNO",1002.36]
[1409034,"",1570,"",16,5544,"",353,"x","x",null,null,null,null,null,null,null,null,null,null,null,null,null,null,null,null,null,null,null,null,null,"26","04","12",3,2600000,4000,120,3,2604123,"MORAWICA",2016.4]
["","",null,null,null,null,null,null,null,null,null,null,null,null,null,null,null,null,null,null,null,null,null,null,null,null,null,null,null,null,null,"26","04","15",3,2600000,4000,150,3,2604153,"PIERZCHNICA",934.67]
[1410062,"  Stara Kornica..........................................................................................................................................................................................................................................................",11884,"",119,4798,"",40,1071,1777,null,null,null,null,null,null,null,null,null,null,null,null,null,null,null,null,null,null,null,null,null,"26","05","01",2,2600000,5000,10,2,2605012,"FAŁKÓW",845.75]
["","",null,null,null,null,null,null,null,null,null,null,null,null,null,null,null,null,null,null,null,null,null,null,null,null,null,null,null,null,null,"26","05","02",2,2600000,5000,20,2,2605022,"GOWARCZÓW",836.81]
["","Powiat makowski  (10 gmin)",null,null,null,null,null,null,null,null,null,null,null,null,null,null,null,null,null,null,null,null,null,null,null,null,null,null,null,null,null,"26","05","06",2,2600000,5000,60,2,2605062,"SŁUPIA KONECKA",837.46]
[1411032,"  Karniewo..........................................................................................................................................................................................................................................................",12906,"",129,5207,"",40,925,1673,null,null,null,null,null,null,null,null,null,null,null,null,null,null,null,null,null,null,null,null,null,"26","06","03",2,2600000,6000,30,2,2606032,"LIPNIK",951.67]
[1411082,"  Rzewnie..........................................................................................................................................................................................................................................................",11175,"",112,2636,"",24,1183,2232,null,null,null,null,null,null,null,null,null,null,null,null,null,null,null,null,null,null,null,null,null,"26","06","07",2,2600000,6000,70,2,2606072,"TARŁÓW",793.52]
[1411092,"  Sypniewo..........................................................................................................................................................................................................................................................",12845,"",128,3314,"",26,937,2136,null,null,null,null,null,null,null,null,null,null,null,null,null,null,null,null,null,null,null,null,null,"26","06","08",2,2600000,6000,80,2,2606082,"WOJCIECHOWICE",1183.56]
["","Powiat miński  (13 gmin)",null,null,null,null,null,null,null,null,null,null,null,null,null,null,null,null,null,null,null,null,null,null,null,null,null,null,null,null,null,"26","07","06",2,2600000,7000,60,2,2607062,"WAŚNIÓW",768.53]
[1412151,"  Sulejówek..........................................................................................................................................................................................................................................................",1931,"",19,19714,"",1021,2244,352,null,null,null,null,null,null,null,null,null,null,null,null,null,null,null,null,null,null,null,null,null,"26","08","03",2,{"$f":"AF1992*100000","v":2600000},{"$f":"AG1992*1000","v":8000},{"$f":"AH1992*10","v":30},{"$f":"AI1992*1","v":2},{"$f":"SUM(AJ1992:AM1992)","v":2608032},"MICHAŁÓW",942.72]
[1412082,"  Jakubów..........................................................................................................................................................................................................................................................",8698,"",87,5093,"",59,1577,1707,null,null,null,null,null,null,null,null,null,null,null,null,null,null,null,null,null,null,null,null,null,"26","09","03",2,2600000,9000,30,2,2609032,"KLIMONTÓW",781.11]
[1412112,"  Mińsk Mazowiecki..........................................................................................................................................................................................................................................................",11231,"",112,15325,"",136,1169,505,null,null,null,null,null,null,null,null,null,null,null,null,null,null,null,null,null,null,null,null,null,"26","09","05",2,2600000,9000,50,2,2609052,"ŁONIÓW",1028.78]
["","",null,null,null,null,null,null,null,null,null,null,null,null,null,null,null,null,null,null,null,null,null,null,null,null,null,null,null,null,null,"26","09","08",2,2600000,9000,80,2,2609082,"WILCZYCE",952.2]
[1412094,"",1230,"",12,2890,"",235,"x","x",null,null,null,null,null,null,null,null,null,null,null,null,null,null,null,null,null,null,null,null,null,"26","10","04",2,2600000,10000,40,2,2610042,"SKARŻYSKO-KOŚCIELNE",1105.24]
[1412125,"",13719,"",137,5127,"",37,"x","x",null,null,null,null,null,null,null,null,null,null,null,null,null,null,null,null,null,null,null,null,null,"26","11","03",2,2600000,11000,30,2,2611032,"MIRZEC",938.58]
["","Powiat mławski  (10 gmin)",null,null,null,null,null,null,null,null,null,null,null,null,null,null,null,null,null,null,null,null,null,null,null,null,null,null,null,null,null,"26","11","04",2,2600000,11000,40,2,2611042,"PAWŁÓW",524.71]
[1413042,"  Radzanów..........................................................................................................................................................................................................................................................",9886,"",99,3332,"",34,1409,2132,null,null,null,null,null,null,null,null,null,null,null,null,null,null,null,null,null,null,null,null,null,"26","12","05",3,2600000,12000,50,3,2612053,"POŁANIEC",3592.44]
[1413072,"  Szreńsk..........................................................................................................................................................................................................................................................",10939,"",109,4196,"",38,1234,1928,null,null,null,null,null,null,null,null,null,null,null,null,null,null,null,null,null,null,null,null,null,"26","12","08",3,2600000,12000,80,3,2612083,"SZYDŁÓW",951.07]
["","",null,null,null,null,null,null,null,null,null,null,null,null,null,null,null,null,null,null,null,null,null,null,null,null,null,null,null,null,null,"26","13","05",2,2600000,13000,50,2,2613052,"SECEMIN",1126.04]
["","",null,null,null,null,null,null,null,null,null,null,null,null,null,null,null,null,null,null,null,null,null,null,null,null,null,null,null,null,null,"26","61","01",1,2600000,61000,10,1,2661011,"Kielce",1981.92]
[1414052,"  Pomiechówek..........................................................................................................................................................................................................................................................",10268,"",103,9092,"",89,1343,969,null,null,null,null,null,null,null,null,null,null,null,null,null,null,null,null,null,null,null,null,null,"28","01","03",2,2800000,1000,30,2,2801032,"BARTOSZYCE",1289.48]
[1414063,"  Zakroczym..........................................................................................................................................................................................................................................................",7170,"",72,6082,"",85,1825,1470,null,null,null,null,null,null,null,null,null,null,null,null,null,null,null,null,null,null,null,null,null,"28","02","02",2,2800000,2000,20,2,2802022,"BRANIEWO",1440.74]
["","",null,null,null,null,null,null,null,null,null,null,null,null,null,null,null,null,null,null,null,null,null,null,null,null,null,null,null,null,null,"28","02","06",2,2800000,2000,60,2,2802062,"PŁOSKINIA",2443.1]
[1415012,"  Baranowo..........................................................................................................................................................................................................................................................",19757,"",197,6507,"",33,360,1389,null,null,null,null,null,null,null,null,null,null,null,null,null,null,null,null,null,null,null,null,null,"28","02","07",2,2800000,2000,70,2,2802072,"WILCZĘTA",1393.64]
[1415052,"  Kadzidło..........................................................................................................................................................................................................................................................",25888,"",259,11420,"",44,159,747,null,null,null,null,null,null,null,null,null,null,null,null,null,null,null,null,null,null,null,null,null,"28","03","04",3,2800000,3000,40,3,2803043,"LIDZBARK",1196.72]
[1415112,"  Troszyn..........................................................................................................................................................................................................................................................",15630,"",156,4796,"",31,623,1778,null,null,null,null,null,null,null,null,null,null,null,null,null,null,null,null,null,null,null,null,null,"28","04","03",2,2800000,4000,30,2,2804032,"GRONOWO ELBLĄSKIE",1162.32]
["","Powiat ostrowski  (11 gmin)",null,null,null,null,null,null,null,null,null,null,null,null,null,null,null,null,null,null,null,null,null,null,null,null,null,null,null,null,null,"28","04","08",2,2800000,4000,80,2,2804082,"RYCHLIKI",1022.68]
[1416011,"  Ostrów Mazowiecka..........................................................................................................................................................................................................................................................",2227,"",22,22545,"",1012,2214,290,null,null,null,null,null,null,null,null,null,null,null,null,null,null,null,null,null,null,null,null,null,"28","05","01",1,2800000,5000,10,1,2805011,"EŁK",1316.83]
[1416032,"  Boguty-Pianki..........................................................................................................................................................................................................................................................",8909,"",89,2602,"",29,1541,2239,null,null,null,null,null,null,null,null,null,null,null,null,null,null,null,null,null,null,null,null,null,"28","05","04",2,2800000,5000,40,2,2805042,"PROSTKI",1217.0999999999999]
[1416092,"  Szulborze Wielkie..........................................................................................................................................................................................................................................................",4672,"",47,1677,"↓",36,2047,2288,null,null,null,null,null,null,null,null,null,null,null,null,null,null,null,null,null,null,null,null,null,"28","06","06",2,2800000,6000,60,2,2806062,"MIŁKI",1269.78]
[1416043,"  Brok..........................................................................................................................................................................................................................................................",10991,"",110,2842,"",26,1228,2210,null,null,null,null,null,null,null,null,null,null,null,null,null,null,null,null,null,null,null,null,null,"28","07","02",1,2800000,7000,20,1,2807021,"LUBAWA",2073.94]
[1416044,"",2806,"",28,1940,"",69,"x","x",null,null,null,null,null,null,null,null,null,null,null,null,null,null,null,null,null,null,null,null,null,"28","07","03",2,2800000,7000,30,2,2807032,"IŁAWA",1597.61]
[1417011,"  Józefów..........................................................................................................................................................................................................................................................",2391,"",24,20605,"",862,2204,332,null,null,null,null,null,null,null,null,null,null,null,null,null,null,null,null,null,null,null,null,null,"28","07","07",3,2800000,7000,70,3,2807073,"ZALEWO",1480.92]
[1417062,"  Osieck..........................................................................................................................................................................................................................................................",6798,"",68,3603,"",53,1871,2077,null,null,null,null,null,null,null,null,null,null,null,null,null,null,null,null,null,null,null,null,null,"28","08","05",3,2800000,8000,50,3,2808053,"RESZEL",1308.57]
[1417044,"",2812,"",28,9891,"",352,"x","x",null,null,null,null,null,null,null,null,null,null,null,null,null,null,null,null,null,null,null,null,null,"28","09","04",2,2800000,9000,40,2,2809042,"LUBOMINO",1047.3499999999999]
["","Powiat piaseczyński  (6 gmin)",null,null,null,null,null,null,null,null,null,null,null,null,null,null,null,null,null,null,null,null,null,null,null,null,null,null,null,null,null,"28","10","01",1,2800000,10000,10,1,2810011,"MRĄGOWO",1713]
[1418052,"  Prażmów..........................................................................................................................................................................................................................................................",8647,"",87,10996,"",127,1584,778,null,null,null,null,null,null,null,null,null,null,null,null,null,null,null,null,null,null,null,null,null,"28","10","04",2,2800000,10000,40,2,2810042,"PIECKI",1378]
[1418023,"  Konstancin-Jeziorna..........................................................................................................................................................................................................................................................",7858,"",79,24721,"",315,1721,249,null,null,null,null,null,null,null,null,null,null,null,null,null,null,null,null,null,null,null,null,null,"28","11","04",3,2800000,11000,40,3,2811043,"NIDZICA",1434.27]
[1418044,"",1622,"",16,48119,"",2967,"x","x",null,null,null,null,null,null,null,null,null,null,null,null,null,null,null,null,null,null,null,null,null,"28","12","04",2,2800000,12000,40,2,2812042,"KURZĘTNIK",1167.73]
[1418045,"",11204,"",112,35673,"",318,"x","x",null,null,null,null,null,null,null,null,null,null,null,null,null,null,null,null,null,null,null,null,null,"28","12","05",2,2800000,12000,50,2,2812052,"NOWE MIASTO LUBAWSKIE",1042.6099999999999]
["","Powiat płocki  (15 gmin)",null,null,null,null,null,null,null,null,null,null,null,null,null,null,null,null,null,null,null,null,null,null,null,null,null,null,null,null,null,"28","13","06",2,2800000,13000,60,2,2813062,"WIELICZKI",1218.3699999999999]
[1419042,"  Bulkowo..........................................................................................................................................................................................................................................................",11693,"",117,5584,"",48,1098,1580,null,null,null,null,null,null,null,null,null,null,null,null,null,null,null,null,null,null,null,null,null,"28","14","05",2,2800000,14000,50,2,2814052,"GIETRZWAŁD",2027.68]
[1419112,"  Słubice..........................................................................................................................................................................................................................................................",9582,"",96,4455,"",46,1453,1859,null,null,null,null,null,null,null,null,null,null,null,null,null,null,null,null,null,null,null,null,null,"28","14","10",2,2800000,14000,100,2,2814102,"PURDA",1556.74]
[1419132,"  Stara Biała..........................................................................................................................................................................................................................................................",11112,"",111,11891,"",107,1197,704,null,null,null,null,null,null,null,null,null,null,null,null,null,null,null,null,null,null,null,null,null,"28","14","12",2,2800000,14000,120,2,2814122,"ŚWIĄTKI",1216.07]
[1419053,"  Drobin..........................................................................................................................................................................................................................................................",14350,"",144,7957,"",55,747,1135,null,null,null,null,null,null,null,null,null,null,null,null,null,null,null,null,null,null,null,null,null,"28","15","03",2,2800000,15000,30,2,2815032,"GRUNWALD",980.6]
[1419065,"",11826,"",118,6907,"",58,"x","x",null,null,null,null,null,null,null,null,null,null,null,null,null,null,null,null,null,null,null,null,null,"28","15","08",3,2800000,15000,80,3,2815083,"MORĄG",1600.5]
["","Powiat płoński  (12 gmin)",null,null,null,null,null,null,null,null,null,null,null,null,null,null,null,null,null,null,null,null,null,null,null,null,null,null,null,null,null,"28","16","03",3,2800000,16000,30,3,2816033,"PISZ",1369.6]
["","",null,null,null,null,null,null,null,null,null,null,null,null,null,null,null,null,null,null,null,null,null,null,null,null,null,null,null,null,null,"28","16","04",3,2800000,16000,40,3,2816043,"RUCIANE-NIDA",1586.88]
[1420032,"  Baboszewo..........................................................................................................................................................................................................................................................",16223,"",162,7959,"",49,577,1134,null,null,null,null,null,null,null,null,null,null,null,null,null,null,null,null,null,null,null,null,null,"28","17","04",3,2800000,17000,40,3,2817043,"PASYM",1524.33]
[1420082,"  Nowe Miasto..........................................................................................................................................................................................................................................................",11785,"",118,4701,"",40,1083,1798,null,null,null,null,null,null,null,null,null,null,null,null,null,null,null,null,null,null,null,null,null,"28","18","01",2,2800000,18000,10,2,2818012,"BANIE MAZURSKIE",962.05]
["","Powiat pruszkowski  (6 gmin)",null,null,null,null,null,null,null,null,null,null,null,null,null,null,null,null,null,null,null,null,null,null,null,null,null,null,null,null,null,"28","19","03",3,2800000,19000,30,3,2819033,"WĘGORZEWO",1411.33]
[1421011,"  Piastów..........................................................................................................................................................................................................................................................",576,"↓",6,22657,"",3934,2335,287,null,null,null,null,null,null,null,null,null,null,null,null,null,null,null,null,null,null,null,null,null,"28","62","01",1,2800000,62000,10,1,2862011,"Olsztyn",2155.08]
[1421042,"  Michałowice..........................................................................................................................................................................................................................................................",3473,"",35,18057,"",520,2130,398,null,null,null,null,null,null,null,null,null,null,null,null,null,null,null,null,null,null,null,null,null,"30","01","03",2,3000000,1000,30,2,3001032,"CHODZIEŻ",2113.4699999999998]
[1421034,"",1010,"",10,13531,"",1340,"x","x",null,null,null,null,null,null,null,null,null,null,null,null,null,null,null,null,null,null,null,null,null,"30","02","03",2,3000000,2000,30,2,3002032,"DRAWSKO",1196.75]
[1422011,"  Przasnysz..........................................................................................................................................................................................................................................................",2516,"",25,17309,"",688,2197,425,null,null,null,null,null,null,null,null,null,null,null,null,null,null,null,null,null,null,null,null,null,"30","02","07",3,3000000,2000,70,3,3002073,"TRZCIANKA",1602.09]
["","",null,null,null,null,null,null,null,null,null,null,null,null,null,null,null,null,null,null,null,null,null,null,null,null,null,null,null,null,null,"30","02","08",3,3000000,2000,80,3,3002083,"WIELEŃ",1437.27]
[1422062,"  Krzynowłoga Mała..........................................................................................................................................................................................................................................................",18487,"",185,3459,"",19,423,2105,null,null,null,null,null,null,null,null,null,null,null,null,null,null,null,null,null,null,null,null,null,"30","03","04",2,3000000,3000,40,2,3003042,"KISZKOWO",1738.47]
[1422025,"",35318,"",353,7109,"",20,"x","x",null,null,null,null,null,null,null,null,null,null,null,null,null,null,null,null,null,null,null,null,null,"30","03","09",3,3000000,3000,90,3,3003093,"TRZEMESZNO",1740.14]
[1423032,"  Klwów..........................................................................................................................................................................................................................................................",8675,"",87,3426,"",39,1581,2108,null,null,null,null,null,null,null,null,null,null,null,null,null,null,null,null,null,null,null,null,null,"30","04","04",2,3000000,4000,40,2,3004042,"PĘPOWO",1688.7]
[1423052,"  Potworów..........................................................................................................................................................................................................................................................",8170,"",82,4233,"",52,1677,1921,null,null,null,null,null,null,null,null,null,null,null,null,null,null,null,null,null,null,null,null,null,"30","04","06",3,3000000,4000,60,3,3004063,"POGORZELA",1353.07]
["","",null,null,null,null,null,null,null,null,null,null,null,null,null,null,null,null,null,null,null,null,null,null,null,null,null,null,null,null,null,"30","05","02",3,3000000,5000,20,3,3005023,"GRODZISK WIELKOPOLSKI",1907.8]
["","",null,null,null,null,null,null,null,null,null,null,null,null,null,null,null,null,null,null,null,null,null,null,null,null,null,null,null,null,null,"30","06","02",3,3000000,6000,20,3,3006023,"JAROCIN",1771.67]
[1424052,"  Świercze..........................................................................................................................................................................................................................................................",9337,"",93,4611,"",49,1496,1821,null,null,null,null,null,null,null,null,null,null,null,null,null,null,null,null,null,null,null,null,null,"30","07","02",2,3000000,7000,20,2,3007022,"BRZEZINY",977.71]
[1424062,"  Winnica..........................................................................................................................................................................................................................................................",11504,"",115,4091,"",36,1125,1952,null,null,null,null,null,null,null,null,null,null,null,null,null,null,null,null,null,null,null,null,null,"30","07","03",2,3000000,7000,30,2,3007032,"CEKÓW-KOLONIA",1515.45]
[1424044,"",2307,"",23,19431,"",842,"x","x",null,null,null,null,null,null,null,null,null,null,null,null,null,null,null,null,null,null,null,null,null,"30","07","07",2,3000000,7000,70,2,3007072,"MYCIELIN",915.45]
["","",null,null,null,null,null,null,null,null,null,null,null,null,null,null,null,null,null,null,null,null,null,null,null,null,null,null,null,null,null,"30","08","01",2,3000000,8000,10,2,3008012,"BARANÓW",3791.33]
[1425072,"  Kowala..........................................................................................................................................................................................................................................................",7468,"",75,12180,"",163,1784,683,null,null,null,null,null,null,null,null,null,null,null,null,null,null,null,null,null,null,null,null,null,"30","08","06",2,3000000,8000,60,2,3008062,"RYCHTAL",941.23]
[1425092,"  Przytyk..........................................................................................................................................................................................................................................................",13437,"",134,7285,"",54,846,1247,null,null,null,null,null,null,null,null,null,null,null,null,null,null,null,null,null,null,null,null,null,"30","09","01",1,3000000,9000,10,1,3009011,"KOŁO",2121.4]
[1425132,"  Zakrzew..........................................................................................................................................................................................................................................................",9630,"",96,13003,"",135,1443,629,null,null,null,null,null,null,null,null,null,null,null,null,null,null,null,null,null,null,null,null,null,"30","09","04",3,3000000,9000,40,3,3009043,"DĄBIE",1022.21]
[1425103,"  Skaryszew..........................................................................................................................................................................................................................................................",17127,"",171,14724,"",86,507,529,null,null,null,null,null,null,null,null,null,null,null,null,null,null,null,null,null,null,null,null,null,"30","09","09",2,3000000,9000,90,2,3009092,"OLSZÓWKA",872.31]
["","",null,null,null,null,null,null,null,null,null,null,null,null,null,null,null,null,null,null,null,null,null,null,null,null,null,null,null,null,null,"30","10","02",2,3000000,10000,20,2,3010022,"GRODZIEC",766.33]
[1426012,"  Domanice..........................................................................................................................................................................................................................................................",4697,"",47,2624,"",56,2045,2236,null,null,null,null,null,null,null,null,null,null,null,null,null,null,null,null,null,null,null,null,null,"30","10","03",2,3000000,10000,30,2,3010032,"KAZIMIERZ BISKUPI",2077.21]
[1426062,"  Paprotnia..........................................................................................................................................................................................................................................................",8143,"",81,2556,"",31,1683,2243,null,null,null,null,null,null,null,null,null,null,null,null,null,null,null,null,null,null,null,null,null,"30","10","07",3,3000000,10000,70,3,3010073,"RYCHWAŁ",975.87]
[1426112,"  Wiśniew..........................................................................................................................................................................................................................................................",12600,"",126,5747,"",46,969,1547,null,null,null,null,null,null,null,null,null,null,null,null,null,null,null,null,null,null,null,null,null,"30","10","12",3,3000000,10000,120,3,3010123,"ŚLESIN",1822.19]
[1426054,"",454,"",5,1793,"",395,"x","x",null,null,null,null,null,null,null,null,null,null,null,null,null,null,null,null,null,null,null,null,null,"30","11","03",2,3000000,11000,30,2,3011032,"KOŚCIAN",2190.08]
["","Powiat sierpecki  (7 gmin)",null,null,null,null,null,null,null,null,null,null,null,null,null,null,null,null,null,null,null,null,null,null,null,null,null,null,null,null,null,"30","11","05",3,3000000,11000,50,3,3011053,"ŚMIGIEL",1835.94]
["","",null,null,null,null,null,null,null,null,null,null,null,null,null,null,null,null,null,null,null,null,null,null,null,null,null,null,null,null,null,"30","12","03",3,3000000,12000,30,3,3012033,"KOŹMIN WIELKOPOLSKI",1610.11]
[1427062,"  Szczutowo..........................................................................................................................................................................................................................................................",11268,"",113,4347,"",39,1164,1890,null,null,null,null,null,null,null,null,null,null,null,null,null,null,null,null,null,null,null,null,null,"30","13","02",2,3000000,13000,20,2,3013022,"LIPNO",1798.18]
[1428011,"  Sochaczew..........................................................................................................................................................................................................................................................",2619,"",26,36462,"",1392,2189,144,null,null,null,null,null,null,null,null,null,null,null,null,null,null,null,null,null,null,null,null,null,"30","13","06",2,3000000,13000,60,2,3013062,"WIJEWO",1152.18]
["","",null,null,null,null,null,null,null,null,null,null,null,null,null,null,null,null,null,null,null,null,null,null,null,null,null,null,null,null,null,"30","13","07",2,3000000,13000,70,2,3013072,"WŁOSZAKOWICE",1910.41]
[1428052,"  Nowa Sucha..........................................................................................................................................................................................................................................................",9015,"",90,6647,"",74,1530,1366,null,null,null,null,null,null,null,null,null,null,null,null,null,null,null,null,null,null,null,null,null,"30","14","04",3,{"$f":"AF2248*100000","v":3000000},{"$f":"AG2248*1000","v":14000},{"$f":"AH2248*10","v":40},{"$f":"AI2248*1","v":3},{"$f":"SUM(AJ2248:AM2248)","v":3014043},"SIERAKÓW",1974.18]
["","",null,null,null,null,null,null,null,null,null,null,null,null,null,null,null,null,null,null,null,null,null,null,null,null,null,null,null,null,null,"30","15","05",3,3000000,15000,50,3,3015053,"OPALENICA",1912.85]
[1429042,"  Jabłonna Lacka..........................................................................................................................................................................................................................................................",14927,"",149,4496,"",30,681,1852,null,null,null,null,null,null,null,null,null,null,null,null,null,null,null,null,null,null,null,null,null,"30","17","01",1,3000000,17000,10,1,3017011,"OSTRÓW WIELKOPOLSKI",1973.7]
[1429072,"  Sabnie..........................................................................................................................................................................................................................................................",10798,"",108,3697,"",34,1257,2054,null,null,null,null,null,null,null,null,null,null,null,null,null,null,null,null,null,null,null,null,null,"30","17","03",3,3000000,17000,30,3,3017033,"ODOLANÓW",1855.84]
["","",null,null,null,null,null,null,null,null,null,null,null,null,null,null,null,null,null,null,null,null,null,null,null,null,null,null,null,null,null,"30","17","06",3,3000000,17000,60,3,3017063,"RASZKÓW",1385.04]
["","",null,null,null,null,null,null,null,null,null,null,null,null,null,null,null,null,null,null,null,null,null,null,null,null,null,null,null,null,null,"30","18","03",3,3000000,18000,30,3,3018033,"GRABÓW NAD PROSNĄ",1218.75]
[1430042,"  Orońsko..........................................................................................................................................................................................................................................................",8195,"",82,5963,"",73,1673,1505,null,null,null,null,null,null,null,null,null,null,null,null,null,null,null,null,null,null,null,null,null,"30","18","07",3,3000000,18000,70,3,3018073,"OSTRZESZÓW",1821.28]
["","",null,null,null,null,null,null,null,null,null,null,null,null,null,null,null,null,null,null,null,null,null,null,null,null,null,null,null,null,null,"30","19","01",1,3000000,19000,10,1,3019011,"PIŁA",2034.29]
["","Powiat warszawski zachodni  (7 gmin)",null,null,null,null,null,null,null,null,null,null,null,null,null,null,null,null,null,null,null,null,null,null,null,null,null,null,null,null,null,"30","19","05",2,3000000,19000,50,2,3019052,"MIASTECZKO KRAJEŃSKIE",1140.43]
[1432072,"  Stare Babice..........................................................................................................................................................................................................................................................",6342,"",63,18875,"",298,1920,376,null,null,null,null,null,null,null,null,null,null,null,null,null,null,null,null,null,null,null,null,null,"30","20","01",3,3000000,20000,10,3,3020013,"CHOCZ",845.18]
[1432053,"  Łomianki..........................................................................................................................................................................................................................................................",3883,"",39,26723,"",688,2102,223,null,null,null,null,null,null,null,null,null,null,null,null,null,null,null,null,null,null,null,null,null,"30","20","06",3,3000000,20000,60,3,3020063,"PLESZEW",1567.26]
[1432055,"",3043,"",31,9746,"",320,"x","x",null,null,null,null,null,null,null,null,null,null,null,null,null,null,null,null,null,null,null,null,null,"30","21","02",1,3000000,21000,20,1,3021021,"PUSZCZYKOWO",3344.54]
[1432065,"",6314,"",63,13100,"",207,"x","x",null,null,null,null,null,null,null,null,null,null,null,null,null,null,null,null,null,null,null,null,null,"30","21","05",2,3000000,21000,50,2,3021052,"DOPIEWO",2773.66]
[1433022,"  Grębków..........................................................................................................................................................................................................................................................",13076,"",131,4467,"",34,899,1856,null,null,null,null,null,null,null,null,null,null,null,null,null,null,null,null,null,null,null,null,null,"30","21","10",3,3000000,21000,100,3,3021103,"MOSINA",2094.73]
[1433072,"  Sadowne..........................................................................................................................................................................................................................................................",14473,"",145,5877,"",41,735,1526,null,null,null,null,null,null,null,null,null,null,null,null,null,null,null,null,null,null,null,null,null,"30","21","14",3,3000000,21000,140,3,3021143,"STĘSZEW",2468.6999999999998]
[1433082,"  Stoczek..........................................................................................................................................................................................................................................................",14454,"",145,4974,"",34,737,1729,null,null,null,null,null,null,null,null,null,null,null,null,null,null,null,null,null,null,null,null,null,"30","21","15",2,3000000,21000,150,2,3021152,"SUCHY LAS",6304.61]
[1433054,"",1339,"",13,6821,"",509,"x","x",null,null,null,null,null,null,null,null,null,null,null,null,null,null,null,null,null,null,null,null,null,"30","22","02",3,3000000,22000,20,3,3022023,"JUTROSIN",1317.01]
[1434021,"  Marki..........................................................................................................................................................................................................................................................",2615,"",26,33914,"",1297,2190,160,null,null,null,null,null,null,null,null,null,null,null,null,null,null,null,null,null,null,null,null,null,"30","23","02",2,3000000,23000,20,2,3023022,"LĄDEK",1122.97]
[1434062,"  Jadów..........................................................................................................................................................................................................................................................",11658,"",117,7557,"",65,1104,1194,null,null,null,null,null,null,null,null,null,null,null,null,null,null,null,null,null,null,null,null,null,"30","23","07",2,3000000,23000,70,2,3023072,"STRZAŁKOWO",1652.95]
[1434082,"  Poświętne..........................................................................................................................................................................................................................................................",10395,"",104,6223,"",60,1318,1441,null,null,null,null,null,null,null,null,null,null,null,null,null,null,null,null,null,null,null,null,null,"30","24","01",1,3000000,24000,10,1,3024011,"OBRZYCKO",1330.52]
[1434093,"  Radzymin..........................................................................................................................................................................................................................................................",12946,"",129,26997,"",209,917,217,null,null,null,null,null,null,null,null,null,null,null,null,null,null,null,null,null,null,null,null,null,"30","24","04",2,3000000,24000,40,2,3024042,"OBRZYCKO",1411.56]
[1434115,"",9510,"",95,11869,"",125,"x","x",null,null,null,null,null,null,null,null,null,null,null,null,null,null,null,null,null,null,null,null,null,"30","25","01",2,3000000,25000,10,2,3025012,"DOMINOWO",1652.71]
["","Powiat wyszkowski  (6 gmin)",null,null,null,null,null,null,null,null,null,null,null,null,null,null,null,null,null,null,null,null,null,null,null,null,null,null,null,null,null,"30","25","05",2,3000000,25000,50,2,3025052,"ZANIEMYŚL",1808.9]
["","",null,null,null,null,null,null,null,null,null,null,null,null,null,null,null,null,null,null,null,null,null,null,null,null,null,null,null,null,null,"30","26","01",2,3000000,26000,10,2,3026012,"BRODNICA",1288.1099999999999]
[1435042,"  Somianka..........................................................................................................................................................................................................................................................",11769,"",118,5604,"",48,1086,1574,null,null,null,null,null,null,null,null,null,null,null,null,null,null,null,null,null,null,null,null,null,"30","27","01",1,3000000,27000,10,1,3027011,"TUREK",1991.49]
[1435055,"",14440,"",144,12518,"",87,"x","x",null,null,null,null,null,null,null,null,null,null,null,null,null,null,null,null,null,null,null,null,null,"30","27","06",2,3000000,27000,60,2,3027062,"PRZYKONA",3770.31]
[1436032,"  Przyłęk..........................................................................................................................................................................................................................................................",13157,"",131,6182,"",47,889,1451,null,null,null,null,null,null,null,null,null,null,null,null,null,null,null,null,null,null,null,null,null,"30","28","02",2,3000000,28000,20,2,3028022,"DAMASŁAWEK",1194.6300000000001]
["","",null,null,null,null,null,null,null,null,null,null,null,null,null,null,null,null,null,null,null,null,null,null,null,null,null,null,null,null,null,"30","28","04",2,3000000,28000,40,2,3028042,"MIEŚCISKO",1568.84]
[1436055,"",14623,"",146,7402,"",51,"x","x",null,null,null,null,null,null,null,null,null,null,null,null,null,null,null,null,null,null,null,null,null,"30","28","07",2,3000000,28000,70,2,3028072,"WĄGROWIEC",1239.82]
[1437052,"  Siemiątkowo..........................................................................................................................................................................................................................................................",11340,"",113,3504,"",31,1153,2092,null,null,null,null,null,null,null,null,null,null,null,null,null,null,null,null,null,null,null,null,null,"30","30","02",3,3000000,30000,20,3,3030023,"MIŁOSŁAW",1399.05]
[1437015,"",10939,"",109,3165,"",29,"x","x",null,null,null,null,null,null,null,null,null,null,null,null,null,null,null,null,null,null,null,null,null,"30","31","01",1,3000000,31000,10,1,3031011,"ZŁOTÓW",1680.48]
[1437033,"  Lubowidz..........................................................................................................................................................................................................................................................",19078,"",192,6894,"",36,388,1318,null,null,null,null,null,null,null,null,null,null,null,null,null,null,null,null,null,null,null,null,null,"30","31","02",3,3000000,31000,20,3,3031023,"JASTROWIE",1469.87]
[1437065,"",12174,"",122,5557,"",46,"x","x",null,null,null,null,null,null,null,null,null,null,null,null,null,null,null,null,null,null,null,null,null,"30","31","07",2,3000000,31000,70,2,3031072,"ZAKRZEWO",1266.46]
["","",null,null,null,null,null,null,null,null,null,null,null,null,null,null,null,null,null,null,null,null,null,null,null,null,null,null,null,null,null,"30","63","01",1,3000000,63000,10,1,3063011,"Leszno",2071.59]
[1438023,"  Mszczonów..........................................................................................................................................................................................................................................................",15185,"",152,11554,"",76,655,736,null,null,null,null,null,null,null,null,null,null,null,null,null,null,null,null,null,null,null,null,null,"32","01","04",3,3200000,1000,40,3,3201043,"TYCHOWO",1741.79]
[1438025,"",14329,"",143,5168,"",36,"x","x",null,null,null,null,null,null,null,null,null,null,null,null,null,null,null,null,null,null,null,null,null,"32","02","02",3,{"$f":"AF2376*100000","v":3200000},{"$f":"AG2376*1000","v":2000},{"$f":"AH2376*10","v":20},{"$f":"AI2376*1","v":3},{"$f":"SUM(AJ2376:AM2376)","v":3202023},"CHOSZCZNO",1341.65]
[1462011,"  Płock..........................................................................................................................................................................................................................................................",8804,"",88,120000,"",1363,1560,32,null,null,null,null,null,null,null,null,null,null,null,null,null,null,null,null,null,null,null,null,null,"32","02","05",3,3200000,2000,50,3,3202053,"PEŁCZYCE",1291.93]
[1465028,"  Bemowo..........................................................................................................................................................................................................................................................",2495,"",25,123932,"",4967,"x","x",null,null,null,null,null,null,null,null,null,null,null,null,null,null,null,null,null,null,null,null,null,"32","03","05",2,3200000,3000,50,2,3203052,"WIERZCHOWO",1522.27]
[1465068,"  Ochota..........................................................................................................................................................................................................................................................",972,"",10,82774,"",8516,"x","x",null,null,null,null,null,null,null,null,null,null,null,null,null,null,null,null,null,null,null,null,null,"32","04","04",3,3200000,4000,40,3,3204043,"NOWOGARD",1308.54]
[1465078,"  Praga-Południe..........................................................................................................................................................................................................................................................",2238,"",22,179836,"",8036,"x","x",null,null,null,null,null,null,null,null,null,null,null,null,null,null,null,null,null,null,null,null,null,"32","04","05",2,3200000,4000,50,2,3204052,"OSINA",1505.33]
[1465128,"  Ursus..........................................................................................................................................................................................................................................................",936,"",9,60112,"",6422,"x","x",null,null,null,null,null,null,null,null,null,null,null,null,null,null,null,null,null,null,null,null,null,"32","05","03",2,3200000,5000,30,2,3205032,"KARNICE",1881.9]
[1465168,"  Wilanów..........................................................................................................................................................................................................................................................",3673,"",37,40060,"",1091,"x","x",null,null,null,null,null,null,null,null,null,null,null,null,null,null,null,null,null,null,null,null,null,"32","06","01",2,3200000,6000,10,2,3206012,"BANIE",1244.8499999999999]
["","Powiat brzeski  (6 gmin)",null,null,null,null,null,null,null,null,null,null,null,null,null,null,null,null,null,null,null,null,null,null,null,null,null,null,null,null,null,"32","06","06",3,3200000,6000,60,3,3206063,"MORYŃ",1262.1400000000001]
[1601011,"  Brzeg..........................................................................................................................................................................................................................................................",1461,"↓",15,35930,"",2459,2282,149,null,null,null,null,null,null,null,null,null,null,null,null,null,null,null,null,null,null,null,null,null,"32","06","08",3,3200000,6000,80,3,3206083,"TRZCIŃSKO-ZDRÓJ",1112.06]
[1601062,"  Olszanka..........................................................................................................................................................................................................................................................",9276,"",93,4928,"",53,1503,1740,null,null,null,null,null,null,null,null,null,null,null,null,null,null,null,null,null,null,null,null,null,"32","07","02",3,3200000,7000,20,3,3207023,"GOLCZEWO",1434.04]
[1601035,"",27607,"",277,10575,"",38,"x","x",null,null,null,null,null,null,null,null,null,null,null,null,null,null,null,null,null,null,null,null,null,"32","08","01",1,3200000,8000,10,1,3208011,"KOŁOBRZEG",2010.09]
["","Powiat głubczycki  (4 gminy)",null,null,null,null,null,null,null,null,null,null,null,null,null,null,null,null,null,null,null,null,null,null,null,null,null,null,null,null,null,"32","08","05",2,3200000,8000,50,2,3208052,"RYMAŃ",1976.06]
["","",null,null,null,null,null,null,null,null,null,null,null,null,null,null,null,null,null,null,null,null,null,null,null,null,null,null,null,null,null,"32","08","06",2,3200000,8000,60,2,3208062,"SIEMYŚL",1695.11]
[1602015,"",10517,"",105,3091,"",29,"x","x",null,null,null,null,null,null,null,null,null,null,null,null,null,null,null,null,null,null,null,null,null,"32","09","04",2,3200000,9000,40,2,3209042,"MANOWO",2050.1799999999998]
[1602043,"  Kietrz..........................................................................................................................................................................................................................................................",13963,"",140,10953,"",78,790,782,null,null,null,null,null,null,null,null,null,null,null,null,null,null,null,null,null,null,null,null,null,"32","09","08",2,3200000,9000,80,2,3209082,"ŚWIESZYNO",2050.92]
[1603011,"  Kędzierzyn-Koźle..........................................................................................................................................................................................................................................................",12371,"",124,61062,"",494,1002,73,null,null,null,null,null,null,null,null,null,null,null,null,null,null,null,null,null,null,null,null,null,"32","10","05",2,3200000,10000,50,2,3210052,"NOWOGRÓDEK POMORSKI",1268.22]
[1603022,"  Bierawa..........................................................................................................................................................................................................................................................",11856,"",119,7944,"",67,1073,1137,null,null,null,null,null,null,null,null,null,null,null,null,null,null,null,null,null,null,null,null,null,"32","11","02",2,3200000,11000,20,2,3211022,"KOŁBASKOWO",3049.39]
[1603052,"  Polska Cerekiew..........................................................................................................................................................................................................................................................",6012,"",60,4051,"",67,1949,1960,null,null,null,null,null,null,null,null,null,null,null,null,null,null,null,null,null,null,null,null,null,"32","12","01",2,3200000,12000,10,2,3212012,"BIELICE",1309.6500000000001]
["","",null,null,null,null,null,null,null,null,null,null,null,null,null,null,null,null,null,null,null,null,null,null,null,null,null,null,null,null,null,"32","12","06",2,3200000,12000,60,2,3212062,"WARNICE",1144.45]
[1604014,"",579,"",6,3609,"",623,"x","x",null,null,null,null,null,null,null,null,null,null,null,null,null,null,null,null,null,null,null,null,null,"32","13","02",1,3200000,13000,20,1,3213021,"SŁAWNO",1461.4]
[1604024,"",1235,"",12,23661,"",1916,"x","x",null,null,null,null,null,null,null,null,null,null,null,null,null,null,null,null,null,null,null,null,null,"32","13","05",2,3200000,13000,50,2,3213052,"POSTOMINO",3384.35]
["","Powiat krapkowicki  (5 gmin)",null,null,null,null,null,null,null,null,null,null,null,null,null,null,null,null,null,null,null,null,null,null,null,null,null,null,null,null,null,"32","14","04",2,3200000,14000,40,2,3214042,"DOLICE",1146.28]
["","",null,null,null,null,null,null,null,null,null,null,null,null,null,null,null,null,null,null,null,null,null,null,null,null,null,null,null,null,null,"32","14","09",2,3200000,14000,90,2,3214092,"STARA DĄBROWA",1585.87]
[1605024,"",2101,"",21,16381,"",780,"x","x",null,null,null,null,null,null,null,null,null,null,null,null,null,null,null,null,null,null,null,null,null,"32","15","03",3,3200000,15000,30,3,3215033,"BIAŁY BÓR",2474.77]
[1605053,"  Zdzieszowice..........................................................................................................................................................................................................................................................",5744,"",57,15752,"",274,1964,489,null,null,null,null,null,null,null,null,null,null,null,null,null,null,null,null,null,null,null,null,null,"32","15","05",2,3200000,15000,50,2,3215052,"GRZMIĄCA",1783.4]
["","Powiat namysłowski  (5 gmin)",null,null,null,null,null,null,null,null,null,null,null,null,null,null,null,null,null,null,null,null,null,null,null,null,null,null,null,null,null,"32","16","02",2,3200000,16000,20,2,3216022,"BRZEŻNO",1332.94]
[1606052,"  Wilków..........................................................................................................................................................................................................................................................",10074,"",101,4424,"",44,1376,1867,null,null,null,null,null,null,null,null,null,null,null,null,null,null,null,null,null,null,null,null,null,"32","17","01",1,3200000,17000,10,1,3217011,"WAŁCZ",1699.9]
[1606023,"  Namysłów..........................................................................................................................................................................................................................................................",29015,"",290,26071,"",90,114,230,null,null,null,null,null,null,null,null,null,null,null,null,null,null,null,null,null,null,null,null,null,"32","17","03",3,3200000,17000,30,3,3217033,"MIROSŁAWIEC",2243.12]
["","Powiat nyski  (9 gmin)",null,null,null,null,null,null,null,null,null,null,null,null,null,null,null,null,null,null,null,null,null,null,null,null,null,null,null,null,null,"32","18","01",3,3200000,18000,10,3,3218013,"DOBRA",1068.57]
[1607092,"  Skoroszyce..........................................................................................................................................................................................................................................................",10386,"",104,6234,"",60,1321,1438,null,null,null,null,null,null,null,null,null,null,null,null,null,null,null,null,null,null,null,null,null,"32","61","01",1,3200000,61000,10,1,3261011,"Koszalin",2037.89]
[1607015,"",16124,"",162,10189,"",63,"x","x"]
[1607054,"",2751,"",28,44044,"",1601,"x","x"]
[1607063,"  Otmuchów..........................................................................................................................................................................................................................................................",18740,"",187,13620,"",73,407,588]
[1607073,"  Paczków..........................................................................................................................................................................................................................................................",7998,"",80,12649,"",158,1703,651]
[1608052,"  Radłów..........................................................................................................................................................................................................................................................",11687,"",116,4337,"",37,1099,1893]
[1608072,"  Zębowice..........................................................................................................................................................................................................................................................",9565,"",96,3676,"",38,1458,2060]
[1608014,"",1953,"",19,3722,"",191,"x","x"]
[1608033,"  Olesno..........................................................................................................................................................................................................................................................",24090,"",241,17754,"",74,202,411]
[1608044,"",935,"",9,7704,"",824,"x","x"]
[1609022,"  Dąbrowa..........................................................................................................................................................................................................................................................",11411,"",114,8227,"",72,1139,1087]
[1609052,"  Łubniany..........................................................................................................................................................................................................................................................",12605,"",126,9781,"",78,967,894]
[1609092,"  Popielów..........................................................................................................................................................................................................................................................",17549,"",176,8062,"",46,482,1117]
[1609074,"",1311,"",13,6359,"",485,"x","x"]
[1609083,"  Ozimek..........................................................................................................................................................................................................................................................",12567,"",126,19610,"",156,972,353]
[1609103,"  Prószków..........................................................................................................................................................................................................................................................",11826,"",118,9063,"",77,1076,978]
[1609125,"",7202,"",72,1173,"",16,"x","x"]
["",""]
[1610024,"",2206,"",22,5604,"",254,"x","x"]
[1610044,"",2050,"",20,21138,"",1031,"x","x"]
["","Powiat strzelecki  (7 gmin)"]
[1611033,"  Kolonowskie..........................................................................................................................................................................................................................................................",8357,"",84,5919,"",71,1644,1514]
[1611035,"",2787,"",28,2591,"",93,"x","x"]
[1611045,"",8025,"",80,5038,"",63,"x","x"]
[1611064,"",1476,"",15,1774,"",120,"x","x"]
[1611075,"",6568,"",66,4211,"",64,"x","x"]
["",""]
["",""]
[1801084,"",1679,"",17,9132,"",544,"x","x"]
[1802032,"  Dydnia..........................................................................................................................................................................................................................................................",13029,"",130,7937,"",61,906,1140]
[1802052,"  Jasienica Rosielna..........................................................................................................................................................................................................................................................",5706,"",57,7829,"",137,1972,1151]
[1802013,"  Brzozów..........................................................................................................................................................................................................................................................",10307,"",103,26629,"",258,1335,224]
[1803011,"  Dębica..........................................................................................................................................................................................................................................................",3383,"",34,45817,"",1354,2140,107]
[1803052,"  Jodłowa..........................................................................................................................................................................................................................................................",5992,"",60,5397,"",90,1951,1628]
[1803025,"",11357,"",113,10348,"",91,"x","x"]
[1803065,"",14909,"",149,13314,"",89,"x","x"]
["",""]
[1804042,"  Jarosław..........................................................................................................................................................................................................................................................",11348,"",113,13202,"",116,1151,613]
[1804062,"  Pawłosiów..........................................................................................................................................................................................................................................................",4742,"",47,8448,"",178,2039,1059]
[1804102,"  Roźwienica..........................................................................................................................................................................................................................................................",6875,"",69,6228,"",91,1865,1440]
[1804075,"",6044,"",60,6019,"",100,"x","x"]
["",""]
[1805072,"  Nowy Żmigród..........................................................................................................................................................................................................................................................",10359,"",104,9101,"",88,1327,968]
[1805112,"  Tarnowiec..........................................................................................................................................................................................................................................................",6250,"",62,9165,"",147,1930,953]
[1805053,"  Kołaczyce..........................................................................................................................................................................................................................................................",6110,"",61,8947,"",146,1941,993]
[1806012,"  Cmolas..........................................................................................................................................................................................................................................................",13399,"",134,8104,"",60,854,1109]
[1806032,"  Majdan Królewski..........................................................................................................................................................................................................................................................",15526,"",155,9887,"",64,628,882]
["",""]
["",""]
[1807062,"  Krościenko Wyżne..........................................................................................................................................................................................................................................................",1631,"",16,5645,"",346,2268,1562]
[1807024,"",548,"",5,2083,"",380,"x","x"]
[1807034,"",589,"",6,1793,"",304,"x","x"]
[1807043,"  Jedlicze..........................................................................................................................................................................................................................................................",5857,"",59,15449,"",264,1955,500]
[1807085,"",15424,"",155,12086,"",78,"x","x"]
["",""]
[1821042,"  Olszanica..........................................................................................................................................................................................................................................................",9354,"",94,4907,"",52,1492,1748]
[1821035,"",9606,"",96,5910,"",62,"x","x"]
["",""]
[1808053,"  Nowa Sarzyna..........................................................................................................................................................................................................................................................",14373,"",144,21613,"",150,745,315]
["","Powiat lubaczowski  (8 gmin)"]
[1809011,"  Lubaczów..........................................................................................................................................................................................................................................................",2573,"",26,12078,"",469,2193,689]
[1809082,"  Wielkie Oczy..........................................................................................................................................................................................................................................................",14624,"",146,3824,"",26,714,2021]
[1809023,"  Cieszanów..........................................................................................................................................................................................................................................................",21944,"",219,7220,"",33,260,1260]
[1809053,"  Narol..........................................................................................................................................................................................................................................................",20347,"",203,8045,"",40,324,1121]
[1809065,"",14676,"",147,3352,"",23,"x","x"]
["",""]
[1810062,"  Rakszawa..........................................................................................................................................................................................................................................................",6646,"",66,7323,"",110,1887,1240]
["",""]
["",""]
[1811062,"  Padew Narodowa..........................................................................................................................................................................................................................................................",7125,"",71,5370,"",75,1831,1636]
[1811102,"  Wadowice Górne..........................................................................................................................................................................................................................................................",8690,"",87,7702,"",89,1579,1172]
[1811074,"",1604,"",16,1768,"",110,"x","x"]
["","Powiat niżański  (7 gmin)"]
[1812032,"  Jeżowe..........................................................................................................................................................................................................................................................",12393,"",124,10156,"",82,996,853]
[1812055,"",8141,"",81,7054,"",87,"x","x"]
[1812065,"",4209,"",42,3414,"",81,"x","x"]
[1812074,"",820,"",8,1424,"",174,"x","x"]
[1813022,"  Dubiecko..........................................................................................................................................................................................................................................................",15425,"",154,9241,"",60,637,948]
[1813042,"  Krasiczyn..........................................................................................................................................................................................................................................................",12436,"",124,5193,"",42,989,1679]
[1813072,"  Orły..........................................................................................................................................................................................................................................................",7047,"",70,8872,"",126,1843,1001]
["",""]
[1814032,"  Gać..........................................................................................................................................................................................................................................................",3596,"",36,4591,"",128,2119,1829]
["",""]
[1814055,"",9743,"",97,9176,"",94,"x","x"]
[1814074,"",674,"",7,2140,"",318,"x","x"]
[1815022,"  Ostrów..........................................................................................................................................................................................................................................................",9619,"",96,7344,"",76,1445,1235]
["",""]
[1815035,"",9198,"",92,11584,"",126,"x","x"]
["",""]
[1816052,"  Dynów..........................................................................................................................................................................................................................................................",11902,"",118,6941,"",58,1068,1309]
[1816122,"  Świlcza..........................................................................................................................................................................................................................................................",10818,"",108,16071,"",149,1255,474]
[1816132,"  Trzebownisko (a) ..........................................................................................................................................................................................................................................................",9028,"",90,21907,"",243,1528,306]
[1816034,"",911,"",8,6117,"",671,"x","x"]
[1816064,"",1371,"",14,6568,"",479,"x","x"]
[1816113,"  Sokołów Małopolski..........................................................................................................................................................................................................................................................",13420,"",134,17242,"",128,849,429]
[1816143,"  Tyczyn..........................................................................................................................................................................................................................................................",5372,"",54,10383,"",193,1996,829]
[1817011,"  Sanok..........................................................................................................................................................................................................................................................",3808,"",38,37577,"",987,2105,141]
[1817042,"  Komańcza..........................................................................................................................................................................................................................................................",38770,"",388,4631,"",12,28,1813]
[1817073,"  Zagórz..........................................................................................................................................................................................................................................................",15989,"",160,13149,"",82,596,619]
[1817074,"",2229,"",22,5120,"",230,"x","x"]
[1818011,"  Stalowa Wola..........................................................................................................................................................................................................................................................",8252,"",83,61182,"",741,1663,72]
[1818062,"  Zaleszany..........................................................................................................................................................................................................................................................",8717,"",87,10912,"",125,1576,789]
[1818053,"  Zaklików..........................................................................................................................................................................................................................................................",20213,"",202,8580,"",42,335,1039]
["","Powiat strzyżowski  (5 gmin)"]
[1819052,"  Wiśniowa..........................................................................................................................................................................................................................................................",8338,"",83,8048,"",97,1647,1120]
[1819045,"",12643,"",126,11837,"",94,"x","x"]
["",""]
[1820013,"  Baranów Sandomierski..........................................................................................................................................................................................................................................................",12155,"",122,11909,"",98,1033,701]
[1820044,"",1670,"",17,11181,"",670,"x","x"]
[1863011,"  Rzeszów ..........................................................................................................................................................................................................................................................",12661,"",126,193883,"↑",1531,963,18]
["","WOJ. PODLASKIE"]
[2001011,"  Augustów..........................................................................................................................................................................................................................................................",8090,"",81,30242,"",374,1689,186]
[2001062,"  Płaska (c)..........................................................................................................................................................................................................................................................",37267,"",372,2598,"",7,36,2240]
[2001045,"",17923,"",179,2826,"",16,"x","x"]
[2002042,"  Gródek (c)..........................................................................................................................................................................................................................................................",42970,"",429,5210,"",12,16,1672]
[2002052,"  Juchnowiec Kościelny..........................................................................................................................................................................................................................................................",17177,"",171,16337,"",95,501,459]
["",""]
[2002024,"",1428,"",14,9338,"",654,"x","x"]
[2002063,"  Łapy..........................................................................................................................................................................................................................................................",12765,"",128,21965,"",172,947,303]
[2002073,"  Michałowo..........................................................................................................................................................................................................................................................",41002,"",409,6623,"",16,22,1368]
[2002095,"",18287,"",183,10661,"",58,"x","x"]
[2002124,"",2897,"",29,1975,"",68,"x","x"]
[2002135,"",9886,"",99,5568,"",56,"x","x"]
[2002143,"  Zabłudów..........................................................................................................................................................................................................................................................",33974,"",340,9264,"",27,58,945]
["",""]
[2003042,"  Boćki..........................................................................................................................................................................................................................................................",23189,"",232,4299,"",19,225,1902]
[2003062,"  Orla..........................................................................................................................................................................................................................................................",15990,"",160,2740,"",17,595,2222]
["","Powiat grajewski  (6 gmin)"]
[2004032,"  Radziłów..........................................................................................................................................................................................................................................................",19954,"",200,4779,"",24,348,1784]
[2004045,"",17198,"",172,3679,"",21,"x","x"]
["","Powiat hajnowski  (9 gmin)"]
["",""]
[2005032,"  Czeremcha (c)..........................................................................................................................................................................................................................................................",9682,"",97,3169,"",33,1433,2163]
[2005092,"  Narewka (c)..........................................................................................................................................................................................................................................................",33898,"",339,3666,"",11,59,2064]
[2005074,"",4671,"",47,1271,"",27,"x","x"]
["","Powiat kolneński  (6 gmin)"]
[2006032,"  Kolno..........................................................................................................................................................................................................................................................",28228,"",281,8624,"",31,126,1033]
[2006054,"",1324,"",13,2195,"",166,"x","x"]
[2007022,"  Łomża..........................................................................................................................................................................................................................................................",20695,"",207,11073,"",54,308,773]
[2007032,"  Miastkowo..........................................................................................................................................................................................................................................................",11485,"",115,4230,"",37,1127,1922]
[2007082,"  Wizna..........................................................................................................................................................................................................................................................",13338,"",133,4035,"",30,864,1961]
[2007015,"",15467,"",155,3698,"",24,"x","x"]
[2007045,"",8066,"",80,1865,"",23,"x","x"]
["",""]
["",""]
[2008044,"",2368,"",24,2755,"",116,"x","x"]
[2008065,"",15389,"",154,4917,"",32,"x","x"]
["","Powiat sejneński  (5 gmin)"]
[2009022,"  Giby..........................................................................................................................................................................................................................................................",32320,"",323,2729,"",8,74,2223]
["",""]
[2010032,"  Dziadkowice..........................................................................................................................................................................................................................................................",11611,"",116,2754,"",24,1111,2219]
[2010052,"  Mielnik..........................................................................................................................................................................................................................................................",19639,"",196,2374,"",12,368,2260]
["",""]
["",""]
[2011062,"  Nowy Dwór..........................................................................................................................................................................................................................................................",12114,"",121,2654,"",22,1038,2230]
[2011072,"  Sidra..........................................................................................................................................................................................................................................................",17409,"",174,3475,"",20,492,2101]
[2011014,"",2264,"",23,5553,"",245,"x","x"]
[2011083,"  Sokółka..........................................................................................................................................................................................................................................................",31356,"",314,25554,"",81,85,240]
[2011093,"  Suchowola..........................................................................................................................................................................................................................................................",25570,"",256,6912,"",27,168,1315]
[2011095,"",22975,"",230,4732,"",21,"x","x"]
[2012032,"  Jeleniewo..........................................................................................................................................................................................................................................................",13137,"",131,3148,"",24,893,2167]
[2012082,"  Szypliszki..........................................................................................................................................................................................................................................................",15643,"",156,3907,"",25,622,1998]
[2013011,"  Wysokie Mazowieckie..........................................................................................................................................................................................................................................................",1524,"",15,9414,"",618,2278,928]
["",""]
[2013072,"  Nowe Piekuty..........................................................................................................................................................................................................................................................",10970,"",110,3910,"",36,1230,1997]
[2013024,"",1953,"",20,4639,"",238,"x","x"]
[2013034,"",523,"",5,2641,"",505,"x","x"]
[2013093,"  Szepietowo..........................................................................................................................................................................................................................................................",15172,"",152,6958,"",46,657,1306]
[2014011,"  Zambrów..........................................................................................................................................................................................................................................................",1902,"",19,22166,"",1165,2246,297]
[2014052,"  Zambrów..........................................................................................................................................................................................................................................................",29940,"",299,8909,"",30,98,997]
[2063011,"  Suwałki..........................................................................................................................................................................................................................................................",6551,"",66,69827,"",1066,1900,55]
["","WOJ. POMORSKIE"]
[2201032,"  Czarna Dąbrówka..........................................................................................................................................................................................................................................................",29806,"",298,5926,"",20,99,1512]
[2201092,"  Trzebielino..........................................................................................................................................................................................................................................................",22597,"",226,3699,"",16,246,2053]
[2201023,"  Bytów..........................................................................................................................................................................................................................................................",19692,"",197,25471,"",129,366,241]
[2201025,"",18820,"",188,8517,"",45,"x","x"]
["",""]
["",""]
[2202043,"  Czersk..........................................................................................................................................................................................................................................................",38011,"",380,21641,"",57,29,313]
[2202044,"",973,"",10,9912,"",1019,"x","x"]
[2203011,"  Człuchów..........................................................................................................................................................................................................................................................",1278,"",13,13708,"",1073,2302,582]
[2203072,"  Rzeczenica..........................................................................................................................................................................................................................................................",27480,"",275,3633,"",13,133,2069]
[2203024,"",4643,"",46,5952,"",128,"x","x"]
[2203043,"  Debrzno..........................................................................................................................................................................................................................................................",22403,"",224,9078,"",41,250,973]
[2204011,"  Pruszcz Gdański..........................................................................................................................................................................................................................................................",1647,"",16,30878,"",1875,2264,181]
[2204052,"  Przywidz..........................................................................................................................................................................................................................................................",12934,"",129,5889,"",46,918,1524]
["","Powiat kartuski  (8 gmin)"]
["",""]
[2205052,"  Somonino..........................................................................................................................................................................................................................................................",11211,"",112,10727,"",96,1174,805]
[2205024,"",735,"",7,14557,"",1981,"x","x"]
[2205084,"",473,"",5,6683,"",1413,"x","x"]
["","Powiat kościerski  (8 gmin)"]
[2206032,"  Karsin..........................................................................................................................................................................................................................................................",16943,"",169,6252,"",37,527,1432]
[2206082,"  Stara Kiszewa..........................................................................................................................................................................................................................................................",21273,"",213,6809,"",32,282,1334]
["",""]
[2207022,"  Gardeja..........................................................................................................................................................................................................................................................",19270,"",193,8450,"",44,381,1058]
["",""]
["",""]
["",""]
[2208042,"  Nowa Wieś Lęborska..........................................................................................................................................................................................................................................................",27045,"",270,13580,"",50,135,590]
["",""]
["",""]
["","Powiat nowodworski  (5 gmin)"]
["",""]
[2210042,"  Stegna..........................................................................................................................................................................................................................................................",17009,"",170,9779,"",57,519,896]
[2210025,"",20813,"",208,7863,"",38,"x","x"]
[2211011,"  Hel (b)..........................................................................................................................................................................................................................................................",2295,"",23,3285,"",143,2211,2141]
["",""]
[2211023,"  Jastarnia..........................................................................................................................................................................................................................................................",998,"",10,3708,"",372,2323,2051]
[2211045,"",2852,"",29,5480,"",192,"x","x"]
["",""]
[2212022,"  Damnica..........................................................................................................................................................................................................................................................",16766,"",168,6094,"",36,535,1467]
[2212072,"  Potęgowo..........................................................................................................................................................................................................................................................",22846,"",228,6953,"",30,234,1307]
[2212053,"  Kępice..........................................................................................................................................................................................................................................................",29305,"",293,9197,"",31,108,951]
["","Powiat starogardzki  (13 gmin)"]
[2213021,"  Skórcz..........................................................................................................................................................................................................................................................",363,"↓",4,3611,"",995,2342,2075]
[2213062,"  Lubichowo..........................................................................................................................................................................................................................................................",16090,"",160,6584,"",41,589,1374]
[2213122,"  Starogard Gdański..........................................................................................................................................................................................................................................................",19621,"",195,16598,"",85,371,451]
[2213014,"",994,"",10,2805,"",282,"x","x"]
[2213015,"",1779,"",18,384,"",22,"x","x"]
["","Powiat sztumski  (5 gmin)"]
["",""]
[2216054,"",459,"",5,9990,"",2176,"x","x"]
["",""]
["",""]
[2214023,"  Gniew..........................................................................................................................................................................................................................................................",19412,"",194,15544,"",80,378,497]
[2214044,"",442,"",4,7818,"",1769,"x","x"]
[2214045,"",13660,"",137,8479,"",62,"x","x"]
[2215021,"  Rumia..........................................................................................................................................................................................................................................................",3010,"",30,49031,"",1629,2168,93]
[2215062,"  Linia..........................................................................................................................................................................................................................................................",11981,"",120,6361,"",53,1055,1412]
["",""]
[2263011,"  Słupsk..........................................................................................................................................................................................................................................................",4315,"",43,91007,"",2109,2070,42]
["","WOJ. ŚLĄSKIE"]
[2401081,"  Sławków..........................................................................................................................................................................................................................................................",3667,"",37,7043,"",192,2115,1289]
[2401052,"  Mierzęcice..........................................................................................................................................................................................................................................................",4943,"",49,7664,"",155,2024,1182]
[2401062,"  Psary..........................................................................................................................................................................................................................................................",4616,"",46,12117,"",263,2052,686]
[2401075,"",7519,"",75,6885,"",92,"x","x"]
[2402022,"  Bestwina..........................................................................................................................................................................................................................................................",3792,"",38,11787,"",311,2109,714]
[2402082,"  Porąbka..........................................................................................................................................................................................................................................................",6443,"",65,15589,"",242,1910,494]
[2402043,"  Czechowice-Dziedzice..........................................................................................................................................................................................................................................................",6648,"",66,45421,"",683,1886,109]
[2402045,"",3357,"",33,9502,"",283,"x","x"]
["",""]
["",""]
[2414042,"  Bojszowy..........................................................................................................................................................................................................................................................",3469,"",35,7860,"",227,2131,1147]
[2403021,"  Ustroń..........................................................................................................................................................................................................................................................",5903,"",59,16054,"",272,1953,477]
[2403052,"  Chybie..........................................................................................................................................................................................................................................................",3175,"",32,9809,"",309,2159,889]
[2403122,"  Zebrzydowice..........................................................................................................................................................................................................................................................",4142,"",41,13253,"",320,2081,610]
[2403104,"",985,"",10,14469,"",1469,"x","x"]
[2403113,"  Strumień..........................................................................................................................................................................................................................................................",5854,"",59,13197,"",225,1956,614]
[2404022,"  Dąbrowa Zielona..........................................................................................................................................................................................................................................................",10021,"",100,3865,"",39,1384,2010]
[2404072,"  Konopiska..........................................................................................................................................................................................................................................................",7851,"",79,10737,"",137,1723,802]
[2404082,"  Kruszyna..........................................................................................................................................................................................................................................................",9355,"",94,4862,"",52,1491,1760]
[2404132,"  Poczesna..........................................................................................................................................................................................................................................................",5998,"",60,12700,"",212,1950,648]
["",""]
[2404064,"",3692,"",37,5950,"",161,"x","x"]
["",""]
[2405021,"  Pyskowice..........................................................................................................................................................................................................................................................",3089,"",31,18456,"",597,2163,384]
[2405042,"  Pilchowice..........................................................................................................................................................................................................................................................",6983,"",70,11887,"",170,1848,706]
[2405065,"",10483,"",105,6968,"",66,"x","x"]
[2405073,"  Toszek..........................................................................................................................................................................................................................................................",9982,"",100,9409,"",94,1394,931]
[2406032,"  Lipie..........................................................................................................................................................................................................................................................",9905,"",99,6286,"",63,1405,1428]
[2406072,"  Popów..........................................................................................................................................................................................................................................................",10229,"",102,5883,"",58,1350,1525]
[2406014,"",4746,"",47,12957,"",273,"x","x"]
[2406024,"",2766,"",28,4462,"",161,"x","x"]
["","Powiat lubliniecki  (8 gmin)"]
["",""]
[2407072,"  Pawonków..........................................................................................................................................................................................................................................................",11893,"",119,6650,"",56,1070,1364]
["",""]
["",""]
["",""]
[2409011,"  Myszków..........................................................................................................................................................................................................................................................",7359,"",74,31762,"",432,1797,176]
[2409042,"  Poraj..........................................................................................................................................................................................................................................................",5706,"",57,10919,"",191,1972,788]
[2409023,"  Koziegłowy..........................................................................................................................................................................................................................................................",15964,"",160,14324,"",90,601,553]
[2409053,"  Żarki..........................................................................................................................................................................................................................................................",10100,"",101,8451,"",84,1371,1057]
[2410022,"  Kobiór..........................................................................................................................................................................................................................................................",4819,"",48,4894,"",102,2035,1751]
[2410032,"  Miedźna..........................................................................................................................................................................................................................................................",5009,"",50,16499,"",329,2020,453]
[2410054,"",2249,"",22,25829,"",1148,"x","x"]
[2411011,"  Racibórz..........................................................................................................................................................................................................................................................",7501,"",75,54882,"",732,1777,84]
[2411072,"  Pietrowice Wielkie..........................................................................................................................................................................................................................................................",6793,"",68,6910,"",102,1872,1316]
[2411033,"  Krzanowice..........................................................................................................................................................................................................................................................",4720,"",47,5746,"",122,2043,1548]
[2411035,"",4412,"",43,3588,"",81,"x","x"]
[2411055,"",9513,"",96,6497,"",68,"x","x"]
[2412052,"  Świerklany..........................................................................................................................................................................................................................................................",2417,"",24,12409,"",513,2202,667]
["",""]
["",""]
[2413041,"  Tarnowskie Góry..........................................................................................................................................................................................................................................................",8388,"",84,61361,"",732,1640,70]
[2413082,"  Tworóg..........................................................................................................................................................................................................................................................",12504,"",125,8235,"",66,977,1085]
["",""]
[2415021,"  Radlin..........................................................................................................................................................................................................................................................",1253,"",13,17806,"",1421,2304,407]
["",""]
["","Powiat zawierciański  (10 gmin)"]
["",""]
[2416042,"  Kroczyce..........................................................................................................................................................................................................................................................",11005,"",110,6347,"",58,1225,1418]
[2416053,"  Łazy..........................................................................................................................................................................................................................................................",13293,"",133,15956,"",120,872,480]
[2416065,"",5617,"",56,4856,"",86,"x","x"]
[2416075,"",13454,"",135,6693,"",50,"x","x"]
[2416084,"",1803,"",18,3622,"",201,"x","x"]
["",""]
[2417052,"  Koszarawa..........................................................................................................................................................................................................................................................",3156,"",32,2391,"↓",76,2161,2257]
[2417062,"  Lipowa..........................................................................................................................................................................................................................................................",5872,"",59,10818,"",184,1954,798]
[2417112,"  Rajcza..........................................................................................................................................................................................................................................................",13142,"",131,8842,"",67,892,1005]
[2417152,"  Węgierska Górka..........................................................................................................................................................................................................................................................",7647,"",76,15101,"",197,1753,517]
[2464011,"  Częstochowa..........................................................................................................................................................................................................................................................",15971,"",160,222292,"",1392,600,13]
[2467011,"  Jastrzębie-Zdrój..........................................................................................................................................................................................................................................................",8533,"",85,89128,"",1045,1611,43]
[2469011,"  Katowice ..........................................................................................................................................................................................................................................................",16464,"",165,294510,"↑",1789,557,11]
[2472011,"  Ruda Śląska..........................................................................................................................................................................................................................................................",7773,"",78,138000,"",1775,1734,26]
[2478011,"  Zabrze..........................................................................................................................................................................................................................................................",8040,"",80,173374,"",2156,1696,20]
[2479011,"  Żory..........................................................................................................................................................................................................................................................",6464,"",65,62456,"",966,1906,67]
[2601052,"  Solec-Zdrój..........................................................................................................................................................................................................................................................",8504,"",85,5059,"",59,1616,1713]
[2601014,"",1228,"",12,15952,"",1299,"x","x"]
[2601043,"  Pacanów..........................................................................................................................................................................................................................................................",12458,"",125,7406,"",59,985,1223]
[2601063,"  Stopnica..........................................................................................................................................................................................................................................................",12596,"",125,7625,"",61,970,1185]
[2601065,"",12141,"",121,6200,"",51,"x","x"]
[2601085,"",9561,"",95,5026,"",53,"x","x"]
[2602072,"  Słupia..........................................................................................................................................................................................................................................................",10842,"",108,4336,"",40,1250,1894]
[2602082,"  Sobków..........................................................................................................................................................................................................................................................",14431,"",144,8491,"",59,738,1051]
[2602025,"",21525,"",216,12946,"",60,"x","x"]
[2602063,"  Sędziszów..........................................................................................................................................................................................................................................................",14565,"",146,12555,"",86,724,660]
[2603012,"  Bejsce..........................................................................................................................................................................................................................................................",5748,"",57,4031,"",70,1963,1964]
[2603033,"  Kazimierza Wielka..........................................................................................................................................................................................................................................................",13986,"",140,16210,"",116,786,466]
[2603035,"",13453,"",135,10631,"",79,"x","x"]
[2603045,"",6311,"",63,2969,"",47,"x","x"]
[2604012,"  Bieliny..........................................................................................................................................................................................................................................................",8822,"",88,10270,"",116,1557,845]
[2604062,"  Górno..........................................................................................................................................................................................................................................................",8316,"",83,14375,"",173,1652,551]
[2604142,"  Piekoszów..........................................................................................................................................................................................................................................................",10297,"",103,16476,"",160,1339,455]
[2604192,"  Zagnańsk..........................................................................................................................................................................................................................................................",12487,"",125,12981,"",104,979,633]
[2604033,"  Chęciny..........................................................................................................................................................................................................................................................",12739,"",127,15102,"",119,951,516]
[2604043,"  Chmielnik..........................................................................................................................................................................................................................................................",14219,"",142,11320,"",80,757,755]
[2604045,"",13439,"",134,7617,"",57,"x","x"]
[2604055,"",20689,"",206,12948,"",63,"x","x"]
[2604125,"",13600,"",136,14787,"",109,"x","x"]
[2604133,"  Nowa Słupia..........................................................................................................................................................................................................................................................",8576,"",86,9539,"",111,1602,918]
[2604155,"",9777,"",98,3647,"",37,"x","x"]
[2605022,"  Gowarczów..........................................................................................................................................................................................................................................................",10096,"",101,4624,"",46,1373,1816]
[2605033,"  Końskie..........................................................................................................................................................................................................................................................",25014,"",250,35422,"",142,181,150]
[2605043,"  Radoszyce..........................................................................................................................................................................................................................................................",14664,"",146,8952,"",61,710,992]
[2605045,"",12947,"",129,5785,"",45,"x","x"]
[2605085,"",22073,"",221,11256,"",51,"x","x"]
[2606062,"  Sadowie..........................................................................................................................................................................................................................................................",8181,"",82,3957,"",48,1675,1983]
[2606072,"  Tarłów..........................................................................................................................................................................................................................................................",16335,"",164,5205,"",32,564,1675]
[2606045,"",10416,"",105,5241,"",50,"x","x"]
["","Powiat ostrowiecki  (6 gmin)"]
[2607032,"  Bodzechów..........................................................................................................................................................................................................................................................",12219,"",122,13467,"",110,1022,595]
[2607043,"  Ćmielów..........................................................................................................................................................................................................................................................",11791,"",118,7361,"",62,1081,1233]
[2607045,"",10457,"",104,4337,"",41,"x","x"]
["",""]
[2608052,"  Złota..........................................................................................................................................................................................................................................................",8201,"",82,4461,"",54,1671,1858]
[2608013,"  Działoszyce..........................................................................................................................................................................................................................................................",10576,"",106,4958,"",47,1292,1731]
[2608045,"",19849,"",199,9987,"",50,"x","x"]
["",""]
[2609072,"  Samborzec..........................................................................................................................................................................................................................................................",8524,"",85,8523,"",100,1614,1046]
[2609043,"  Koprzywnica..........................................................................................................................................................................................................................................................",6933,"",69,6690,"",96,1857,1358]
[2609045,"",5143,"",51,4202,"",82,"x","x"]
["",""]
[2610022,"  Bliżyn..........................................................................................................................................................................................................................................................",14120,"",141,8135,"",58,768,1106]
[2610042,"  Skarżysko Kościelne..........................................................................................................................................................................................................................................................",5324,"",53,6072,"",114,1998,1473]
["","Powiat starachowicki  (5 gmin)"]
[2611022,"  Brody..........................................................................................................................................................................................................................................................",16127,"",161,10963,"",68,584,780]
[2611054,"",1602,"",16,2764,"",173,"x","x"]
["",""]
[2612022,"  Łubnice..........................................................................................................................................................................................................................................................",8414,"",84,4128,"",49,1637,1944]
[2612035,"",4334,"",43,2016,"",47,"x","x"]
[2612045,"",11187,"",111,5747,"",51,"x","x"]
[2612054,"",1741,"",17,8120,"",466,"x","x"]
[2612083,"  Szydłów..........................................................................................................................................................................................................................................................",10790,"",108,4731,"",44,1258,1792]
["",""]
[2613052,"  Secemin..........................................................................................................................................................................................................................................................",16260,"",163,4827,"",30,574,1771]
["",""]
["",""]
[2801011,"  Bartoszyce..........................................................................................................................................................................................................................................................",1179,"",11,23609,"",2002,2306,275]
[2801032,"  Bartoszyce (c)..........................................................................................................................................................................................................................................................",42721,"",428,10797,"",25,17,800]
["",""]
[2801064,"",463,"",5,1964,"",424,"x","x"]
[2802011,"  Braniewo..........................................................................................................................................................................................................................................................",1241,"",12,17071,"",1376,2305,438]
[2802072,"  Wilczęta..........................................................................................................................................................................................................................................................",14785,"",148,3004,"",20,696,2188]
["",""]
[2802053,"  Pieniężno..........................................................................................................................................................................................................................................................",24294,"",243,6246,"",26,197,1434]
[2803011,"  Działdowo..........................................................................................................................................................................................................................................................",1147,"",11,21275,"",1855,2310,318]
[2803032,"  Iłowo-Osada..........................................................................................................................................................................................................................................................",10377,"",104,7238,"",70,1323,1254]
[2803062,"  Rybno..........................................................................................................................................................................................................................................................",14841,"",148,7223,"",49,689,1259]
["","Powiat elbląski  (9 gmin)"]
[2804032,"  Gronowo Elbląskie..........................................................................................................................................................................................................................................................",8915,"",89,5127,"",58,1540,1697]
[2804063,"  Młynary..........................................................................................................................................................................................................................................................",15841,"",158,4441,"",28,613,1863]
[2804064,"",276,"",3,1780,"",645,"x","x"]
[2804075,"",25328,"",253,7182,"",28,"x","x"]
["",""]
[2805022,"  Ełk..........................................................................................................................................................................................................................................................",37918,"",380,11599,"",31,31,733]
[2805042,"  Prostki..........................................................................................................................................................................................................................................................",23108,"",231,7292,"",32,228,1245]
[2806042,"  Giżycko..........................................................................................................................................................................................................................................................",29706,"",296,8411,"",28,100,1062]
[2806102,"  Wydminy..........................................................................................................................................................................................................................................................",23299,"",233,6304,"",27,221,1424]
["","Powiat gołdapski  (3 gminy)"]
["",""]
[2818033,"  Gołdap..........................................................................................................................................................................................................................................................",36204,"",362,20225,"",56,44,337]
[2807011,"  Iława..........................................................................................................................................................................................................................................................",2188,"",22,33250,"",1520,2217,164]
[2807032,"  Iława..........................................................................................................................................................................................................................................................",42421,"",424,13008,"",31,18,628]
["",""]
[2807065,"",25238,"",252,7213,"",29,"x","x"]
[2807075,"",24571,"",246,4659,"",19,"x","x"]
[2808022,"  Barciany (c)..........................................................................................................................................................................................................................................................",29408,"",295,6174,"",21,104,1454]
[2808032,"  Kętrzyn..........................................................................................................................................................................................................................................................",28536,"",285,8232,"",29,120,1086]
[2808044,"",403,"",4,4259,"",1057,"x","x"]
["","Powiat lidzbarski  (5 gmin)"]
["",""]
[2809032,"  Lidzbark Warmiński..........................................................................................................................................................................................................................................................",37212,"",373,6733,"",18,37,1351]
["","Powiat mrągowski  (5 gmin)"]
["",""]
[2810023,"  Mikołajki..........................................................................................................................................................................................................................................................",25630,"",256,8188,"",32,163,1095]
[2810024,"",932,"",9,3838,"",412,"x","x"]
[2811012,"  Janowiec Kościelny..........................................................................................................................................................................................................................................................",13592,"",136,3219,"",24,825,2149]
[2811044,"",686,"",7,13820,"",2015,"x","x"]
["",""]
["",""]
["",""]
[2813062,"  Wieliczki..........................................................................................................................................................................................................................................................",14080,"",141,3365,"",24,777,2124]
["","Powiat olsztyński  (12 gmin)"]
["",""]
[2814082,"  Kolno..........................................................................................................................................................................................................................................................",17859,"",179,3184,"",18,462,2156]
[2814013,"  Barczewo..........................................................................................................................................................................................................................................................",32001,"",320,18030,"",56,78,400]
[2814023,"  Biskupiec..........................................................................................................................................................................................................................................................",29041,"",290,19066,"",66,113,372]
[2814025,"",28541,"",285,8464,"",30,"x","x"]
[2814065,"",20808,"",208,4564,"",22,"x","x"]
[2814095,"",36382,"",364,6227,"",17,"x","x"]
[2815022,"  Dąbrówno..........................................................................................................................................................................................................................................................",16574,"",166,4331,"",26,552,1895]
[2815032,"  Grunwald..........................................................................................................................................................................................................................................................",17994,"",180,5649,"",31,450,1561]
["",""]
[2815074,"",1238,"",12,2442,"",197,"x","x"]
[2815084,"",611,"",6,13838,"",2265,"x","x"]
["","Powiat piski  (4 gminy)"]
[2816024,"",817,"",8,5579,"",683,"x","x"]
[2816034,"",1008,"",10,19318,"",1916,"x","x"]
["","Powiat szczycieński  (8 gmin)"]
["",""]
[2817032,"  Jedwabno..........................................................................................................................................................................................................................................................",31190,"",312,3667,"",12,86,2063]
[2817043,"  Pasym..........................................................................................................................................................................................................................................................",14920,"",149,5340,"",36,684,1643]
[2817083,"  Wielbark..........................................................................................................................................................................................................................................................",34795,"",348,6535,"",19,51,1381]
[2817085,"",32953,"",330,3486,"",11,"x","x"]
[2819033,"  Węgorzewo..........................................................................................................................................................................................................................................................",34147,"",341,16755,"",49,56,449]
["",""]
["",""]
[3001011,"  Chodzież..........................................................................................................................................................................................................................................................",1277,"",13,18684,"",1463,2303,379]
["",""]
[3001054,"",467,"",5,4222,"",904,"x","x"]
["",""]
["",""]
[3002043,"  Krzyż Wielkopolski..........................................................................................................................................................................................................................................................",17428,"",174,8749,"",50,491,1012]
[3002073,"  Trzcianka..........................................................................................................................................................................................................................................................",37398,"",374,24354,"",65,35,257]
[3002085,"",42563,"",426,6474,"",15,"x","x"]
["","Powiat gnieźnieński  (10 gmin)"]
[3003032,"  Gniezno..........................................................................................................................................................................................................................................................",17816,"",178,11951,"",67,467,698]
["",""]
[3003025,"",10175,"",102,4696,"",46,"x","x"]
[3003054,"",962,"",10,2637,"",274,"x","x"]
[3003104,"",831,"",8,7893,"",950,"x","x"]
["",""]
[3004014,"",629,"",7,2526,"",402,"x","x"]
[3004015,"",12135,"",121,4979,"",41,"x","x"]
[3004033,"  Krobia..........................................................................................................................................................................................................................................................",12954,"",130,13034,"",101,915,625]
[3004065,"",9218,"",93,2889,"",31,"x","x"]
[3004075,"",12845,"",129,4893,"",38,"x","x"]
["",""]
[3005025,"",11438,"",115,5368,"",47,"x","x"]
[3005045,"",19764,"",198,9669,"",49,"x","x"]
["",""]
[3006032,"  Kotlin..........................................................................................................................................................................................................................................................",8392,"",84,7437,"",89,1639,1219]
[3006015,"",12302,"",123,6732,"",55,"x","x"]
[3006044,"",216,"",2,2132,"",987,"x","x"]
["",""]
[3007022,"  Brzeziny..........................................................................................................................................................................................................................................................",12695,"",127,5830,"",46,956,1534]
[3007072,"  Mycielin..........................................................................................................................................................................................................................................................",11089,"",111,4872,"",44,1202,1756]
[3007084,"",868,"",9,3677,"",424,"x","x"]
[3007095,"",7751,"",77,5669,"",73,"x","x"]
["","Powiat kępiński  (7 gmin)"]
[3008042,"  Łęka Opatowska..........................................................................................................................................................................................................................................................",7771,"",78,5315,"",68,1736,1649]
[3008033,"  Kępno..........................................................................................................................................................................................................................................................",12387,"",124,24546,"",198,997,255]
["","Powiat kolski  (11 gmin)"]
[3009011,"  Koło..........................................................................................................................................................................................................................................................",1385,"",14,21994,"",1588,2288,302]
[3009072,"  Koło..........................................................................................................................................................................................................................................................",10258,"",103,7725,"",75,1346,1167]
[3009102,"  Osiek Mały..........................................................................................................................................................................................................................................................",8732,"",87,6124,"",70,1571,1463]
[3009064,"",431,"",4,6481,"",1504,"x","x"]
[3009065,"",12462,"",125,6435,"",52,"x","x"]
["","Powiat koniński  (14 gmin)"]
[3010062,"  Krzymów..........................................................................................................................................................................................................................................................",9250,"",92,8034,"",87,1506,1123]
[3010112,"  Stare Miasto..........................................................................................................................................................................................................................................................",9773,"",98,12266,"",126,1425,676]
[3010142,"  Wilczyn..........................................................................................................................................................................................................................................................",8320,"",83,6200,"",75,1650,1446]
[3010043,"  Kleczew..........................................................................................................................................................................................................................................................",11028,"",110,9986,"",91,1220,870]
[3010073,"  Rychwał..........................................................................................................................................................................................................................................................",11790,"",118,8311,"",70,1082,1077]
[3010123,"  Ślesin..........................................................................................................................................................................................................................................................",14563,"",146,14032,"",96,725,571]
[3010124,"",718,"",7,3151,"",439,"x","x"]
[3011011,"  Kościan..........................................................................................................................................................................................................................................................",901,"",9,23923,"",2655,2326,265]
[3011024,"",332,"",3,5295,"",1595,"x","x"]
[3011045,"",17668,"",177,8369,"",47,"x","x"]
[3011053,"  Śmigiel..........................................................................................................................................................................................................................................................",18977,"",190,17656,"",93,393,415]
[3012011,"  Sulmierzyce..........................................................................................................................................................................................................................................................",2929,"",29,2887,"",99,2171,2203]
["",""]
[3012035,"",14653,"",146,6771,"",46,"x","x"]
[3012043,"  Krotoszyn..........................................................................................................................................................................................................................................................",25580,"",256,40472,"",158,167,125]
[3012064,"",620,"",6,4534,"",731,"x","x"]
[3013022,"  Lipno..........................................................................................................................................................................................................................................................",10385,"",104,8124,"",78,1322,1107]
["",""]
[3013033,"  Osieczna..........................................................................................................................................................................................................................................................",12864,"",129,9197,"",71,930,951]
[3013045,"",13340,"",134,6570,"",49,"x","x"]
[3014012,"  Chrzypsko Wielkie..........................................................................................................................................................................................................................................................",8452,"",85,3347,"",40,1628,2127]
[3014043,"  Sieraków..........................................................................................................................................................................................................................................................",20312,"",203,8768,"",43,327,1010]
[3014044,"",1408,"",14,6056,"",430,"x","x"]
[3015012,"  Kuślin..........................................................................................................................................................................................................................................................",10648,"",106,5504,"",52,1282,1600]
[3015025,"",18038,"",181,6173,"",34,"x","x"]
[3015053,"  Opalenica..........................................................................................................................................................................................................................................................",14891,"",149,16395,"",110,686,456]
[3015054,"",642,"",6,9596,"",1495,"x","x"]
["","Powiat obornicki  (3 gminy)"]
["",""]
[3016025,"",20500,"",205,7219,"",35,"x","x"]
["",""]
[3017042,"  Ostrów Wielkopolski..........................................................................................................................................................................................................................................................",20786,"",208,19097,"",92,301,370]
[3017023,"  Nowe Skalmierzyce..........................................................................................................................................................................................................................................................",12542,"",125,15478,"",123,973,499]
[3017034,"",476,"",5,5130,"",1078,"x","x"]
[3017035,"",13133,"",131,9498,"",72,"x","x"]
["",""]
[3018042,"  Kobyla Góra..........................................................................................................................................................................................................................................................",12921,"",130,6141,"",48,921,1459]
[3018063,"  Mikstat..........................................................................................................................................................................................................................................................",8718,"",87,6066,"",70,1575,1475]
[3018065,"",8466,"",84,4211,"",50,"x","x"]
[3018075,"",17526,"",175,9741,"",56,"x","x"]
[3019022,"  Białośliwie..........................................................................................................................................................................................................................................................",7557,"",76,4879,"",65,1764,1753]
["",""]
[3019043,"  Łobżenica..........................................................................................................................................................................................................................................................",19078,"",191,9586,"",50,388,913]
[3019075,"",12235,"",122,4264,"",35,"x","x"]
[3019085,"",15493,"",155,8821,"",57,"x","x"]
[3020022,"  Czermin..........................................................................................................................................................................................................................................................",9809,"",98,4919,"",50,1422,1744]
[3020052,"  Gołuchów..........................................................................................................................................................................................................................................................",13588,"",136,10727,"",79,826,805]
[3020014,"",688,"",7,1777,"",258,"x","x"]
[3020063,"  Pleszew..........................................................................................................................................................................................................................................................",18033,"",180,29943,"",166,447,192]
["",""]
[3021011,"  Luboń..........................................................................................................................................................................................................................................................",1351,"",14,31783,"",2353,2295,175]
[3021062,"  Kleszczewo..........................................................................................................................................................................................................................................................",7446,"",74,8440,"",113,1785,1060]
[3021152,"  Suchy Las..........................................................................................................................................................................................................................................................",11601,"",117,17599,"",152,1114,417]
[3021083,"  Kostrzyn..........................................................................................................................................................................................................................................................",15481,"",155,18261,"",118,631,390]
[3021085,"",14683,"",147,8584,"",58,"x","x"]
[3021095,"",18013,"",180,20457,"",114,"x","x"]
[3021114,"",862,"",9,10396,"",1206,"x","x"]
[3021125,"",17934,"",179,10370,"",58,"x","x"]
[3021143,"  Stęszew..........................................................................................................................................................................................................................................................",17502,"",175,15032,"",86,486,519]
[3021165,"",9355,"",93,20234,"",216,"x","x"]
[3022042,"  Pakosław..........................................................................................................................................................................................................................................................",7750,"",78,4859,"",63,1741,1762]
[3022024,"",162,"",2,1967,"",1214,"x","x"]
[3022033,"  Miejska Górka..........................................................................................................................................................................................................................................................",10348,"",103,9304,"",90,1329,942]
[3022053,"  Rawicz..........................................................................................................................................................................................................................................................",13417,"",134,30392,"",227,851,185]
[3023011,"  Słupca..........................................................................................................................................................................................................................................................",1030,"",10,13773,"",1337,2317,578]
[3023042,"  Ostrowite..........................................................................................................................................................................................................................................................",10355,"",104,5116,"",49,1328,1702]
[3023052,"  Powidz..........................................................................................................................................................................................................................................................",8069,"",81,2319,"↓",29,1694,2265]
[3023084,"",344,"",4,3005,"",874,"x","x"]
["",""]
["",""]
[3024054,"",125,"",1,1920,"",1536,"x","x"]
[3024064,"",932,"",9,8060,"",865,"x","x"]
[3024083,"  Wronki..........................................................................................................................................................................................................................................................",30172,"",302,19089,"",63,94,371]
["",""]
[3025012,"  Dominowo..........................................................................................................................................................................................................................................................",7936,"",79,3020,"",38,1710,2184]
[3025043,"  Środa Wielkopolska..........................................................................................................................................................................................................................................................",20716,"",207,32365,"",156,307,168]
["","Powiat śremski  (4 gminy)"]
[3026025,"",11828,"",118,4317,"",36,"x","x"]
[3026034,"",196,"",2,2726,"",1391,"x","x"]
[3026044,"",1237,"",12,29714,"",2402,"x","x"]
["",""]
[3027062,"  Przykona..........................................................................................................................................................................................................................................................",11092,"",111,4529,"",41,1201,1842]
[3027082,"  Turek..........................................................................................................................................................................................................................................................",10925,"",109,9874,"",90,1236,885]
[3027035,"",12996,"",130,4805,"",37,"x","x"]
[3027075,"",14266,"",143,7324,"",51,"x","x"]
[3028042,"  Mieścisko..........................................................................................................................................................................................................................................................",13506,"",135,5999,"",44,836,1496]
[3028072,"  Wągrowiec..........................................................................................................................................................................................................................................................",34785,"",348,12221,"",35,52,679]
[3028034,"",1264,"",13,3336,"",264,"x","x"]
["","Powiat wolsztyński  (3 gminy)"]
["",""]
[3029033,"  Wolsztyn..........................................................................................................................................................................................................................................................",24995,"",250,30496,"",122,182,184]
[3030012,"  Kołaczkowo..........................................................................................................................................................................................................................................................",11592,"",116,6045,"",52,1118,1483]
[3030024,"",407,"",4,3572,"",878,"x","x"]
[3030044,"",1216,"",12,3145,"",259,"x","x"]
[3030053,"  Września..........................................................................................................................................................................................................................................................",22185,"",222,46795,"",211,255,103]
["","Powiat złotowski  (8 gmin)"]
[3031062,"  Tarnówka..........................................................................................................................................................................................................................................................",13245,"",132,3075,"",23,877,2177]
[3031023,"  Jastrowie..........................................................................................................................................................................................................................................................",35312,"",353,11516,"",33,47,738]
[3031024,"",7230,"",72,8598,"",119,"x","x"]
[3031053,"  Okonek..........................................................................................................................................................................................................................................................",32599,"",326,8612,"",26,72,1035]
["",""]
["","Powiat białogardzki  (4 gminy)"]
[3201011,"  Białogard..........................................................................................................................................................................................................................................................",2573,"",26,24339,"",946,2193,258]
["",""]
[3201044,"",396,"",4,2517,"",636,"x","x"]
[3202012,"  Bierzwnik..........................................................................................................................................................................................................................................................",23906,"",240,4692,"",20,208,1801]
[3202042,"  Krzęcin..........................................................................................................................................................................................................................................................",14026,"",140,3727,"",27,781,2049]
[3202033,"  Drawno..........................................................................................................................................................................................................................................................",32091,"",321,5093,"",16,76,1707]
[3202053,"  Pełczyce..........................................................................................................................................................................................................................................................",20072,"",201,7811,"",39,343,1154]
["","Powiat drawski  (5 gmin)"]
["",""]
[3203014,"",1362,"",14,7124,"",523,"x","x"]
[3203015,"",35122,"",351,4729,"",13,"x","x"]
[3203023,"  Drawsko Pomorskie..........................................................................................................................................................................................................................................................",40949,"",409,17354,"",42,23,424]
[3203024,"",2233,"",22,11657,"",522,"x","x"]
[3203025,"",38716,"",387,5697,"",15,"x","x"]
[3203033,"  Kalisz Pomorski..........................................................................................................................................................................................................................................................",48087,"",481,7370,"",15,6,1231]
[3203034,"",1196,"",12,4377,"",366,"x","x"]
[3203035,"",46891,"",469,2993,"",6,"x","x"]
[3203063,"  Złocieniec..........................................................................................................................................................................................................................................................",27985,"",280,16515,"",59,128,452]
[3203064,"",3228,"",32,12950,"",401,"x","x"]
[3203065,"",24757,"",248,3565,"",14,"x","x"]
["","Powiat goleniowski  (6 gmin)"]
["",""]
[3204052,"  Osina..........................................................................................................................................................................................................................................................",10166,"",102,3039,"",30,1360,2183]
[3204062,"  Przybiernów..........................................................................................................................................................................................................................................................",22887,"",229,5036,"",22,233,1716]
["",""]
[3204023,"  Goleniów..........................................................................................................................................................................................................................................................",44280,"",443,36058,"",81,11,146]
[3204024,"",1178,"",12,22403,"",1902,"x","x"]
[3204025,"",43102,"",431,13655,"",32,"x","x"]
[3204033,"  Maszewo..........................................................................................................................................................................................................................................................",21035,"",210,8791,"",42,289,1006]
[3204034,"",554,"",6,3363,"",607,"x","x"]
[3204035,"",20481,"",204,5428,"",27,"x","x"]
[3204043,"  Nowogard..........................................................................................................................................................................................................................................................",33867,"",339,24719,"",73,60,250]
[3204044,"",1257,"",13,16671,"",1326,"x","x"]
[3204045,"",32610,"",326,8048,"",25,"x","x"]
[3204073,"  Stepnica..........................................................................................................................................................................................................................................................",29313,"",293,4897,"",17,107,1750]
[3204074,"",340,"",3,2471,"",727,"x","x"]
[3204075,"",28973,"",290,2426,"",8,"x","x"]
["","Powiat gryficki  (6 gmin)"]
["",""]
[3205012,"  Brojce..........................................................................................................................................................................................................................................................",11797,"",118,3767,"",32,1080,2039]
[3205032,"  Karnice..........................................................................................................................................................................................................................................................",13312,"",133,4014,"",30,868,1968]
[3205072,"  Rewal..........................................................................................................................................................................................................................................................",4270,"",43,3853,"",90,2073,2014]
["",""]
[3205023,"  Gryfice..........................................................................................................................................................................................................................................................",26130,"",261,23866,"",91,153,267]
[3205024,"",1240,"",12,16527,"",1333,"x","x"]
[3205025,"",24890,"",249,7339,"",29,"x","x"]
[3205043,"  Płoty..........................................................................................................................................................................................................................................................",23919,"",239,8894,"",37,207,999]
[3205044,"",412,"",4,3983,"",967,"x","x"]
[3205045,"",23507,"",235,4911,"",21,"x","x"]
[3205083,"  Trzebiatów..........................................................................................................................................................................................................................................................",22677,"",227,16223,"",72,241,465]
[3205084,"",1025,"",10,10009,"",976,"x","x"]
[3205085,"",21652,"",217,6214,"",29,"x","x"]
["","Powiat gryfiński  (9 gmin)"]
["",""]
[3206012,"  Banie..........................................................................................................................................................................................................................................................",20630,"",206,6375,"",31,311,1411]
[3206072,"  Stare Czarnowo..........................................................................................................................................................................................................................................................",15288,"",153,3837,"",25,649,2017]
[3206092,"  Widuchowa..........................................................................................................................................................................................................................................................",20945,"",210,5465,"",26,291,1613]
["",""]
[3206023,"  Cedynia..........................................................................................................................................................................................................................................................",18061,"",181,4306,"",24,443,1898]
[3206024,"",167,"",2,1573,"",942,"x","x"]
[3206025,"",17894,"",179,2733,"",15,"x","x"]
[3206033,"  Chojna..........................................................................................................................................................................................................................................................",33230,"",332,13758,"",41,63,580]
[3206034,"",1258,"",12,7390,"",587,"x","x"]
[3206035,"",31972,"",320,6368,"",20,"x","x"]
[3206043,"  Gryfino..........................................................................................................................................................................................................................................................",25390,"",254,32025,"",126,175,172]
[3206044,"",1181,"",12,21274,"",1801,"x","x"]
[3206045,"",24209,"",242,10751,"",44,"x","x"]
[3206053,"  Mieszkowice..........................................................................................................................................................................................................................................................",23865,"",239,7134,"",30,209,1275]
[3206054,"",525,"",5,3645,"",694,"x","x"]
[3206055,"",23340,"",234,3489,"",15,"x","x"]
[3206063,"  Moryń..........................................................................................................................................................................................................................................................",12457,"",125,4301,"",35,986,1901]
[3206064,"",554,"",6,1626,"",294,"x","x"]
[3206065,"",11903,"",119,2675,"",22,"x","x"]
[3206083,"  Trzcińsko-Zdrój..........................................................................................................................................................................................................................................................",17045,"",170,5329,"",31,514,1645]
[3206084,"",233,"",2,2273,"",976,"x","x"]
[3206085,"",16812,"",168,3056,"",18,"x","x"]
["","Powiat kamieński  (6 gmin)"]
["",""]
[3207052,"  Świerzno..........................................................................................................................................................................................................................................................",14013,"",140,4226,"",30,782,1923]
["",""]
[3207013,"  Dziwnów..........................................................................................................................................................................................................................................................",3949,"",40,3982,"",101,2096,1976]
[3207014,"",652,"",7,2698,"",414,"x","x"]
[3207015,"",3297,"",33,1284,"",39,"x","x"]
[3207023,"  Golczewo..........................................................................................................................................................................................................................................................",17531,"",175,5906,"",34,483,1520]
[3207024,"",742,"",7,2673,"",360,"x","x"]
[3207025,"",16789,"",168,3233,"",19,"x","x"]
[3207033,"  Kamień Pomorski..........................................................................................................................................................................................................................................................",20854,"",209,14393,"",69,295,550]
[3207034,"",1074,"",11,8846,"",824,"x","x"]
[3207035,"",19780,"",198,5547,"",28,"x","x"]
[3207043,"  Międzyzdroje..........................................................................................................................................................................................................................................................",11607,"",116,6504,"",56,1112,1390]
[3207044,"",516,"",5,5399,"",1046,"x","x"]
[3207045,"",11091,"",111,1105,"",10,"x","x"]
[3207063,"  Wolin..........................................................................................................................................................................................................................................................",32762,"",327,12216,"",37,69,681]
[3207064,"",1447,"",14,4828,"",334,"x","x"]
[3207065,"",31315,"",313,7388,"",24,"x","x"]
["","Powiat kołobrzeski  (7 gmin)"]
["",""]
[3208011,"  Kołobrzeg (b)..........................................................................................................................................................................................................................................................",2567,"",26,46367,"",1806,2194,105]
["",""]
[3208022,"  Dygowo..........................................................................................................................................................................................................................................................",12852,"",129,5654,"",44,935,1560]
[3208042,"  Kołobrzeg..........................................................................................................................................................................................................................................................",14403,"",144,10944,"",76,742,784]
[3208052,"  Rymań..........................................................................................................................................................................................................................................................",14615,"",146,3949,"",27,717,1985]
[3208062,"  Siemyśl..........................................................................................................................................................................................................................................................",10731,"",107,3810,"",36,1268,2027]
[3208072,"  Ustronie Morskie..........................................................................................................................................................................................................................................................",5698,"",57,3693,"",65,1973,2056]
["",""]
[3208033,"  Gościno..........................................................................................................................................................................................................................................................",11600,"",116,5130,"",44,1115,1696]
[3208034,"",570,"",6,2417,"",424,"x","x"]
[3208035,"",11030,"",110,2713,"",25,"x","x"]
["","Powiat koszaliński  (8 gmin)"]
["",""]
[3209012,"  Będzino..........................................................................................................................................................................................................................................................",16619,"",166,8665,"",52,549,1023]
[3209022,"  Biesiekierz..........................................................................................................................................................................................................................................................",11660,"",116,6941,"",60,1103,1309]
[3209042,"  Manowo..........................................................................................................................................................................................................................................................",18831,"",188,6937,"",37,402,1310]
[3209082,"  Świeszyno..........................................................................................................................................................................................................................................................",13256,"",133,7281,"",55,876,1248]
["",""]
[3209033,"  Bobolice..........................................................................................................................................................................................................................................................",36756,"",368,9024,"",25,40,983]
[3209034,"",477,"",5,4018,"",842,"x","x"]
[3209035,"",36279,"",363,5006,"",14,"x","x"]
[3209053,"  Mielno..........................................................................................................................................................................................................................................................",6213,"",62,4906,"",79,1934,1749]
[3209054,"",3345,"",33,2952,"",88,"x","x"]
[3209055,"",2868,"",29,1954,"",68,"x","x"]
[3209063,"  Polanów..........................................................................................................................................................................................................................................................",39335,"",393,8753,"",22,27,1011]
[3209064,"",737,"",7,2918,"",396,"x","x"]
[3209065,"",38598,"",386,5835,"",15,"x","x"]
[3209073,"  Sianów..........................................................................................................................................................................................................................................................",22676,"",227,13848,"",61,242,576]
[3209074,"",1588,"",16,6664,"",420,"x","x"]
[3209075,"",21088,"",211,7184,"",34,"x","x"]
["","Powiat łobeski  (5 gmin)"]
["",""]
[3218032,"  Radowo Małe..........................................................................................................................................................................................................................................................",18046,"",181,3621,"",20,444,2073]
["",""]
[3218013,"  Dobra..........................................................................................................................................................................................................................................................",11590,"",116,4403,"",38,1119,1875]
[3218014,"",237,"",2,2326,"",981,"x","x"]
[3218015,"",11353,"",114,2077,"",18,"x","x"]
[3218023,"  Łobez..........................................................................................................................................................................................................................................................",22739,"",227,14049,"",62,238,570]
[3218024,"",1284,"",13,10241,"",798,"x","x"]
[3218025,"",21455,"",214,3808,"",18,"x","x"]
[3218043,"  Resko..........................................................................................................................................................................................................................................................",28520,"",285,8032,"",28,121,1124]
[3218044,"",449,"",4,4231,"",942,"x","x"]
[3218045,"",28071,"",281,3801,"",14,"x","x"]
[3218053,"  Węgorzyno..........................................................................................................................................................................................................................................................",25618,"",256,6999,"",27,165,1299]
[3218054,"",685,"",7,2831,"",413,"x","x"]
[3218055,"",24933,"",249,4168,"",17,"x","x"]
["","Powiat myśliborski  (5 gmin)"]
["",""]
[3210022,"  Boleszkowice..........................................................................................................................................................................................................................................................",13049,"",130,2878,"",22,903,2206]
[3210052,"  Nowogródek Pomorski..........................................................................................................................................................................................................................................................",14590,"",146,3380,"",23,722,2120]
["",""]
[3210013,"  Barlinek..........................................................................................................................................................................................................................................................",25872,"",259,19377,"",75,160,362]
[3210014,"",1755,"",18,13803,"",786,"x","x"]
[3210015,"",24117,"",241,5574,"",23,"x","x"]
[3210033,"  Dębno..........................................................................................................................................................................................................................................................",31843,"",318,20711,"",65,81,329]
[3210034,"",1951,"",20,13843,"",710,"x","x"]
[3210035,"",29892,"",298,6868,"",23,"x","x"]
[3210043,"  Myślibórz..........................................................................................................................................................................................................................................................",32886,"",329,19918,"",61,67,345]
[3210044,"",1504,"",15,11235,"",747,"x","x"]
[3210045,"",31382,"",314,8683,"",28,"x","x"]
["","Powiat policki  (4 gminy)"]
["",""]
[3211012,"  Dobra (Szczecińska)..........................................................................................................................................................................................................................................................",11028,"",110,23472,"",213,1220,276]
[3211022,"  Kołbaskowo..........................................................................................................................................................................................................................................................",10546,"",105,13022,"",123,1295,626]
["",""]
[3211033,"  Nowe Warpno..........................................................................................................................................................................................................................................................",19788,"",198,1648,"↓",8,356,2289]
[3211034,"",2451,"",25,1192,"",49,"x","x"]
[3211035,"",17337,"",173,456,"",3,"x","x"]
[3211043,"  Police..........................................................................................................................................................................................................................................................",25171,"",252,41334,"",164,178,121]
[3211044,"",3731,"",37,32685,"",876,"x","x"]
[3211045,"",21440,"",215,8649,"",40,"x","x"]
["","Powiat pyrzycki  (6 gmin)"]
["",""]
[3212012,"  Bielice..........................................................................................................................................................................................................................................................",8419,"",84,3130,"",37,1635,2169]
[3212022,"  Kozielice..........................................................................................................................................................................................................................................................",9453,"",95,2535,"",27,1478,2246]
[3212042,"  Przelewice..........................................................................................................................................................................................................................................................",16201,"",162,5137,"",32,581,1694]
[3212062,"  Warnice..........................................................................................................................................................................................................................................................",8614,"",86,3516,"",41,1591,2089]
["",""]
[3212033,"  Lipiany..........................................................................................................................................................................................................................................................",9491,"",95,5901,"",62,1470,1522]
[3212034,"",554,"",6,3946,"",712,"x","x"]
[3212035,"",8937,"",89,1955,"",22,"x","x"]
[3212053,"  Pyrzyce..........................................................................................................................................................................................................................................................",20422,"",204,19420,"",95,321,360]
[3212054,"",3879,"",39,12617,"",325,"x","x"]
[3212055,"",16543,"",165,6803,"",41,"x","x"]
["","Powiat sławieński  (6 gmin)"]
["",""]
[3213011,"  Darłowo (b)..........................................................................................................................................................................................................................................................",2021,"",20,13759,"",681,2235,579]
[3213021,"  Sławno..........................................................................................................................................................................................................................................................",1583,"↓",16,12528,"",791,2273,662]
["",""]
[3213032,"  Darłowo..........................................................................................................................................................................................................................................................",26945,"",269,7973,"",30,138,1130]
[3213042,"  Malechowo..........................................................................................................................................................................................................................................................",22646,"",227,6335,"",28,244,1420]
[3213052,"  Postomino..........................................................................................................................................................................................................................................................",22686,"",227,6915,"",30,239,1314]
[3213062,"  Sławno..........................................................................................................................................................................................................................................................",28439,"",284,8899,"",31,124,998]
["","Powiat stargardzki  (10 gmin)"]
["",""]
[3214011,"  Stargard..........................................................................................................................................................................................................................................................",4808,"",48,67938,"",1413,2036,58]
["",""]
[3214042,"  Dolice..........................................................................................................................................................................................................................................................",23717,"",237,7887,"",33,211,1144]
[3214062,"  Kobylanka..........................................................................................................................................................................................................................................................",12168,"",122,5530,"",45,1028,1596]
[3214082,"  Marianowo..........................................................................................................................................................................................................................................................",10194,"",102,3175,"",31,1355,2161]
[3214092,"  Stara Dąbrowa..........................................................................................................................................................................................................................................................",11259,"",113,3707,"",33,1167,2052]
[3214102,"  Stargard..........................................................................................................................................................................................................................................................",31888,"",318,13446,"",42,80,598]
["",""]
[3214023,"  Chociwel..........................................................................................................................................................................................................................................................",16082,"",161,5919,"",37,590,1514]
[3214024,"",367,"",4,3209,"",874,"x","x"]
[3214025,"",15715,"",157,2710,"",17,"x","x"]
[3214033,"  Dobrzany..........................................................................................................................................................................................................................................................",13472,"",135,4854,"",36,843,1764]
[3214034,"",534,"",5,2264,"",424,"x","x"]
[3214035,"",12938,"",130,2590,"",20,"x","x"]
[3214053,"  Ińsko..........................................................................................................................................................................................................................................................",15101,"",151,3364,"",22,666,2125]
[3214054,"",748,"",7,1929,"",258,"x","x"]
[3214055,"",14353,"",144,1435,"",10,"x","x"]
[3214113,"  Suchań..........................................................................................................................................................................................................................................................",13305,"",133,4292,"",32,870,1906]
[3214114,"",357,"",4,1477,"",414,"x","x"]
[3214115,"",12948,"",129,2815,"",22,"x","x"]
["","Powiat szczecinecki  (6 gmin)"]
["",""]
[3215011,"  Szczecinek..........................................................................................................................................................................................................................................................",4848,"",48,40114,"",827,2032,126]
["",""]
[3215052,"  Grzmiąca..........................................................................................................................................................................................................................................................",20512,"",205,4721,"",23,317,1795]
[3215062,"  Szczecinek..........................................................................................................................................................................................................................................................",49887,"",500,9278,"",19,4,944]
["",""]
[3215023,"  Barwice..........................................................................................................................................................................................................................................................",25852,"",259,8570,"",33,162,1040]
[3215024,"",752,"",8,3723,"",495,"x","x"]
[3215025,"",25100,"",251,4847,"",19,"x","x"]
[3215033,"  Biały Bór..........................................................................................................................................................................................................................................................",26993,"",270,5299,"",20,137,1653]
[3215034,"",1282,"",13,2199,"",172,"x","x"]
[3215035,"",25711,"",257,3100,"",12,"x","x"]
[3215043,"  Borne Sulinowo..........................................................................................................................................................................................................................................................",48450,"",484,9983,"",21,5,871]
[3215044,"",1815,"",18,5090,"",280,"x","x"]
[3215045,"",46635,"",466,4893,"",10,"x","x"]
["","Powiat świdwiński  (6 gmin)"]
["",""]
[3216011,"  Świdwin..........................................................................................................................................................................................................................................................",2238,"",22,15594,"",697,2212,493]
["",""]
[3216022,"  Brzeżno..........................................................................................................................................................................................................................................................",11081,"",111,2792,"",25,1205,2216]
[3216042,"  Rąbino..........................................................................................................................................................................................................................................................",17968,"",180,3622,"",20,452,2072]
[3216052,"  Sławoborze..........................................................................................................................................................................................................................................................",18866,"",189,4052,"",21,399,1959]
[3216062,"  Świdwin..........................................................................................................................................................................................................................................................",24725,"",247,5907,"",24,187,1519]
["",""]
[3216033,"  Połczyn-Zdrój..........................................................................................................................................................................................................................................................",34428,"",344,15275,"",44,55,508]
[3216034,"",721,"",8,8109,"",1125,"x","x"]
[3216035,"",33707,"",336,7166,"",21,"x","x"]
["","Powiat wałecki  (5 gmin)"]
["",""]
[3217011,"  Wałcz..........................................................................................................................................................................................................................................................",3817,"",38,25359,"",664,2104,245]
["",""]
[3217052,"  Wałcz..........................................................................................................................................................................................................................................................",57491,"↑",575,12683,"",22,2,649]
["",""]
[3217023,"  Człopa..........................................................................................................................................................................................................................................................",34905,"",349,4992,"",14,50,1725]
[3217024,"",627,"",6,2326,"",371,"x","x"]
[3217025,"",34278,"",343,2666,"",8,"x","x"]
[3217033,"  Mirosławiec..........................................................................................................................................................................................................................................................",20335,"",203,5474,"",27,325,1609]
[3217034,"",241,"",2,3089,"",1282,"x","x"]
[3217035,"",20094,"",201,2385,"",12,"x","x"]
[3217043,"  Tuczno..........................................................................................................................................................................................................................................................",24950,"",250,4954,"",20,184,1733]
[3217044,"",921,"",9,1916,"",208,"x","x"]
[3217045,"",24029,"",241,3038,"",13,"x","x"]
["",""]
[3261011,"  Koszalin..........................................................................................................................................................................................................................................................",9834,"",98,107321,"",1091,1416,37]
[3262011,"  Szczecin (b)..........................................................................................................................................................................................................................................................",30060,"",301,402465,"↑",1339,96,7]
[3263011,"  Świnoujście (b)..........................................................................................................................................................................................................................................................",20207,"",202,40910,"",202,336,122]

{"sheet":"Arkusz1","index":5,"n_rows":16386,"n_cols":11,"rows_kept":16386,"cut":false,"hidden":true,"merged":[]}
[null,null,null,null,null,"Kolumna1"]
[null,{"$f":"TRANSPOSE('SPRAWOZDANIE CZĘŚĆ II'!26:26)","v":"NIP"},null,null,null,{"$f":"INDEX($A$2:$B$2001,E3+1,2)","v":0},{"$f":"IFERROR(F2,0)","v":0},{"$f":"MATCH(G2:G200,G2:G200,0)","v":1},{"$f":"IF(G2=0,\"\",H2)","v":""},null,{"$f":"SUMPRODUCT(--(FREQUENCY($I$2:$I$2000,$I$2:$I$2000)>0))","v":0}]
[{"$f":"TRANSPOSE('SPRAWOZDANIE CZĘŚĆ II'!26:26)","v":"NIP"},0,null,{"$f":"IF(A3=$B$2,ROW(A3)-ROW($B$2))","v":1},{"$f":"SMALL($D$3:$D$2001,ROWS($E$3:E3))","v":1},{"$f":"INDEX($A$2:$B$2001,E4+1,2)","v":0},{"$f":"IFERROR(F3,0)","v":0},1,{"$f":"IF(G3=0,\"\",H3)","v":""}]
[0,"NAZWA",null,{"$f":"IF(A4=$B$2,ROW(A4)-ROW($B$2))","v":false},{"$f":"SMALL($D$3:$D$2001,ROWS($E$3:E4))","v":10},{"$f":"INDEX($A$2:$B$2001,E5+1,2)","v":0},0,1,""]
["NAZWA",0,null,false,{"$f":"SMALL($D$3:$D$2001,ROWS($E$3:E5))","v":19},{"$f":"INDEX($A$2:$B$2001,E6+1,2)","v":0},0,1,""]
[0,0,null,false,{"$f":"SMALL($D$3:$D$2001,ROWS($E$3:E6))","v":28},{"$f":"INDEX($A$2:$B$2001,E7+1,2)","v":0},0,1,""]
[0,0,null,false,{"$f":"SMALL($D$3:$D$2001,ROWS($E$3:E7))","v":37},{"$f":"INDEX($A$2:$B$2001,E8+1,2)","v":0},0,1,""]
[0,0,null,false,{"$f":"SMALL($D$3:$D$2001,ROWS($E$3:E8))","v":46},{"$f":"INDEX($A$2:$B$2001,E9+1,2)","v":0},0,1,""]
[0,0,null,false,{"$f":"SMALL($D$3:$D$2001,ROWS($E$3:E9))","v":55},{"$f":"INDEX($A$2:$B$2001,E10+1,2)","v":0},0,1,""]
[0,0,null,false,{"$f":"SMALL($D$3:$D$2001,ROWS($E$3:E10))","v":64},{"$f":"INDEX($A$2:$B$2001,E11+1,2)","v":0},0,1,""]
[0,"NIP",null,false,{"$f":"SMALL($D$3:$D$2001,ROWS($E$3:E11))","v":73},{"$f":"INDEX($A$2:$B$2001,E12+1,2)","v":0},0,1,""]
["NIP",0,null,10,{"$f":"SMALL($D$3:$D$2001,ROWS($E$3:E12))","v":82},{"$f":"INDEX($A$2:$B$2001,E13+1,2)","v":0},0,1,""]
[0,"NAZWA",null,false,{"$f":"SMALL($D$3:$D$2001,ROWS($E$3:E13))","v":91},{"$f":"INDEX($A$2:$B$2001,E14+1,2)","v":0},0,1,""]
["NAZWA",0,null,false,{"$f":"SMALL($D$3:$D$2001,ROWS($E$3:E14))","v":100},{"$f":"INDEX($A$2:$B$2001,E15+1,2)","v":0},0,1,""]
[0,0,null,false,{"$f":"SMALL($D$3:$D$2001,ROWS($E$3:E15))","v":109},{"$f":"INDEX($A$2:$B$2001,E16+1,2)","v":{"$error":"#NUM!"}},0,1,""]
[0,0,null,false,{"$f":"SMALL($D$3:$D$2001,ROWS($E$3:E16))","v":{"$error":"#NUM!"}},{"$f":"INDEX($A$2:$B$2001,E17+1,2)","v":{"$error":"#NUM!"}},0,1,""]
[0,0,null,false,{"$f":"SMALL($D$3:$D$2001,ROWS($E$3:E17))","v":{"$error":"#NUM!"}},{"$f":"INDEX($A$2:$B$2001,E18+1,2)","v":{"$error":"#NUM!"}},0,1,""]
[0,0,null,false,{"$f":"SMALL($D$3:$D$2001,ROWS($E$3:E18))","v":{"$error":"#NUM!"}},{"$f":"INDEX($A$2:$B$2001,E19+1,2)","v":{"$error":"#NUM!"}},0,1,""]
[0,0,null,false,{"$f":"SMALL($D$3:$D$2001,ROWS($E$3:E19))","v":{"$error":"#NUM!"}},{"$f":"INDEX($A$2:$B$2001,E20+1,2)","v":{"$error":"#NUM!"}},0,1,""]
[0,"NIP",null,false,{"$f":"SMALL($D$3:$D$2001,ROWS($E$3:E20))","v":{"$error":"#NUM!"}},{"$f":"INDEX($A$2:$B$2001,E21+1,2)","v":{"$error":"#NUM!"}},0,1,""]
["NIP",0,null,19,{"$f":"SMALL($D$3:$D$2001,ROWS($E$3:E21))","v":{"$error":"#NUM!"}},{"$f":"INDEX($A$2:$B$2001,E22+1,2)","v":{"$error":"#NUM!"}},0,1,""]
[0,"NAZWA",null,false,{"$f":"SMALL($D$3:$D$2001,ROWS($E$3:E22))","v":{"$error":"#NUM!"}},{"$f":"INDEX($A$2:$B$2001,E23+1,2)","v":{"$error":"#NUM!"}},0,1,""]
["NAZWA",0,null,false,{"$f":"SMALL($D$3:$D$2001,ROWS($E$3:E23))","v":{"$error":"#NUM!"}},{"$f":"INDEX($A$2:$B$2001,E24+1,2)","v":{"$error":"#NUM!"}},0,1,""]
[0,0,null,false,{"$f":"SMALL($D$3:$D$2001,ROWS($E$3:E24))","v":{"$error":"#NUM!"}},{"$f":"INDEX($A$2:$B$2001,E25+1,2)","v":{"$error":"#NUM!"}},0,1,""]
[0,0,null,false,{"$f":"SMALL($D$3:$D$2001,ROWS($E$3:E25))","v":{"$error":"#NUM!"}},{"$f":"INDEX($A$2:$B$2001,E26+1,2)","v":{"$error":"#NUM!"}},0,1,""]
[0,0,null,false,{"$f":"SMALL($D$3:$D$2001,ROWS($E$3:E26))","v":{"$error":"#NUM!"}},{"$f":"INDEX($A$2:$B$2001,E27+1,2)","v":{"$error":"#NUM!"}},0,1,""]
[0,0,null,false,{"$f":"SMALL($D$3:$D$2001,ROWS($E$3:E27))","v":{"$error":"#NUM!"}},{"$f":"INDEX($A$2:$B$2001,E28+1,2)","v":{"$error":"#NUM!"}},0,1,""]
[0,0,null,false,{"$f":"SMALL($D$3:$D$2001,ROWS($E$3:E28))","v":{"$error":"#NUM!"}},{"$f":"INDEX($A$2:$B$2001,E29+1,2)","v":{"$error":"#NUM!"}},0,1,""]
[0,"NIP",null,false,{"$f":"SMALL($D$3:$D$2001,ROWS($E$3:E29))","v":{"$error":"#NUM!"}},{"$f":"INDEX($A$2:$B$2001,E30+1,2)","v":{"$error":"#NUM!"}},0,1,""]
["NIP",0,null,28,{"$f":"SMALL($D$3:$D$2001,ROWS($E$3:E30))","v":{"$error":"#NUM!"}},{"$f":"INDEX($A$2:$B$2001,E31+1,2)","v":{"$error":"#NUM!"}},0,1,""]
[0,"NAZWA",null,false,{"$f":"SMALL($D$3:$D$2001,ROWS($E$3:E31))","v":{"$error":"#NUM!"}},{"$f":"INDEX($A$2:$B$2001,E32+1,2)","v":{"$error":"#NUM!"}},0,1,""]
["NAZWA",0,null,false,{"$f":"SMALL($D$3:$D$2001,ROWS($E$3:E32))","v":{"$error":"#NUM!"}},{"$f":"INDEX($A$2:$B$2001,E33+1,2)","v":{"$error":"#NUM!"}},0,1,""]
[0,0,null,false,{"$f":"SMALL($D$3:$D$2001,ROWS($E$3:E33))","v":{"$error":"#NUM!"}},{"$f":"INDEX($A$2:$B$2001,E34+1,2)","v":{"$error":"#NUM!"}},0,1,""]
[0,0,null,false,{"$f":"SMALL($D$3:$D$2001,ROWS($E$3:E34))","v":{"$error":"#NUM!"}},{"$f":"INDEX($A$2:$B$2001,E35+1,2)","v":{"$error":"#NUM!"}},0,1,""]
[0,0,null,false,{"$f":"SMALL($D$3:$D$2001,ROWS($E$3:E35))","v":{"$error":"#NUM!"}},{"$f":"INDEX($A$2:$B$2001,E36+1,2)","v":{"$error":"#NUM!"}},0,1,""]
[0,0,null,false,{"$f":"SMALL($D$3:$D$2001,ROWS($E$3:E36))","v":{"$error":"#NUM!"}},{"$f":"INDEX($A$2:$B$2001,E37+1,2)","v":{"$error":"#NUM!"}},0,1,""]
[0,0,null,false,{"$f":"SMALL($D$3:$D$2001,ROWS($E$3:E37))","v":{"$error":"#NUM!"}},{"$f":"INDEX($A$2:$B$2001,E38+1,2)","v":{"$error":"#NUM!"}},0,1,""]
[0,"NIP",null,false,{"$f":"SMALL($D$3:$D$2001,ROWS($E$3:E38))","v":{"$error":"#NUM!"}},{"$f":"INDEX($A$2:$B$2001,E39+1,2)","v":{"$error":"#NUM!"}},0,1,""]
["NIP",0,null,37,{"$f":"SMALL($D$3:$D$2001,ROWS($E$3:E39))","v":{"$error":"#NUM!"}},{"$f":"INDEX($A$2:$B$2001,E40+1,2)","v":{"$error":"#NUM!"}},0,1,""]
[0,"NAZWA",null,false,{"$f":"SMALL($D$3:$D$2001,ROWS($E$3:E40))","v":{"$error":"#NUM!"}},{"$f":"INDEX($A$2:$B$2001,E41+1,2)","v":{"$error":"#NUM!"}},0,1,""]
["NAZWA",0,null,false,{"$f":"SMALL($D$3:$D$2001,ROWS($E$3:E41))","v":{"$error":"#NUM!"}},{"$f":"INDEX($A$2:$B$2001,E42+1,2)","v":{"$error":"#NUM!"}},0,1,""]
[0,0,null,false,{"$f":"SMALL($D$3:$D$2001,ROWS($E$3:E42))","v":{"$error":"#NUM!"}},{"$f":"INDEX($A$2:$B$2001,E43+1,2)","v":{"$error":"#NUM!"}},0,1,""]
[0,0,null,false,{"$f":"SMALL($D$3:$D$2001,ROWS($E$3:E43))","v":{"$error":"#NUM!"}},{"$f":"INDEX($A$2:$B$2001,E44+1,2)","v":{"$error":"#NUM!"}},0,1,""]
[0,0,null,false,{"$f":"SMALL($D$3:$D$2001,ROWS($E$3:E44))","v":{"$error":"#NUM!"}},{"$f":"INDEX($A$2:$B$2001,E45+1,2)","v":{"$error":"#NUM!"}},0,1,""]
[0,0,null,false,{"$f":"SMALL($D$3:$D$2001,ROWS($E$3:E45))","v":{"$error":"#NUM!"}},{"$f":"INDEX($A$2:$B$2001,E46+1,2)","v":{"$error":"#NUM!"}},0,1,""]
[0,0,null,false,{"$f":"SMALL($D$3:$D$2001,ROWS($E$3:E46))","v":{"$error":"#NUM!"}},{"$f":"INDEX($A$2:$B$2001,E47+1,2)","v":{"$error":"#NUM!"}},0,1,""]
[0,"NIP",null,false,{"$f":"SMALL($D$3:$D$2001,ROWS($E$3:E47))","v":{"$error":"#NUM!"}},{"$f":"INDEX($A$2:$B$2001,E48+1,2)","v":{"$error":"#NUM!"}},0,1,""]
["NIP",0,null,46,{"$f":"SMALL($D$3:$D$2001,ROWS($E$3:E48))","v":{"$error":"#NUM!"}},{"$f":"INDEX($A$2:$B$2001,E49+1,2)","v":{"$error":"#NUM!"}},0,1,""]
[0,"NAZWA",null,false,{"$f":"SMALL($D$3:$D$2001,ROWS($E$3:E49))","v":{"$error":"#NUM!"}},{"$f":"INDEX($A$2:$B$2001,E50+1,2)","v":{"$error":"#NUM!"}},0,1,""]
["NAZWA",0,null,false,{"$f":"SMALL($D$3:$D$2001,ROWS($E$3:E50))","v":{"$error":"#NUM!"}},{"$f":"INDEX($A$2:$B$2001,E51+1,2)","v":{"$error":"#NUM!"}},0,1,""]
[0,0,null,false,{"$f":"SMALL($D$3:$D$2001,ROWS($E$3:E51))","v":{"$error":"#NUM!"}},{"$f":"INDEX($A$2:$B$2001,E52+1,2)","v":{"$error":"#NUM!"}},0,1,""]
[0,0,null,false,{"$f":"SMALL($D$3:$D$2001,ROWS($E$3:E52))","v":{"$error":"#NUM!"}},{"$f":"INDEX($A$2:$B$2001,E53+1,2)","v":{"$error":"#NUM!"}},0,1,""]
[0,0,null,false,{"$f":"SMALL($D$3:$D$2001,ROWS($E$3:E53))","v":{"$error":"#NUM!"}},{"$f":"INDEX($A$2:$B$2001,E54+1,2)","v":{"$error":"#NUM!"}},0,1,""]
[0,0,null,false,{"$f":"SMALL($D$3:$D$2001,ROWS($E$3:E54))","v":{"$error":"#NUM!"}},{"$f":"INDEX($A$2:$B$2001,E55+1,2)","v":{"$error":"#NUM!"}},0,1,""]
[0,0,null,false,{"$f":"SMALL($D$3:$D$2001,ROWS($E$3:E55))","v":{"$error":"#NUM!"}},{"$f":"INDEX($A$2:$B$2001,E56+1,2)","v":{"$error":"#NUM!"}},0,1,""]
[0,"NIP",null,false,{"$f":"SMALL($D$3:$D$2001,ROWS($E$3:E56))","v":{"$error":"#NUM!"}},{"$f":"INDEX($A$2:$B$2001,E57+1,2)","v":{"$error":"#NUM!"}},0,1,""]
["NIP",0,null,55,{"$f":"SMALL($D$3:$D$2001,ROWS($E$3:E57))","v":{"$error":"#NUM!"}},{"$f":"INDEX($A$2:$B$2001,E58+1,2)","v":{"$error":"#NUM!"}},0,1,""]
[0,"NAZWA",null,false,{"$f":"SMALL($D$3:$D$2001,ROWS($E$3:E58))","v":{"$error":"#NUM!"}},{"$f":"INDEX($A$2:$B$2001,E59+1,2)","v":{"$error":"#NUM!"}},0,1,""]
["NAZWA",0,null,false,{"$f":"SMALL($D$3:$D$2001,ROWS($E$3:E59))","v":{"$error":"#NUM!"}},{"$f":"INDEX($A$2:$B$2001,E60+1,2)","v":{"$error":"#NUM!"}},0,1,""]
[0,0,null,false,{"$f":"SMALL($D$3:$D$2001,ROWS($E$3:E60))","v":{"$error":"#NUM!"}},{"$f":"INDEX($A$2:$B$2001,E61+1,2)","v":{"$error":"#NUM!"}},0,1,""]
[0,0,null,false,{"$f":"SMALL($D$3:$D$2001,ROWS($E$3:E61))","v":{"$error":"#NUM!"}},{"$f":"INDEX($A$2:$B$2001,E62+1,2)","v":{"$error":"#NUM!"}},0,1,""]
[0,0,null,false,{"$f":"SMALL($D$3:$D$2001,ROWS($E$3:E62))","v":{"$error":"#NUM!"}},{"$f":"INDEX($A$2:$B$2001,E63+1,2)","v":{"$error":"#NUM!"}},0,1,""]
[0,0,null,false,{"$f":"SMALL($D$3:$D$2001,ROWS($E$3:E63))","v":{"$error":"#NUM!"}},{"$f":"INDEX($A$2:$B$2001,E64+1,2)","v":{"$error":"#NUM!"}},0,1,""]
[0,0,null,false,{"$f":"SMALL($D$3:$D$2001,ROWS($E$3:E64))","v":{"$error":"#NUM!"}},{"$f":"INDEX($A$2:$B$2001,E65+1,2)","v":{"$error":"#NUM!"}},0,1,""]
[0,"NIP",null,false,{"$f":"SMALL($D$3:$D$2001,ROWS($E$3:E65))","v":{"$error":"#NUM!"}},{"$f":"INDEX($A$2:$B$2001,E66+1,2)","v":{"$error":"#NUM!"}},0,1,""]
["NIP",0,null,64,{"$f":"SMALL($D$3:$D$2001,ROWS($E$3:E66))","v":{"$error":"#NUM!"}},{"$f":"INDEX($A$2:$B$2001,E67+1,2)","v":{"$error":"#NUM!"}},0,1,""]
[0,"NAZWA",null,false,{"$f":"SMALL($D$3:$D$2001,ROWS($E$3:E67))","v":{"$error":"#NUM!"}},{"$f":"INDEX($A$2:$B$2001,E68+1,2)","v":{"$error":"#NUM!"}},{"$f":"IFERROR(F67,0)","v":0},1,{"$f":"IF(G67=0,\"\",H67)","v":""}]
["NAZWA",0,null,{"$f":"IF(A68=$B$2,ROW(A68)-ROW($B$2))","v":false},{"$f":"SMALL($D$3:$D$2001,ROWS($E$3:E68))","v":{"$error":"#NUM!"}},{"$f":"INDEX($A$2:$B$2001,E69+1,2)","v":{"$error":"#NUM!"}},0,1,""]
[0,0,null,false,{"$f":"SMALL($D$3:$D$2001,ROWS($E$3:E69))","v":{"$error":"#NUM!"}},{"$f":"INDEX($A$2:$B$2001,E70+1,2)","v":{"$error":"#NUM!"}},0,1,""]
[0,0,null,false,{"$f":"SMALL($D$3:$D$2001,ROWS($E$3:E70))","v":{"$error":"#NUM!"}},{"$f":"INDEX($A$2:$B$2001,E71+1,2)","v":{"$error":"#NUM!"}},0,1,""]
[0,0,null,false,{"$f":"SMALL($D$3:$D$2001,ROWS($E$3:E71))","v":{"$error":"#NUM!"}},{"$f":"INDEX($A$2:$B$2001,E72+1,2)","v":{"$error":"#NUM!"}},0,1,""]
[0,0,null,false,{"$f":"SMALL($D$3:$D$2001,ROWS($E$3:E72))","v":{"$error":"#NUM!"}},{"$f":"INDEX($A$2:$B$2001,E73+1,2)","v":{"$error":"#NUM!"}},0,1,""]
[0,0,null,false,{"$f":"SMALL($D$3:$D$2001,ROWS($E$3:E73))","v":{"$error":"#NUM!"}},{"$f":"INDEX($A$2:$B$2001,E74+1,2)","v":{"$error":"#NUM!"}},0,1,""]
[0,"NIP",null,false,{"$f":"SMALL($D$3:$D$2001,ROWS($E$3:E74))","v":{"$error":"#NUM!"}},{"$f":"INDEX($A$2:$B$2001,E75+1,2)","v":{"$error":"#NUM!"}},0,1,""]
["NIP",0,null,73,{"$f":"SMALL($D$3:$D$2001,ROWS($E$3:E75))","v":{"$error":"#NUM!"}},{"$f":"INDEX($A$2:$B$2001,E76+1,2)","v":{"$error":"#NUM!"}},0,1,""]
[0,"NAZWA",null,false,{"$f":"SMALL($D$3:$D$2001,ROWS($E$3:E76))","v":{"$error":"#NUM!"}},{"$f":"INDEX($A$2:$B$2001,E77+1,2)","v":{"$error":"#NUM!"}},0,1,""]
["NAZWA",0,null,false,{"$f":"SMALL($D$3:$D$2001,ROWS($E$3:E77))","v":{"$error":"#NUM!"}},{"$f":"INDEX($A$2:$B$2001,E78+1,2)","v":{"$error":"#NUM!"}},0,1,""]
[0,0,null,false,{"$f":"SMALL($D$3:$D$2001,ROWS($E$3:E78))","v":{"$error":"#NUM!"}},{"$f":"INDEX($A$2:$B$2001,E79+1,2)","v":{"$error":"#NUM!"}},0,1,""]
[0,0,null,false,{"$f":"SMALL($D$3:$D$2001,ROWS($E$3:E79))","v":{"$error":"#NUM!"}},{"$f":"INDEX($A$2:$B$2001,E80+1,2)","v":{"$error":"#NUM!"}},0,1,""]
[0,0,null,false,{"$f":"SMALL($D$3:$D$2001,ROWS($E$3:E80))","v":{"$error":"#NUM!"}},{"$f":"INDEX($A$2:$B$2001,E81+1,2)","v":{"$error":"#NUM!"}},0,1,""]
[0,0,null,false,{"$f":"SMALL($D$3:$D$2001,ROWS($E$3:E81))","v":{"$error":"#NUM!"}},{"$f":"INDEX($A$2:$B$2001,E82+1,2)","v":{"$error":"#NUM!"}},0,1,""]
[0,0,null,false,{"$f":"SMALL($D$3:$D$2001,ROWS($E$3:E82))","v":{"$error":"#NUM!"}},{"$f":"INDEX($A$2:$B$2001,E83+1,2)","v":{"$error":"#NUM!"}},0,1,""]
[0,"NIP",null,false,{"$f":"SMALL($D$3:$D$2001,ROWS($E$3:E83))","v":{"$error":"#NUM!"}},{"$f":"INDEX($A$2:$B$2001,E84+1,2)","v":{"$error":"#NUM!"}},0,1,""]
["NIP",0,null,82,{"$f":"SMALL($D$3:$D$2001,ROWS($E$3:E84))","v":{"$error":"#NUM!"}},{"$f":"INDEX($A$2:$B$2001,E85+1,2)","v":{"$error":"#NUM!"}},0,1,""]
[0,"NAZWA",null,false,{"$f":"SMALL($D$3:$D$2001,ROWS($E$3:E85))","v":{"$error":"#NUM!"}},{"$f":"INDEX($A$2:$B$2001,E86+1,2)","v":{"$error":"#NUM!"}},0,1,""]
["NAZWA",0,null,false,{"$f":"SMALL($D$3:$D$2001,ROWS($E$3:E86))","v":{"$error":"#NUM!"}},{"$f":"INDEX($A$2:$B$2001,E87+1,2)","v":{"$error":"#NUM!"}},0,1,""]
[0,0,null,false,{"$f":"SMALL($D$3:$D$2001,ROWS($E$3:E87))","v":{"$error":"#NUM!"}},{"$f":"INDEX($A$2:$B$2001,E88+1,2)","v":{"$error":"#NUM!"}},0,1,""]
[0,0,null,false,{"$f":"SMALL($D$3:$D$2001,ROWS($E$3:E88))","v":{"$error":"#NUM!"}},{"$f":"INDEX($A$2:$B$2001,E89+1,2)","v":{"$error":"#NUM!"}},0,1,""]
[0,0,null,false,{"$f":"SMALL($D$3:$D$2001,ROWS($E$3:E89))","v":{"$error":"#NUM!"}},{"$f":"INDEX($A$2:$B$2001,E90+1,2)","v":{"$error":"#NUM!"}},0,1,""]
[0,0,null,false,{"$f":"SMALL($D$3:$D$2001,ROWS($E$3:E90))","v":{"$error":"#NUM!"}},{"$f":"INDEX($A$2:$B$2001,E91+1,2)","v":{"$error":"#NUM!"}},0,1,""]
[0,0,null,false,{"$f":"SMALL($D$3:$D$2001,ROWS($E$3:E91))","v":{"$error":"#NUM!"}},{"$f":"INDEX($A$2:$B$2001,E92+1,2)","v":{"$error":"#NUM!"}},0,1,""]
[0,"NIP",null,false,{"$f":"SMALL($D$3:$D$2001,ROWS($E$3:E92))","v":{"$error":"#NUM!"}},{"$f":"INDEX($A$2:$B$2001,E93+1,2)","v":{"$error":"#NUM!"}},0,1,""]
["NIP",0,null,91,{"$f":"SMALL($D$3:$D$2001,ROWS($E$3:E93))","v":{"$error":"#NUM!"}},{"$f":"INDEX($A$2:$B$2001,E94+1,2)","v":{"$error":"#NUM!"}},0,1,""]
[0,"NAZWA",null,false,{"$f":"SMALL($D$3:$D$2001,ROWS($E$3:E94))","v":{"$error":"#NUM!"}},{"$f":"INDEX($A$2:$B$2001,E95+1,2)","v":{"$error":"#NUM!"}},0,1,""]
["NAZWA",0,null,false,{"$f":"SMALL($D$3:$D$2001,ROWS($E$3:E95))","v":{"$error":"#NUM!"}},{"$f":"INDEX($A$2:$B$2001,E96+1,2)","v":{"$error":"#NUM!"}},0,1,""]
[0,0,null,false,{"$f":"SMALL($D$3:$D$2001,ROWS($E$3:E96))","v":{"$error":"#NUM!"}},{"$f":"INDEX($A$2:$B$2001,E97+1,2)","v":{"$error":"#NUM!"}},0,1,""]
[0,0,null,false,{"$f":"SMALL($D$3:$D$2001,ROWS($E$3:E97))","v":{"$error":"#NUM!"}},{"$f":"INDEX($A$2:$B$2001,E98+1,2)","v":{"$error":"#NUM!"}},0,1,""]
[0,0,null,false,{"$f":"SMALL($D$3:$D$2001,ROWS($E$3:E98))","v":{"$error":"#NUM!"}},{"$f":"INDEX($A$2:$B$2001,E99+1,2)","v":{"$error":"#NUM!"}},0,1,""]
[0,0,null,false,{"$f":"SMALL($D$3:$D$2001,ROWS($E$3:E99))","v":{"$error":"#NUM!"}},{"$f":"INDEX($A$2:$B$2001,E100+1,2)","v":{"$error":"#NUM!"}},0,1,""]
[0,0,null,false,{"$f":"SMALL($D$3:$D$2001,ROWS($E$3:E100))","v":{"$error":"#NUM!"}},{"$f":"INDEX($A$2:$B$2001,E101+1,2)","v":{"$error":"#NUM!"}},0,1,""]
[0,"NIP",null,false,{"$f":"SMALL($D$3:$D$2001,ROWS($E$3:E101))","v":{"$error":"#NUM!"}},{"$f":"INDEX($A$2:$B$2001,E102+1,2)","v":{"$error":"#NUM!"}},0,1,""]
["NIP",0,null,100,{"$f":"SMALL($D$3:$D$2001,ROWS($E$3:E102))","v":{"$error":"#NUM!"}},{"$f":"INDEX($A$2:$B$2001,E103+1,2)","v":{"$error":"#NUM!"}},0,1,""]
[0,"NAZWA",null,false,{"$f":"SMALL($D$3:$D$2001,ROWS($E$3:E103))","v":{"$error":"#NUM!"}},{"$f":"INDEX($A$2:$B$2001,E104+1,2)","v":{"$error":"#NUM!"}},0,1,""]
["NAZWA",0,null,false,{"$f":"SMALL($D$3:$D$2001,ROWS($E$3:E104))","v":{"$error":"#NUM!"}},{"$f":"INDEX($A$2:$B$2001,E105+1,2)","v":{"$error":"#NUM!"}},0,1,""]
[0,0,null,false,{"$f":"SMALL($D$3:$D$2001,ROWS($E$3:E105))","v":{"$error":"#NUM!"}},{"$f":"INDEX($A$2:$B$2001,E106+1,2)","v":{"$error":"#NUM!"}},0,1,""]
[0,0,null,false,{"$f":"SMALL($D$3:$D$2001,ROWS($E$3:E106))","v":{"$error":"#NUM!"}},{"$f":"INDEX($A$2:$B$2001,E107+1,2)","v":{"$error":"#NUM!"}},0,1,""]
[0,0,null,false,{"$f":"SMALL($D$3:$D$2001,ROWS($E$3:E107))","v":{"$error":"#NUM!"}},{"$f":"INDEX($A$2:$B$2001,E108+1,2)","v":{"$error":"#NUM!"}},0,1,""]
[0,0,null,false,{"$f":"SMALL($D$3:$D$2001,ROWS($E$3:E108))","v":{"$error":"#NUM!"}},{"$f":"INDEX($A$2:$B$2001,E109+1,2)","v":{"$error":"#NUM!"}},0,1,""]
[0,0,null,false,{"$f":"SMALL($D$3:$D$2001,ROWS($E$3:E109))","v":{"$error":"#NUM!"}},{"$f":"INDEX($A$2:$B$2001,E110+1,2)","v":{"$error":"#NUM!"}},0,1,""]
[0,"NIP",null,false,{"$f":"SMALL($D$3:$D$2001,ROWS($E$3:E110))","v":{"$error":"#NUM!"}},{"$f":"INDEX($A$2:$B$2001,E111+1,2)","v":{"$error":"#NUM!"}},0,1,""]
["NIP",0,null,109,{"$f":"SMALL($D$3:$D$2001,ROWS($E$3:E111))","v":{"$error":"#NUM!"}},{"$f":"INDEX($A$2:$B$2001,E112+1,2)","v":{"$error":"#NUM!"}},0,1,""]
[0,"NAZWA",null,false,{"$f":"SMALL($D$3:$D$2001,ROWS($E$3:E112))","v":{"$error":"#NUM!"}},{"$f":"INDEX($A$2:$B$2001,E113+1,2)","v":{"$error":"#NUM!"}},0,1,""]
["NAZWA",0,null,false,{"$f":"SMALL($D$3:$D$2001,ROWS($E$3:E113))","v":{"$error":"#NUM!"}},{"$f":"INDEX($A$2:$B$2001,E114+1,2)","v":{"$error":"#NUM!"}},0,1,""]
[0,0,null,false,{"$f":"SMALL($D$3:$D$2001,ROWS($E$3:E114))","v":{"$error":"#NUM!"}},{"$f":"INDEX($A$2:$B$2001,E115+1,2)","v":{"$error":"#NUM!"}},0,1,""]
[0,0,null,false,{"$f":"SMALL($D$3:$D$2001,ROWS($E$3:E115))","v":{"$error":"#NUM!"}},{"$f":"INDEX($A$2:$B$2001,E116+1,2)","v":{"$error":"#NUM!"}},0,1,""]
[0,0,null,false,{"$f":"SMALL($D$3:$D$2001,ROWS($E$3:E116))","v":{"$error":"#NUM!"}},{"$f":"INDEX($A$2:$B$2001,E117+1,2)","v":{"$error":"#NUM!"}},0,1,""]
[0,0,null,false,{"$f":"SMALL($D$3:$D$2001,ROWS($E$3:E117))","v":{"$error":"#NUM!"}},{"$f":"INDEX($A$2:$B$2001,E118+1,2)","v":{"$error":"#NUM!"}},0,1,""]
[0,0,null,false,{"$f":"SMALL($D$3:$D$2001,ROWS($E$3:E118))","v":{"$error":"#NUM!"}},{"$f":"INDEX($A$2:$B$2001,E119+1,2)","v":{"$error":"#NUM!"}},0,1,""]
[0,0,null,false,{"$f":"SMALL($D$3:$D$2001,ROWS($E$3:E119))","v":{"$error":"#NUM!"}},{"$f":"INDEX($A$2:$B$2001,E120+1,2)","v":{"$error":"#NUM!"}},0,1,""]
[0,0,null,false,{"$f":"SMALL($D$3:$D$2001,ROWS($E$3:E120))","v":{"$error":"#NUM!"}},{"$f":"INDEX($A$2:$B$2001,E121+1,2)","v":{"$error":"#NUM!"}},0,1,""]
[0,0,null,false,{"$f":"SMALL($D$3:$D$2001,ROWS($E$3:E121))","v":{"$error":"#NUM!"}},{"$f":"INDEX($A$2:$B$2001,E122+1,2)","v":{"$error":"#NUM!"}},0,1,""]
[0,0,null,false,{"$f":"SMALL($D$3:$D$2001,ROWS($E$3:E122))","v":{"$error":"#NUM!"}},{"$f":"INDEX($A$2:$B$2001,E123+1,2)","v":{"$error":"#NUM!"}},0,1,""]
[0,0,null,false,{"$f":"SMALL($D$3:$D$2001,ROWS($E$3:E123))","v":{"$error":"#NUM!"}},{"$f":"INDEX($A$2:$B$2001,E124+1,2)","v":{"$error":"#NUM!"}},0,1,""]
[0,0,null,false,{"$f":"SMALL($D$3:$D$2001,ROWS($E$3:E124))","v":{"$error":"#NUM!"}},{"$f":"INDEX($A$2:$B$2001,E125+1,2)","v":{"$error":"#NUM!"}},0,1,""]
[0,0,null,false,{"$f":"SMALL($D$3:$D$2001,ROWS($E$3:E125))","v":{"$error":"#NUM!"}},{"$f":"INDEX($A$2:$B$2001,E126+1,2)","v":{"$error":"#NUM!"}},0,1,""]
[0,0,null,false,{"$f":"SMALL($D$3:$D$2001,ROWS($E$3:E126))","v":{"$error":"#NUM!"}},{"$f":"INDEX($A$2:$B$2001,E127+1,2)","v":{"$error":"#NUM!"}},0,1,""]
[0,0,null,false,{"$f":"SMALL($D$3:$D$2001,ROWS($E$3:E127))","v":{"$error":"#NUM!"}},{"$f":"INDEX($A$2:$B$2001,E128+1,2)","v":{"$error":"#NUM!"}},0,1,""]
[0,0,null,false,{"$f":"SMALL($D$3:$D$2001,ROWS($E$3:E128))","v":{"$error":"#NUM!"}},{"$f":"INDEX($A$2:$B$2001,E129+1,2)","v":{"$error":"#NUM!"}},0,1,""]
[0,0,null,false,{"$f":"SMALL($D$3:$D$2001,ROWS($E$3:E129))","v":{"$error":"#NUM!"}},{"$f":"INDEX($A$2:$B$2001,E130+1,2)","v":{"$error":"#NUM!"}},0,1,""]
[0,0,null,false,{"$f":"SMALL($D$3:$D$2001,ROWS($E$3:E130))","v":{"$error":"#NUM!"}},{"$f":"INDEX($A$2:$B$2001,E131+1,2)","v":{"$error":"#NUM!"}},0,1,""]
[0,0,null,false,{"$f":"SMALL($D$3:$D$2001,ROWS($E$3:E131))","v":{"$error":"#NUM!"}},{"$f":"INDEX($A$2:$B$2001,E132+1,2)","v":{"$error":"#NUM!"}},{"$f":"IFERROR(F131,0)","v":0},1,{"$f":"IF(G131=0,\"\",H131)","v":""}]
[0,0,null,{"$f":"IF(A132=$B$2,ROW(A132)-ROW($B$2))","v":false},{"$f":"SMALL($D$3:$D$2001,ROWS($E$3:E132))","v":{"$error":"#NUM!"}},{"$f":"INDEX($A$2:$B$2001,E133+1,2)","v":{"$error":"#NUM!"}},0,1,""]
[0,0,null,false,{"$f":"SMALL($D$3:$D$2001,ROWS($E$3:E133))","v":{"$error":"#NUM!"}},{"$f":"INDEX($A$2:$B$2001,E134+1,2)","v":{"$error":"#NUM!"}},0,1,""]
[0,0,null,false,{"$f":"SMALL($D$3:$D$2001,ROWS($E$3:E134))","v":{"$error":"#NUM!"}},{"$f":"INDEX($A$2:$B$2001,E135+1,2)","v":{"$error":"#NUM!"}},0,1,""]
[0,0,null,false,{"$f":"SMALL($D$3:$D$2001,ROWS($E$3:E135))","v":{"$error":"#NUM!"}},{"$f":"INDEX($A$2:$B$2001,E136+1,2)","v":{"$error":"#NUM!"}},0,1,""]
[0,0,null,false,{"$f":"SMALL($D$3:$D$2001,ROWS($E$3:E136))","v":{"$error":"#NUM!"}},{"$f":"INDEX($A$2:$B$2001,E137+1,2)","v":{"$error":"#NUM!"}},0,1,""]
[0,0,null,false,{"$f":"SMALL($D$3:$D$2001,ROWS($E$3:E137))","v":{"$error":"#NUM!"}},{"$f":"INDEX($A$2:$B$2001,E138+1,2)","v":{"$error":"#NUM!"}},0,1,""]
[0,0,null,false,{"$f":"SMALL($D$3:$D$2001,ROWS($E$3:E138))","v":{"$error":"#NUM!"}},{"$f":"INDEX($A$2:$B$2001,E139+1,2)","v":{"$error":"#NUM!"}},0,1,""]
[0,0,null,false,{"$f":"SMALL($D$3:$D$2001,ROWS($E$3:E139))","v":{"$error":"#NUM!"}},{"$f":"INDEX($A$2:$B$2001,E140+1,2)","v":{"$error":"#NUM!"}},0,1,""]
[0,0,null,false,{"$f":"SMALL($D$3:$D$2001,ROWS($E$3:E140))","v":{"$error":"#NUM!"}},{"$f":"INDEX($A$2:$B$2001,E141+1,2)","v":{"$error":"#NUM!"}},0,1,""]
[0,0,null,false,{"$f":"SMALL($D$3:$D$2001,ROWS($E$3:E141))","v":{"$error":"#NUM!"}},{"$f":"INDEX($A$2:$B$2001,E142+1,2)","v":{"$error":"#NUM!"}},0,1,""]
[0,0,null,false,{"$f":"SMALL($D$3:$D$2001,ROWS($E$3:E142))","v":{"$error":"#NUM!"}},{"$f":"INDEX($A$2:$B$2001,E143+1,2)","v":{"$error":"#NUM!"}},0,1,""]
[0,0,null,false,{"$f":"SMALL($D$3:$D$2001,ROWS($E$3:E143))","v":{"$error":"#NUM!"}},{"$f":"INDEX($A$2:$B$2001,E144+1,2)","v":{"$error":"#NUM!"}},0,1,""]
[0,0,null,false,{"$f":"SMALL($D$3:$D$2001,ROWS($E$3:E144))","v":{"$error":"#NUM!"}},{"$f":"INDEX($A$2:$B$2001,E145+1,2)","v":{"$error":"#NUM!"}},0,1,""]
[0,0,null,false,{"$f":"SMALL($D$3:$D$2001,ROWS($E$3:E145))","v":{"$error":"#NUM!"}},{"$f":"INDEX($A$2:$B$2001,E146+1,2)","v":{"$error":"#NUM!"}},0,1,""]
[0,0,null,false,{"$f":"SMALL($D$3:$D$2001,ROWS($E$3:E146))","v":{"$error":"#NUM!"}},{"$f":"INDEX($A$2:$B$2001,E147+1,2)","v":{"$error":"#NUM!"}},0,1,""]
[0,0,null,false,{"$f":"SMALL($D$3:$D$2001,ROWS($E$3:E147))","v":{"$error":"#NUM!"}},{"$f":"INDEX($A$2:$B$2001,E148+1,2)","v":{"$error":"#NUM!"}},0,1,""]
[0,0,null,false,{"$f":"SMALL($D$3:$D$2001,ROWS($E$3:E148))","v":{"$error":"#NUM!"}},{"$f":"INDEX($A$2:$B$2001,E149+1,2)","v":{"$error":"#NUM!"}},0,1,""]
[0,0,null,false,{"$f":"SMALL($D$3:$D$2001,ROWS($E$3:E149))","v":{"$error":"#NUM!"}},{"$f":"INDEX($A$2:$B$2001,E150+1,2)","v":{"$error":"#NUM!"}},0,1,""]
[0,0,null,false,{"$f":"SMALL($D$3:$D$2001,ROWS($E$3:E150))","v":{"$error":"#NUM!"}},{"$f":"INDEX($A$2:$B$2001,E151+1,2)","v":{"$error":"#NUM!"}},0,1,""]
[0,0,null,false,{"$f":"SMALL($D$3:$D$2001,ROWS($E$3:E151))","v":{"$error":"#NUM!"}},{"$f":"INDEX($A$2:$B$2001,E152+1,2)","v":{"$error":"#NUM!"}},0,1,""]
[0,0,null,false,{"$f":"SMALL($D$3:$D$2001,ROWS($E$3:E152))","v":{"$error":"#NUM!"}},{"$f":"INDEX($A$2:$B$2001,E153+1,2)","v":{"$error":"#NUM!"}},0,1,""]
[0,0,null,false,{"$f":"SMALL($D$3:$D$2001,ROWS($E$3:E153))","v":{"$error":"#NUM!"}},{"$f":"INDEX($A$2:$B$2001,E154+1,2)","v":{"$error":"#NUM!"}},0,1,""]
[0,0,null,false,{"$f":"SMALL($D$3:$D$2001,ROWS($E$3:E154))","v":{"$error":"#NUM!"}},{"$f":"INDEX($A$2:$B$2001,E155+1,2)","v":{"$error":"#NUM!"}},0,1,""]
[0,0,null,false,{"$f":"SMALL($D$3:$D$2001,ROWS($E$3:E155))","v":{"$error":"#NUM!"}},{"$f":"INDEX($A$2:$B$2001,E156+1,2)","v":{"$error":"#NUM!"}},0,1,""]
[0,0,null,false,{"$f":"SMALL($D$3:$D$2001,ROWS($E$3:E156))","v":{"$error":"#NUM!"}},{"$f":"INDEX($A$2:$B$2001,E157+1,2)","v":{"$error":"#NUM!"}},0,1,""]
[0,0,null,false,{"$f":"SMALL($D$3:$D$2001,ROWS($E$3:E157))","v":{"$error":"#NUM!"}},{"$f":"INDEX($A$2:$B$2001,E158+1,2)","v":{"$error":"#NUM!"}},0,1,""]
[0,0,null,false,{"$f":"SMALL($D$3:$D$2001,ROWS($E$3:E158))","v":{"$error":"#NUM!"}},{"$f":"INDEX($A$2:$B$2001,E159+1,2)","v":{"$error":"#NUM!"}},0,1,""]
[0,0,null,false,{"$f":"SMALL($D$3:$D$2001,ROWS($E$3:E159))","v":{"$error":"#NUM!"}},{"$f":"INDEX($A$2:$B$2001,E160+1,2)","v":{"$error":"#NUM!"}},0,1,""]
[0,0,null,false,{"$f":"SMALL($D$3:$D$2001,ROWS($E$3:E160))","v":{"$error":"#NUM!"}},{"$f":"INDEX($A$2:$B$2001,E161+1,2)","v":{"$error":"#NUM!"}},0,1,""]
[0,0,null,false,{"$f":"SMALL($D$3:$D$2001,ROWS($E$3:E161))","v":{"$error":"#NUM!"}},{"$f":"INDEX($A$2:$B$2001,E162+1,2)","v":{"$error":"#NUM!"}},0,1,""]
[0,0,null,false,{"$f":"SMALL($D$3:$D$2001,ROWS($E$3:E162))","v":{"$error":"#NUM!"}},{"$f":"INDEX($A$2:$B$2001,E163+1,2)","v":{"$error":"#NUM!"}},0,1,""]
[0,0,null,false,{"$f":"SMALL($D$3:$D$2001,ROWS($E$3:E163))","v":{"$error":"#NUM!"}},{"$f":"INDEX($A$2:$B$2001,E164+1,2)","v":{"$error":"#NUM!"}},0,1,""]
[0,0,null,false,{"$f":"SMALL($D$3:$D$2001,ROWS($E$3:E164))","v":{"$error":"#NUM!"}},{"$f":"INDEX($A$2:$B$2001,E165+1,2)","v":{"$error":"#NUM!"}},0,1,""]
[0,0,null,false,{"$f":"SMALL($D$3:$D$2001,ROWS($E$3:E165))","v":{"$error":"#NUM!"}},{"$f":"INDEX($A$2:$B$2001,E166+1,2)","v":{"$error":"#NUM!"}},0,1,""]
[0,0,null,false,{"$f":"SMALL($D$3:$D$2001,ROWS($E$3:E166))","v":{"$error":"#NUM!"}},{"$f":"INDEX($A$2:$B$2001,E167+1,2)","v":{"$error":"#NUM!"}},0,1,""]
[0,0,null,false,{"$f":"SMALL($D$3:$D$2001,ROWS($E$3:E167))","v":{"$error":"#NUM!"}},{"$f":"INDEX($A$2:$B$2001,E168+1,2)","v":{"$error":"#NUM!"}},0,1,""]
[0,0,null,false,{"$f":"SMALL($D$3:$D$2001,ROWS($E$3:E168))","v":{"$error":"#NUM!"}},{"$f":"INDEX($A$2:$B$2001,E169+1,2)","v":{"$error":"#NUM!"}},0,1,""]
[0,0,null,false,{"$f":"SMALL($D$3:$D$2001,ROWS($E$3:E169))","v":{"$error":"#NUM!"}},{"$f":"INDEX($A$2:$B$2001,E170+1,2)","v":{"$error":"#NUM!"}},0,1,""]
[0,0,null,false,{"$f":"SMALL($D$3:$D$2001,ROWS($E$3:E170))","v":{"$error":"#NUM!"}},{"$f":"INDEX($A$2:$B$2001,E171+1,2)","v":{"$error":"#NUM!"}},0,1,""]
[0,0,null,false,{"$f":"SMALL($D$3:$D$2001,ROWS($E$3:E171))","v":{"$error":"#NUM!"}},{"$f":"INDEX($A$2:$B$2001,E172+1,2)","v":{"$error":"#NUM!"}},0,1,""]
[0,0,null,false,{"$f":"SMALL($D$3:$D$2001,ROWS($E$3:E172))","v":{"$error":"#NUM!"}},{"$f":"INDEX($A$2:$B$2001,E173+1,2)","v":{"$error":"#NUM!"}},0,1,""]
[0,0,null,false,{"$f":"SMALL($D$3:$D$2001,ROWS($E$3:E173))","v":{"$error":"#NUM!"}},{"$f":"INDEX($A$2:$B$2001,E174+1,2)","v":{"$error":"#NUM!"}},0,1,""]
[0,0,null,false,{"$f":"SMALL($D$3:$D$2001,ROWS($E$3:E174))","v":{"$error":"#NUM!"}},{"$f":"INDEX($A$2:$B$2001,E175+1,2)","v":{"$error":"#NUM!"}},0,1,""]
[0,0,null,false,{"$f":"SMALL($D$3:$D$2001,ROWS($E$3:E175))","v":{"$error":"#NUM!"}},{"$f":"INDEX($A$2:$B$2001,E176+1,2)","v":{"$error":"#NUM!"}},0,1,""]
[0,0,null,false,{"$f":"SMALL($D$3:$D$2001,ROWS($E$3:E176))","v":{"$error":"#NUM!"}},{"$f":"INDEX($A$2:$B$2001,E177+1,2)","v":{"$error":"#NUM!"}},0,1,""]
[0,0,null,false,{"$f":"SMALL($D$3:$D$2001,ROWS($E$3:E177))","v":{"$error":"#NUM!"}},{"$f":"INDEX($A$2:$B$2001,E178+1,2)","v":{"$error":"#NUM!"}},0,1,""]
[0,0,null,false,{"$f":"SMALL($D$3:$D$2001,ROWS($E$3:E178))","v":{"$error":"#NUM!"}},{"$f":"INDEX($A$2:$B$2001,E179+1,2)","v":{"$error":"#NUM!"}},0,1,""]
[0,0,null,false,{"$f":"SMALL($D$3:$D$2001,ROWS($E$3:E179))","v":{"$error":"#NUM!"}},{"$f":"INDEX($A$2:$B$2001,E180+1,2)","v":{"$error":"#NUM!"}},0,1,""]
[0,0,null,false,{"$f":"SMALL($D$3:$D$2001,ROWS($E$3:E180))","v":{"$error":"#NUM!"}},{"$f":"INDEX($A$2:$B$2001,E181+1,2)","v":{"$error":"#NUM!"}},0,1,""]
[0,0,null,false,{"$f":"SMALL($D$3:$D$2001,ROWS($E$3:E181))","v":{"$error":"#NUM!"}},{"$f":"INDEX($A$2:$B$2001,E182+1,2)","v":{"$error":"#NUM!"}},0,1,""]
[0,0,null,false,{"$f":"SMALL($D$3:$D$2001,ROWS($E$3:E182))","v":{"$error":"#NUM!"}},{"$f":"INDEX($A$2:$B$2001,E183+1,2)","v":{"$error":"#NUM!"}},0,1,""]
[0,0,null,false,{"$f":"SMALL($D$3:$D$2001,ROWS($E$3:E183))","v":{"$error":"#NUM!"}},{"$f":"INDEX($A$2:$B$2001,E184+1,2)","v":{"$error":"#NUM!"}},0,1,""]
[0,0,null,false,{"$f":"SMALL($D$3:$D$2001,ROWS($E$3:E184))","v":{"$error":"#NUM!"}},{"$f":"INDEX($A$2:$B$2001,E185+1,2)","v":{"$error":"#NUM!"}},0,1,""]
[0,0,null,false,{"$f":"SMALL($D$3:$D$2001,ROWS($E$3:E185))","v":{"$error":"#NUM!"}},{"$f":"INDEX($A$2:$B$2001,E186+1,2)","v":{"$error":"#NUM!"}},0,1,""]
[0,0,null,false,{"$f":"SMALL($D$3:$D$2001,ROWS($E$3:E186))","v":{"$error":"#NUM!"}},{"$f":"INDEX($A$2:$B$2001,E187+1,2)","v":{"$error":"#NUM!"}},0,1,""]
[0,0,null,false,{"$f":"SMALL($D$3:$D$2001,ROWS($E$3:E187))","v":{"$error":"#NUM!"}},{"$f":"INDEX($A$2:$B$2001,E188+1,2)","v":{"$error":"#NUM!"}},0,1,""]
[0,0,null,false,{"$f":"SMALL($D$3:$D$2001,ROWS($E$3:E188))","v":{"$error":"#NUM!"}},{"$f":"INDEX($A$2:$B$2001,E189+1,2)","v":{"$error":"#NUM!"}},0,1,""]
[0,0,null,false,{"$f":"SMALL($D$3:$D$2001,ROWS($E$3:E189))","v":{"$error":"#NUM!"}},{"$f":"INDEX($A$2:$B$2001,E190+1,2)","v":{"$error":"#NUM!"}},0,1,""]
[0,0,null,false,{"$f":"SMALL($D$3:$D$2001,ROWS($E$3:E190))","v":{"$error":"#NUM!"}},{"$f":"INDEX($A$2:$B$2001,E191+1,2)","v":{"$error":"#NUM!"}},0,1,""]
[0,0,null,false,{"$f":"SMALL($D$3:$D$2001,ROWS($E$3:E191))","v":{"$error":"#NUM!"}},{"$f":"INDEX($A$2:$B$2001,E192+1,2)","v":{"$error":"#NUM!"}},0,1,""]
[0,0,null,false,{"$f":"SMALL($D$3:$D$2001,ROWS($E$3:E192))","v":{"$error":"#NUM!"}},{"$f":"INDEX($A$2:$B$2001,E193+1,2)","v":{"$error":"#NUM!"}},0,1,""]
[0,0,null,false,{"$f":"SMALL($D$3:$D$2001,ROWS($E$3:E193))","v":{"$error":"#NUM!"}},{"$f":"INDEX($A$2:$B$2001,E194+1,2)","v":{"$error":"#NUM!"}},0,1,""]
[0,0,null,false,{"$f":"SMALL($D$3:$D$2001,ROWS($E$3:E194))","v":{"$error":"#NUM!"}},{"$f":"INDEX($A$2:$B$2001,E195+1,2)","v":{"$error":"#NUM!"}},0,1,""]
[0,0,null,false,{"$f":"SMALL($D$3:$D$2001,ROWS($E$3:E195))","v":{"$error":"#NUM!"}},{"$f":"INDEX($A$2:$B$2001,E196+1,2)","v":{"$error":"#NUM!"}},{"$f":"IFERROR(F195,0)","v":0},1,{"$f":"IF(G195=0,\"\",H195)","v":""}]
[0,0,null,{"$f":"IF(A196=$B$2,ROW(A196)-ROW($B$2))","v":false},{"$f":"SMALL($D$3:$D$2001,ROWS($E$3:E196))","v":{"$error":"#NUM!"}},{"$f":"INDEX($A$2:$B$2001,E197+1,2)","v":{"$error":"#NUM!"}},0,1,""]
[0,0,null,false,{"$f":"SMALL($D$3:$D$2001,ROWS($E$3:E197))","v":{"$error":"#NUM!"}},{"$f":"INDEX($A$2:$B$2001,E198+1,2)","v":{"$error":"#NUM!"}},0,1,""]
[0,0,null,false,{"$f":"SMALL($D$3:$D$2001,ROWS($E$3:E198))","v":{"$error":"#NUM!"}},{"$f":"INDEX($A$2:$B$2001,E199+1,2)","v":{"$error":"#NUM!"}},0,1,""]
[0,0,null,false,{"$f":"SMALL($D$3:$D$2001,ROWS($E$3:E199))","v":{"$error":"#NUM!"}},{"$f":"INDEX($A$2:$B$2001,E200+1,2)","v":{"$error":"#NUM!"}},0,1,""]
[0,0,null,false,{"$f":"SMALL($D$3:$D$2001,ROWS($E$3:E200))","v":{"$error":"#NUM!"}},{"$f":"INDEX($A$2:$B$2001,E201+1,2)","v":{"$error":"#NUM!"}},0,1,""]
[0,0,null,false,{"$f":"SMALL($D$3:$D$2001,ROWS($E$3:E201))","v":{"$error":"#NUM!"}},{"$f":"INDEX($A$2:$B$2001,E202+1,2)","v":{"$error":"#NUM!"}},0,null,""]
[0,0,null,false,{"$f":"SMALL($D$3:$D$2001,ROWS($E$3:E202))","v":{"$error":"#NUM!"}},{"$f":"INDEX($A$2:$B$2001,E203+1,2)","v":{"$error":"#NUM!"}},0,null,""]
[0,0,null,false,{"$f":"SMALL($D$3:$D$2001,ROWS($E$3:E203))","v":{"$error":"#NUM!"}},{"$f":"INDEX($A$2:$B$2001,E204+1,2)","v":{"$error":"#NUM!"}},0,null,""]
[0,0,null,false,{"$f":"SMALL($D$3:$D$2001,ROWS($E$3:E204))","v":{"$error":"#NUM!"}},{"$f":"INDEX($A$2:$B$2001,E205+1,2)","v":{"$error":"#NUM!"}},0,null,""]
[0,0,null,false,{"$f":"SMALL($D$3:$D$2001,ROWS($E$3:E205))","v":{"$error":"#NUM!"}},{"$f":"INDEX($A$2:$B$2001,E206+1,2)","v":{"$error":"#NUM!"}},0,null,""]
[0,0,null,false,{"$f":"SMALL($D$3:$D$2001,ROWS($E$3:E206))","v":{"$error":"#NUM!"}},{"$f":"INDEX($A$2:$B$2001,E207+1,2)","v":{"$error":"#NUM!"}},0,null,""]
[0,0,null,false,{"$f":"SMALL($D$3:$D$2001,ROWS($E$3:E207))","v":{"$error":"#NUM!"}},{"$f":"INDEX($A$2:$B$2001,E208+1,2)","v":{"$error":"#NUM!"}},0,null,""]
[0,0,null,false,{"$f":"SMALL($D$3:$D$2001,ROWS($E$3:E208))","v":{"$error":"#NUM!"}},{"$f":"INDEX($A$2:$B$2001,E209+1,2)","v":{"$error":"#NUM!"}},0,null,""]
[0,0,null,false,{"$f":"SMALL($D$3:$D$2001,ROWS($E$3:E209))","v":{"$error":"#NUM!"}},{"$f":"INDEX($A$2:$B$2001,E210+1,2)","v":{"$error":"#NUM!"}},0,null,""]
[0,0,null,false,{"$f":"SMALL($D$3:$D$2001,ROWS($E$3:E210))","v":{"$error":"#NUM!"}},{"$f":"INDEX($A$2:$B$2001,E211+1,2)","v":{"$error":"#NUM!"}},0,null,""]
[0,0,null,false,{"$f":"SMALL($D$3:$D$2001,ROWS($E$3:E211))","v":{"$error":"#NUM!"}},{"$f":"INDEX($A$2:$B$2001,E212+1,2)","v":{"$error":"#NUM!"}},0,null,""]
[0,0,null,false,{"$f":"SMALL($D$3:$D$2001,ROWS($E$3:E212))","v":{"$error":"#NUM!"}},{"$f":"INDEX($A$2:$B$2001,E213+1,2)","v":{"$error":"#NUM!"}},0,null,""]
[0,0,null,false,{"$f":"SMALL($D$3:$D$2001,ROWS($E$3:E213))","v":{"$error":"#NUM!"}},{"$f":"INDEX($A$2:$B$2001,E214+1,2)","v":{"$error":"#NUM!"}},0,null,""]
[0,0,null,false,{"$f":"SMALL($D$3:$D$2001,ROWS($E$3:E214))","v":{"$error":"#NUM!"}},{"$f":"INDEX($A$2:$B$2001,E215+1,2)","v":{"$error":"#NUM!"}},0,null,""]
[0,0,null,false,{"$f":"SMALL($D$3:$D$2001,ROWS($E$3:E215))","v":{"$error":"#NUM!"}},{"$f":"INDEX($A$2:$B$2001,E216+1,2)","v":{"$error":"#NUM!"}},0,null,""]
[0,0,null,false,{"$f":"SMALL($D$3:$D$2001,ROWS($E$3:E216))","v":{"$error":"#NUM!"}},{"$f":"INDEX($A$2:$B$2001,E217+1,2)","v":{"$error":"#NUM!"}},0,null,""]
[0,0,null,false,{"$f":"SMALL($D$3:$D$2001,ROWS($E$3:E217))","v":{"$error":"#NUM!"}},{"$f":"INDEX($A$2:$B$2001,E218+1,2)","v":{"$error":"#NUM!"}},0,null,""]
[0,0,null,false,{"$f":"SMALL($D$3:$D$2001,ROWS($E$3:E218))","v":{"$error":"#NUM!"}},{"$f":"INDEX($A$2:$B$2001,E219+1,2)","v":{"$error":"#NUM!"}},0,null,""]
[0,0,null,false,{"$f":"SMALL($D$3:$D$2001,ROWS($E$3:E219))","v":{"$error":"#NUM!"}},{"$f":"INDEX($A$2:$B$2001,E220+1,2)","v":{"$error":"#NUM!"}},0,null,""]
[0,0,null,false,{"$f":"SMALL($D$3:$D$2001,ROWS($E$3:E220))","v":{"$error":"#NUM!"}},{"$f":"INDEX($A$2:$B$2001,E221+1,2)","v":{"$error":"#NUM!"}},0,null,""]
[0,0,null,false,{"$f":"SMALL($D$3:$D$2001,ROWS($E$3:E221))","v":{"$error":"#NUM!"}},{"$f":"INDEX($A$2:$B$2001,E222+1,2)","v":{"$error":"#NUM!"}},0,null,""]
[0,0,null,false,{"$f":"SMALL($D$3:$D$2001,ROWS($E$3:E222))","v":{"$error":"#NUM!"}},{"$f":"INDEX($A$2:$B$2001,E223+1,2)","v":{"$error":"#NUM!"}},0,null,""]
[0,0,null,false,{"$f":"SMALL($D$3:$D$2001,ROWS($E$3:E223))","v":{"$error":"#NUM!"}},{"$f":"INDEX($A$2:$B$2001,E224+1,2)","v":{"$error":"#NUM!"}},0,null,""]
[0,0,null,false,{"$f":"SMALL($D$3:$D$2001,ROWS($E$3:E224))","v":{"$error":"#NUM!"}},{"$f":"INDEX($A$2:$B$2001,E225+1,2)","v":{"$error":"#NUM!"}},0,null,""]
[0,0,null,false,{"$f":"SMALL($D$3:$D$2001,ROWS($E$3:E225))","v":{"$error":"#NUM!"}},{"$f":"INDEX($A$2:$B$2001,E226+1,2)","v":{"$error":"#NUM!"}},0,null,""]
[0,0,null,false,{"$f":"SMALL($D$3:$D$2001,ROWS($E$3:E226))","v":{"$error":"#NUM!"}},{"$f":"INDEX($A$2:$B$2001,E227+1,2)","v":{"$error":"#NUM!"}},0,null,""]
[0,0,null,false,{"$f":"SMALL($D$3:$D$2001,ROWS($E$3:E227))","v":{"$error":"#NUM!"}},{"$f":"INDEX($A$2:$B$2001,E228+1,2)","v":{"$error":"#NUM!"}},0,null,""]
[0,0,null,false,{"$f":"SMALL($D$3:$D$2001,ROWS($E$3:E228))","v":{"$error":"#NUM!"}},{"$f":"INDEX($A$2:$B$2001,E229+1,2)","v":{"$error":"#NUM!"}},0,null,""]
[0,0,null,false,{"$f":"SMALL($D$3:$D$2001,ROWS($E$3:E229))","v":{"$error":"#NUM!"}},{"$f":"INDEX($A$2:$B$2001,E230+1,2)","v":{"$error":"#NUM!"}},0,null,""]
[0,0,null,false,{"$f":"SMALL($D$3:$D$2001,ROWS($E$3:E230))","v":{"$error":"#NUM!"}},{"$f":"INDEX($A$2:$B$2001,E231+1,2)","v":{"$error":"#NUM!"}},0,null,""]
[0,0,null,false,{"$f":"SMALL($D$3:$D$2001,ROWS($E$3:E231))","v":{"$error":"#NUM!"}},{"$f":"INDEX($A$2:$B$2001,E232+1,2)","v":{"$error":"#NUM!"}},0,null,""]
[0,0,null,false,{"$f":"SMALL($D$3:$D$2001,ROWS($E$3:E232))","v":{"$error":"#NUM!"}},{"$f":"INDEX($A$2:$B$2001,E233+1,2)","v":{"$error":"#NUM!"}},0,null,""]
[0,0,null,false,{"$f":"SMALL($D$3:$D$2001,ROWS($E$3:E233))","v":{"$error":"#NUM!"}},{"$f":"INDEX($A$2:$B$2001,E234+1,2)","v":{"$error":"#NUM!"}},0,null,""]
[0,0,null,false,{"$f":"SMALL($D$3:$D$2001,ROWS($E$3:E234))","v":{"$error":"#NUM!"}},{"$f":"INDEX($A$2:$B$2001,E235+1,2)","v":{"$error":"#NUM!"}},0,null,""]
[0,0,null,false,{"$f":"SMALL($D$3:$D$2001,ROWS($E$3:E235))","v":{"$error":"#NUM!"}},{"$f":"INDEX($A$2:$B$2001,E236+1,2)","v":{"$error":"#NUM!"}},0,null,""]
[0,0,null,false,{"$f":"SMALL($D$3:$D$2001,ROWS($E$3:E236))","v":{"$error":"#NUM!"}},{"$f":"INDEX($A$2:$B$2001,E237+1,2)","v":{"$error":"#NUM!"}},0,null,""]
[0,0,null,false,{"$f":"SMALL($D$3:$D$2001,ROWS($E$3:E237))","v":{"$error":"#NUM!"}},{"$f":"INDEX($A$2:$B$2001,E238+1,2)","v":{"$error":"#NUM!"}},0,null,""]
[0,0,null,false,{"$f":"SMALL($D$3:$D$2001,ROWS($E$3:E238))","v":{"$error":"#NUM!"}},{"$f":"INDEX($A$2:$B$2001,E239+1,2)","v":{"$error":"#NUM!"}},0,null,""]
[0,0,null,false,{"$f":"SMALL($D$3:$D$2001,ROWS($E$3:E239))","v":{"$error":"#NUM!"}},{"$f":"INDEX($A$2:$B$2001,E240+1,2)","v":{"$error":"#NUM!"}},0,null,""]
[0,0,null,false,{"$f":"SMALL($D$3:$D$2001,ROWS($E$3:E240))","v":{"$error":"#NUM!"}},{"$f":"INDEX($A$2:$B$2001,E241+1,2)","v":{"$error":"#NUM!"}},0,null,""]
[0,0,null,false,{"$f":"SMALL($D$3:$D$2001,ROWS($E$3:E241))","v":{"$error":"#NUM!"}},{"$f":"INDEX($A$2:$B$2001,E242+1,2)","v":{"$error":"#NUM!"}},0,null,""]
[0,0,null,false,{"$f":"SMALL($D$3:$D$2001,ROWS($E$3:E242))","v":{"$error":"#NUM!"}},{"$f":"INDEX($A$2:$B$2001,E243+1,2)","v":{"$error":"#NUM!"}},0,null,""]
[0,0,null,false,{"$f":"SMALL($D$3:$D$2001,ROWS($E$3:E243))","v":{"$error":"#NUM!"}},{"$f":"INDEX($A$2:$B$2001,E244+1,2)","v":{"$error":"#NUM!"}},0,null,""]
[0,0,null,false,{"$f":"SMALL($D$3:$D$2001,ROWS($E$3:E244))","v":{"$error":"#NUM!"}},{"$f":"INDEX($A$2:$B$2001,E245+1,2)","v":{"$error":"#NUM!"}},0,null,""]
[0,0,null,false,{"$f":"SMALL($D$3:$D$2001,ROWS($E$3:E245))","v":{"$error":"#NUM!"}},{"$f":"INDEX($A$2:$B$2001,E246+1,2)","v":{"$error":"#NUM!"}},0,null,""]
[0,0,null,false,{"$f":"SMALL($D$3:$D$2001,ROWS($E$3:E246))","v":{"$error":"#NUM!"}},{"$f":"INDEX($A$2:$B$2001,E247+1,2)","v":{"$error":"#NUM!"}},0,null,""]
[0,0,null,false,{"$f":"SMALL($D$3:$D$2001,ROWS($E$3:E247))","v":{"$error":"#NUM!"}},{"$f":"INDEX($A$2:$B$2001,E248+1,2)","v":{"$error":"#NUM!"}},0,null,""]
[0,0,null,false,{"$f":"SMALL($D$3:$D$2001,ROWS($E$3:E248))","v":{"$error":"#NUM!"}},{"$f":"INDEX($A$2:$B$2001,E249+1,2)","v":{"$error":"#NUM!"}},0,null,""]
[0,0,null,false,{"$f":"SMALL($D$3:$D$2001,ROWS($E$3:E249))","v":{"$error":"#NUM!"}},{"$f":"INDEX($A$2:$B$2001,E250+1,2)","v":{"$error":"#NUM!"}},0,null,""]
[0,0,null,false,{"$f":"SMALL($D$3:$D$2001,ROWS($E$3:E250))","v":{"$error":"#NUM!"}},{"$f":"INDEX($A$2:$B$2001,E251+1,2)","v":{"$error":"#NUM!"}},0,null,""]
[0,0,null,false,{"$f":"SMALL($D$3:$D$2001,ROWS($E$3:E251))","v":{"$error":"#NUM!"}},{"$f":"INDEX($A$2:$B$2001,E252+1,2)","v":{"$error":"#NUM!"}},0,null,""]
[0,0,null,false,{"$f":"SMALL($D$3:$D$2001,ROWS($E$3:E252))","v":{"$error":"#NUM!"}},{"$f":"INDEX($A$2:$B$2001,E253+1,2)","v":{"$error":"#NUM!"}},0,null,""]
[0,0,null,false,{"$f":"SMALL($D$3:$D$2001,ROWS($E$3:E253))","v":{"$error":"#NUM!"}},{"$f":"INDEX($A$2:$B$2001,E254+1,2)","v":{"$error":"#NUM!"}},0,null,""]
[0,0,null,false,{"$f":"SMALL($D$3:$D$2001,ROWS($E$3:E254))","v":{"$error":"#NUM!"}},{"$f":"INDEX($A$2:$B$2001,E255+1,2)","v":{"$error":"#NUM!"}},0,null,""]
[0,0,null,false,{"$f":"SMALL($D$3:$D$2001,ROWS($E$3:E255))","v":{"$error":"#NUM!"}},{"$f":"INDEX($A$2:$B$2001,E256+1,2)","v":{"$error":"#NUM!"}},0,null,""]
[0,0,null,false,{"$f":"SMALL($D$3:$D$2001,ROWS($E$3:E256))","v":{"$error":"#NUM!"}},{"$f":"INDEX($A$2:$B$2001,E257+1,2)","v":{"$error":"#NUM!"}},0,null,""]
[0,0,null,false,{"$f":"SMALL($D$3:$D$2001,ROWS($E$3:E257))","v":{"$error":"#NUM!"}},{"$f":"INDEX($A$2:$B$2001,E258+1,2)","v":{"$error":"#NUM!"}},0,null,""]
[0,0,null,false,{"$f":"SMALL($D$3:$D$2001,ROWS($E$3:E258))","v":{"$error":"#NUM!"}},{"$f":"INDEX($A$2:$B$2001,E259+1,2)","v":{"$error":"#NUM!"}},0,null,""]
[0,0,null,false,{"$f":"SMALL($D$3:$D$2001,ROWS($E$3:E259))","v":{"$error":"#NUM!"}},{"$f":"INDEX($A$2:$B$2001,E260+1,2)","v":{"$error":"#NUM!"}},{"$f":"IFERROR(F259,0)","v":0},null,{"$f":"IF(G259=0,\"\",H259)","v":""}]
[0,0,null,{"$f":"IF(A260=$B$2,ROW(A260)-ROW($B$2))","v":false},{"$f":"SMALL($D$3:$D$2001,ROWS($E$3:E260))","v":{"$error":"#NUM!"}},{"$f":"INDEX($A$2:$B$2001,E261+1,2)","v":{"$error":"#NUM!"}},0,null,""]
[0,0,null,false,{"$f":"SMALL($D$3:$D$2001,ROWS($E$3:E261))","v":{"$error":"#NUM!"}},{"$f":"INDEX($A$2:$B$2001,E262+1,2)","v":{"$error":"#NUM!"}},0,null,""]
[0,0,null,false,{"$f":"SMALL($D$3:$D$2001,ROWS($E$3:E262))","v":{"$error":"#NUM!"}},{"$f":"INDEX($A$2:$B$2001,E263+1,2)","v":{"$error":"#NUM!"}},0,null,""]
[0,0,null,false,{"$f":"SMALL($D$3:$D$2001,ROWS($E$3:E263))","v":{"$error":"#NUM!"}},{"$f":"INDEX($A$2:$B$2001,E264+1,2)","v":{"$error":"#NUM!"}},0,null,""]
[0,0,null,false,{"$f":"SMALL($D$3:$D$2001,ROWS($E$3:E264))","v":{"$error":"#NUM!"}},{"$f":"INDEX($A$2:$B$2001,E265+1,2)","v":{"$error":"#NUM!"}},0,null,""]
[0,0,null,false,{"$f":"SMALL($D$3:$D$2001,ROWS($E$3:E265))","v":{"$error":"#NUM!"}},{"$f":"INDEX($A$2:$B$2001,E266+1,2)","v":{"$error":"#NUM!"}},0,null,""]
[0,0,null,false,{"$f":"SMALL($D$3:$D$2001,ROWS($E$3:E266))","v":{"$error":"#NUM!"}},{"$f":"INDEX($A$2:$B$2001,E267+1,2)","v":{"$error":"#NUM!"}},0,null,""]
[0,0,null,false,{"$f":"SMALL($D$3:$D$2001,ROWS($E$3:E267))","v":{"$error":"#NUM!"}},{"$f":"INDEX($A$2:$B$2001,E268+1,2)","v":{"$error":"#NUM!"}},0,null,""]
[0,0,null,false,{"$f":"SMALL($D$3:$D$2001,ROWS($E$3:E268))","v":{"$error":"#NUM!"}},{"$f":"INDEX($A$2:$B$2001,E269+1,2)","v":{"$error":"#NUM!"}},0,null,""]
[0,0,null,false,{"$f":"SMALL($D$3:$D$2001,ROWS($E$3:E269))","v":{"$error":"#NUM!"}},{"$f":"INDEX($A$2:$B$2001,E270+1,2)","v":{"$error":"#NUM!"}},0,null,""]
[0,0,null,false,{"$f":"SMALL($D$3:$D$2001,ROWS($E$3:E270))","v":{"$error":"#NUM!"}},{"$f":"INDEX($A$2:$B$2001,E271+1,2)","v":{"$error":"#NUM!"}},0,null,""]
[0,0,null,false,{"$f":"SMALL($D$3:$D$2001,ROWS($E$3:E271))","v":{"$error":"#NUM!"}},{"$f":"INDEX($A$2:$B$2001,E272+1,2)","v":{"$error":"#NUM!"}},0,null,""]
[0,0,null,false,{"$f":"SMALL($D$3:$D$2001,ROWS($E$3:E272))","v":{"$error":"#NUM!"}},{"$f":"INDEX($A$2:$B$2001,E273+1,2)","v":{"$error":"#NUM!"}},0,null,""]
[0,0,null,false,{"$f":"SMALL($D$3:$D$2001,ROWS($E$3:E273))","v":{"$error":"#NUM!"}},{"$f":"INDEX($A$2:$B$2001,E274+1,2)","v":{"$error":"#NUM!"}},0,null,""]
[0,0,null,false,{"$f":"SMALL($D$3:$D$2001,ROWS($E$3:E274))","v":{"$error":"#NUM!"}},{"$f":"INDEX($A$2:$B$2001,E275+1,2)","v":{"$error":"#NUM!"}},0,null,""]
[0,0,null,false,{"$f":"SMALL($D$3:$D$2001,ROWS($E$3:E275))","v":{"$error":"#NUM!"}},{"$f":"INDEX($A$2:$B$2001,E276+1,2)","v":{"$error":"#NUM!"}},0,null,""]
[0,0,null,false,{"$f":"SMALL($D$3:$D$2001,ROWS($E$3:E276))","v":{"$error":"#NUM!"}},{"$f":"INDEX($A$2:$B$2001,E277+1,2)","v":{"$error":"#NUM!"}},0,null,""]
[0,0,null,false,{"$f":"SMALL($D$3:$D$2001,ROWS($E$3:E277))","v":{"$error":"#NUM!"}},{"$f":"INDEX($A$2:$B$2001,E278+1,2)","v":{"$error":"#NUM!"}},0,null,""]
[0,0,null,false,{"$f":"SMALL($D$3:$D$2001,ROWS($E$3:E278))","v":{"$error":"#NUM!"}},{"$f":"INDEX($A$2:$B$2001,E279+1,2)","v":{"$error":"#NUM!"}},0,null,""]
[0,0,null,false,{"$f":"SMALL($D$3:$D$2001,ROWS($E$3:E279))","v":{"$error":"#NUM!"}},{"$f":"INDEX($A$2:$B$2001,E280+1,2)","v":{"$error":"#NUM!"}},0,null,""]
[0,0,null,false,{"$f":"SMALL($D$3:$D$2001,ROWS($E$3:E280))","v":{"$error":"#NUM!"}},{"$f":"INDEX($A$2:$B$2001,E281+1,2)","v":{"$error":"#NUM!"}},0,null,""]
[0,0,null,false,{"$f":"SMALL($D$3:$D$2001,ROWS($E$3:E281))","v":{"$error":"#NUM!"}},{"$f":"INDEX($A$2:$B$2001,E282+1,2)","v":{"$error":"#NUM!"}},0,null,""]
[0,0,null,false,{"$f":"SMALL($D$3:$D$2001,ROWS($E$3:E282))","v":{"$error":"#NUM!"}},{"$f":"INDEX($A$2:$B$2001,E283+1,2)","v":{"$error":"#NUM!"}},0,null,""]
[0,0,null,false,{"$f":"SMALL($D$3:$D$2001,ROWS($E$3:E283))","v":{"$error":"#NUM!"}},{"$f":"INDEX($A$2:$B$2001,E284+1,2)","v":{"$error":"#NUM!"}},0,null,""]
[0,0,null,false,{"$f":"SMALL($D$3:$D$2001,ROWS($E$3:E284))","v":{"$error":"#NUM!"}},{"$f":"INDEX($A$2:$B$2001,E285+1,2)","v":{"$error":"#NUM!"}},0,null,""]
[0,0,null,false,{"$f":"SMALL($D$3:$D$2001,ROWS($E$3:E285))","v":{"$error":"#NUM!"}},{"$f":"INDEX($A$2:$B$2001,E286+1,2)","v":{"$error":"#NUM!"}},0,null,""]
[0,0,null,false,{"$f":"SMALL($D$3:$D$2001,ROWS($E$3:E286))","v":{"$error":"#NUM!"}},{"$f":"INDEX($A$2:$B$2001,E287+1,2)","v":{"$error":"#NUM!"}},0,null,""]
[0,0,null,false,{"$f":"SMALL($D$3:$D$2001,ROWS($E$3:E287))","v":{"$error":"#NUM!"}},{"$f":"INDEX($A$2:$B$2001,E288+1,2)","v":{"$error":"#NUM!"}},0,null,""]
[0,0,null,false,{"$f":"SMALL($D$3:$D$2001,ROWS($E$3:E288))","v":{"$error":"#NUM!"}},{"$f":"INDEX($A$2:$B$2001,E289+1,2)","v":{"$error":"#NUM!"}},0,null,""]
[0,0,null,false,{"$f":"SMALL($D$3:$D$2001,ROWS($E$3:E289))","v":{"$error":"#NUM!"}},{"$f":"INDEX($A$2:$B$2001,E290+1,2)","v":{"$error":"#NUM!"}},0,null,""]
[0,0,null,false,{"$f":"SMALL($D$3:$D$2001,ROWS($E$3:E290))","v":{"$error":"#NUM!"}},{"$f":"INDEX($A$2:$B$2001,E291+1,2)","v":{"$error":"#NUM!"}},0,null,""]
[0,0,null,false,{"$f":"SMALL($D$3:$D$2001,ROWS($E$3:E291))","v":{"$error":"#NUM!"}},{"$f":"INDEX($A$2:$B$2001,E292+1,2)","v":{"$error":"#NUM!"}},0,null,""]
[0,0,null,false,{"$f":"SMALL($D$3:$D$2001,ROWS($E$3:E292))","v":{"$error":"#NUM!"}},{"$f":"INDEX($A$2:$B$2001,E293+1,2)","v":{"$error":"#NUM!"}},0,null,""]
[0,0,null,false,{"$f":"SMALL($D$3:$D$2001,ROWS($E$3:E293))","v":{"$error":"#NUM!"}},{"$f":"INDEX($A$2:$B$2001,E294+1,2)","v":{"$error":"#NUM!"}},0,null,""]
[0,0,null,false,{"$f":"SMALL($D$3:$D$2001,ROWS($E$3:E294))","v":{"$error":"#NUM!"}},{"$f":"INDEX($A$2:$B$2001,E295+1,2)","v":{"$error":"#NUM!"}},0,null,""]
[0,0,null,false,{"$f":"SMALL($D$3:$D$2001,ROWS($E$3:E295))","v":{"$error":"#NUM!"}},{"$f":"INDEX($A$2:$B$2001,E296+1,2)","v":{"$error":"#NUM!"}},0,null,""]
[0,0,null,false,{"$f":"SMALL($D$3:$D$2001,ROWS($E$3:E296))","v":{"$error":"#NUM!"}},{"$f":"INDEX($A$2:$B$2001,E297+1,2)","v":{"$error":"#NUM!"}},0,null,""]
[0,0,null,false,{"$f":"SMALL($D$3:$D$2001,ROWS($E$3:E297))","v":{"$error":"#NUM!"}},{"$f":"INDEX($A$2:$B$2001,E298+1,2)","v":{"$error":"#NUM!"}},0,null,""]
[0,0,null,false,{"$f":"SMALL($D$3:$D$2001,ROWS($E$3:E298))","v":{"$error":"#NUM!"}},{"$f":"INDEX($A$2:$B$2001,E299+1,2)","v":{"$error":"#NUM!"}},0,null,""]
[0,0,null,false,{"$f":"SMALL($D$3:$D$2001,ROWS($E$3:E299))","v":{"$error":"#NUM!"}},{"$f":"INDEX($A$2:$B$2001,E300+1,2)","v":{"$error":"#NUM!"}},0,null,""]
[0,0,null,false,{"$f":"SMALL($D$3:$D$2001,ROWS($E$3:E300))","v":{"$error":"#NUM!"}},{"$f":"INDEX($A$2:$B$2001,E301+1,2)","v":{"$error":"#NUM!"}},0,null,""]
[0,0,null,false,{"$f":"SMALL($D$3:$D$2001,ROWS($E$3:E301))","v":{"$error":"#NUM!"}},{"$f":"INDEX($A$2:$B$2001,E302+1,2)","v":{"$error":"#NUM!"}},0,null,""]
[0,0,null,false,{"$f":"SMALL($D$3:$D$2001,ROWS($E$3:E302))","v":{"$error":"#NUM!"}},{"$f":"INDEX($A$2:$B$2001,E303+1,2)","v":{"$error":"#NUM!"}},0,null,""]
[0,0,null,false,{"$f":"SMALL($D$3:$D$2001,ROWS($E$3:E303))","v":{"$error":"#NUM!"}},{"$f":"INDEX($A$2:$B$2001,E304+1,2)","v":{"$error":"#NUM!"}},0,null,""]
[0,0,null,false,{"$f":"SMALL($D$3:$D$2001,ROWS($E$3:E304))","v":{"$error":"#NUM!"}},{"$f":"INDEX($A$2:$B$2001,E305+1,2)","v":{"$error":"#NUM!"}},0,null,""]
[0,0,null,false,{"$f":"SMALL($D$3:$D$2001,ROWS($E$3:E305))","v":{"$error":"#NUM!"}},{"$f":"INDEX($A$2:$B$2001,E306+1,2)","v":{"$error":"#NUM!"}},0,null,""]
[0,0,null,false,{"$f":"SMALL($D$3:$D$2001,ROWS($E$3:E306))","v":{"$error":"#NUM!"}},{"$f":"INDEX($A$2:$B$2001,E307+1,2)","v":{"$error":"#NUM!"}},0,null,""]
[0,0,null,false,{"$f":"SMALL($D$3:$D$2001,ROWS($E$3:E307))","v":{"$error":"#NUM!"}},{"$f":"INDEX($A$2:$B$2001,E308+1,2)","v":{"$error":"#NUM!"}},0,null,""]
[0,0,null,false,{"$f":"SMALL($D$3:$D$2001,ROWS($E$3:E308))","v":{"$error":"#NUM!"}},{"$f":"INDEX($A$2:$B$2001,E309+1,2)","v":{"$error":"#NUM!"}},0,null,""]
[0,0,null,false,{"$f":"SMALL($D$3:$D$2001,ROWS($E$3:E309))","v":{"$error":"#NUM!"}},{"$f":"INDEX($A$2:$B$2001,E310+1,2)","v":{"$error":"#NUM!"}},0,null,""]
[0,0,null,false,{"$f":"SMALL($D$3:$D$2001,ROWS($E$3:E310))","v":{"$error":"#NUM!"}},{"$f":"INDEX($A$2:$B$2001,E311+1,2)","v":{"$error":"#NUM!"}},0,null,""]
[0,0,null,false,{"$f":"SMALL($D$3:$D$2001,ROWS($E$3:E311))","v":{"$error":"#NUM!"}},{"$f":"INDEX($A$2:$B$2001,E312+1,2)","v":{"$error":"#NUM!"}},0,null,""]
[0,0,null,false,{"$f":"SMALL($D$3:$D$2001,ROWS($E$3:E312))","v":{"$error":"#NUM!"}},{"$f":"INDEX($A$2:$B$2001,E313+1,2)","v":{"$error":"#NUM!"}},0,null,""]
[0,0,null,false,{"$f":"SMALL($D$3:$D$2001,ROWS($E$3:E313))","v":{"$error":"#NUM!"}},{"$f":"INDEX($A$2:$B$2001,E314+1,2)","v":{"$error":"#NUM!"}},0,null,""]
[0,0,null,false,{"$f":"SMALL($D$3:$D$2001,ROWS($E$3:E314))","v":{"$error":"#NUM!"}},{"$f":"INDEX($A$2:$B$2001,E315+1,2)","v":{"$error":"#NUM!"}},0,null,""]
[0,0,null,false,{"$f":"SMALL($D$3:$D$2001,ROWS($E$3:E315))","v":{"$error":"#NUM!"}},{"$f":"INDEX($A$2:$B$2001,E316+1,2)","v":{"$error":"#NUM!"}},0,null,""]
[0,0,null,false,{"$f":"SMALL($D$3:$D$2001,ROWS($E$3:E316))","v":{"$error":"#NUM!"}},{"$f":"INDEX($A$2:$B$2001,E317+1,2)","v":{"$error":"#NUM!"}},0,null,""]
[0,0,null,false,{"$f":"SMALL($D$3:$D$2001,ROWS($E$3:E317))","v":{"$error":"#NUM!"}},{"$f":"INDEX($A$2:$B$2001,E318+1,2)","v":{"$error":"#NUM!"}},0,null,""]
[0,0,null,false,{"$f":"SMALL($D$3:$D$2001,ROWS($E$3:E318))","v":{"$error":"#NUM!"}},{"$f":"INDEX($A$2:$B$2001,E319+1,2)","v":{"$error":"#NUM!"}},0,null,""]
[0,0,null,false,{"$f":"SMALL($D$3:$D$2001,ROWS($E$3:E319))","v":{"$error":"#NUM!"}},{"$f":"INDEX($A$2:$B$2001,E320+1,2)","v":{"$error":"#NUM!"}},0,null,""]
[0,0,null,false,{"$f":"SMALL($D$3:$D$2001,ROWS($E$3:E320))","v":{"$error":"#NUM!"}},{"$f":"INDEX($A$2:$B$2001,E321+1,2)","v":{"$error":"#NUM!"}},0,null,""]
[0,0,null,false,{"$f":"SMALL($D$3:$D$2001,ROWS($E$3:E321))","v":{"$error":"#NUM!"}},{"$f":"INDEX($A$2:$B$2001,E322+1,2)","v":{"$error":"#NUM!"}},0,null,""]
[0,0,null,false,{"$f":"SMALL($D$3:$D$2001,ROWS($E$3:E322))","v":{"$error":"#NUM!"}},{"$f":"INDEX($A$2:$B$2001,E323+1,2)","v":{"$error":"#NUM!"}},0,null,""]
[0,0,null,false,{"$f":"SMALL($D$3:$D$2001,ROWS($E$3:E323))","v":{"$error":"#NUM!"}},{"$f":"INDEX($A$2:$B$2001,E324+1,2)","v":{"$error":"#NUM!"}},{"$f":"IFERROR(F323,0)","v":0},null,{"$f":"IF(G323=0,\"\",H323)","v":""}]
[0,0,null,{"$f":"IF(A324=$B$2,ROW(A324)-ROW($B$2))","v":false},{"$f":"SMALL($D$3:$D$2001,ROWS($E$3:E324))","v":{"$error":"#NUM!"}},{"$f":"INDEX($A$2:$B$2001,E325+1,2)","v":{"$error":"#NUM!"}},0,null,""]
[0,0,null,false,{"$f":"SMALL($D$3:$D$2001,ROWS($E$3:E325))","v":{"$error":"#NUM!"}},{"$f":"INDEX($A$2:$B$2001,E326+1,2)","v":{"$error":"#NUM!"}},0,null,""]
[0,0,null,false,{"$f":"SMALL($D$3:$D$2001,ROWS($E$3:E326))","v":{"$error":"#NUM!"}},{"$f":"INDEX($A$2:$B$2001,E327+1,2)","v":{"$error":"#NUM!"}},0,null,""]
[0,0,null,false,{"$f":"SMALL($D$3:$D$2001,ROWS($E$3:E327))","v":{"$error":"#NUM!"}},{"$f":"INDEX($A$2:$B$2001,E328+1,2)","v":{"$error":"#NUM!"}},0,null,""]
[0,0,null,false,{"$f":"SMALL($D$3:$D$2001,ROWS($E$3:E328))","v":{"$error":"#NUM!"}},{"$f":"INDEX($A$2:$B$2001,E329+1,2)","v":{"$error":"#NUM!"}},0,null,""]
[0,0,null,false,{"$f":"SMALL($D$3:$D$2001,ROWS($E$3:E329))","v":{"$error":"#NUM!"}},{"$f":"INDEX($A$2:$B$2001,E330+1,2)","v":{"$error":"#NUM!"}},0,null,""]
[0,0,null,false,{"$f":"SMALL($D$3:$D$2001,ROWS($E$3:E330))","v":{"$error":"#NUM!"}},{"$f":"INDEX($A$2:$B$2001,E331+1,2)","v":{"$error":"#NUM!"}},0,null,""]
[0,0,null,false,{"$f":"SMALL($D$3:$D$2001,ROWS($E$3:E331))","v":{"$error":"#NUM!"}},{"$f":"INDEX($A$2:$B$2001,E332+1,2)","v":{"$error":"#NUM!"}},0,null,""]
[0,0,null,false,{"$f":"SMALL($D$3:$D$2001,ROWS($E$3:E332))","v":{"$error":"#NUM!"}},{"$f":"INDEX($A$2:$B$2001,E333+1,2)","v":{"$error":"#NUM!"}},0,null,""]
[0,0,null,false,{"$f":"SMALL($D$3:$D$2001,ROWS($E$3:E333))","v":{"$error":"#NUM!"}},{"$f":"INDEX($A$2:$B$2001,E334+1,2)","v":{"$error":"#NUM!"}},0,null,""]
[0,0,null,false,{"$f":"SMALL($D$3:$D$2001,ROWS($E$3:E334))","v":{"$error":"#NUM!"}},{"$f":"INDEX($A$2:$B$2001,E335+1,2)","v":{"$error":"#NUM!"}},0,null,""]
[0,0,null,false,{"$f":"SMALL($D$3:$D$2001,ROWS($E$3:E335))","v":{"$error":"#NUM!"}},{"$f":"INDEX($A$2:$B$2001,E336+1,2)","v":{"$error":"#NUM!"}},0,null,""]
[0,0,null,false,{"$f":"SMALL($D$3:$D$2001,ROWS($E$3:E336))","v":{"$error":"#NUM!"}},{"$f":"INDEX($A$2:$B$2001,E337+1,2)","v":{"$error":"#NUM!"}},0,null,""]
[0,0,null,false,{"$f":"SMALL($D$3:$D$2001,ROWS($E$3:E337))","v":{"$error":"#NUM!"}},{"$f":"INDEX($A$2:$B$2001,E338+1,2)","v":{"$error":"#NUM!"}},0,null,""]
[0,0,null,false,{"$f":"SMALL($D$3:$D$2001,ROWS($E$3:E338))","v":{"$error":"#NUM!"}},{"$f":"INDEX($A$2:$B$2001,E339+1,2)","v":{"$error":"#NUM!"}},0,null,""]
[0,0,null,false,{"$f":"SMALL($D$3:$D$2001,ROWS($E$3:E339))","v":{"$error":"#NUM!"}},{"$f":"INDEX($A$2:$B$2001,E340+1,2)","v":{"$error":"#NUM!"}},0,null,""]
[0,0,null,false,{"$f":"SMALL($D$3:$D$2001,ROWS($E$3:E340))","v":{"$error":"#NUM!"}},{"$f":"INDEX($A$2:$B$2001,E341+1,2)","v":{"$error":"#NUM!"}},0,null,""]
[0,0,null,false,{"$f":"SMALL($D$3:$D$2001,ROWS($E$3:E341))","v":{"$error":"#NUM!"}},{"$f":"INDEX($A$2:$B$2001,E342+1,2)","v":{"$error":"#NUM!"}},0,null,""]
[0,0,null,false,{"$f":"SMALL($D$3:$D$2001,ROWS($E$3:E342))","v":{"$error":"#NUM!"}},{"$f":"INDEX($A$2:$B$2001,E343+1,2)","v":{"$error":"#NUM!"}},0,null,""]
[0,0,null,false,{"$f":"SMALL($D$3:$D$2001,ROWS($E$3:E343))","v":{"$error":"#NUM!"}},{"$f":"INDEX($A$2:$B$2001,E344+1,2)","v":{"$error":"#NUM!"}},0,null,""]
[0,0,null,false,{"$f":"SMALL($D$3:$D$2001,ROWS($E$3:E344))","v":{"$error":"#NUM!"}},{"$f":"INDEX($A$2:$B$2001,E345+1,2)","v":{"$error":"#NUM!"}},0,null,""]
[0,0,null,false,{"$f":"SMALL($D$3:$D$2001,ROWS($E$3:E345))","v":{"$error":"#NUM!"}},{"$f":"INDEX($A$2:$B$2001,E346+1,2)","v":{"$error":"#NUM!"}},0,null,""]
[0,0,null,false,{"$f":"SMALL($D$3:$D$2001,ROWS($E$3:E346))","v":{"$error":"#NUM!"}},{"$f":"INDEX($A$2:$B$2001,E347+1,2)","v":{"$error":"#NUM!"}},0,null,""]
[0,0,null,false,{"$f":"SMALL($D$3:$D$2001,ROWS($E$3:E347))","v":{"$error":"#NUM!"}},{"$f":"INDEX($A$2:$B$2001,E348+1,2)","v":{"$error":"#NUM!"}},0,null,""]
[0,0,null,false,{"$f":"SMALL($D$3:$D$2001,ROWS($E$3:E348))","v":{"$error":"#NUM!"}},{"$f":"INDEX($A$2:$B$2001,E349+1,2)","v":{"$error":"#NUM!"}},0,null,""]
[0,0,null,false,{"$f":"SMALL($D$3:$D$2001,ROWS($E$3:E349))","v":{"$error":"#NUM!"}},{"$f":"INDEX($A$2:$B$2001,E350+1,2)","v":{"$error":"#NUM!"}},0,null,""]
[0,0,null,false,{"$f":"SMALL($D$3:$D$2001,ROWS($E$3:E350))","v":{"$error":"#NUM!"}},{"$f":"INDEX($A$2:$B$2001,E351+1,2)","v":{"$error":"#NUM!"}},0,null,""]
[0,0,null,false,{"$f":"SMALL($D$3:$D$2001,ROWS($E$3:E351))","v":{"$error":"#NUM!"}},{"$f":"INDEX($A$2:$B$2001,E352+1,2)","v":{"$error":"#NUM!"}},0,null,""]
[0,0,null,false,{"$f":"SMALL($D$3:$D$2001,ROWS($E$3:E352))","v":{"$error":"#NUM!"}},{"$f":"INDEX($A$2:$B$2001,E353+1,2)","v":{"$error":"#NUM!"}},0,null,""]
[0,0,null,false,{"$f":"SMALL($D$3:$D$2001,ROWS($E$3:E353))","v":{"$error":"#NUM!"}},{"$f":"INDEX($A$2:$B$2001,E354+1,2)","v":{"$error":"#NUM!"}},0,null,""]
[0,0,null,false,{"$f":"SMALL($D$3:$D$2001,ROWS($E$3:E354))","v":{"$error":"#NUM!"}},{"$f":"INDEX($A$2:$B$2001,E355+1,2)","v":{"$error":"#NUM!"}},0,null,""]
[0,0,null,false,{"$f":"SMALL($D$3:$D$2001,ROWS($E$3:E355))","v":{"$error":"#NUM!"}},{"$f":"INDEX($A$2:$B$2001,E356+1,2)","v":{"$error":"#NUM!"}},0,null,""]
[0,0,null,false,{"$f":"SMALL($D$3:$D$2001,ROWS($E$3:E356))","v":{"$error":"#NUM!"}},{"$f":"INDEX($A$2:$B$2001,E357+1,2)","v":{"$error":"#NUM!"}},0,null,""]
[0,0,null,false,{"$f":"SMALL($D$3:$D$2001,ROWS($E$3:E357))","v":{"$error":"#NUM!"}},{"$f":"INDEX($A$2:$B$2001,E358+1,2)","v":{"$error":"#NUM!"}},0,null,""]
[0,0,null,false,{"$f":"SMALL($D$3:$D$2001,ROWS($E$3:E358))","v":{"$error":"#NUM!"}},{"$f":"INDEX($A$2:$B$2001,E359+1,2)","v":{"$error":"#NUM!"}},0,null,""]
[0,0,null,false,{"$f":"SMALL($D$3:$D$2001,ROWS($E$3:E359))","v":{"$error":"#NUM!"}},{"$f":"INDEX($A$2:$B$2001,E360+1,2)","v":{"$error":"#NUM!"}},0,null,""]
[0,0,null,false,{"$f":"SMALL($D$3:$D$2001,ROWS($E$3:E360))","v":{"$error":"#NUM!"}},{"$f":"INDEX($A$2:$B$2001,E361+1,2)","v":{"$error":"#NUM!"}},0,null,""]
[0,0,null,false,{"$f":"SMALL($D$3:$D$2001,ROWS($E$3:E361))","v":{"$error":"#NUM!"}},{"$f":"INDEX($A$2:$B$2001,E362+1,2)","v":{"$error":"#NUM!"}},0,null,""]
[0,0,null,false,{"$f":"SMALL($D$3:$D$2001,ROWS($E$3:E362))","v":{"$error":"#NUM!"}},{"$f":"INDEX($A$2:$B$2001,E363+1,2)","v":{"$error":"#NUM!"}},0,null,""]
[0,0,null,false,{"$f":"SMALL($D$3:$D$2001,ROWS($E$3:E363))","v":{"$error":"#NUM!"}},{"$f":"INDEX($A$2:$B$2001,E364+1,2)","v":{"$error":"#NUM!"}},0,null,""]
[0,0,null,false,{"$f":"SMALL($D$3:$D$2001,ROWS($E$3:E364))","v":{"$error":"#NUM!"}},{"$f":"INDEX($A$2:$B$2001,E365+1,2)","v":{"$error":"#NUM!"}},0,null,""]
[0,0,null,false,{"$f":"SMALL($D$3:$D$2001,ROWS($E$3:E365))","v":{"$error":"#NUM!"}},{"$f":"INDEX($A$2:$B$2001,E366+1,2)","v":{"$error":"#NUM!"}},0,null,""]
[0,0,null,false,{"$f":"SMALL($D$3:$D$2001,ROWS($E$3:E366))","v":{"$error":"#NUM!"}},{"$f":"INDEX($A$2:$B$2001,E367+1,2)","v":{"$error":"#NUM!"}},0,null,""]
[0,0,null,false,{"$f":"SMALL($D$3:$D$2001,ROWS($E$3:E367))","v":{"$error":"#NUM!"}},{"$f":"INDEX($A$2:$B$2001,E368+1,2)","v":{"$error":"#NUM!"}},0,null,""]
[0,0,null,false,{"$f":"SMALL($D$3:$D$2001,ROWS($E$3:E368))","v":{"$error":"#NUM!"}},{"$f":"INDEX($A$2:$B$2001,E369+1,2)","v":{"$error":"#NUM!"}},0,null,""]
[0,0,null,false,{"$f":"SMALL($D$3:$D$2001,ROWS($E$3:E369))","v":{"$error":"#NUM!"}},{"$f":"INDEX($A$2:$B$2001,E370+1,2)","v":{"$error":"#NUM!"}},0,null,""]
[0,0,null,false,{"$f":"SMALL($D$3:$D$2001,ROWS($E$3:E370))","v":{"$error":"#NUM!"}},{"$f":"INDEX($A$2:$B$2001,E371+1,2)","v":{"$error":"#NUM!"}},0,null,""]
[0,0,null,false,{"$f":"SMALL($D$3:$D$2001,ROWS($E$3:E371))","v":{"$error":"#NUM!"}},{"$f":"INDEX($A$2:$B$2001,E372+1,2)","v":{"$error":"#NUM!"}},0,null,""]
[0,0,null,false,{"$f":"SMALL($D$3:$D$2001,ROWS($E$3:E372))","v":{"$error":"#NUM!"}},{"$f":"INDEX($A$2:$B$2001,E373+1,2)","v":{"$error":"#NUM!"}},0,null,""]
[0,0,null,false,{"$f":"SMALL($D$3:$D$2001,ROWS($E$3:E373))","v":{"$error":"#NUM!"}},{"$f":"INDEX($A$2:$B$2001,E374+1,2)","v":{"$error":"#NUM!"}},0,null,""]
[0,0,null,false,{"$f":"SMALL($D$3:$D$2001,ROWS($E$3:E374))","v":{"$error":"#NUM!"}},{"$f":"INDEX($A$2:$B$2001,E375+1,2)","v":{"$error":"#NUM!"}},0,null,""]
[0,0,null,false,{"$f":"SMALL($D$3:$D$2001,ROWS($E$3:E375))","v":{"$error":"#NUM!"}},{"$f":"INDEX($A$2:$B$2001,E376+1,2)","v":{"$error":"#NUM!"}},0,null,""]
[0,0,null,false,{"$f":"SMALL($D$3:$D$2001,ROWS($E$3:E376))","v":{"$error":"#NUM!"}},{"$f":"INDEX($A$2:$B$2001,E377+1,2)","v":{"$error":"#NUM!"}},0,null,""]
[0,0,null,false,{"$f":"SMALL($D$3:$D$2001,ROWS($E$3:E377))","v":{"$error":"#NUM!"}},{"$f":"INDEX($A$2:$B$2001,E378+1,2)","v":{"$error":"#NUM!"}},0,null,""]
[0,0,null,false,{"$f":"SMALL($D$3:$D$2001,ROWS($E$3:E378))","v":{"$error":"#NUM!"}},{"$f":"INDEX($A$2:$B$2001,E379+1,2)","v":{"$error":"#NUM!"}},0,null,""]
[0,0,null,false,{"$f":"SMALL($D$3:$D$2001,ROWS($E$3:E379))","v":{"$error":"#NUM!"}},{"$f":"INDEX($A$2:$B$2001,E380+1,2)","v":{"$error":"#NUM!"}},0,null,""]
[0,0,null,false,{"$f":"SMALL($D$3:$D$2001,ROWS($E$3:E380))","v":{"$error":"#NUM!"}},{"$f":"INDEX($A$2:$B$2001,E381+1,2)","v":{"$error":"#NUM!"}},0,null,""]
[0,0,null,false,{"$f":"SMALL($D$3:$D$2001,ROWS($E$3:E381))","v":{"$error":"#NUM!"}},{"$f":"INDEX($A$2:$B$2001,E382+1,2)","v":{"$error":"#NUM!"}},0,null,""]
[0,0,null,false,{"$f":"SMALL($D$3:$D$2001,ROWS($E$3:E382))","v":{"$error":"#NUM!"}},{"$f":"INDEX($A$2:$B$2001,E383+1,2)","v":{"$error":"#NUM!"}},0,null,""]
[0,0,null,false,{"$f":"SMALL($D$3:$D$2001,ROWS($E$3:E383))","v":{"$error":"#NUM!"}},{"$f":"INDEX($A$2:$B$2001,E384+1,2)","v":{"$error":"#NUM!"}},0,null,""]
[0,0,null,false,{"$f":"SMALL($D$3:$D$2001,ROWS($E$3:E384))","v":{"$error":"#NUM!"}},{"$f":"INDEX($A$2:$B$2001,E385+1,2)","v":{"$error":"#NUM!"}},0,null,""]
[0,0,null,false,{"$f":"SMALL($D$3:$D$2001,ROWS($E$3:E385))","v":{"$error":"#NUM!"}},{"$f":"INDEX($A$2:$B$2001,E386+1,2)","v":{"$error":"#NUM!"}},0,null,""]
[0,0,null,false,{"$f":"SMALL($D$3:$D$2001,ROWS($E$3:E386))","v":{"$error":"#NUM!"}},{"$f":"INDEX($A$2:$B$2001,E387+1,2)","v":{"$error":"#NUM!"}},0,null,""]
[0,0,null,false,{"$f":"SMALL($D$3:$D$2001,ROWS($E$3:E387))","v":{"$error":"#NUM!"}},{"$f":"INDEX($A$2:$B$2001,E388+1,2)","v":{"$error":"#NUM!"}},{"$f":"IFERROR(F387,0)","v":0},null,{"$f":"IF(G387=0,\"\",H387)","v":""}]
[0,0,null,{"$f":"IF(A388=$B$2,ROW(A388)-ROW($B$2))","v":false},{"$f":"SMALL($D$3:$D$2001,ROWS($E$3:E388))","v":{"$error":"#NUM!"}},{"$f":"INDEX($A$2:$B$2001,E389+1,2)","v":{"$error":"#NUM!"}},0,null,""]
[0,0,null,false,{"$f":"SMALL($D$3:$D$2001,ROWS($E$3:E389))","v":{"$error":"#NUM!"}},{"$f":"INDEX($A$2:$B$2001,E390+1,2)","v":{"$error":"#NUM!"}},0,null,""]
[0,0,null,false,{"$f":"SMALL($D$3:$D$2001,ROWS($E$3:E390))","v":{"$error":"#NUM!"}},{"$f":"INDEX($A$2:$B$2001,E391+1,2)","v":{"$error":"#NUM!"}},0,null,""]
[0,0,null,false,{"$f":"SMALL($D$3:$D$2001,ROWS($E$3:E391))","v":{"$error":"#NUM!"}},{"$f":"INDEX($A$2:$B$2001,E392+1,2)","v":{"$error":"#NUM!"}},0,null,""]
[0,0,null,false,{"$f":"SMALL($D$3:$D$2001,ROWS($E$3:E392))","v":{"$error":"#NUM!"}},{"$f":"INDEX($A$2:$B$2001,E393+1,2)","v":{"$error":"#NUM!"}},0,null,""]
[0,0,null,false,{"$f":"SMALL($D$3:$D$2001,ROWS($E$3:E393))","v":{"$error":"#NUM!"}},{"$f":"INDEX($A$2:$B$2001,E394+1,2)","v":{"$error":"#NUM!"}},0,null,""]
[0,0,null,false,{"$f":"SMALL($D$3:$D$2001,ROWS($E$3:E394))","v":{"$error":"#NUM!"}},{"$f":"INDEX($A$2:$B$2001,E395+1,2)","v":{"$error":"#NUM!"}},0,null,""]
[0,0,null,false,{"$f":"SMALL($D$3:$D$2001,ROWS($E$3:E395))","v":{"$error":"#NUM!"}},{"$f":"INDEX($A$2:$B$2001,E396+1,2)","v":{"$error":"#NUM!"}},0,null,""]
[0,0,null,false,{"$f":"SMALL($D$3:$D$2001,ROWS($E$3:E396))","v":{"$error":"#NUM!"}},{"$f":"INDEX($A$2:$B$2001,E397+1,2)","v":{"$error":"#NUM!"}},0,null,""]
[0,0,null,false,{"$f":"SMALL($D$3:$D$2001,ROWS($E$3:E397))","v":{"$error":"#NUM!"}},{"$f":"INDEX($A$2:$B$2001,E398+1,2)","v":{"$error":"#NUM!"}},0,null,""]
[0,0,null,false,{"$f":"SMALL($D$3:$D$2001,ROWS($E$3:E398))","v":{"$error":"#NUM!"}},{"$f":"INDEX($A$2:$B$2001,E399+1,2)","v":{"$error":"#NUM!"}},0,null,""]
[0,0,null,false,{"$f":"SMALL($D$3:$D$2001,ROWS($E$3:E399))","v":{"$error":"#NUM!"}},{"$f":"INDEX($A$2:$B$2001,E400+1,2)","v":{"$error":"#NUM!"}},0,null,""]
[0,0,null,false,{"$f":"SMALL($D$3:$D$2001,ROWS($E$3:E400))","v":{"$error":"#NUM!"}},{"$f":"INDEX($A$2:$B$2001,E401+1,2)","v":{"$error":"#NUM!"}},0,null,""]
[0,0,null,false,{"$f":"SMALL($D$3:$D$2001,ROWS($E$3:E401))","v":{"$error":"#NUM!"}},{"$f":"INDEX($A$2:$B$2001,E402+1,2)","v":{"$error":"#NUM!"}},0,null,""]
[0,0,null,false,{"$f":"SMALL($D$3:$D$2001,ROWS($E$3:E402))","v":{"$error":"#NUM!"}},{"$f":"INDEX($A$2:$B$2001,E403+1,2)","v":{"$error":"#NUM!"}},0,null,""]
[0,0,null,false,{"$f":"SMALL($D$3:$D$2001,ROWS($E$3:E403))","v":{"$error":"#NUM!"}},{"$f":"INDEX($A$2:$B$2001,E404+1,2)","v":{"$error":"#NUM!"}},0,null,""]
[0,0,null,false,{"$f":"SMALL($D$3:$D$2001,ROWS($E$3:E404))","v":{"$error":"#NUM!"}},{"$f":"INDEX($A$2:$B$2001,E405+1,2)","v":{"$error":"#NUM!"}},0,null,""]
[0,0,null,false,{"$f":"SMALL($D$3:$D$2001,ROWS($E$3:E405))","v":{"$error":"#NUM!"}},{"$f":"INDEX($A$2:$B$2001,E406+1,2)","v":{"$error":"#NUM!"}},0,null,""]
[0,0,null,false,{"$f":"SMALL($D$3:$D$2001,ROWS($E$3:E406))","v":{"$error":"#NUM!"}},{"$f":"INDEX($A$2:$B$2001,E407+1,2)","v":{"$error":"#NUM!"}},0,null,""]
[0,0,null,false,{"$f":"SMALL($D$3:$D$2001,ROWS($E$3:E407))","v":{"$error":"#NUM!"}},{"$f":"INDEX($A$2:$B$2001,E408+1,2)","v":{"$error":"#NUM!"}},0,null,""]
[0,0,null,false,{"$f":"SMALL($D$3:$D$2001,ROWS($E$3:E408))","v":{"$error":"#NUM!"}},{"$f":"INDEX($A$2:$B$2001,E409+1,2)","v":{"$error":"#NUM!"}},0,null,""]
[0,0,null,false,{"$f":"SMALL($D$3:$D$2001,ROWS($E$3:E409))","v":{"$error":"#NUM!"}},{"$f":"INDEX($A$2:$B$2001,E410+1,2)","v":{"$error":"#NUM!"}},0,null,""]
[0,0,null,false,{"$f":"SMALL($D$3:$D$2001,ROWS($E$3:E410))","v":{"$error":"#NUM!"}},{"$f":"INDEX($A$2:$B$2001,E411+1,2)","v":{"$error":"#NUM!"}},0,null,""]
[0,0,null,false,{"$f":"SMALL($D$3:$D$2001,ROWS($E$3:E411))","v":{"$error":"#NUM!"}},{"$f":"INDEX($A$2:$B$2001,E412+1,2)","v":{"$error":"#NUM!"}},0,null,""]
[0,0,null,false,{"$f":"SMALL($D$3:$D$2001,ROWS($E$3:E412))","v":{"$error":"#NUM!"}},{"$f":"INDEX($A$2:$B$2001,E413+1,2)","v":{"$error":"#NUM!"}},0,null,""]
[0,0,null,false,{"$f":"SMALL($D$3:$D$2001,ROWS($E$3:E413))","v":{"$error":"#NUM!"}},{"$f":"INDEX($A$2:$B$2001,E414+1,2)","v":{"$error":"#NUM!"}},0,null,""]
[0,0,null,false,{"$f":"SMALL($D$3:$D$2001,ROWS($E$3:E414))","v":{"$error":"#NUM!"}},{"$f":"INDEX($A$2:$B$2001,E415+1,2)","v":{"$error":"#NUM!"}},0,null,""]
[0,0,null,false,{"$f":"SMALL($D$3:$D$2001,ROWS($E$3:E415))","v":{"$error":"#NUM!"}},{"$f":"INDEX($A$2:$B$2001,E416+1,2)","v":{"$error":"#NUM!"}},0,null,""]
[0,0,null,false,{"$f":"SMALL($D$3:$D$2001,ROWS($E$3:E416))","v":{"$error":"#NUM!"}},{"$f":"INDEX($A$2:$B$2001,E417+1,2)","v":{"$error":"#NUM!"}},0,null,""]
[0,0,null,false,{"$f":"SMALL($D$3:$D$2001,ROWS($E$3:E417))","v":{"$error":"#NUM!"}},{"$f":"INDEX($A$2:$B$2001,E418+1,2)","v":{"$error":"#NUM!"}},0,null,""]
[0,0,null,false,{"$f":"SMALL($D$3:$D$2001,ROWS($E$3:E418))","v":{"$error":"#NUM!"}},{"$f":"INDEX($A$2:$B$2001,E419+1,2)","v":{"$error":"#NUM!"}},0,null,""]
[0,0,null,false,{"$f":"SMALL($D$3:$D$2001,ROWS($E$3:E419))","v":{"$error":"#NUM!"}},{"$f":"INDEX($A$2:$B$2001,E420+1,2)","v":{"$error":"#NUM!"}},0,null,""]
[0,0,null,false,{"$f":"SMALL($D$3:$D$2001,ROWS($E$3:E420))","v":{"$error":"#NUM!"}},{"$f":"INDEX($A$2:$B$2001,E421+1,2)","v":{"$error":"#NUM!"}},0,null,""]
[0,0,null,false,{"$f":"SMALL($D$3:$D$2001,ROWS($E$3:E421))","v":{"$error":"#NUM!"}},{"$f":"INDEX($A$2:$B$2001,E422+1,2)","v":{"$error":"#NUM!"}},0,null,""]
[0,0,null,false,{"$f":"SMALL($D$3:$D$2001,ROWS($E$3:E422))","v":{"$error":"#NUM!"}},{"$f":"INDEX($A$2:$B$2001,E423+1,2)","v":{"$error":"#NUM!"}},0,null,""]
[0,0,null,false,{"$f":"SMALL($D$3:$D$2001,ROWS($E$3:E423))","v":{"$error":"#NUM!"}},{"$f":"INDEX($A$2:$B$2001,E424+1,2)","v":{"$error":"#NUM!"}},0,null,""]
[0,0,null,false,{"$f":"SMALL($D$3:$D$2001,ROWS($E$3:E424))","v":{"$error":"#NUM!"}},{"$f":"INDEX($A$2:$B$2001,E425+1,2)","v":{"$error":"#NUM!"}},0,null,""]
[0,0,null,false,{"$f":"SMALL($D$3:$D$2001,ROWS($E$3:E425))","v":{"$error":"#NUM!"}},{"$f":"INDEX($A$2:$B$2001,E426+1,2)","v":{"$error":"#NUM!"}},0,null,""]
[0,0,null,false,{"$f":"SMALL($D$3:$D$2001,ROWS($E$3:E426))","v":{"$error":"#NUM!"}},{"$f":"INDEX($A$2:$B$2001,E427+1,2)","v":{"$error":"#NUM!"}},0,null,""]
[0,0,null,false,{"$f":"SMALL($D$3:$D$2001,ROWS($E$3:E427))","v":{"$error":"#NUM!"}},{"$f":"INDEX($A$2:$B$2001,E428+1,2)","v":{"$error":"#NUM!"}},0,null,""]
[0,0,null,false,{"$f":"SMALL($D$3:$D$2001,ROWS($E$3:E428))","v":{"$error":"#NUM!"}},{"$f":"INDEX($A$2:$B$2001,E429+1,2)","v":{"$error":"#NUM!"}},0,null,""]
[0,0,null,false,{"$f":"SMALL($D$3:$D$2001,ROWS($E$3:E429))","v":{"$error":"#NUM!"}},{"$f":"INDEX($A$2:$B$2001,E430+1,2)","v":{"$error":"#NUM!"}},0,null,""]
[0,0,null,false,{"$f":"SMALL($D$3:$D$2001,ROWS($E$3:E430))","v":{"$error":"#NUM!"}},{"$f":"INDEX($A$2:$B$2001,E431+1,2)","v":{"$error":"#NUM!"}},0,null,""]
[0,0,null,false,{"$f":"SMALL($D$3:$D$2001,ROWS($E$3:E431))","v":{"$error":"#NUM!"}},{"$f":"INDEX($A$2:$B$2001,E432+1,2)","v":{"$error":"#NUM!"}},0,null,""]
[0,0,null,false,{"$f":"SMALL($D$3:$D$2001,ROWS($E$3:E432))","v":{"$error":"#NUM!"}},{"$f":"INDEX($A$2:$B$2001,E433+1,2)","v":{"$error":"#NUM!"}},0,null,""]
[0,0,null,false,{"$f":"SMALL($D$3:$D$2001,ROWS($E$3:E433))","v":{"$error":"#NUM!"}},{"$f":"INDEX($A$2:$B$2001,E434+1,2)","v":{"$error":"#NUM!"}},0,null,""]
[0,0,null,false,{"$f":"SMALL($D$3:$D$2001,ROWS($E$3:E434))","v":{"$error":"#NUM!"}},{"$f":"INDEX($A$2:$B$2001,E435+1,2)","v":{"$error":"#NUM!"}},0,null,""]
[0,0,null,false,{"$f":"SMALL($D$3:$D$2001,ROWS($E$3:E435))","v":{"$error":"#NUM!"}},{"$f":"INDEX($A$2:$B$2001,E436+1,2)","v":{"$error":"#NUM!"}},0,null,""]
[0,0,null,false,{"$f":"SMALL($D$3:$D$2001,ROWS($E$3:E436))","v":{"$error":"#NUM!"}},{"$f":"INDEX($A$2:$B$2001,E437+1,2)","v":{"$error":"#NUM!"}},0,null,""]
[0,0,null,false,{"$f":"SMALL($D$3:$D$2001,ROWS($E$3:E437))","v":{"$error":"#NUM!"}},{"$f":"INDEX($A$2:$B$2001,E438+1,2)","v":{"$error":"#NUM!"}},0,null,""]
[0,0,null,false,{"$f":"SMALL($D$3:$D$2001,ROWS($E$3:E438))","v":{"$error":"#NUM!"}},{"$f":"INDEX($A$2:$B$2001,E439+1,2)","v":{"$error":"#NUM!"}},0,null,""]
[0,0,null,false,{"$f":"SMALL($D$3:$D$2001,ROWS($E$3:E439))","v":{"$error":"#NUM!"}},{"$f":"INDEX($A$2:$B$2001,E440+1,2)","v":{"$error":"#NUM!"}},0,null,""]
[0,0,null,false,{"$f":"SMALL($D$3:$D$2001,ROWS($E$3:E440))","v":{"$error":"#NUM!"}},{"$f":"INDEX($A$2:$B$2001,E441+1,2)","v":{"$error":"#NUM!"}},0,null,""]
[0,0,null,false,{"$f":"SMALL($D$3:$D$2001,ROWS($E$3:E441))","v":{"$error":"#NUM!"}},{"$f":"INDEX($A$2:$B$2001,E442+1,2)","v":{"$error":"#NUM!"}},0,null,""]
[0,0,null,false,{"$f":"SMALL($D$3:$D$2001,ROWS($E$3:E442))","v":{"$error":"#NUM!"}},{"$f":"INDEX($A$2:$B$2001,E443+1,2)","v":{"$error":"#NUM!"}},0,null,""]
[0,0,null,false,{"$f":"SMALL($D$3:$D$2001,ROWS($E$3:E443))","v":{"$error":"#NUM!"}},{"$f":"INDEX($A$2:$B$2001,E444+1,2)","v":{"$error":"#NUM!"}},0,null,""]
[0,0,null,false,{"$f":"SMALL($D$3:$D$2001,ROWS($E$3:E444))","v":{"$error":"#NUM!"}},{"$f":"INDEX($A$2:$B$2001,E445+1,2)","v":{"$error":"#NUM!"}},0,null,""]
[0,0,null,false,{"$f":"SMALL($D$3:$D$2001,ROWS($E$3:E445))","v":{"$error":"#NUM!"}},{"$f":"INDEX($A$2:$B$2001,E446+1,2)","v":{"$error":"#NUM!"}},0,null,""]
[0,0,null,false,{"$f":"SMALL($D$3:$D$2001,ROWS($E$3:E446))","v":{"$error":"#NUM!"}},{"$f":"INDEX($A$2:$B$2001,E447+1,2)","v":{"$error":"#NUM!"}},0,null,""]
[0,0,null,false,{"$f":"SMALL($D$3:$D$2001,ROWS($E$3:E447))","v":{"$error":"#NUM!"}},{"$f":"INDEX($A$2:$B$2001,E448+1,2)","v":{"$error":"#NUM!"}},0,null,""]
[0,0,null,false,{"$f":"SMALL($D$3:$D$2001,ROWS($E$3:E448))","v":{"$error":"#NUM!"}},{"$f":"INDEX($A$2:$B$2001,E449+1,2)","v":{"$error":"#NUM!"}},0,null,""]
[0,0,null,false,{"$f":"SMALL($D$3:$D$2001,ROWS($E$3:E449))","v":{"$error":"#NUM!"}},{"$f":"INDEX($A$2:$B$2001,E450+1,2)","v":{"$error":"#NUM!"}},0,null,""]
[0,0,null,false,{"$f":"SMALL($D$3:$D$2001,ROWS($E$3:E450))","v":{"$error":"#NUM!"}},{"$f":"INDEX($A$2:$B$2001,E451+1,2)","v":{"$error":"#NUM!"}},0,null,""]
[0,0,null,false,{"$f":"SMALL($D$3:$D$2001,ROWS($E$3:E451))","v":{"$error":"#NUM!"}},{"$f":"INDEX($A$2:$B$2001,E452+1,2)","v":{"$error":"#NUM!"}},{"$f":"IFERROR(F451,0)","v":0},null,{"$f":"IF(G451=0,\"\",H451)","v":""}]
[0,0,null,{"$f":"IF(A452=$B$2,ROW(A452)-ROW($B$2))","v":false},{"$f":"SMALL($D$3:$D$2001,ROWS($E$3:E452))","v":{"$error":"#NUM!"}},{"$f":"INDEX($A$2:$B$2001,E453+1,2)","v":{"$error":"#NUM!"}},0,null,""]
[0,0,null,false,{"$f":"SMALL($D$3:$D$2001,ROWS($E$3:E453))","v":{"$error":"#NUM!"}},{"$f":"INDEX($A$2:$B$2001,E454+1,2)","v":{"$error":"#NUM!"}},0,null,""]
[0,0,null,false,{"$f":"SMALL($D$3:$D$2001,ROWS($E$3:E454))","v":{"$error":"#NUM!"}},{"$f":"INDEX($A$2:$B$2001,E455+1,2)","v":{"$error":"#NUM!"}},0,null,""]
[0,0,null,false,{"$f":"SMALL($D$3:$D$2001,ROWS($E$3:E455))","v":{"$error":"#NUM!"}},{"$f":"INDEX($A$2:$B$2001,E456+1,2)","v":{"$error":"#NUM!"}},0,null,""]
[0,0,null,false,{"$f":"SMALL($D$3:$D$2001,ROWS($E$3:E456))","v":{"$error":"#NUM!"}},{"$f":"INDEX($A$2:$B$2001,E457+1,2)","v":{"$error":"#NUM!"}},0,null,""]
[0,0,null,false,{"$f":"SMALL($D$3:$D$2001,ROWS($E$3:E457))","v":{"$error":"#NUM!"}},{"$f":"INDEX($A$2:$B$2001,E458+1,2)","v":{"$error":"#NUM!"}},0,null,""]
[0,0,null,false,{"$f":"SMALL($D$3:$D$2001,ROWS($E$3:E458))","v":{"$error":"#NUM!"}},{"$f":"INDEX($A$2:$B$2001,E459+1,2)","v":{"$error":"#NUM!"}},0,null,""]
[0,0,null,false,{"$f":"SMALL($D$3:$D$2001,ROWS($E$3:E459))","v":{"$error":"#NUM!"}},{"$f":"INDEX($A$2:$B$2001,E460+1,2)","v":{"$error":"#NUM!"}},0,null,""]
[0,0,null,false,{"$f":"SMALL($D$3:$D$2001,ROWS($E$3:E460))","v":{"$error":"#NUM!"}},{"$f":"INDEX($A$2:$B$2001,E461+1,2)","v":{"$error":"#NUM!"}},0,null,""]
[0,0,null,false,{"$f":"SMALL($D$3:$D$2001,ROWS($E$3:E461))","v":{"$error":"#NUM!"}},{"$f":"INDEX($A$2:$B$2001,E462+1,2)","v":{"$error":"#NUM!"}},0,null,""]
[0,0,null,false,{"$f":"SMALL($D$3:$D$2001,ROWS($E$3:E462))","v":{"$error":"#NUM!"}},{"$f":"INDEX($A$2:$B$2001,E463+1,2)","v":{"$error":"#NUM!"}},0,null,""]
[0,0,null,false,{"$f":"SMALL($D$3:$D$2001,ROWS($E$3:E463))","v":{"$error":"#NUM!"}},{"$f":"INDEX($A$2:$B$2001,E464+1,2)","v":{"$error":"#NUM!"}},0,null,""]
[0,0,null,false,{"$f":"SMALL($D$3:$D$2001,ROWS($E$3:E464))","v":{"$error":"#NUM!"}},{"$f":"INDEX($A$2:$B$2001,E465+1,2)","v":{"$error":"#NUM!"}},0,null,""]
[0,0,null,false,{"$f":"SMALL($D$3:$D$2001,ROWS($E$3:E465))","v":{"$error":"#NUM!"}},{"$f":"INDEX($A$2:$B$2001,E466+1,2)","v":{"$error":"#NUM!"}},0,null,""]
[0,0,null,false,{"$f":"SMALL($D$3:$D$2001,ROWS($E$3:E466))","v":{"$error":"#NUM!"}},{"$f":"INDEX($A$2:$B$2001,E467+1,2)","v":{"$error":"#NUM!"}},0,null,""]
[0,0,null,false,{"$f":"SMALL($D$3:$D$2001,ROWS($E$3:E467))","v":{"$error":"#NUM!"}},{"$f":"INDEX($A$2:$B$2001,E468+1,2)","v":{"$error":"#NUM!"}},0,null,""]
[0,0,null,false,{"$f":"SMALL($D$3:$D$2001,ROWS($E$3:E468))","v":{"$error":"#NUM!"}},{"$f":"INDEX($A$2:$B$2001,E469+1,2)","v":{"$error":"#NUM!"}},0,null,""]
[0,0,null,false,{"$f":"SMALL($D$3:$D$2001,ROWS($E$3:E469))","v":{"$error":"#NUM!"}},{"$f":"INDEX($A$2:$B$2001,E470+1,2)","v":{"$error":"#NUM!"}},0,null,""]
[0,0,null,false,{"$f":"SMALL($D$3:$D$2001,ROWS($E$3:E470))","v":{"$error":"#NUM!"}},{"$f":"INDEX($A$2:$B$2001,E471+1,2)","v":{"$error":"#NUM!"}},0,null,""]
[0,0,null,false,{"$f":"SMALL($D$3:$D$2001,ROWS($E$3:E471))","v":{"$error":"#NUM!"}},{"$f":"INDEX($A$2:$B$2001,E472+1,2)","v":{"$error":"#NUM!"}},0,null,""]
[0,0,null,false,{"$f":"SMALL($D$3:$D$2001,ROWS($E$3:E472))","v":{"$error":"#NUM!"}},{"$f":"INDEX($A$2:$B$2001,E473+1,2)","v":{"$error":"#NUM!"}},0,null,""]
[0,0,null,false,{"$f":"SMALL($D$3:$D$2001,ROWS($E$3:E473))","v":{"$error":"#NUM!"}},{"$f":"INDEX($A$2:$B$2001,E474+1,2)","v":{"$error":"#NUM!"}},0,null,""]
[0,0,null,false,{"$f":"SMALL($D$3:$D$2001,ROWS($E$3:E474))","v":{"$error":"#NUM!"}},{"$f":"INDEX($A$2:$B$2001,E475+1,2)","v":{"$error":"#NUM!"}},0,null,""]
[0,0,null,false,{"$f":"SMALL($D$3:$D$2001,ROWS($E$3:E475))","v":{"$error":"#NUM!"}},{"$f":"INDEX($A$2:$B$2001,E476+1,2)","v":{"$error":"#NUM!"}},0,null,""]
[0,0,null,false,{"$f":"SMALL($D$3:$D$2001,ROWS($E$3:E476))","v":{"$error":"#NUM!"}},{"$f":"INDEX($A$2:$B$2001,E477+1,2)","v":{"$error":"#NUM!"}},0,null,""]
[0,0,null,false,{"$f":"SMALL($D$3:$D$2001,ROWS($E$3:E477))","v":{"$error":"#NUM!"}},{"$f":"INDEX($A$2:$B$2001,E478+1,2)","v":{"$error":"#NUM!"}},0,null,""]
[0,0,null,false,{"$f":"SMALL($D$3:$D$2001,ROWS($E$3:E478))","v":{"$error":"#NUM!"}},{"$f":"INDEX($A$2:$B$2001,E479+1,2)","v":{"$error":"#NUM!"}},0,null,""]
[0,0,null,false,{"$f":"SMALL($D$3:$D$2001,ROWS($E$3:E479))","v":{"$error":"#NUM!"}},{"$f":"INDEX($A$2:$B$2001,E480+1,2)","v":{"$error":"#NUM!"}},0,null,""]
[0,0,null,false,{"$f":"SMALL($D$3:$D$2001,ROWS($E$3:E480))","v":{"$error":"#NUM!"}},{"$f":"INDEX($A$2:$B$2001,E481+1,2)","v":{"$error":"#NUM!"}},0,null,""]
[0,0,null,false,{"$f":"SMALL($D$3:$D$2001,ROWS($E$3:E481))","v":{"$error":"#NUM!"}},{"$f":"INDEX($A$2:$B$2001,E482+1,2)","v":{"$error":"#NUM!"}},0,null,""]
[0,0,null,false,{"$f":"SMALL($D$3:$D$2001,ROWS($E$3:E482))","v":{"$error":"#NUM!"}},{"$f":"INDEX($A$2:$B$2001,E483+1,2)","v":{"$error":"#NUM!"}},0,null,""]
[0,0,null,false,{"$f":"SMALL($D$3:$D$2001,ROWS($E$3:E483))","v":{"$error":"#NUM!"}},{"$f":"INDEX($A$2:$B$2001,E484+1,2)","v":{"$error":"#NUM!"}},0,null,""]
[0,0,null,false,{"$f":"SMALL($D$3:$D$2001,ROWS($E$3:E484))","v":{"$error":"#NUM!"}},{"$f":"INDEX($A$2:$B$2001,E485+1,2)","v":{"$error":"#NUM!"}},0,null,""]
[0,0,null,false,{"$f":"SMALL($D$3:$D$2001,ROWS($E$3:E485))","v":{"$error":"#NUM!"}},{"$f":"INDEX($A$2:$B$2001,E486+1,2)","v":{"$error":"#NUM!"}},0,null,""]
[0,0,null,false,{"$f":"SMALL($D$3:$D$2001,ROWS($E$3:E486))","v":{"$error":"#NUM!"}},{"$f":"INDEX($A$2:$B$2001,E487+1,2)","v":{"$error":"#NUM!"}},0,null,""]
[0,0,null,false,{"$f":"SMALL($D$3:$D$2001,ROWS($E$3:E487))","v":{"$error":"#NUM!"}},{"$f":"INDEX($A$2:$B$2001,E488+1,2)","v":{"$error":"#NUM!"}},0,null,""]
[0,0,null,false,{"$f":"SMALL($D$3:$D$2001,ROWS($E$3:E488))","v":{"$error":"#NUM!"}},{"$f":"INDEX($A$2:$B$2001,E489+1,2)","v":{"$error":"#NUM!"}},0,null,""]
[0,0,null,false,{"$f":"SMALL($D$3:$D$2001,ROWS($E$3:E489))","v":{"$error":"#NUM!"}},{"$f":"INDEX($A$2:$B$2001,E490+1,2)","v":{"$error":"#NUM!"}},0,null,""]
[0,0,null,false,{"$f":"SMALL($D$3:$D$2001,ROWS($E$3:E490))","v":{"$error":"#NUM!"}},{"$f":"INDEX($A$2:$B$2001,E491+1,2)","v":{"$error":"#NUM!"}},0,null,""]
[0,0,null,false,{"$f":"SMALL($D$3:$D$2001,ROWS($E$3:E491))","v":{"$error":"#NUM!"}},{"$f":"INDEX($A$2:$B$2001,E492+1,2)","v":{"$error":"#NUM!"}},0,null,""]
[0,0,null,false,{"$f":"SMALL($D$3:$D$2001,ROWS($E$3:E492))","v":{"$error":"#NUM!"}},{"$f":"INDEX($A$2:$B$2001,E493+1,2)","v":{"$error":"#NUM!"}},0,null,""]
[0,0,null,false,{"$f":"SMALL($D$3:$D$2001,ROWS($E$3:E493))","v":{"$error":"#NUM!"}},{"$f":"INDEX($A$2:$B$2001,E494+1,2)","v":{"$error":"#NUM!"}},0,null,""]
[0,0,null,false,{"$f":"SMALL($D$3:$D$2001,ROWS($E$3:E494))","v":{"$error":"#NUM!"}},{"$f":"INDEX($A$2:$B$2001,E495+1,2)","v":{"$error":"#NUM!"}},0,null,""]
[0,0,null,false,{"$f":"SMALL($D$3:$D$2001,ROWS($E$3:E495))","v":{"$error":"#NUM!"}},{"$f":"INDEX($A$2:$B$2001,E496+1,2)","v":{"$error":"#NUM!"}},0,null,""]
[0,0,null,false,{"$f":"SMALL($D$3:$D$2001,ROWS($E$3:E496))","v":{"$error":"#NUM!"}},{"$f":"INDEX($A$2:$B$2001,E497+1,2)","v":{"$error":"#NUM!"}},0,null,""]
[0,0,null,false,{"$f":"SMALL($D$3:$D$2001,ROWS($E$3:E497))","v":{"$error":"#NUM!"}},{"$f":"INDEX($A$2:$B$2001,E498+1,2)","v":{"$error":"#NUM!"}},0,null,""]
[0,0,null,false,{"$f":"SMALL($D$3:$D$2001,ROWS($E$3:E498))","v":{"$error":"#NUM!"}},{"$f":"INDEX($A$2:$B$2001,E499+1,2)","v":{"$error":"#NUM!"}},0,null,""]
[0,0,null,false,{"$f":"SMALL($D$3:$D$2001,ROWS($E$3:E499))","v":{"$error":"#NUM!"}},{"$f":"INDEX($A$2:$B$2001,E500+1,2)","v":{"$error":"#NUM!"}},0,null,""]
[0,0,null,false,{"$f":"SMALL($D$3:$D$2001,ROWS($E$3:E500))","v":{"$error":"#NUM!"}},{"$f":"INDEX($A$2:$B$2001,E501+1,2)","v":{"$error":"#NUM!"}},0,null,""]
[0,0,null,false,{"$f":"SMALL($D$3:$D$2001,ROWS($E$3:E501))","v":{"$error":"#NUM!"}},{"$f":"INDEX($A$2:$B$2001,E502+1,2)","v":{"$error":"#NUM!"}},0,null,""]
[0,0,null,false,{"$f":"SMALL($D$3:$D$2001,ROWS($E$3:E502))","v":{"$error":"#NUM!"}},{"$f":"INDEX($A$2:$B$2001,E503+1,2)","v":{"$error":"#NUM!"}},0,null,""]
[0,0,null,false,{"$f":"SMALL($D$3:$D$2001,ROWS($E$3:E503))","v":{"$error":"#NUM!"}},{"$f":"INDEX($A$2:$B$2001,E504+1,2)","v":{"$error":"#NUM!"}},0,null,""]
[0,0,null,false,{"$f":"SMALL($D$3:$D$2001,ROWS($E$3:E504))","v":{"$error":"#NUM!"}},{"$f":"INDEX($A$2:$B$2001,E505+1,2)","v":{"$error":"#NUM!"}},0,null,""]
[0,0,null,false,{"$f":"SMALL($D$3:$D$2001,ROWS($E$3:E505))","v":{"$error":"#NUM!"}},{"$f":"INDEX($A$2:$B$2001,E506+1,2)","v":{"$error":"#NUM!"}},0,null,""]
[0,0,null,false,{"$f":"SMALL($D$3:$D$2001,ROWS($E$3:E506))","v":{"$error":"#NUM!"}},{"$f":"INDEX($A$2:$B$2001,E507+1,2)","v":{"$error":"#NUM!"}},0,null,""]
[0,0,null,false,{"$f":"SMALL($D$3:$D$2001,ROWS($E$3:E507))","v":{"$error":"#NUM!"}},{"$f":"INDEX($A$2:$B$2001,E508+1,2)","v":{"$error":"#NUM!"}},0,null,""]
[0,0,null,false,{"$f":"SMALL($D$3:$D$2001,ROWS($E$3:E508))","v":{"$error":"#NUM!"}},{"$f":"INDEX($A$2:$B$2001,E509+1,2)","v":{"$error":"#NUM!"}},0,null,""]
[0,0,null,false,{"$f":"SMALL($D$3:$D$2001,ROWS($E$3:E509))","v":{"$error":"#NUM!"}},{"$f":"INDEX($A$2:$B$2001,E510+1,2)","v":{"$error":"#NUM!"}},0,null,""]
[0,0,null,false,{"$f":"SMALL($D$3:$D$2001,ROWS($E$3:E510))","v":{"$error":"#NUM!"}},{"$f":"INDEX($A$2:$B$2001,E511+1,2)","v":{"$error":"#NUM!"}},0,null,""]
[0,0,null,false,{"$f":"SMALL($D$3:$D$2001,ROWS($E$3:E511))","v":{"$error":"#NUM!"}},{"$f":"INDEX($A$2:$B$2001,E512+1,2)","v":{"$error":"#NUM!"}},0,null,""]
[0,0,null,false,{"$f":"SMALL($D$3:$D$2001,ROWS($E$3:E512))","v":{"$error":"#NUM!"}},{"$f":"INDEX($A$2:$B$2001,E513+1,2)","v":{"$error":"#NUM!"}},0,null,""]
[0,0,null,false,{"$f":"SMALL($D$3:$D$2001,ROWS($E$3:E513))","v":{"$error":"#NUM!"}},{"$f":"INDEX($A$2:$B$2001,E514+1,2)","v":{"$error":"#NUM!"}},0,null,""]
[0,0,null,false,{"$f":"SMALL($D$3:$D$2001,ROWS($E$3:E514))","v":{"$error":"#NUM!"}},{"$f":"INDEX($A$2:$B$2001,E515+1,2)","v":{"$error":"#NUM!"}},0,null,""]
[0,0,null,false,{"$f":"SMALL($D$3:$D$2001,ROWS($E$3:E515))","v":{"$error":"#NUM!"}},{"$f":"INDEX($A$2:$B$2001,E516+1,2)","v":{"$error":"#NUM!"}},{"$f":"IFERROR(F515,0)","v":0},null,{"$f":"IF(G515=0,\"\",H515)","v":""}]
[0,0,null,{"$f":"IF(A516=$B$2,ROW(A516)-ROW($B$2))","v":false},{"$f":"SMALL($D$3:$D$2001,ROWS($E$3:E516))","v":{"$error":"#NUM!"}},{"$f":"INDEX($A$2:$B$2001,E517+1,2)","v":{"$error":"#NUM!"}},0,null,""]
[0,0,null,false,{"$f":"SMALL($D$3:$D$2001,ROWS($E$3:E517))","v":{"$error":"#NUM!"}},{"$f":"INDEX($A$2:$B$2001,E518+1,2)","v":{"$error":"#NUM!"}},0,null,""]
[0,0,null,false,{"$f":"SMALL($D$3:$D$2001,ROWS($E$3:E518))","v":{"$error":"#NUM!"}},{"$f":"INDEX($A$2:$B$2001,E519+1,2)","v":{"$error":"#NUM!"}},0,null,""]
[0,0,null,false,{"$f":"SMALL($D$3:$D$2001,ROWS($E$3:E519))","v":{"$error":"#NUM!"}},{"$f":"INDEX($A$2:$B$2001,E520+1,2)","v":{"$error":"#NUM!"}},0,null,""]
[0,0,null,false,{"$f":"SMALL($D$3:$D$2001,ROWS($E$3:E520))","v":{"$error":"#NUM!"}},{"$f":"INDEX($A$2:$B$2001,E521+1,2)","v":{"$error":"#NUM!"}},0,null,""]
[0,0,null,false,{"$f":"SMALL($D$3:$D$2001,ROWS($E$3:E521))","v":{"$error":"#NUM!"}},{"$f":"INDEX($A$2:$B$2001,E522+1,2)","v":{"$error":"#NUM!"}},0,null,""]
[0,0,null,false,{"$f":"SMALL($D$3:$D$2001,ROWS($E$3:E522))","v":{"$error":"#NUM!"}},{"$f":"INDEX($A$2:$B$2001,E523+1,2)","v":{"$error":"#NUM!"}},0,null,""]
[0,0,null,false,{"$f":"SMALL($D$3:$D$2001,ROWS($E$3:E523))","v":{"$error":"#NUM!"}},{"$f":"INDEX($A$2:$B$2001,E524+1,2)","v":{"$error":"#NUM!"}},0,null,""]
[0,0,null,false,{"$f":"SMALL($D$3:$D$2001,ROWS($E$3:E524))","v":{"$error":"#NUM!"}},{"$f":"INDEX($A$2:$B$2001,E525+1,2)","v":{"$error":"#NUM!"}},0,null,""]
[0,0,null,false,{"$f":"SMALL($D$3:$D$2001,ROWS($E$3:E525))","v":{"$error":"#NUM!"}},{"$f":"INDEX($A$2:$B$2001,E526+1,2)","v":{"$error":"#NUM!"}},0,null,""]
[0,0,null,false,{"$f":"SMALL($D$3:$D$2001,ROWS($E$3:E526))","v":{"$error":"#NUM!"}},{"$f":"INDEX($A$2:$B$2001,E527+1,2)","v":{"$error":"#NUM!"}},0,null,""]
[0,0,null,false,{"$f":"SMALL($D$3:$D$2001,ROWS($E$3:E527))","v":{"$error":"#NUM!"}},{"$f":"INDEX($A$2:$B$2001,E528+1,2)","v":{"$error":"#NUM!"}},0,null,""]
[0,0,null,false,{"$f":"SMALL($D$3:$D$2001,ROWS($E$3:E528))","v":{"$error":"#NUM!"}},{"$f":"INDEX($A$2:$B$2001,E529+1,2)","v":{"$error":"#NUM!"}},0,null,""]
[0,0,null,false,{"$f":"SMALL($D$3:$D$2001,ROWS($E$3:E529))","v":{"$error":"#NUM!"}},{"$f":"INDEX($A$2:$B$2001,E530+1,2)","v":{"$error":"#NUM!"}},0,null,""]
[0,0,null,false,{"$f":"SMALL($D$3:$D$2001,ROWS($E$3:E530))","v":{"$error":"#NUM!"}},{"$f":"INDEX($A$2:$B$2001,E531+1,2)","v":{"$error":"#NUM!"}},0,null,""]
[0,0,null,false,{"$f":"SMALL($D$3:$D$2001,ROWS($E$3:E531))","v":{"$error":"#NUM!"}},{"$f":"INDEX($A$2:$B$2001,E532+1,2)","v":{"$error":"#NUM!"}},0,null,""]
[0,0,null,false,{"$f":"SMALL($D$3:$D$2001,ROWS($E$3:E532))","v":{"$error":"#NUM!"}},{"$f":"INDEX($A$2:$B$2001,E533+1,2)","v":{"$error":"#NUM!"}},0,null,""]
[0,0,null,false,{"$f":"SMALL($D$3:$D$2001,ROWS($E$3:E533))","v":{"$error":"#NUM!"}},{"$f":"INDEX($A$2:$B$2001,E534+1,2)","v":{"$error":"#NUM!"}},0,null,""]
[0,0,null,false,{"$f":"SMALL($D$3:$D$2001,ROWS($E$3:E534))","v":{"$error":"#NUM!"}},{"$f":"INDEX($A$2:$B$2001,E535+1,2)","v":{"$error":"#NUM!"}},0,null,""]
[0,0,null,false,{"$f":"SMALL($D$3:$D$2001,ROWS($E$3:E535))","v":{"$error":"#NUM!"}},{"$f":"INDEX($A$2:$B$2001,E536+1,2)","v":{"$error":"#NUM!"}},0,null,""]
[0,0,null,false,{"$f":"SMALL($D$3:$D$2001,ROWS($E$3:E536))","v":{"$error":"#NUM!"}},{"$f":"INDEX($A$2:$B$2001,E537+1,2)","v":{"$error":"#NUM!"}},0,null,""]
[0,0,null,false,{"$f":"SMALL($D$3:$D$2001,ROWS($E$3:E537))","v":{"$error":"#NUM!"}},{"$f":"INDEX($A$2:$B$2001,E538+1,2)","v":{"$error":"#NUM!"}},0,null,""]
[0,0,null,false,{"$f":"SMALL($D$3:$D$2001,ROWS($E$3:E538))","v":{"$error":"#NUM!"}},{"$f":"INDEX($A$2:$B$2001,E539+1,2)","v":{"$error":"#NUM!"}},0,null,""]
[0,0,null,false,{"$f":"SMALL($D$3:$D$2001,ROWS($E$3:E539))","v":{"$error":"#NUM!"}},{"$f":"INDEX($A$2:$B$2001,E540+1,2)","v":{"$error":"#NUM!"}},0,null,""]
[0,0,null,false,{"$f":"SMALL($D$3:$D$2001,ROWS($E$3:E540))","v":{"$error":"#NUM!"}},{"$f":"INDEX($A$2:$B$2001,E541+1,2)","v":{"$error":"#NUM!"}},0,null,""]
[0,0,null,false,{"$f":"SMALL($D$3:$D$2001,ROWS($E$3:E541))","v":{"$error":"#NUM!"}},{"$f":"INDEX($A$2:$B$2001,E542+1,2)","v":{"$error":"#NUM!"}},0,null,""]
[0,0,null,false,{"$f":"SMALL($D$3:$D$2001,ROWS($E$3:E542))","v":{"$error":"#NUM!"}},{"$f":"INDEX($A$2:$B$2001,E543+1,2)","v":{"$error":"#NUM!"}},0,null,""]
[0,0,null,false,{"$f":"SMALL($D$3:$D$2001,ROWS($E$3:E543))","v":{"$error":"#NUM!"}},{"$f":"INDEX($A$2:$B$2001,E544+1,2)","v":{"$error":"#NUM!"}},0,null,""]
[0,0,null,false,{"$f":"SMALL($D$3:$D$2001,ROWS($E$3:E544))","v":{"$error":"#NUM!"}},{"$f":"INDEX($A$2:$B$2001,E545+1,2)","v":{"$error":"#NUM!"}},0,null,""]
[0,0,null,false,{"$f":"SMALL($D$3:$D$2001,ROWS($E$3:E545))","v":{"$error":"#NUM!"}},{"$f":"INDEX($A$2:$B$2001,E546+1,2)","v":{"$error":"#NUM!"}},0,null,""]
[0,0,null,false,{"$f":"SMALL($D$3:$D$2001,ROWS($E$3:E546))","v":{"$error":"#NUM!"}},{"$f":"INDEX($A$2:$B$2001,E547+1,2)","v":{"$error":"#NUM!"}},0,null,""]
[0,0,null,false,{"$f":"SMALL($D$3:$D$2001,ROWS($E$3:E547))","v":{"$error":"#NUM!"}},{"$f":"INDEX($A$2:$B$2001,E548+1,2)","v":{"$error":"#NUM!"}},0,null,""]
[0,0,null,false,{"$f":"SMALL($D$3:$D$2001,ROWS($E$3:E548))","v":{"$error":"#NUM!"}},{"$f":"INDEX($A$2:$B$2001,E549+1,2)","v":{"$error":"#NUM!"}},0,null,""]
[0,0,null,false,{"$f":"SMALL($D$3:$D$2001,ROWS($E$3:E549))","v":{"$error":"#NUM!"}},{"$f":"INDEX($A$2:$B$2001,E550+1,2)","v":{"$error":"#NUM!"}},0,null,""]
[0,0,null,false,{"$f":"SMALL($D$3:$D$2001,ROWS($E$3:E550))","v":{"$error":"#NUM!"}},{"$f":"INDEX($A$2:$B$2001,E551+1,2)","v":{"$error":"#NUM!"}},0,null,""]
[0,0,null,false,{"$f":"SMALL($D$3:$D$2001,ROWS($E$3:E551))","v":{"$error":"#NUM!"}},{"$f":"INDEX($A$2:$B$2001,E552+1,2)","v":{"$error":"#NUM!"}},0,null,""]
[0,0,null,false,{"$f":"SMALL($D$3:$D$2001,ROWS($E$3:E552))","v":{"$error":"#NUM!"}},{"$f":"INDEX($A$2:$B$2001,E553+1,2)","v":{"$error":"#NUM!"}},0,null,""]
[0,0,null,false,{"$f":"SMALL($D$3:$D$2001,ROWS($E$3:E553))","v":{"$error":"#NUM!"}},{"$f":"INDEX($A$2:$B$2001,E554+1,2)","v":{"$error":"#NUM!"}},0,null,""]
[0,0,null,false,{"$f":"SMALL($D$3:$D$2001,ROWS($E$3:E554))","v":{"$error":"#NUM!"}},{"$f":"INDEX($A$2:$B$2001,E555+1,2)","v":{"$error":"#NUM!"}},0,null,""]
[0,0,null,false,{"$f":"SMALL($D$3:$D$2001,ROWS($E$3:E555))","v":{"$error":"#NUM!"}},{"$f":"INDEX($A$2:$B$2001,E556+1,2)","v":{"$error":"#NUM!"}},0,null,""]
[0,0,null,false,{"$f":"SMALL($D$3:$D$2001,ROWS($E$3:E556))","v":{"$error":"#NUM!"}},{"$f":"INDEX($A$2:$B$2001,E557+1,2)","v":{"$error":"#NUM!"}},0,null,""]
[0,0,null,false,{"$f":"SMALL($D$3:$D$2001,ROWS($E$3:E557))","v":{"$error":"#NUM!"}},{"$f":"INDEX($A$2:$B$2001,E558+1,2)","v":{"$error":"#NUM!"}},0,null,""]
[0,0,null,false,{"$f":"SMALL($D$3:$D$2001,ROWS($E$3:E558))","v":{"$error":"#NUM!"}},{"$f":"INDEX($A$2:$B$2001,E559+1,2)","v":{"$error":"#NUM!"}},0,null,""]
[0,0,null,false,{"$f":"SMALL($D$3:$D$2001,ROWS($E$3:E559))","v":{"$error":"#NUM!"}},{"$f":"INDEX($A$2:$B$2001,E560+1,2)","v":{"$error":"#NUM!"}},0,null,""]
[0,0,null,false,{"$f":"SMALL($D$3:$D$2001,ROWS($E$3:E560))","v":{"$error":"#NUM!"}},{"$f":"INDEX($A$2:$B$2001,E561+1,2)","v":{"$error":"#NUM!"}},0,null,""]
[0,0,null,false,{"$f":"SMALL($D$3:$D$2001,ROWS($E$3:E561))","v":{"$error":"#NUM!"}},{"$f":"INDEX($A$2:$B$2001,E562+1,2)","v":{"$error":"#NUM!"}},0,null,""]
[0,0,null,false,{"$f":"SMALL($D$3:$D$2001,ROWS($E$3:E562))","v":{"$error":"#NUM!"}},{"$f":"INDEX($A$2:$B$2001,E563+1,2)","v":{"$error":"#NUM!"}},0,null,""]
[0,0,null,false,{"$f":"SMALL($D$3:$D$2001,ROWS($E$3:E563))","v":{"$error":"#NUM!"}},{"$f":"INDEX($A$2:$B$2001,E564+1,2)","v":{"$error":"#NUM!"}},0,null,""]
[0,0,null,false,{"$f":"SMALL($D$3:$D$2001,ROWS($E$3:E564))","v":{"$error":"#NUM!"}},{"$f":"INDEX($A$2:$B$2001,E565+1,2)","v":{"$error":"#NUM!"}},0,null,""]
[0,0,null,false,{"$f":"SMALL($D$3:$D$2001,ROWS($E$3:E565))","v":{"$error":"#NUM!"}},{"$f":"INDEX($A$2:$B$2001,E566+1,2)","v":{"$error":"#NUM!"}},0,null,""]
[0,0,null,false,{"$f":"SMALL($D$3:$D$2001,ROWS($E$3:E566))","v":{"$error":"#NUM!"}},{"$f":"INDEX($A$2:$B$2001,E567+1,2)","v":{"$error":"#NUM!"}},0,null,""]
[0,0,null,false,{"$f":"SMALL($D$3:$D$2001,ROWS($E$3:E567))","v":{"$error":"#NUM!"}},{"$f":"INDEX($A$2:$B$2001,E568+1,2)","v":{"$error":"#NUM!"}},0,null,""]
[0,0,null,false,{"$f":"SMALL($D$3:$D$2001,ROWS($E$3:E568))","v":{"$error":"#NUM!"}},{"$f":"INDEX($A$2:$B$2001,E569+1,2)","v":{"$error":"#NUM!"}},0,null,""]
[0,0,null,false,{"$f":"SMALL($D$3:$D$2001,ROWS($E$3:E569))","v":{"$error":"#NUM!"}},{"$f":"INDEX($A$2:$B$2001,E570+1,2)","v":{"$error":"#NUM!"}},0,null,""]
[0,0,null,false,{"$f":"SMALL($D$3:$D$2001,ROWS($E$3:E570))","v":{"$error":"#NUM!"}},{"$f":"INDEX($A$2:$B$2001,E571+1,2)","v":{"$error":"#NUM!"}},0,null,""]
[0,0,null,false,{"$f":"SMALL($D$3:$D$2001,ROWS($E$3:E571))","v":{"$error":"#NUM!"}},{"$f":"INDEX($A$2:$B$2001,E572+1,2)","v":{"$error":"#NUM!"}},0,null,""]
[0,0,null,false,{"$f":"SMALL($D$3:$D$2001,ROWS($E$3:E572))","v":{"$error":"#NUM!"}},{"$f":"INDEX($A$2:$B$2001,E573+1,2)","v":{"$error":"#NUM!"}},0,null,""]
[0,0,null,false,{"$f":"SMALL($D$3:$D$2001,ROWS($E$3:E573))","v":{"$error":"#NUM!"}},{"$f":"INDEX($A$2:$B$2001,E574+1,2)","v":{"$error":"#NUM!"}},0,null,""]
[0,0,null,false,{"$f":"SMALL($D$3:$D$2001,ROWS($E$3:E574))","v":{"$error":"#NUM!"}},{"$f":"INDEX($A$2:$B$2001,E575+1,2)","v":{"$error":"#NUM!"}},0,null,""]
[0,0,null,false,{"$f":"SMALL($D$3:$D$2001,ROWS($E$3:E575))","v":{"$error":"#NUM!"}},{"$f":"INDEX($A$2:$B$2001,E576+1,2)","v":{"$error":"#NUM!"}},0,null,""]
[0,0,null,false,{"$f":"SMALL($D$3:$D$2001,ROWS($E$3:E576))","v":{"$error":"#NUM!"}},{"$f":"INDEX($A$2:$B$2001,E577+1,2)","v":{"$error":"#NUM!"}},0,null,""]
[0,0,null,false,{"$f":"SMALL($D$3:$D$2001,ROWS($E$3:E577))","v":{"$error":"#NUM!"}},{"$f":"INDEX($A$2:$B$2001,E578+1,2)","v":{"$error":"#NUM!"}},0,null,""]
[0,0,null,false,{"$f":"SMALL($D$3:$D$2001,ROWS($E$3:E578))","v":{"$error":"#NUM!"}},{"$f":"INDEX($A$2:$B$2001,E579+1,2)","v":{"$error":"#NUM!"}},0,null,""]
[0,0,null,false,{"$f":"SMALL($D$3:$D$2001,ROWS($E$3:E579))","v":{"$error":"#NUM!"}},{"$f":"INDEX($A$2:$B$2001,E580+1,2)","v":{"$error":"#NUM!"}},{"$f":"IFERROR(F579,0)","v":0},null,{"$f":"IF(G579=0,\"\",H579)","v":""}]
[0,0,null,{"$f":"IF(A580=$B$2,ROW(A580)-ROW($B$2))","v":false},{"$f":"SMALL($D$3:$D$2001,ROWS($E$3:E580))","v":{"$error":"#NUM!"}},{"$f":"INDEX($A$2:$B$2001,E581+1,2)","v":{"$error":"#NUM!"}},0,null,""]
[0,0,null,false,{"$f":"SMALL($D$3:$D$2001,ROWS($E$3:E581))","v":{"$error":"#NUM!"}},{"$f":"INDEX($A$2:$B$2001,E582+1,2)","v":{"$error":"#NUM!"}},0,null,""]
[0,0,null,false,{"$f":"SMALL($D$3:$D$2001,ROWS($E$3:E582))","v":{"$error":"#NUM!"}},{"$f":"INDEX($A$2:$B$2001,E583+1,2)","v":{"$error":"#NUM!"}},0,null,""]
[0,0,null,false,{"$f":"SMALL($D$3:$D$2001,ROWS($E$3:E583))","v":{"$error":"#NUM!"}},{"$f":"INDEX($A$2:$B$2001,E584+1,2)","v":{"$error":"#NUM!"}},0,null,""]
[0,0,null,false,{"$f":"SMALL($D$3:$D$2001,ROWS($E$3:E584))","v":{"$error":"#NUM!"}},{"$f":"INDEX($A$2:$B$2001,E585+1,2)","v":{"$error":"#NUM!"}},0,null,""]
[0,0,null,false,{"$f":"SMALL($D$3:$D$2001,ROWS($E$3:E585))","v":{"$error":"#NUM!"}},{"$f":"INDEX($A$2:$B$2001,E586+1,2)","v":{"$error":"#NUM!"}},0,null,""]
[0,0,null,false,{"$f":"SMALL($D$3:$D$2001,ROWS($E$3:E586))","v":{"$error":"#NUM!"}},{"$f":"INDEX($A$2:$B$2001,E587+1,2)","v":{"$error":"#NUM!"}},0,null,""]
[0,0,null,false,{"$f":"SMALL($D$3:$D$2001,ROWS($E$3:E587))","v":{"$error":"#NUM!"}},{"$f":"INDEX($A$2:$B$2001,E588+1,2)","v":{"$error":"#NUM!"}},0,null,""]
[0,0,null,false,{"$f":"SMALL($D$3:$D$2001,ROWS($E$3:E588))","v":{"$error":"#NUM!"}},{"$f":"INDEX($A$2:$B$2001,E589+1,2)","v":{"$error":"#NUM!"}},0,null,""]
[0,0,null,false,{"$f":"SMALL($D$3:$D$2001,ROWS($E$3:E589))","v":{"$error":"#NUM!"}},{"$f":"INDEX($A$2:$B$2001,E590+1,2)","v":{"$error":"#NUM!"}},0,null,""]
[0,0,null,false,{"$f":"SMALL($D$3:$D$2001,ROWS($E$3:E590))","v":{"$error":"#NUM!"}},{"$f":"INDEX($A$2:$B$2001,E591+1,2)","v":{"$error":"#NUM!"}},0,null,""]
[0,0,null,false,{"$f":"SMALL($D$3:$D$2001,ROWS($E$3:E591))","v":{"$error":"#NUM!"}},{"$f":"INDEX($A$2:$B$2001,E592+1,2)","v":{"$error":"#NUM!"}},0,null,""]
[0,0,null,false,{"$f":"SMALL($D$3:$D$2001,ROWS($E$3:E592))","v":{"$error":"#NUM!"}},{"$f":"INDEX($A$2:$B$2001,E593+1,2)","v":{"$error":"#NUM!"}},0,null,""]
[0,0,null,false,{"$f":"SMALL($D$3:$D$2001,ROWS($E$3:E593))","v":{"$error":"#NUM!"}},{"$f":"INDEX($A$2:$B$2001,E594+1,2)","v":{"$error":"#NUM!"}},0,null,""]
[0,0,null,false,{"$f":"SMALL($D$3:$D$2001,ROWS($E$3:E594))","v":{"$error":"#NUM!"}},{"$f":"INDEX($A$2:$B$2001,E595+1,2)","v":{"$error":"#NUM!"}},0,null,""]
[0,0,null,false,{"$f":"SMALL($D$3:$D$2001,ROWS($E$3:E595))","v":{"$error":"#NUM!"}},{"$f":"INDEX($A$2:$B$2001,E596+1,2)","v":{"$error":"#NUM!"}},0,null,""]
[0,0,null,false,{"$f":"SMALL($D$3:$D$2001,ROWS($E$3:E596))","v":{"$error":"#NUM!"}},{"$f":"INDEX($A$2:$B$2001,E597+1,2)","v":{"$error":"#NUM!"}},0,null,""]
[0,0,null,false,{"$f":"SMALL($D$3:$D$2001,ROWS($E$3:E597))","v":{"$error":"#NUM!"}},{"$f":"INDEX($A$2:$B$2001,E598+1,2)","v":{"$error":"#NUM!"}},0,null,""]
[0,0,null,false,{"$f":"SMALL($D$3:$D$2001,ROWS($E$3:E598))","v":{"$error":"#NUM!"}},{"$f":"INDEX($A$2:$B$2001,E599+1,2)","v":{"$error":"#NUM!"}},0,null,""]
[0,0,null,false,{"$f":"SMALL($D$3:$D$2001,ROWS($E$3:E599))","v":{"$error":"#NUM!"}},{"$f":"INDEX($A$2:$B$2001,E600+1,2)","v":{"$error":"#NUM!"}},0,null,""]
[0,0,null,false,{"$f":"SMALL($D$3:$D$2001,ROWS($E$3:E600))","v":{"$error":"#NUM!"}},{"$f":"INDEX($A$2:$B$2001,E601+1,2)","v":{"$error":"#NUM!"}},0,null,""]
[0,0,null,false,{"$f":"SMALL($D$3:$D$2001,ROWS($E$3:E601))","v":{"$error":"#NUM!"}},{"$f":"INDEX($A$2:$B$2001,E602+1,2)","v":{"$error":"#NUM!"}},0,null,""]
[0,0,null,false,{"$f":"SMALL($D$3:$D$2001,ROWS($E$3:E602))","v":{"$error":"#NUM!"}},{"$f":"INDEX($A$2:$B$2001,E603+1,2)","v":{"$error":"#NUM!"}},0,null,""]
[0,0,null,false,{"$f":"SMALL($D$3:$D$2001,ROWS($E$3:E603))","v":{"$error":"#NUM!"}},{"$f":"INDEX($A$2:$B$2001,E604+1,2)","v":{"$error":"#NUM!"}},0,null,""]
[0,0,null,false,{"$f":"SMALL($D$3:$D$2001,ROWS($E$3:E604))","v":{"$error":"#NUM!"}},{"$f":"INDEX($A$2:$B$2001,E605+1,2)","v":{"$error":"#NUM!"}},0,null,""]
[0,0,null,false,{"$f":"SMALL($D$3:$D$2001,ROWS($E$3:E605))","v":{"$error":"#NUM!"}},{"$f":"INDEX($A$2:$B$2001,E606+1,2)","v":{"$error":"#NUM!"}},0,null,""]
[0,0,null,false,{"$f":"SMALL($D$3:$D$2001,ROWS($E$3:E606))","v":{"$error":"#NUM!"}},{"$f":"INDEX($A$2:$B$2001,E607+1,2)","v":{"$error":"#NUM!"}},0,null,""]
[0,0,null,false,{"$f":"SMALL($D$3:$D$2001,ROWS($E$3:E607))","v":{"$error":"#NUM!"}},{"$f":"INDEX($A$2:$B$2001,E608+1,2)","v":{"$error":"#NUM!"}},0,null,""]
[0,0,null,false,{"$f":"SMALL($D$3:$D$2001,ROWS($E$3:E608))","v":{"$error":"#NUM!"}},{"$f":"INDEX($A$2:$B$2001,E609+1,2)","v":{"$error":"#NUM!"}},0,null,""]
[0,0,null,false,{"$f":"SMALL($D$3:$D$2001,ROWS($E$3:E609))","v":{"$error":"#NUM!"}},{"$f":"INDEX($A$2:$B$2001,E610+1,2)","v":{"$error":"#NUM!"}},0,null,""]
[0,0,null,false,{"$f":"SMALL($D$3:$D$2001,ROWS($E$3:E610))","v":{"$error":"#NUM!"}},{"$f":"INDEX($A$2:$B$2001,E611+1,2)","v":{"$error":"#NUM!"}},0,null,""]
[0,0,null,false,{"$f":"SMALL($D$3:$D$2001,ROWS($E$3:E611))","v":{"$error":"#NUM!"}},{"$f":"INDEX($A$2:$B$2001,E612+1,2)","v":{"$error":"#NUM!"}},0,null,""]
[0,0,null,false,{"$f":"SMALL($D$3:$D$2001,ROWS($E$3:E612))","v":{"$error":"#NUM!"}},{"$f":"INDEX($A$2:$B$2001,E613+1,2)","v":{"$error":"#NUM!"}},0,null,""]
[0,0,null,false,{"$f":"SMALL($D$3:$D$2001,ROWS($E$3:E613))","v":{"$error":"#NUM!"}},{"$f":"INDEX($A$2:$B$2001,E614+1,2)","v":{"$error":"#NUM!"}},0,null,""]
[0,0,null,false,{"$f":"SMALL($D$3:$D$2001,ROWS($E$3:E614))","v":{"$error":"#NUM!"}},{"$f":"INDEX($A$2:$B$2001,E615+1,2)","v":{"$error":"#NUM!"}},0,null,""]
[0,0,null,false,{"$f":"SMALL($D$3:$D$2001,ROWS($E$3:E615))","v":{"$error":"#NUM!"}},{"$f":"INDEX($A$2:$B$2001,E616+1,2)","v":{"$error":"#NUM!"}},0,null,""]
[0,0,null,false,{"$f":"SMALL($D$3:$D$2001,ROWS($E$3:E616))","v":{"$error":"#NUM!"}},{"$f":"INDEX($A$2:$B$2001,E617+1,2)","v":{"$error":"#NUM!"}},0,null,""]
[0,0,null,false,{"$f":"SMALL($D$3:$D$2001,ROWS($E$3:E617))","v":{"$error":"#NUM!"}},{"$f":"INDEX($A$2:$B$2001,E618+1,2)","v":{"$error":"#NUM!"}},0,null,""]
[0,0,null,false,{"$f":"SMALL($D$3:$D$2001,ROWS($E$3:E618))","v":{"$error":"#NUM!"}},{"$f":"INDEX($A$2:$B$2001,E619+1,2)","v":{"$error":"#NUM!"}},0,null,""]
[0,0,null,false,{"$f":"SMALL($D$3:$D$2001,ROWS($E$3:E619))","v":{"$error":"#NUM!"}},{"$f":"INDEX($A$2:$B$2001,E620+1,2)","v":{"$error":"#NUM!"}},0,null,""]
[0,0,null,false,{"$f":"SMALL($D$3:$D$2001,ROWS($E$3:E620))","v":{"$error":"#NUM!"}},{"$f":"INDEX($A$2:$B$2001,E621+1,2)","v":{"$error":"#NUM!"}},0,null,""]
[0,0,null,false,{"$f":"SMALL($D$3:$D$2001,ROWS($E$3:E621))","v":{"$error":"#NUM!"}},{"$f":"INDEX($A$2:$B$2001,E622+1,2)","v":{"$error":"#NUM!"}},0,null,""]
[0,0,null,false,{"$f":"SMALL($D$3:$D$2001,ROWS($E$3:E622))","v":{"$error":"#NUM!"}},{"$f":"INDEX($A$2:$B$2001,E623+1,2)","v":{"$error":"#NUM!"}},0,null,""]
[0,0,null,false,{"$f":"SMALL($D$3:$D$2001,ROWS($E$3:E623))","v":{"$error":"#NUM!"}},{"$f":"INDEX($A$2:$B$2001,E624+1,2)","v":{"$error":"#NUM!"}},0,null,""]
[0,0,null,false,{"$f":"SMALL($D$3:$D$2001,ROWS($E$3:E624))","v":{"$error":"#NUM!"}},{"$f":"INDEX($A$2:$B$2001,E625+1,2)","v":{"$error":"#NUM!"}},0,null,""]
[0,0,null,false,{"$f":"SMALL($D$3:$D$2001,ROWS($E$3:E625))","v":{"$error":"#NUM!"}},{"$f":"INDEX($A$2:$B$2001,E626+1,2)","v":{"$error":"#NUM!"}},0,null,""]
[0,0,null,false,{"$f":"SMALL($D$3:$D$2001,ROWS($E$3:E626))","v":{"$error":"#NUM!"}},{"$f":"INDEX($A$2:$B$2001,E627+1,2)","v":{"$error":"#NUM!"}},0,null,""]
[0,0,null,false,{"$f":"SMALL($D$3:$D$2001,ROWS($E$3:E627))","v":{"$error":"#NUM!"}},{"$f":"INDEX($A$2:$B$2001,E628+1,2)","v":{"$error":"#NUM!"}},0,null,""]
[0,0,null,false,{"$f":"SMALL($D$3:$D$2001,ROWS($E$3:E628))","v":{"$error":"#NUM!"}},{"$f":"INDEX($A$2:$B$2001,E629+1,2)","v":{"$error":"#NUM!"}},0,null,""]
[0,0,null,false,{"$f":"SMALL($D$3:$D$2001,ROWS($E$3:E629))","v":{"$error":"#NUM!"}},{"$f":"INDEX($A$2:$B$2001,E630+1,2)","v":{"$error":"#NUM!"}},0,null,""]
[0,0,null,false,{"$f":"SMALL($D$3:$D$2001,ROWS($E$3:E630))","v":{"$error":"#NUM!"}},{"$f":"INDEX($A$2:$B$2001,E631+1,2)","v":{"$error":"#NUM!"}},0,null,""]
[0,0,null,false,{"$f":"SMALL($D$3:$D$2001,ROWS($E$3:E631))","v":{"$error":"#NUM!"}},{"$f":"INDEX($A$2:$B$2001,E632+1,2)","v":{"$error":"#NUM!"}},0,null,""]
[0,0,null,false,{"$f":"SMALL($D$3:$D$2001,ROWS($E$3:E632))","v":{"$error":"#NUM!"}},{"$f":"INDEX($A$2:$B$2001,E633+1,2)","v":{"$error":"#NUM!"}},0,null,""]
[0,0,null,false,{"$f":"SMALL($D$3:$D$2001,ROWS($E$3:E633))","v":{"$error":"#NUM!"}},{"$f":"INDEX($A$2:$B$2001,E634+1,2)","v":{"$error":"#NUM!"}},0,null,""]
[0,0,null,false,{"$f":"SMALL($D$3:$D$2001,ROWS($E$3:E634))","v":{"$error":"#NUM!"}},{"$f":"INDEX($A$2:$B$2001,E635+1,2)","v":{"$error":"#NUM!"}},0,null,""]
[0,0,null,false,{"$f":"SMALL($D$3:$D$2001,ROWS($E$3:E635))","v":{"$error":"#NUM!"}},{"$f":"INDEX($A$2:$B$2001,E636+1,2)","v":{"$error":"#NUM!"}},0,null,""]
[0,0,null,false,{"$f":"SMALL($D$3:$D$2001,ROWS($E$3:E636))","v":{"$error":"#NUM!"}},{"$f":"INDEX($A$2:$B$2001,E637+1,2)","v":{"$error":"#NUM!"}},0,null,""]
[0,0,null,false,{"$f":"SMALL($D$3:$D$2001,ROWS($E$3:E637))","v":{"$error":"#NUM!"}},{"$f":"INDEX($A$2:$B$2001,E638+1,2)","v":{"$error":"#NUM!"}},0,null,""]
[0,0,null,false,{"$f":"SMALL($D$3:$D$2001,ROWS($E$3:E638))","v":{"$error":"#NUM!"}},{"$f":"INDEX($A$2:$B$2001,E639+1,2)","v":{"$error":"#NUM!"}},0,null,""]
[0,0,null,false,{"$f":"SMALL($D$3:$D$2001,ROWS($E$3:E639))","v":{"$error":"#NUM!"}},{"$f":"INDEX($A$2:$B$2001,E640+1,2)","v":{"$error":"#NUM!"}},0,null,""]
[0,0,null,false,{"$f":"SMALL($D$3:$D$2001,ROWS($E$3:E640))","v":{"$error":"#NUM!"}},{"$f":"INDEX($A$2:$B$2001,E641+1,2)","v":{"$error":"#NUM!"}},0,null,""]
[0,0,null,false,{"$f":"SMALL($D$3:$D$2001,ROWS($E$3:E641))","v":{"$error":"#NUM!"}},{"$f":"INDEX($A$2:$B$2001,E642+1,2)","v":{"$error":"#NUM!"}},0,null,""]
[0,0,null,false,{"$f":"SMALL($D$3:$D$2001,ROWS($E$3:E642))","v":{"$error":"#NUM!"}},{"$f":"INDEX($A$2:$B$2001,E643+1,2)","v":{"$error":"#NUM!"}},0,null,""]
[0,0,null,false,{"$f":"SMALL($D$3:$D$2001,ROWS($E$3:E643))","v":{"$error":"#NUM!"}},{"$f":"INDEX($A$2:$B$2001,E644+1,2)","v":{"$error":"#NUM!"}},{"$f":"IFERROR(F643,0)","v":0},null,{"$f":"IF(G643=0,\"\",H643)","v":""}]
[0,0,null,{"$f":"IF(A644=$B$2,ROW(A644)-ROW($B$2))","v":false},{"$f":"SMALL($D$3:$D$2001,ROWS($E$3:E644))","v":{"$error":"#NUM!"}},{"$f":"INDEX($A$2:$B$2001,E645+1,2)","v":{"$error":"#NUM!"}},0,null,""]
[0,0,null,false,{"$f":"SMALL($D$3:$D$2001,ROWS($E$3:E645))","v":{"$error":"#NUM!"}},{"$f":"INDEX($A$2:$B$2001,E646+1,2)","v":{"$error":"#NUM!"}},0,null,""]
[0,0,null,false,{"$f":"SMALL($D$3:$D$2001,ROWS($E$3:E646))","v":{"$error":"#NUM!"}},{"$f":"INDEX($A$2:$B$2001,E647+1,2)","v":{"$error":"#NUM!"}},0,null,""]
[0,0,null,false,{"$f":"SMALL($D$3:$D$2001,ROWS($E$3:E647))","v":{"$error":"#NUM!"}},{"$f":"INDEX($A$2:$B$2001,E648+1,2)","v":{"$error":"#NUM!"}},0,null,""]
[0,0,null,false,{"$f":"SMALL($D$3:$D$2001,ROWS($E$3:E648))","v":{"$error":"#NUM!"}},{"$f":"INDEX($A$2:$B$2001,E649+1,2)","v":{"$error":"#NUM!"}},0,null,""]
[0,0,null,false,{"$f":"SMALL($D$3:$D$2001,ROWS($E$3:E649))","v":{"$error":"#NUM!"}},{"$f":"INDEX($A$2:$B$2001,E650+1,2)","v":{"$error":"#NUM!"}},0,null,""]
[0,0,null,false,{"$f":"SMALL($D$3:$D$2001,ROWS($E$3:E650))","v":{"$error":"#NUM!"}},{"$f":"INDEX($A$2:$B$2001,E651+1,2)","v":{"$error":"#NUM!"}},0,null,""]
[0,0,null,false,{"$f":"SMALL($D$3:$D$2001,ROWS($E$3:E651))","v":{"$error":"#NUM!"}},{"$f":"INDEX($A$2:$B$2001,E652+1,2)","v":{"$error":"#NUM!"}},0,null,""]
[0,0,null,false,{"$f":"SMALL($D$3:$D$2001,ROWS($E$3:E652))","v":{"$error":"#NUM!"}},{"$f":"INDEX($A$2:$B$2001,E653+1,2)","v":{"$error":"#NUM!"}},0,null,""]
[0,0,null,false,{"$f":"SMALL($D$3:$D$2001,ROWS($E$3:E653))","v":{"$error":"#NUM!"}},{"$f":"INDEX($A$2:$B$2001,E654+1,2)","v":{"$error":"#NUM!"}},0,null,""]
[0,0,null,false,{"$f":"SMALL($D$3:$D$2001,ROWS($E$3:E654))","v":{"$error":"#NUM!"}},{"$f":"INDEX($A$2:$B$2001,E655+1,2)","v":{"$error":"#NUM!"}},0,null,""]
[0,0,null,false,{"$f":"SMALL($D$3:$D$2001,ROWS($E$3:E655))","v":{"$error":"#NUM!"}},{"$f":"INDEX($A$2:$B$2001,E656+1,2)","v":{"$error":"#NUM!"}},0,null,""]
[0,0,null,false,{"$f":"SMALL($D$3:$D$2001,ROWS($E$3:E656))","v":{"$error":"#NUM!"}},{"$f":"INDEX($A$2:$B$2001,E657+1,2)","v":{"$error":"#NUM!"}},0,null,""]
[0,0,null,false,{"$f":"SMALL($D$3:$D$2001,ROWS($E$3:E657))","v":{"$error":"#NUM!"}},{"$f":"INDEX($A$2:$B$2001,E658+1,2)","v":{"$error":"#NUM!"}},0,null,""]
[0,0,null,false,{"$f":"SMALL($D$3:$D$2001,ROWS($E$3:E658))","v":{"$error":"#NUM!"}},{"$f":"INDEX($A$2:$B$2001,E659+1,2)","v":{"$error":"#NUM!"}},0,null,""]
[0,0,null,false,{"$f":"SMALL($D$3:$D$2001,ROWS($E$3:E659))","v":{"$error":"#NUM!"}},{"$f":"INDEX($A$2:$B$2001,E660+1,2)","v":{"$error":"#NUM!"}},0,null,""]
[0,0,null,false,{"$f":"SMALL($D$3:$D$2001,ROWS($E$3:E660))","v":{"$error":"#NUM!"}},{"$f":"INDEX($A$2:$B$2001,E661+1,2)","v":{"$error":"#NUM!"}},0,null,""]
[0,0,null,false,{"$f":"SMALL($D$3:$D$2001,ROWS($E$3:E661))","v":{"$error":"#NUM!"}},{"$f":"INDEX($A$2:$B$2001,E662+1,2)","v":{"$error":"#NUM!"}},0,null,""]
[0,0,null,false,{"$f":"SMALL($D$3:$D$2001,ROWS($E$3:E662))","v":{"$error":"#NUM!"}},{"$f":"INDEX($A$2:$B$2001,E663+1,2)","v":{"$error":"#NUM!"}},0,null,""]
[0,0,null,false,{"$f":"SMALL($D$3:$D$2001,ROWS($E$3:E663))","v":{"$error":"#NUM!"}},{"$f":"INDEX($A$2:$B$2001,E664+1,2)","v":{"$error":"#NUM!"}},0,null,""]
[0,0,null,false,{"$f":"SMALL($D$3:$D$2001,ROWS($E$3:E664))","v":{"$error":"#NUM!"}},{"$f":"INDEX($A$2:$B$2001,E665+1,2)","v":{"$error":"#NUM!"}},0,null,""]
[0,0,null,false,{"$f":"SMALL($D$3:$D$2001,ROWS($E$3:E665))","v":{"$error":"#NUM!"}},{"$f":"INDEX($A$2:$B$2001,E666+1,2)","v":{"$error":"#NUM!"}},0,null,""]
[0,0,null,false,{"$f":"SMALL($D$3:$D$2001,ROWS($E$3:E666))","v":{"$error":"#NUM!"}},{"$f":"INDEX($A$2:$B$2001,E667+1,2)","v":{"$error":"#NUM!"}},0,null,""]
[0,0,null,false,{"$f":"SMALL($D$3:$D$2001,ROWS($E$3:E667))","v":{"$error":"#NUM!"}},{"$f":"INDEX($A$2:$B$2001,E668+1,2)","v":{"$error":"#NUM!"}},0,null,""]
[0,0,null,false,{"$f":"SMALL($D$3:$D$2001,ROWS($E$3:E668))","v":{"$error":"#NUM!"}},{"$f":"INDEX($A$2:$B$2001,E669+1,2)","v":{"$error":"#NUM!"}},0,null,""]
[0,0,null,false,{"$f":"SMALL($D$3:$D$2001,ROWS($E$3:E669))","v":{"$error":"#NUM!"}},{"$f":"INDEX($A$2:$B$2001,E670+1,2)","v":{"$error":"#NUM!"}},0,null,""]
[0,0,null,false,{"$f":"SMALL($D$3:$D$2001,ROWS($E$3:E670))","v":{"$error":"#NUM!"}},{"$f":"INDEX($A$2:$B$2001,E671+1,2)","v":{"$error":"#NUM!"}},0,null,""]
[0,0,null,false,{"$f":"SMALL($D$3:$D$2001,ROWS($E$3:E671))","v":{"$error":"#NUM!"}},{"$f":"INDEX($A$2:$B$2001,E672+1,2)","v":{"$error":"#NUM!"}},0,null,""]
[0,0,null,false,{"$f":"SMALL($D$3:$D$2001,ROWS($E$3:E672))","v":{"$error":"#NUM!"}},{"$f":"INDEX($A$2:$B$2001,E673+1,2)","v":{"$error":"#NUM!"}},0,null,""]
[0,0,null,false,{"$f":"SMALL($D$3:$D$2001,ROWS($E$3:E673))","v":{"$error":"#NUM!"}},{"$f":"INDEX($A$2:$B$2001,E674+1,2)","v":{"$error":"#NUM!"}},0,null,""]
[0,0,null,false,{"$f":"SMALL($D$3:$D$2001,ROWS($E$3:E674))","v":{"$error":"#NUM!"}},{"$f":"INDEX($A$2:$B$2001,E675+1,2)","v":{"$error":"#NUM!"}},0,null,""]
[0,0,null,false,{"$f":"SMALL($D$3:$D$2001,ROWS($E$3:E675))","v":{"$error":"#NUM!"}},{"$f":"INDEX($A$2:$B$2001,E676+1,2)","v":{"$error":"#NUM!"}},0,null,""]
[0,0,null,false,{"$f":"SMALL($D$3:$D$2001,ROWS($E$3:E676))","v":{"$error":"#NUM!"}},{"$f":"INDEX($A$2:$B$2001,E677+1,2)","v":{"$error":"#NUM!"}},0,null,""]
[0,0,null,false,{"$f":"SMALL($D$3:$D$2001,ROWS($E$3:E677))","v":{"$error":"#NUM!"}},{"$f":"INDEX($A$2:$B$2001,E678+1,2)","v":{"$error":"#NUM!"}},0,null,""]
[0,0,null,false,{"$f":"SMALL($D$3:$D$2001,ROWS($E$3:E678))","v":{"$error":"#NUM!"}},{"$f":"INDEX($A$2:$B$2001,E679+1,2)","v":{"$error":"#NUM!"}},0,null,""]
[0,0,null,false,{"$f":"SMALL($D$3:$D$2001,ROWS($E$3:E679))","v":{"$error":"#NUM!"}},{"$f":"INDEX($A$2:$B$2001,E680+1,2)","v":{"$error":"#NUM!"}},0,null,""]
[0,0,null,false,{"$f":"SMALL($D$3:$D$2001,ROWS($E$3:E680))","v":{"$error":"#NUM!"}},{"$f":"INDEX($A$2:$B$2001,E681+1,2)","v":{"$error":"#NUM!"}},0,null,""]
[0,0,null,false,{"$f":"SMALL($D$3:$D$2001,ROWS($E$3:E681))","v":{"$error":"#NUM!"}},{"$f":"INDEX($A$2:$B$2001,E682+1,2)","v":{"$error":"#NUM!"}},0,null,""]
[0,0,null,false,{"$f":"SMALL($D$3:$D$2001,ROWS($E$3:E682))","v":{"$error":"#NUM!"}},{"$f":"INDEX($A$2:$B$2001,E683+1,2)","v":{"$error":"#NUM!"}},0,null,""]
[0,0,null,false,{"$f":"SMALL($D$3:$D$2001,ROWS($E$3:E683))","v":{"$error":"#NUM!"}},{"$f":"INDEX($A$2:$B$2001,E684+1,2)","v":{"$error":"#NUM!"}},0,null,""]
[0,0,null,false,{"$f":"SMALL($D$3:$D$2001,ROWS($E$3:E684))","v":{"$error":"#NUM!"}},{"$f":"INDEX($A$2:$B$2001,E685+1,2)","v":{"$error":"#NUM!"}},0,null,""]
[0,0,null,false,{"$f":"SMALL($D$3:$D$2001,ROWS($E$3:E685))","v":{"$error":"#NUM!"}},{"$f":"INDEX($A$2:$B$2001,E686+1,2)","v":{"$error":"#NUM!"}},0,null,""]
[0,0,null,false,{"$f":"SMALL($D$3:$D$2001,ROWS($E$3:E686))","v":{"$error":"#NUM!"}},{"$f":"INDEX($A$2:$B$2001,E687+1,2)","v":{"$error":"#NUM!"}},0,null,""]
[0,0,null,false,{"$f":"SMALL($D$3:$D$2001,ROWS($E$3:E687))","v":{"$error":"#NUM!"}},{"$f":"INDEX($A$2:$B$2001,E688+1,2)","v":{"$error":"#NUM!"}},0,null,""]
[0,0,null,false,{"$f":"SMALL($D$3:$D$2001,ROWS($E$3:E688))","v":{"$error":"#NUM!"}},{"$f":"INDEX($A$2:$B$2001,E689+1,2)","v":{"$error":"#NUM!"}},0,null,""]
[0,0,null,false,{"$f":"SMALL($D$3:$D$2001,ROWS($E$3:E689))","v":{"$error":"#NUM!"}},{"$f":"INDEX($A$2:$B$2001,E690+1,2)","v":{"$error":"#NUM!"}},0,null,""]
[0,0,null,false,{"$f":"SMALL($D$3:$D$2001,ROWS($E$3:E690))","v":{"$error":"#NUM!"}},{"$f":"INDEX($A$2:$B$2001,E691+1,2)","v":{"$error":"#NUM!"}},0,null,""]
[0,0,null,false,{"$f":"SMALL($D$3:$D$2001,ROWS($E$3:E691))","v":{"$error":"#NUM!"}},{"$f":"INDEX($A$2:$B$2001,E692+1,2)","v":{"$error":"#NUM!"}},0,null,""]
[0,0,null,false,{"$f":"SMALL($D$3:$D$2001,ROWS($E$3:E692))","v":{"$error":"#NUM!"}},{"$f":"INDEX($A$2:$B$2001,E693+1,2)","v":{"$error":"#NUM!"}},0,null,""]
[0,0,null,false,{"$f":"SMALL($D$3:$D$2001,ROWS($E$3:E693))","v":{"$error":"#NUM!"}},{"$f":"INDEX($A$2:$B$2001,E694+1,2)","v":{"$error":"#NUM!"}},0,null,""]
[0,0,null,false,{"$f":"SMALL($D$3:$D$2001,ROWS($E$3:E694))","v":{"$error":"#NUM!"}},{"$f":"INDEX($A$2:$B$2001,E695+1,2)","v":{"$error":"#NUM!"}},0,null,""]
[0,0,null,false,{"$f":"SMALL($D$3:$D$2001,ROWS($E$3:E695))","v":{"$error":"#NUM!"}},{"$f":"INDEX($A$2:$B$2001,E696+1,2)","v":{"$error":"#NUM!"}},0,null,""]
[0,0,null,false,{"$f":"SMALL($D$3:$D$2001,ROWS($E$3:E696))","v":{"$error":"#NUM!"}},{"$f":"INDEX($A$2:$B$2001,E697+1,2)","v":{"$error":"#NUM!"}},0,null,""]
[0,0,null,false,{"$f":"SMALL($D$3:$D$2001,ROWS($E$3:E697))","v":{"$error":"#NUM!"}},{"$f":"INDEX($A$2:$B$2001,E698+1,2)","v":{"$error":"#NUM!"}},0,null,""]
[0,0,null,false,{"$f":"SMALL($D$3:$D$2001,ROWS($E$3:E698))","v":{"$error":"#NUM!"}},{"$f":"INDEX($A$2:$B$2001,E699+1,2)","v":{"$error":"#NUM!"}},0,null,""]
[0,0,null,false,{"$f":"SMALL($D$3:$D$2001,ROWS($E$3:E699))","v":{"$error":"#NUM!"}},{"$f":"INDEX($A$2:$B$2001,E700+1,2)","v":{"$error":"#NUM!"}},0,null,""]
[0,0,null,false,{"$f":"SMALL($D$3:$D$2001,ROWS($E$3:E700))","v":{"$error":"#NUM!"}},{"$f":"INDEX($A$2:$B$2001,E701+1,2)","v":{"$error":"#NUM!"}},0,null,""]
[0,0,null,false,{"$f":"SMALL($D$3:$D$2001,ROWS($E$3:E701))","v":{"$error":"#NUM!"}},{"$f":"INDEX($A$2:$B$2001,E702+1,2)","v":{"$error":"#NUM!"}},0,null,""]
[0,0,null,false,{"$f":"SMALL($D$3:$D$2001,ROWS($E$3:E702))","v":{"$error":"#NUM!"}},{"$f":"INDEX($A$2:$B$2001,E703+1,2)","v":{"$error":"#NUM!"}},0,null,""]
[0,0,null,false,{"$f":"SMALL($D$3:$D$2001,ROWS($E$3:E703))","v":{"$error":"#NUM!"}},{"$f":"INDEX($A$2:$B$2001,E704+1,2)","v":{"$error":"#NUM!"}},0,null,""]
[0,0,null,false,{"$f":"SMALL($D$3:$D$2001,ROWS($E$3:E704))","v":{"$error":"#NUM!"}},{"$f":"INDEX($A$2:$B$2001,E705+1,2)","v":{"$error":"#NUM!"}},0,null,""]
[0,0,null,false,{"$f":"SMALL($D$3:$D$2001,ROWS($E$3:E705))","v":{"$error":"#NUM!"}},{"$f":"INDEX($A$2:$B$2001,E706+1,2)","v":{"$error":"#NUM!"}},0,null,""]
[0,0,null,false,{"$f":"SMALL($D$3:$D$2001,ROWS($E$3:E706))","v":{"$error":"#NUM!"}},{"$f":"INDEX($A$2:$B$2001,E707+1,2)","v":{"$error":"#NUM!"}},0,null,""]
[0,0,null,false,{"$f":"SMALL($D$3:$D$2001,ROWS($E$3:E707))","v":{"$error":"#NUM!"}},{"$f":"INDEX($A$2:$B$2001,E708+1,2)","v":{"$error":"#NUM!"}},{"$f":"IFERROR(F707,0)","v":0},null,{"$f":"IF(G707=0,\"\",H707)","v":""}]
[0,0,null,{"$f":"IF(A708=$B$2,ROW(A708)-ROW($B$2))","v":false},{"$f":"SMALL($D$3:$D$2001,ROWS($E$3:E708))","v":{"$error":"#NUM!"}},{"$f":"INDEX($A$2:$B$2001,E709+1,2)","v":{"$error":"#NUM!"}},0,null,""]
[0,0,null,false,{"$f":"SMALL($D$3:$D$2001,ROWS($E$3:E709))","v":{"$error":"#NUM!"}},{"$f":"INDEX($A$2:$B$2001,E710+1,2)","v":{"$error":"#NUM!"}},0,null,""]
[0,0,null,false,{"$f":"SMALL($D$3:$D$2001,ROWS($E$3:E710))","v":{"$error":"#NUM!"}},{"$f":"INDEX($A$2:$B$2001,E711+1,2)","v":{"$error":"#NUM!"}},0,null,""]
[0,0,null,false,{"$f":"SMALL($D$3:$D$2001,ROWS($E$3:E711))","v":{"$error":"#NUM!"}},{"$f":"INDEX($A$2:$B$2001,E712+1,2)","v":{"$error":"#NUM!"}},0,null,""]
[0,0,null,false,{"$f":"SMALL($D$3:$D$2001,ROWS($E$3:E712))","v":{"$error":"#NUM!"}},{"$f":"INDEX($A$2:$B$2001,E713+1,2)","v":{"$error":"#NUM!"}},0,null,""]
[0,0,null,false,{"$f":"SMALL($D$3:$D$2001,ROWS($E$3:E713))","v":{"$error":"#NUM!"}},{"$f":"INDEX($A$2:$B$2001,E714+1,2)","v":{"$error":"#NUM!"}},0,null,""]
[0,0,null,false,{"$f":"SMALL($D$3:$D$2001,ROWS($E$3:E714))","v":{"$error":"#NUM!"}},{"$f":"INDEX($A$2:$B$2001,E715+1,2)","v":{"$error":"#NUM!"}},0,null,""]
[0,0,null,false,{"$f":"SMALL($D$3:$D$2001,ROWS($E$3:E715))","v":{"$error":"#NUM!"}},{"$f":"INDEX($A$2:$B$2001,E716+1,2)","v":{"$error":"#NUM!"}},0,null,""]
[0,0,null,false,{"$f":"SMALL($D$3:$D$2001,ROWS($E$3:E716))","v":{"$error":"#NUM!"}},{"$f":"INDEX($A$2:$B$2001,E717+1,2)","v":{"$error":"#NUM!"}},0,null,""]
[0,0,null,false,{"$f":"SMALL($D$3:$D$2001,ROWS($E$3:E717))","v":{"$error":"#NUM!"}},{"$f":"INDEX($A$2:$B$2001,E718+1,2)","v":{"$error":"#NUM!"}},0,null,""]
[0,0,null,false,{"$f":"SMALL($D$3:$D$2001,ROWS($E$3:E718))","v":{"$error":"#NUM!"}},{"$f":"INDEX($A$2:$B$2001,E719+1,2)","v":{"$error":"#NUM!"}},0,null,""]
[0,0,null,false,{"$f":"SMALL($D$3:$D$2001,ROWS($E$3:E719))","v":{"$error":"#NUM!"}},{"$f":"INDEX($A$2:$B$2001,E720+1,2)","v":{"$error":"#NUM!"}},0,null,""]
[0,0,null,false,{"$f":"SMALL($D$3:$D$2001,ROWS($E$3:E720))","v":{"$error":"#NUM!"}},{"$f":"INDEX($A$2:$B$2001,E721+1,2)","v":{"$error":"#NUM!"}},0,null,""]
[0,0,null,false,{"$f":"SMALL($D$3:$D$2001,ROWS($E$3:E721))","v":{"$error":"#NUM!"}},{"$f":"INDEX($A$2:$B$2001,E722+1,2)","v":{"$error":"#NUM!"}},0,null,""]
[0,0,null,false,{"$f":"SMALL($D$3:$D$2001,ROWS($E$3:E722))","v":{"$error":"#NUM!"}},{"$f":"INDEX($A$2:$B$2001,E723+1,2)","v":{"$error":"#NUM!"}},0,null,""]
[0,0,null,false,{"$f":"SMALL($D$3:$D$2001,ROWS($E$3:E723))","v":{"$error":"#NUM!"}},{"$f":"INDEX($A$2:$B$2001,E724+1,2)","v":{"$error":"#NUM!"}},0,null,""]
[0,0,null,false,{"$f":"SMALL($D$3:$D$2001,ROWS($E$3:E724))","v":{"$error":"#NUM!"}},{"$f":"INDEX($A$2:$B$2001,E725+1,2)","v":{"$error":"#NUM!"}},0,null,""]
[0,0,null,false,{"$f":"SMALL($D$3:$D$2001,ROWS($E$3:E725))","v":{"$error":"#NUM!"}},{"$f":"INDEX($A$2:$B$2001,E726+1,2)","v":{"$error":"#NUM!"}},0,null,""]
[0,0,null,false,{"$f":"SMALL($D$3:$D$2001,ROWS($E$3:E726))","v":{"$error":"#NUM!"}},{"$f":"INDEX($A$2:$B$2001,E727+1,2)","v":{"$error":"#NUM!"}},0,null,""]
[0,0,null,false,{"$f":"SMALL($D$3:$D$2001,ROWS($E$3:E727))","v":{"$error":"#NUM!"}},{"$f":"INDEX($A$2:$B$2001,E728+1,2)","v":{"$error":"#NUM!"}},0,null,""]
[0,0,null,false,{"$f":"SMALL($D$3:$D$2001,ROWS($E$3:E728))","v":{"$error":"#NUM!"}},{"$f":"INDEX($A$2:$B$2001,E729+1,2)","v":{"$error":"#NUM!"}},0,null,""]
[0,0,null,false,{"$f":"SMALL($D$3:$D$2001,ROWS($E$3:E729))","v":{"$error":"#NUM!"}},{"$f":"INDEX($A$2:$B$2001,E730+1,2)","v":{"$error":"#NUM!"}},0,null,""]
[0,0,null,false,{"$f":"SMALL($D$3:$D$2001,ROWS($E$3:E730))","v":{"$error":"#NUM!"}},{"$f":"INDEX($A$2:$B$2001,E731+1,2)","v":{"$error":"#NUM!"}},0,null,""]
[0,0,null,false,{"$f":"SMALL($D$3:$D$2001,ROWS($E$3:E731))","v":{"$error":"#NUM!"}},{"$f":"INDEX($A$2:$B$2001,E732+1,2)","v":{"$error":"#NUM!"}},0,null,""]
[0,0,null,false,{"$f":"SMALL($D$3:$D$2001,ROWS($E$3:E732))","v":{"$error":"#NUM!"}},{"$f":"INDEX($A$2:$B$2001,E733+1,2)","v":{"$error":"#NUM!"}},0,null,""]
[0,0,null,false,{"$f":"SMALL($D$3:$D$2001,ROWS($E$3:E733))","v":{"$error":"#NUM!"}},{"$f":"INDEX($A$2:$B$2001,E734+1,2)","v":{"$error":"#NUM!"}},0,null,""]
[0,0,null,false,{"$f":"SMALL($D$3:$D$2001,ROWS($E$3:E734))","v":{"$error":"#NUM!"}},{"$f":"INDEX($A$2:$B$2001,E735+1,2)","v":{"$error":"#NUM!"}},0,null,""]
[0,0,null,false,{"$f":"SMALL($D$3:$D$2001,ROWS($E$3:E735))","v":{"$error":"#NUM!"}},{"$f":"INDEX($A$2:$B$2001,E736+1,2)","v":{"$error":"#NUM!"}},0,null,""]
[0,0,null,false,{"$f":"SMALL($D$3:$D$2001,ROWS($E$3:E736))","v":{"$error":"#NUM!"}},{"$f":"INDEX($A$2:$B$2001,E737+1,2)","v":{"$error":"#NUM!"}},0,null,""]
[0,0,null,false,{"$f":"SMALL($D$3:$D$2001,ROWS($E$3:E737))","v":{"$error":"#NUM!"}},{"$f":"INDEX($A$2:$B$2001,E738+1,2)","v":{"$error":"#NUM!"}},0,null,""]
[0,0,null,false,{"$f":"SMALL($D$3:$D$2001,ROWS($E$3:E738))","v":{"$error":"#NUM!"}},{"$f":"INDEX($A$2:$B$2001,E739+1,2)","v":{"$error":"#NUM!"}},0,null,""]
[0,0,null,false,{"$f":"SMALL($D$3:$D$2001,ROWS($E$3:E739))","v":{"$error":"#NUM!"}},{"$f":"INDEX($A$2:$B$2001,E740+1,2)","v":{"$error":"#NUM!"}},0,null,""]
[0,0,null,false,{"$f":"SMALL($D$3:$D$2001,ROWS($E$3:E740))","v":{"$error":"#NUM!"}},{"$f":"INDEX($A$2:$B$2001,E741+1,2)","v":{"$error":"#NUM!"}},0,null,""]
[0,0,null,false,{"$f":"SMALL($D$3:$D$2001,ROWS($E$3:E741))","v":{"$error":"#NUM!"}},{"$f":"INDEX($A$2:$B$2001,E742+1,2)","v":{"$error":"#NUM!"}},0,null,""]
[0,0,null,false,{"$f":"SMALL($D$3:$D$2001,ROWS($E$3:E742))","v":{"$error":"#NUM!"}},{"$f":"INDEX($A$2:$B$2001,E743+1,2)","v":{"$error":"#NUM!"}},0,null,""]
[0,0,null,false,{"$f":"SMALL($D$3:$D$2001,ROWS($E$3:E743))","v":{"$error":"#NUM!"}},{"$f":"INDEX($A$2:$B$2001,E744+1,2)","v":{"$error":"#NUM!"}},0,null,""]
[0,0,null,false,{"$f":"SMALL($D$3:$D$2001,ROWS($E$3:E744))","v":{"$error":"#NUM!"}},{"$f":"INDEX($A$2:$B$2001,E745+1,2)","v":{"$error":"#NUM!"}},0,null,""]
[0,0,null,false,{"$f":"SMALL($D$3:$D$2001,ROWS($E$3:E745))","v":{"$error":"#NUM!"}},{"$f":"INDEX($A$2:$B$2001,E746+1,2)","v":{"$error":"#NUM!"}},0,null,""]
[0,0,null,false,{"$f":"SMALL($D$3:$D$2001,ROWS($E$3:E746))","v":{"$error":"#NUM!"}},{"$f":"INDEX($A$2:$B$2001,E747+1,2)","v":{"$error":"#NUM!"}},0,null,""]
[0,0,null,false,{"$f":"SMALL($D$3:$D$2001,ROWS($E$3:E747))","v":{"$error":"#NUM!"}},{"$f":"INDEX($A$2:$B$2001,E748+1,2)","v":{"$error":"#NUM!"}},0,null,""]
[0,0,null,false,{"$f":"SMALL($D$3:$D$2001,ROWS($E$3:E748))","v":{"$error":"#NUM!"}},{"$f":"INDEX($A$2:$B$2001,E749+1,2)","v":{"$error":"#NUM!"}},0,null,""]
[0,0,null,false,{"$f":"SMALL($D$3:$D$2001,ROWS($E$3:E749))","v":{"$error":"#NUM!"}},{"$f":"INDEX($A$2:$B$2001,E750+1,2)","v":{"$error":"#NUM!"}},0,null,""]
[0,0,null,false,{"$f":"SMALL($D$3:$D$2001,ROWS($E$3:E750))","v":{"$error":"#NUM!"}},{"$f":"INDEX($A$2:$B$2001,E751+1,2)","v":{"$error":"#NUM!"}},0,null,""]
[0,0,null,false,{"$f":"SMALL($D$3:$D$2001,ROWS($E$3:E751))","v":{"$error":"#NUM!"}},{"$f":"INDEX($A$2:$B$2001,E752+1,2)","v":{"$error":"#NUM!"}},0,null,""]
[0,0,null,false,{"$f":"SMALL($D$3:$D$2001,ROWS($E$3:E752))","v":{"$error":"#NUM!"}},{"$f":"INDEX($A$2:$B$2001,E753+1,2)","v":{"$error":"#NUM!"}},0,null,""]
[0,0,null,false,{"$f":"SMALL($D$3:$D$2001,ROWS($E$3:E753))","v":{"$error":"#NUM!"}},{"$f":"INDEX($A$2:$B$2001,E754+1,2)","v":{"$error":"#NUM!"}},0,null,""]
[0,0,null,false,{"$f":"SMALL($D$3:$D$2001,ROWS($E$3:E754))","v":{"$error":"#NUM!"}},{"$f":"INDEX($A$2:$B$2001,E755+1,2)","v":{"$error":"#NUM!"}},0,null,""]
[0,0,null,false,{"$f":"SMALL($D$3:$D$2001,ROWS($E$3:E755))","v":{"$error":"#NUM!"}},{"$f":"INDEX($A$2:$B$2001,E756+1,2)","v":{"$error":"#NUM!"}},0,null,""]
[0,0,null,false,{"$f":"SMALL($D$3:$D$2001,ROWS($E$3:E756))","v":{"$error":"#NUM!"}},{"$f":"INDEX($A$2:$B$2001,E757+1,2)","v":{"$error":"#NUM!"}},0,null,""]
[0,0,null,false,{"$f":"SMALL($D$3:$D$2001,ROWS($E$3:E757))","v":{"$error":"#NUM!"}},{"$f":"INDEX($A$2:$B$2001,E758+1,2)","v":{"$error":"#NUM!"}},0,null,""]
[0,0,null,false,{"$f":"SMALL($D$3:$D$2001,ROWS($E$3:E758))","v":{"$error":"#NUM!"}},{"$f":"INDEX($A$2:$B$2001,E759+1,2)","v":{"$error":"#NUM!"}},0,null,""]
[0,0,null,false,{"$f":"SMALL($D$3:$D$2001,ROWS($E$3:E759))","v":{"$error":"#NUM!"}},{"$f":"INDEX($A$2:$B$2001,E760+1,2)","v":{"$error":"#NUM!"}},0,null,""]
[0,0,null,false,{"$f":"SMALL($D$3:$D$2001,ROWS($E$3:E760))","v":{"$error":"#NUM!"}},{"$f":"INDEX($A$2:$B$2001,E761+1,2)","v":{"$error":"#NUM!"}},0,null,""]
[0,0,null,false,{"$f":"SMALL($D$3:$D$2001,ROWS($E$3:E761))","v":{"$error":"#NUM!"}},{"$f":"INDEX($A$2:$B$2001,E762+1,2)","v":{"$error":"#NUM!"}},0,null,""]
[0,0,null,false,{"$f":"SMALL($D$3:$D$2001,ROWS($E$3:E762))","v":{"$error":"#NUM!"}},{"$f":"INDEX($A$2:$B$2001,E763+1,2)","v":{"$error":"#NUM!"}},0,null,""]
[0,0,null,false,{"$f":"SMALL($D$3:$D$2001,ROWS($E$3:E763))","v":{"$error":"#NUM!"}},{"$f":"INDEX($A$2:$B$2001,E764+1,2)","v":{"$error":"#NUM!"}},0,null,""]
[0,0,null,false,{"$f":"SMALL($D$3:$D$2001,ROWS($E$3:E764))","v":{"$error":"#NUM!"}},{"$f":"INDEX($A$2:$B$2001,E765+1,2)","v":{"$error":"#NUM!"}},0,null,""]
[0,0,null,false,{"$f":"SMALL($D$3:$D$2001,ROWS($E$3:E765))","v":{"$error":"#NUM!"}},{"$f":"INDEX($A$2:$B$2001,E766+1,2)","v":{"$error":"#NUM!"}},0,null,""]
[0,0,null,false,{"$f":"SMALL($D$3:$D$2001,ROWS($E$3:E766))","v":{"$error":"#NUM!"}},{"$f":"INDEX($A$2:$B$2001,E767+1,2)","v":{"$error":"#NUM!"}},0,null,""]
[0,0,null,false,{"$f":"SMALL($D$3:$D$2001,ROWS($E$3:E767))","v":{"$error":"#NUM!"}},{"$f":"INDEX($A$2:$B$2001,E768+1,2)","v":{"$error":"#NUM!"}},0,null,""]
[0,0,null,false,{"$f":"SMALL($D$3:$D$2001,ROWS($E$3:E768))","v":{"$error":"#NUM!"}},{"$f":"INDEX($A$2:$B$2001,E769+1,2)","v":{"$error":"#NUM!"}},0,null,""]
[0,0,null,false,{"$f":"SMALL($D$3:$D$2001,ROWS($E$3:E769))","v":{"$error":"#NUM!"}},{"$f":"INDEX($A$2:$B$2001,E770+1,2)","v":{"$error":"#NUM!"}},0,null,""]
[0,0,null,false,{"$f":"SMALL($D$3:$D$2001,ROWS($E$3:E770))","v":{"$error":"#NUM!"}},{"$f":"INDEX($A$2:$B$2001,E771+1,2)","v":{"$error":"#NUM!"}},0,null,""]
[0,0,null,false,{"$f":"SMALL($D$3:$D$2001,ROWS($E$3:E771))","v":{"$error":"#NUM!"}},{"$f":"INDEX($A$2:$B$2001,E772+1,2)","v":{"$error":"#NUM!"}},{"$f":"IFERROR(F771,0)","v":0},null,{"$f":"IF(G771=0,\"\",H771)","v":""}]
[0,0,null,{"$f":"IF(A772=$B$2,ROW(A772)-ROW($B$2))","v":false},{"$f":"SMALL($D$3:$D$2001,ROWS($E$3:E772))","v":{"$error":"#NUM!"}},{"$f":"INDEX($A$2:$B$2001,E773+1,2)","v":{"$error":"#NUM!"}},0,null,""]
[0,0,null,false,{"$f":"SMALL($D$3:$D$2001,ROWS($E$3:E773))","v":{"$error":"#NUM!"}},{"$f":"INDEX($A$2:$B$2001,E774+1,2)","v":{"$error":"#NUM!"}},0,null,""]
[0,0,null,false,{"$f":"SMALL($D$3:$D$2001,ROWS($E$3:E774))","v":{"$error":"#NUM!"}},{"$f":"INDEX($A$2:$B$2001,E775+1,2)","v":{"$error":"#NUM!"}},0,null,""]
[0,0,null,false,{"$f":"SMALL($D$3:$D$2001,ROWS($E$3:E775))","v":{"$error":"#NUM!"}},{"$f":"INDEX($A$2:$B$2001,E776+1,2)","v":{"$error":"#NUM!"}},0,null,""]
[0,0,null,false,{"$f":"SMALL($D$3:$D$2001,ROWS($E$3:E776))","v":{"$error":"#NUM!"}},{"$f":"INDEX($A$2:$B$2001,E777+1,2)","v":{"$error":"#NUM!"}},0,null,""]
[0,0,null,false,{"$f":"SMALL($D$3:$D$2001,ROWS($E$3:E777))","v":{"$error":"#NUM!"}},{"$f":"INDEX($A$2:$B$2001,E778+1,2)","v":{"$error":"#NUM!"}},0,null,""]
[0,0,null,false,{"$f":"SMALL($D$3:$D$2001,ROWS($E$3:E778))","v":{"$error":"#NUM!"}},{"$f":"INDEX($A$2:$B$2001,E779+1,2)","v":{"$error":"#NUM!"}},0,null,""]
[0,0,null,false,{"$f":"SMALL($D$3:$D$2001,ROWS($E$3:E779))","v":{"$error":"#NUM!"}},{"$f":"INDEX($A$2:$B$2001,E780+1,2)","v":{"$error":"#NUM!"}},0,null,""]
[0,0,null,false,{"$f":"SMALL($D$3:$D$2001,ROWS($E$3:E780))","v":{"$error":"#NUM!"}},{"$f":"INDEX($A$2:$B$2001,E781+1,2)","v":{"$error":"#NUM!"}},0,null,""]
[0,0,null,false,{"$f":"SMALL($D$3:$D$2001,ROWS($E$3:E781))","v":{"$error":"#NUM!"}},{"$f":"INDEX($A$2:$B$2001,E782+1,2)","v":{"$error":"#NUM!"}},0,null,""]
[0,0,null,false,{"$f":"SMALL($D$3:$D$2001,ROWS($E$3:E782))","v":{"$error":"#NUM!"}},{"$f":"INDEX($A$2:$B$2001,E783+1,2)","v":{"$error":"#NUM!"}},0,null,""]
[0,0,null,false,{"$f":"SMALL($D$3:$D$2001,ROWS($E$3:E783))","v":{"$error":"#NUM!"}},{"$f":"INDEX($A$2:$B$2001,E784+1,2)","v":{"$error":"#NUM!"}},0,null,""]
[0,0,null,false,{"$f":"SMALL($D$3:$D$2001,ROWS($E$3:E784))","v":{"$error":"#NUM!"}},{"$f":"INDEX($A$2:$B$2001,E785+1,2)","v":{"$error":"#NUM!"}},0,null,""]
[0,0,null,false,{"$f":"SMALL($D$3:$D$2001,ROWS($E$3:E785))","v":{"$error":"#NUM!"}},{"$f":"INDEX($A$2:$B$2001,E786+1,2)","v":{"$error":"#NUM!"}},0,null,""]
[0,0,null,false,{"$f":"SMALL($D$3:$D$2001,ROWS($E$3:E786))","v":{"$error":"#NUM!"}},{"$f":"INDEX($A$2:$B$2001,E787+1,2)","v":{"$error":"#NUM!"}},0,null,""]
[0,0,null,false,{"$f":"SMALL($D$3:$D$2001,ROWS($E$3:E787))","v":{"$error":"#NUM!"}},{"$f":"INDEX($A$2:$B$2001,E788+1,2)","v":{"$error":"#NUM!"}},0,null,""]
[0,0,null,false,{"$f":"SMALL($D$3:$D$2001,ROWS($E$3:E788))","v":{"$error":"#NUM!"}},{"$f":"INDEX($A$2:$B$2001,E789+1,2)","v":{"$error":"#NUM!"}},0,null,""]
[0,0,null,false,{"$f":"SMALL($D$3:$D$2001,ROWS($E$3:E789))","v":{"$error":"#NUM!"}},{"$f":"INDEX($A$2:$B$2001,E790+1,2)","v":{"$error":"#NUM!"}},0,null,""]
[0,0,null,false,{"$f":"SMALL($D$3:$D$2001,ROWS($E$3:E790))","v":{"$error":"#NUM!"}},{"$f":"INDEX($A$2:$B$2001,E791+1,2)","v":{"$error":"#NUM!"}},0,null,""]
[0,0,null,false,{"$f":"SMALL($D$3:$D$2001,ROWS($E$3:E791))","v":{"$error":"#NUM!"}},{"$f":"INDEX($A$2:$B$2001,E792+1,2)","v":{"$error":"#NUM!"}},0,null,""]
[0,0,null,false,{"$f":"SMALL($D$3:$D$2001,ROWS($E$3:E792))","v":{"$error":"#NUM!"}},{"$f":"INDEX($A$2:$B$2001,E793+1,2)","v":{"$error":"#NUM!"}},0,null,""]
[0,0,null,false,{"$f":"SMALL($D$3:$D$2001,ROWS($E$3:E793))","v":{"$error":"#NUM!"}},{"$f":"INDEX($A$2:$B$2001,E794+1,2)","v":{"$error":"#NUM!"}},0,null,""]
[0,0,null,false,{"$f":"SMALL($D$3:$D$2001,ROWS($E$3:E794))","v":{"$error":"#NUM!"}},{"$f":"INDEX($A$2:$B$2001,E795+1,2)","v":{"$error":"#NUM!"}},0,null,""]
[0,0,null,false,{"$f":"SMALL($D$3:$D$2001,ROWS($E$3:E795))","v":{"$error":"#NUM!"}},{"$f":"INDEX($A$2:$B$2001,E796+1,2)","v":{"$error":"#NUM!"}},0,null,""]
[0,0,null,false,{"$f":"SMALL($D$3:$D$2001,ROWS($E$3:E796))","v":{"$error":"#NUM!"}},{"$f":"INDEX($A$2:$B$2001,E797+1,2)","v":{"$error":"#NUM!"}},0,null,""]
[0,0,null,false,{"$f":"SMALL($D$3:$D$2001,ROWS($E$3:E797))","v":{"$error":"#NUM!"}},{"$f":"INDEX($A$2:$B$2001,E798+1,2)","v":{"$error":"#NUM!"}},0,null,""]
[0,0,null,false,{"$f":"SMALL($D$3:$D$2001,ROWS($E$3:E798))","v":{"$error":"#NUM!"}},{"$f":"INDEX($A$2:$B$2001,E799+1,2)","v":{"$error":"#NUM!"}},0,null,""]
[0,0,null,false,{"$f":"SMALL($D$3:$D$2001,ROWS($E$3:E799))","v":{"$error":"#NUM!"}},{"$f":"INDEX($A$2:$B$2001,E800+1,2)","v":{"$error":"#NUM!"}},0,null,""]
[0,0,null,false,{"$f":"SMALL($D$3:$D$2001,ROWS($E$3:E800))","v":{"$error":"#NUM!"}},{"$f":"INDEX($A$2:$B$2001,E801+1,2)","v":{"$error":"#NUM!"}},0,null,""]
[0,0,null,false,{"$f":"SMALL($D$3:$D$2001,ROWS($E$3:E801))","v":{"$error":"#NUM!"}},{"$f":"INDEX($A$2:$B$2001,E802+1,2)","v":{"$error":"#NUM!"}},0,null,""]
[0,0,null,false,{"$f":"SMALL($D$3:$D$2001,ROWS($E$3:E802))","v":{"$error":"#NUM!"}},{"$f":"INDEX($A$2:$B$2001,E803+1,2)","v":{"$error":"#NUM!"}},0,null,""]
[0,0,null,false,{"$f":"SMALL($D$3:$D$2001,ROWS($E$3:E803))","v":{"$error":"#NUM!"}},{"$f":"INDEX($A$2:$B$2001,E804+1,2)","v":{"$error":"#NUM!"}},0,null,""]
[0,0,null,false,{"$f":"SMALL($D$3:$D$2001,ROWS($E$3:E804))","v":{"$error":"#NUM!"}},{"$f":"INDEX($A$2:$B$2001,E805+1,2)","v":{"$error":"#NUM!"}},0,null,""]
[0,0,null,false,{"$f":"SMALL($D$3:$D$2001,ROWS($E$3:E805))","v":{"$error":"#NUM!"}},{"$f":"INDEX($A$2:$B$2001,E806+1,2)","v":{"$error":"#NUM!"}},0,null,""]
[0,0,null,false,{"$f":"SMALL($D$3:$D$2001,ROWS($E$3:E806))","v":{"$error":"#NUM!"}},{"$f":"INDEX($A$2:$B$2001,E807+1,2)","v":{"$error":"#NUM!"}},0,null,""]
[0,0,null,false,{"$f":"SMALL($D$3:$D$2001,ROWS($E$3:E807))","v":{"$error":"#NUM!"}},{"$f":"INDEX($A$2:$B$2001,E808+1,2)","v":{"$error":"#NUM!"}},0,null,""]
[0,0,null,false,{"$f":"SMALL($D$3:$D$2001,ROWS($E$3:E808))","v":{"$error":"#NUM!"}},{"$f":"INDEX($A$2:$B$2001,E809+1,2)","v":{"$error":"#NUM!"}},0,null,""]
[0,0,null,false,{"$f":"SMALL($D$3:$D$2001,ROWS($E$3:E809))","v":{"$error":"#NUM!"}},{"$f":"INDEX($A$2:$B$2001,E810+1,2)","v":{"$error":"#NUM!"}},0,null,""]
[0,0,null,false,{"$f":"SMALL($D$3:$D$2001,ROWS($E$3:E810))","v":{"$error":"#NUM!"}},{"$f":"INDEX($A$2:$B$2001,E811+1,2)","v":{"$error":"#NUM!"}},0,null,""]
[0,0,null,false,{"$f":"SMALL($D$3:$D$2001,ROWS($E$3:E811))","v":{"$error":"#NUM!"}},{"$f":"INDEX($A$2:$B$2001,E812+1,2)","v":{"$error":"#NUM!"}},0,null,""]
[0,0,null,false,{"$f":"SMALL($D$3:$D$2001,ROWS($E$3:E812))","v":{"$error":"#NUM!"}},{"$f":"INDEX($A$2:$B$2001,E813+1,2)","v":{"$error":"#NUM!"}},0,null,""]
[0,0,null,false,{"$f":"SMALL($D$3:$D$2001,ROWS($E$3:E813))","v":{"$error":"#NUM!"}},{"$f":"INDEX($A$2:$B$2001,E814+1,2)","v":{"$error":"#NUM!"}},0,null,""]
[0,0,null,false,{"$f":"SMALL($D$3:$D$2001,ROWS($E$3:E814))","v":{"$error":"#NUM!"}},{"$f":"INDEX($A$2:$B$2001,E815+1,2)","v":{"$error":"#NUM!"}},0,null,""]
[0,0,null,false,{"$f":"SMALL($D$3:$D$2001,ROWS($E$3:E815))","v":{"$error":"#NUM!"}},{"$f":"INDEX($A$2:$B$2001,E816+1,2)","v":{"$error":"#NUM!"}},0,null,""]
[0,0,null,false,{"$f":"SMALL($D$3:$D$2001,ROWS($E$3:E816))","v":{"$error":"#NUM!"}},{"$f":"INDEX($A$2:$B$2001,E817+1,2)","v":{"$error":"#NUM!"}},0,null,""]
[0,0,null,false,{"$f":"SMALL($D$3:$D$2001,ROWS($E$3:E817))","v":{"$error":"#NUM!"}},{"$f":"INDEX($A$2:$B$2001,E818+1,2)","v":{"$error":"#NUM!"}},0,null,""]
[0,0,null,false,{"$f":"SMALL($D$3:$D$2001,ROWS($E$3:E818))","v":{"$error":"#NUM!"}},{"$f":"INDEX($A$2:$B$2001,E819+1,2)","v":{"$error":"#NUM!"}},0,null,""]
[0,0,null,false,{"$f":"SMALL($D$3:$D$2001,ROWS($E$3:E819))","v":{"$error":"#NUM!"}},{"$f":"INDEX($A$2:$B$2001,E820+1,2)","v":{"$error":"#NUM!"}},0,null,""]
[0,0,null,false,{"$f":"SMALL($D$3:$D$2001,ROWS($E$3:E820))","v":{"$error":"#NUM!"}},{"$f":"INDEX($A$2:$B$2001,E821+1,2)","v":{"$error":"#NUM!"}},0,null,""]
[0,0,null,false,{"$f":"SMALL($D$3:$D$2001,ROWS($E$3:E821))","v":{"$error":"#NUM!"}},{"$f":"INDEX($A$2:$B$2001,E822+1,2)","v":{"$error":"#NUM!"}},0,null,""]
[0,0,null,false,{"$f":"SMALL($D$3:$D$2001,ROWS($E$3:E822))","v":{"$error":"#NUM!"}},{"$f":"INDEX($A$2:$B$2001,E823+1,2)","v":{"$error":"#NUM!"}},0,null,""]
[0,0,null,false,{"$f":"SMALL($D$3:$D$2001,ROWS($E$3:E823))","v":{"$error":"#NUM!"}},{"$f":"INDEX($A$2:$B$2001,E824+1,2)","v":{"$error":"#NUM!"}},0,null,""]
[0,0,null,false,{"$f":"SMALL($D$3:$D$2001,ROWS($E$3:E824))","v":{"$error":"#NUM!"}},{"$f":"INDEX($A$2:$B$2001,E825+1,2)","v":{"$error":"#NUM!"}},0,null,""]
[0,0,null,false,{"$f":"SMALL($D$3:$D$2001,ROWS($E$3:E825))","v":{"$error":"#NUM!"}},{"$f":"INDEX($A$2:$B$2001,E826+1,2)","v":{"$error":"#NUM!"}},0,null,""]
[0,0,null,false,{"$f":"SMALL($D$3:$D$2001,ROWS($E$3:E826))","v":{"$error":"#NUM!"}},{"$f":"INDEX($A$2:$B$2001,E827+1,2)","v":{"$error":"#NUM!"}},0,null,""]
[0,0,null,false,{"$f":"SMALL($D$3:$D$2001,ROWS($E$3:E827))","v":{"$error":"#NUM!"}},{"$f":"INDEX($A$2:$B$2001,E828+1,2)","v":{"$error":"#NUM!"}},0,null,""]
[0,0,null,false,{"$f":"SMALL($D$3:$D$2001,ROWS($E$3:E828))","v":{"$error":"#NUM!"}},{"$f":"INDEX($A$2:$B$2001,E829+1,2)","v":{"$error":"#NUM!"}},0,null,""]
[0,0,null,false,{"$f":"SMALL($D$3:$D$2001,ROWS($E$3:E829))","v":{"$error":"#NUM!"}},{"$f":"INDEX($A$2:$B$2001,E830+1,2)","v":{"$error":"#NUM!"}},0,null,""]
[0,0,null,false,{"$f":"SMALL($D$3:$D$2001,ROWS($E$3:E830))","v":{"$error":"#NUM!"}},{"$f":"INDEX($A$2:$B$2001,E831+1,2)","v":{"$error":"#NUM!"}},0,null,""]
[0,0,null,false,{"$f":"SMALL($D$3:$D$2001,ROWS($E$3:E831))","v":{"$error":"#NUM!"}},{"$f":"INDEX($A$2:$B$2001,E832+1,2)","v":{"$error":"#NUM!"}},0,null,""]
[0,0,null,false,{"$f":"SMALL($D$3:$D$2001,ROWS($E$3:E832))","v":{"$error":"#NUM!"}},{"$f":"INDEX($A$2:$B$2001,E833+1,2)","v":{"$error":"#NUM!"}},0,null,""]
[0,0,null,false,{"$f":"SMALL($D$3:$D$2001,ROWS($E$3:E833))","v":{"$error":"#NUM!"}},{"$f":"INDEX($A$2:$B$2001,E834+1,2)","v":{"$error":"#NUM!"}},0,null,""]
[0,0,null,false,{"$f":"SMALL($D$3:$D$2001,ROWS($E$3:E834))","v":{"$error":"#NUM!"}},{"$f":"INDEX($A$2:$B$2001,E835+1,2)","v":{"$error":"#NUM!"}},0,null,""]
[0,0,null,false,{"$f":"SMALL($D$3:$D$2001,ROWS($E$3:E835))","v":{"$error":"#NUM!"}},{"$f":"INDEX($A$2:$B$2001,E836+1,2)","v":{"$error":"#NUM!"}},{"$f":"IFERROR(F835,0)","v":0},null,{"$f":"IF(G835=0,\"\",H835)","v":""}]
[0,0,null,{"$f":"IF(A836=$B$2,ROW(A836)-ROW($B$2))","v":false},{"$f":"SMALL($D$3:$D$2001,ROWS($E$3:E836))","v":{"$error":"#NUM!"}},{"$f":"INDEX($A$2:$B$2001,E837+1,2)","v":{"$error":"#NUM!"}},0,null,""]
[0,0,null,false,{"$f":"SMALL($D$3:$D$2001,ROWS($E$3:E837))","v":{"$error":"#NUM!"}},{"$f":"INDEX($A$2:$B$2001,E838+1,2)","v":{"$error":"#NUM!"}},0,null,""]
[0,0,null,false,{"$f":"SMALL($D$3:$D$2001,ROWS($E$3:E838))","v":{"$error":"#NUM!"}},{"$f":"INDEX($A$2:$B$2001,E839+1,2)","v":{"$error":"#NUM!"}},0,null,""]
[0,0,null,false,{"$f":"SMALL($D$3:$D$2001,ROWS($E$3:E839))","v":{"$error":"#NUM!"}},{"$f":"INDEX($A$2:$B$2001,E840+1,2)","v":{"$error":"#NUM!"}},0,null,""]
[0,0,null,false,{"$f":"SMALL($D$3:$D$2001,ROWS($E$3:E840))","v":{"$error":"#NUM!"}},{"$f":"INDEX($A$2:$B$2001,E841+1,2)","v":{"$error":"#NUM!"}},0,null,""]
[0,0,null,false,{"$f":"SMALL($D$3:$D$2001,ROWS($E$3:E841))","v":{"$error":"#NUM!"}},{"$f":"INDEX($A$2:$B$2001,E842+1,2)","v":{"$error":"#NUM!"}},0,null,""]
[0,0,null,false,{"$f":"SMALL($D$3:$D$2001,ROWS($E$3:E842))","v":{"$error":"#NUM!"}},{"$f":"INDEX($A$2:$B$2001,E843+1,2)","v":{"$error":"#NUM!"}},0,null,""]
[0,0,null,false,{"$f":"SMALL($D$3:$D$2001,ROWS($E$3:E843))","v":{"$error":"#NUM!"}},{"$f":"INDEX($A$2:$B$2001,E844+1,2)","v":{"$error":"#NUM!"}},0,null,""]
[0,0,null,false,{"$f":"SMALL($D$3:$D$2001,ROWS($E$3:E844))","v":{"$error":"#NUM!"}},{"$f":"INDEX($A$2:$B$2001,E845+1,2)","v":{"$error":"#NUM!"}},0,null,""]
[0,0,null,false,{"$f":"SMALL($D$3:$D$2001,ROWS($E$3:E845))","v":{"$error":"#NUM!"}},{"$f":"INDEX($A$2:$B$2001,E846+1,2)","v":{"$error":"#NUM!"}},0,null,""]
[0,0,null,false,{"$f":"SMALL($D$3:$D$2001,ROWS($E$3:E846))","v":{"$error":"#NUM!"}},{"$f":"INDEX($A$2:$B$2001,E847+1,2)","v":{"$error":"#NUM!"}},0,null,""]
[0,0,null,false,{"$f":"SMALL($D$3:$D$2001,ROWS($E$3:E847))","v":{"$error":"#NUM!"}},{"$f":"INDEX($A$2:$B$2001,E848+1,2)","v":{"$error":"#NUM!"}},0,null,""]
[0,0,null,false,{"$f":"SMALL($D$3:$D$2001,ROWS($E$3:E848))","v":{"$error":"#NUM!"}},{"$f":"INDEX($A$2:$B$2001,E849+1,2)","v":{"$error":"#NUM!"}},0,null,""]
[0,0,null,false,{"$f":"SMALL($D$3:$D$2001,ROWS($E$3:E849))","v":{"$error":"#NUM!"}},{"$f":"INDEX($A$2:$B$2001,E850+1,2)","v":{"$error":"#NUM!"}},0,null,""]
[0,0,null,false,{"$f":"SMALL($D$3:$D$2001,ROWS($E$3:E850))","v":{"$error":"#NUM!"}},{"$f":"INDEX($A$2:$B$2001,E851+1,2)","v":{"$error":"#NUM!"}},0,null,""]
[0,0,null,false,{"$f":"SMALL($D$3:$D$2001,ROWS($E$3:E851))","v":{"$error":"#NUM!"}},{"$f":"INDEX($A$2:$B$2001,E852+1,2)","v":{"$error":"#NUM!"}},0,null,""]
[0,0,null,false,{"$f":"SMALL($D$3:$D$2001,ROWS($E$3:E852))","v":{"$error":"#NUM!"}},{"$f":"INDEX($A$2:$B$2001,E853+1,2)","v":{"$error":"#NUM!"}},0,null,""]
[0,0,null,false,{"$f":"SMALL($D$3:$D$2001,ROWS($E$3:E853))","v":{"$error":"#NUM!"}},{"$f":"INDEX($A$2:$B$2001,E854+1,2)","v":{"$error":"#NUM!"}},0,null,""]
[0,0,null,false,{"$f":"SMALL($D$3:$D$2001,ROWS($E$3:E854))","v":{"$error":"#NUM!"}},{"$f":"INDEX($A$2:$B$2001,E855+1,2)","v":{"$error":"#NUM!"}},0,null,""]
[0,0,null,false,{"$f":"SMALL($D$3:$D$2001,ROWS($E$3:E855))","v":{"$error":"#NUM!"}},{"$f":"INDEX($A$2:$B$2001,E856+1,2)","v":{"$error":"#NUM!"}},0,null,""]
[0,0,null,false,{"$f":"SMALL($D$3:$D$2001,ROWS($E$3:E856))","v":{"$error":"#NUM!"}},{"$f":"INDEX($A$2:$B$2001,E857+1,2)","v":{"$error":"#NUM!"}},0,null,""]
[0,0,null,false,{"$f":"SMALL($D$3:$D$2001,ROWS($E$3:E857))","v":{"$error":"#NUM!"}},{"$f":"INDEX($A$2:$B$2001,E858+1,2)","v":{"$error":"#NUM!"}},0,null,""]
[0,0,null,false,{"$f":"SMALL($D$3:$D$2001,ROWS($E$3:E858))","v":{"$error":"#NUM!"}},{"$f":"INDEX($A$2:$B$2001,E859+1,2)","v":{"$error":"#NUM!"}},0,null,""]
[0,0,null,false,{"$f":"SMALL($D$3:$D$2001,ROWS($E$3:E859))","v":{"$error":"#NUM!"}},{"$f":"INDEX($A$2:$B$2001,E860+1,2)","v":{"$error":"#NUM!"}},0,null,""]
[0,0,null,false,{"$f":"SMALL($D$3:$D$2001,ROWS($E$3:E860))","v":{"$error":"#NUM!"}},{"$f":"INDEX($A$2:$B$2001,E861+1,2)","v":{"$error":"#NUM!"}},0,null,""]
[0,0,null,false,{"$f":"SMALL($D$3:$D$2001,ROWS($E$3:E861))","v":{"$error":"#NUM!"}},{"$f":"INDEX($A$2:$B$2001,E862+1,2)","v":{"$error":"#NUM!"}},0,null,""]
[0,0,null,false,{"$f":"SMALL($D$3:$D$2001,ROWS($E$3:E862))","v":{"$error":"#NUM!"}},{"$f":"INDEX($A$2:$B$2001,E863+1,2)","v":{"$error":"#NUM!"}},0,null,""]
[0,0,null,false,{"$f":"SMALL($D$3:$D$2001,ROWS($E$3:E863))","v":{"$error":"#NUM!"}},{"$f":"INDEX($A$2:$B$2001,E864+1,2)","v":{"$error":"#NUM!"}},0,null,""]
[0,0,null,false,{"$f":"SMALL($D$3:$D$2001,ROWS($E$3:E864))","v":{"$error":"#NUM!"}},{"$f":"INDEX($A$2:$B$2001,E865+1,2)","v":{"$error":"#NUM!"}},0,null,""]
[0,0,null,false,{"$f":"SMALL($D$3:$D$2001,ROWS($E$3:E865))","v":{"$error":"#NUM!"}},{"$f":"INDEX($A$2:$B$2001,E866+1,2)","v":{"$error":"#NUM!"}},0,null,""]
[0,0,null,false,{"$f":"SMALL($D$3:$D$2001,ROWS($E$3:E866))","v":{"$error":"#NUM!"}},{"$f":"INDEX($A$2:$B$2001,E867+1,2)","v":{"$error":"#NUM!"}},0,null,""]
[0,0,null,false,{"$f":"SMALL($D$3:$D$2001,ROWS($E$3:E867))","v":{"$error":"#NUM!"}},{"$f":"INDEX($A$2:$B$2001,E868+1,2)","v":{"$error":"#NUM!"}},0,null,""]
[0,0,null,false,{"$f":"SMALL($D$3:$D$2001,ROWS($E$3:E868))","v":{"$error":"#NUM!"}},{"$f":"INDEX($A$2:$B$2001,E869+1,2)","v":{"$error":"#NUM!"}},0,null,""]
[0,0,null,false,{"$f":"SMALL($D$3:$D$2001,ROWS($E$3:E869))","v":{"$error":"#NUM!"}},{"$f":"INDEX($A$2:$B$2001,E870+1,2)","v":{"$error":"#NUM!"}},0,null,""]
[0,0,null,false,{"$f":"SMALL($D$3:$D$2001,ROWS($E$3:E870))","v":{"$error":"#NUM!"}},{"$f":"INDEX($A$2:$B$2001,E871+1,2)","v":{"$error":"#NUM!"}},0,null,""]
[0,0,null,false,{"$f":"SMALL($D$3:$D$2001,ROWS($E$3:E871))","v":{"$error":"#NUM!"}},{"$f":"INDEX($A$2:$B$2001,E872+1,2)","v":{"$error":"#NUM!"}},0,null,""]
[0,0,null,false,{"$f":"SMALL($D$3:$D$2001,ROWS($E$3:E872))","v":{"$error":"#NUM!"}},{"$f":"INDEX($A$2:$B$2001,E873+1,2)","v":{"$error":"#NUM!"}},0,null,""]
[0,0,null,false,{"$f":"SMALL($D$3:$D$2001,ROWS($E$3:E873))","v":{"$error":"#NUM!"}},{"$f":"INDEX($A$2:$B$2001,E874+1,2)","v":{"$error":"#NUM!"}},0,null,""]
[0,0,null,false,{"$f":"SMALL($D$3:$D$2001,ROWS($E$3:E874))","v":{"$error":"#NUM!"}},{"$f":"INDEX($A$2:$B$2001,E875+1,2)","v":{"$error":"#NUM!"}},0,null,""]
[0,0,null,false,{"$f":"SMALL($D$3:$D$2001,ROWS($E$3:E875))","v":{"$error":"#NUM!"}},{"$f":"INDEX($A$2:$B$2001,E876+1,2)","v":{"$error":"#NUM!"}},0,null,""]
[0,0,null,false,{"$f":"SMALL($D$3:$D$2001,ROWS($E$3:E876))","v":{"$error":"#NUM!"}},{"$f":"INDEX($A$2:$B$2001,E877+1,2)","v":{"$error":"#NUM!"}},0,null,""]
[0,0,null,false,{"$f":"SMALL($D$3:$D$2001,ROWS($E$3:E877))","v":{"$error":"#NUM!"}},{"$f":"INDEX($A$2:$B$2001,E878+1,2)","v":{"$error":"#NUM!"}},0,null,""]
[0,0,null,false,{"$f":"SMALL($D$3:$D$2001,ROWS($E$3:E878))","v":{"$error":"#NUM!"}},{"$f":"INDEX($A$2:$B$2001,E879+1,2)","v":{"$error":"#NUM!"}},0,null,""]
[0,0,null,false,{"$f":"SMALL($D$3:$D$2001,ROWS($E$3:E879))","v":{"$error":"#NUM!"}},{"$f":"INDEX($A$2:$B$2001,E880+1,2)","v":{"$error":"#NUM!"}},0,null,""]
[0,0,null,false,{"$f":"SMALL($D$3:$D$2001,ROWS($E$3:E880))","v":{"$error":"#NUM!"}},{"$f":"INDEX($A$2:$B$2001,E881+1,2)","v":{"$error":"#NUM!"}},0,null,""]
[0,0,null,false,{"$f":"SMALL($D$3:$D$2001,ROWS($E$3:E881))","v":{"$error":"#NUM!"}},{"$f":"INDEX($A$2:$B$2001,E882+1,2)","v":{"$error":"#NUM!"}},0,null,""]
[0,0,null,false,{"$f":"SMALL($D$3:$D$2001,ROWS($E$3:E882))","v":{"$error":"#NUM!"}},{"$f":"INDEX($A$2:$B$2001,E883+1,2)","v":{"$error":"#NUM!"}},0,null,""]
[0,0,null,false,{"$f":"SMALL($D$3:$D$2001,ROWS($E$3:E883))","v":{"$error":"#NUM!"}},{"$f":"INDEX($A$2:$B$2001,E884+1,2)","v":{"$error":"#NUM!"}},0,null,""]
[0,0,null,false,{"$f":"SMALL($D$3:$D$2001,ROWS($E$3:E884))","v":{"$error":"#NUM!"}},{"$f":"INDEX($A$2:$B$2001,E885+1,2)","v":{"$error":"#NUM!"}},0,null,""]
[0,0,null,false,{"$f":"SMALL($D$3:$D$2001,ROWS($E$3:E885))","v":{"$error":"#NUM!"}},{"$f":"INDEX($A$2:$B$2001,E886+1,2)","v":{"$error":"#NUM!"}},0,null,""]
[0,0,null,false,{"$f":"SMALL($D$3:$D$2001,ROWS($E$3:E886))","v":{"$error":"#NUM!"}},{"$f":"INDEX($A$2:$B$2001,E887+1,2)","v":{"$error":"#NUM!"}},0,null,""]
[0,0,null,false,{"$f":"SMALL($D$3:$D$2001,ROWS($E$3:E887))","v":{"$error":"#NUM!"}},{"$f":"INDEX($A$2:$B$2001,E888+1,2)","v":{"$error":"#NUM!"}},0,null,""]
[0,0,null,false,{"$f":"SMALL($D$3:$D$2001,ROWS($E$3:E888))","v":{"$error":"#NUM!"}},{"$f":"INDEX($A$2:$B$2001,E889+1,2)","v":{"$error":"#NUM!"}},0,null,""]
[0,0,null,false,{"$f":"SMALL($D$3:$D$2001,ROWS($E$3:E889))","v":{"$error":"#NUM!"}},{"$f":"INDEX($A$2:$B$2001,E890+1,2)","v":{"$error":"#NUM!"}},0,null,""]
[0,0,null,false,{"$f":"SMALL($D$3:$D$2001,ROWS($E$3:E890))","v":{"$error":"#NUM!"}},{"$f":"INDEX($A$2:$B$2001,E891+1,2)","v":{"$error":"#NUM!"}},0,null,""]
[0,0,null,false,{"$f":"SMALL($D$3:$D$2001,ROWS($E$3:E891))","v":{"$error":"#NUM!"}},{"$f":"INDEX($A$2:$B$2001,E892+1,2)","v":{"$error":"#NUM!"}},0,null,""]
[0,0,null,false,{"$f":"SMALL($D$3:$D$2001,ROWS($E$3:E892))","v":{"$error":"#NUM!"}},{"$f":"INDEX($A$2:$B$2001,E893+1,2)","v":{"$error":"#NUM!"}},0,null,""]
[0,0,null,false,{"$f":"SMALL($D$3:$D$2001,ROWS($E$3:E893))","v":{"$error":"#NUM!"}},{"$f":"INDEX($A$2:$B$2001,E894+1,2)","v":{"$error":"#NUM!"}},0,null,""]
[0,0,null,false,{"$f":"SMALL($D$3:$D$2001,ROWS($E$3:E894))","v":{"$error":"#NUM!"}},{"$f":"INDEX($A$2:$B$2001,E895+1,2)","v":{"$error":"#NUM!"}},0,null,""]
[0,0,null,false,{"$f":"SMALL($D$3:$D$2001,ROWS($E$3:E895))","v":{"$error":"#NUM!"}},{"$f":"INDEX($A$2:$B$2001,E896+1,2)","v":{"$error":"#NUM!"}},0,null,""]
[0,0,null,false,{"$f":"SMALL($D$3:$D$2001,ROWS($E$3:E896))","v":{"$error":"#NUM!"}},{"$f":"INDEX($A$2:$B$2001,E897+1,2)","v":{"$error":"#NUM!"}},0,null,""]
[0,0,null,false,{"$f":"SMALL($D$3:$D$2001,ROWS($E$3:E897))","v":{"$error":"#NUM!"}},{"$f":"INDEX($A$2:$B$2001,E898+1,2)","v":{"$error":"#NUM!"}},0,null,""]
[0,0,null,false,{"$f":"SMALL($D$3:$D$2001,ROWS($E$3:E898))","v":{"$error":"#NUM!"}},{"$f":"INDEX($A$2:$B$2001,E899+1,2)","v":{"$error":"#NUM!"}},0,null,""]
[0,0,null,false,{"$f":"SMALL($D$3:$D$2001,ROWS($E$3:E899))","v":{"$error":"#NUM!"}},{"$f":"INDEX($A$2:$B$2001,E900+1,2)","v":{"$error":"#NUM!"}},{"$f":"IFERROR(F899,0)","v":0},null,{"$f":"IF(G899=0,\"\",H899)","v":""}]
[0,0,null,{"$f":"IF(A900=$B$2,ROW(A900)-ROW($B$2))","v":false},{"$f":"SMALL($D$3:$D$2001,ROWS($E$3:E900))","v":{"$error":"#NUM!"}},{"$f":"INDEX($A$2:$B$2001,E901+1,2)","v":{"$error":"#NUM!"}},0,null,""]
[0,0,null,false,{"$f":"SMALL($D$3:$D$2001,ROWS($E$3:E901))","v":{"$error":"#NUM!"}},{"$f":"INDEX($A$2:$B$2001,E902+1,2)","v":{"$error":"#NUM!"}},0,null,""]
[0,0,null,false,{"$f":"SMALL($D$3:$D$2001,ROWS($E$3:E902))","v":{"$error":"#NUM!"}},{"$f":"INDEX($A$2:$B$2001,E903+1,2)","v":{"$error":"#NUM!"}},0,null,""]
[0,0,null,false,{"$f":"SMALL($D$3:$D$2001,ROWS($E$3:E903))","v":{"$error":"#NUM!"}},{"$f":"INDEX($A$2:$B$2001,E904+1,2)","v":{"$error":"#NUM!"}},0,null,""]
[0,0,null,false,{"$f":"SMALL($D$3:$D$2001,ROWS($E$3:E904))","v":{"$error":"#NUM!"}},{"$f":"INDEX($A$2:$B$2001,E905+1,2)","v":{"$error":"#NUM!"}},0,null,""]
[0,0,null,false,{"$f":"SMALL($D$3:$D$2001,ROWS($E$3:E905))","v":{"$error":"#NUM!"}},{"$f":"INDEX($A$2:$B$2001,E906+1,2)","v":{"$error":"#NUM!"}},0,null,""]
[0,0,null,false,{"$f":"SMALL($D$3:$D$2001,ROWS($E$3:E906))","v":{"$error":"#NUM!"}},{"$f":"INDEX($A$2:$B$2001,E907+1,2)","v":{"$error":"#NUM!"}},0,null,""]
[0,0,null,false,{"$f":"SMALL($D$3:$D$2001,ROWS($E$3:E907))","v":{"$error":"#NUM!"}},{"$f":"INDEX($A$2:$B$2001,E908+1,2)","v":{"$error":"#NUM!"}},0,null,""]
[0,0,null,false,{"$f":"SMALL($D$3:$D$2001,ROWS($E$3:E908))","v":{"$error":"#NUM!"}},{"$f":"INDEX($A$2:$B$2001,E909+1,2)","v":{"$error":"#NUM!"}},0,null,""]
[0,0,null,false,{"$f":"SMALL($D$3:$D$2001,ROWS($E$3:E909))","v":{"$error":"#NUM!"}},{"$f":"INDEX($A$2:$B$2001,E910+1,2)","v":{"$error":"#NUM!"}},0,null,""]
[0,0,null,false,{"$f":"SMALL($D$3:$D$2001,ROWS($E$3:E910))","v":{"$error":"#NUM!"}},{"$f":"INDEX($A$2:$B$2001,E911+1,2)","v":{"$error":"#NUM!"}},0,null,""]
[0,0,null,false,{"$f":"SMALL($D$3:$D$2001,ROWS($E$3:E911))","v":{"$error":"#NUM!"}},{"$f":"INDEX($A$2:$B$2001,E912+1,2)","v":{"$error":"#NUM!"}},0,null,""]
[0,0,null,false,{"$f":"SMALL($D$3:$D$2001,ROWS($E$3:E912))","v":{"$error":"#NUM!"}},{"$f":"INDEX($A$2:$B$2001,E913+1,2)","v":{"$error":"#NUM!"}},0,null,""]
[0,0,null,false,{"$f":"SMALL($D$3:$D$2001,ROWS($E$3:E913))","v":{"$error":"#NUM!"}},{"$f":"INDEX($A$2:$B$2001,E914+1,2)","v":{"$error":"#NUM!"}},0,null,""]
[0,0,null,false,{"$f":"SMALL($D$3:$D$2001,ROWS($E$3:E914))","v":{"$error":"#NUM!"}},{"$f":"INDEX($A$2:$B$2001,E915+1,2)","v":{"$error":"#NUM!"}},0,null,""]
[0,0,null,false,{"$f":"SMALL($D$3:$D$2001,ROWS($E$3:E915))","v":{"$error":"#NUM!"}},{"$f":"INDEX($A$2:$B$2001,E916+1,2)","v":{"$error":"#NUM!"}},0,null,""]
[0,0,null,false,{"$f":"SMALL($D$3:$D$2001,ROWS($E$3:E916))","v":{"$error":"#NUM!"}},{"$f":"INDEX($A$2:$B$2001,E917+1,2)","v":{"$error":"#NUM!"}},0,null,""]
[0,0,null,false,{"$f":"SMALL($D$3:$D$2001,ROWS($E$3:E917))","v":{"$error":"#NUM!"}},{"$f":"INDEX($A$2:$B$2001,E918+1,2)","v":{"$error":"#NUM!"}},0,null,""]
[0,0,null,false,{"$f":"SMALL($D$3:$D$2001,ROWS($E$3:E918))","v":{"$error":"#NUM!"}},{"$f":"INDEX($A$2:$B$2001,E919+1,2)","v":{"$error":"#NUM!"}},0,null,""]
[0,0,null,false,{"$f":"SMALL($D$3:$D$2001,ROWS($E$3:E919))","v":{"$error":"#NUM!"}},{"$f":"INDEX($A$2:$B$2001,E920+1,2)","v":{"$error":"#NUM!"}},0,null,""]
[0,0,null,false,{"$f":"SMALL($D$3:$D$2001,ROWS($E$3:E920))","v":{"$error":"#NUM!"}},{"$f":"INDEX($A$2:$B$2001,E921+1,2)","v":{"$error":"#NUM!"}},0,null,""]
[0,0,null,false,{"$f":"SMALL($D$3:$D$2001,ROWS($E$3:E921))","v":{"$error":"#NUM!"}},{"$f":"INDEX($A$2:$B$2001,E922+1,2)","v":{"$error":"#NUM!"}},0,null,""]
[0,0,null,false,{"$f":"SMALL($D$3:$D$2001,ROWS($E$3:E922))","v":{"$error":"#NUM!"}},{"$f":"INDEX($A$2:$B$2001,E923+1,2)","v":{"$error":"#NUM!"}},0,null,""]
[0,0,null,false,{"$f":"SMALL($D$3:$D$2001,ROWS($E$3:E923))","v":{"$error":"#NUM!"}},{"$f":"INDEX($A$2:$B$2001,E924+1,2)","v":{"$error":"#NUM!"}},0,null,""]
[0,0,null,false,{"$f":"SMALL($D$3:$D$2001,ROWS($E$3:E924))","v":{"$error":"#NUM!"}},{"$f":"INDEX($A$2:$B$2001,E925+1,2)","v":{"$error":"#NUM!"}},0,null,""]
[0,0,null,false,{"$f":"SMALL($D$3:$D$2001,ROWS($E$3:E925))","v":{"$error":"#NUM!"}},{"$f":"INDEX($A$2:$B$2001,E926+1,2)","v":{"$error":"#NUM!"}},0,null,""]
[0,0,null,false,{"$f":"SMALL($D$3:$D$2001,ROWS($E$3:E926))","v":{"$error":"#NUM!"}},{"$f":"INDEX($A$2:$B$2001,E927+1,2)","v":{"$error":"#NUM!"}},0,null,""]
[0,0,null,false,{"$f":"SMALL($D$3:$D$2001,ROWS($E$3:E927))","v":{"$error":"#NUM!"}},{"$f":"INDEX($A$2:$B$2001,E928+1,2)","v":{"$error":"#NUM!"}},0,null,""]
[0,0,null,false,{"$f":"SMALL($D$3:$D$2001,ROWS($E$3:E928))","v":{"$error":"#NUM!"}},{"$f":"INDEX($A$2:$B$2001,E929+1,2)","v":{"$error":"#NUM!"}},0,null,""]
[0,0,null,false,{"$f":"SMALL($D$3:$D$2001,ROWS($E$3:E929))","v":{"$error":"#NUM!"}},{"$f":"INDEX($A$2:$B$2001,E930+1,2)","v":{"$error":"#NUM!"}},0,null,""]
[0,0,null,false,{"$f":"SMALL($D$3:$D$2001,ROWS($E$3:E930))","v":{"$error":"#NUM!"}},{"$f":"INDEX($A$2:$B$2001,E931+1,2)","v":{"$error":"#NUM!"}},0,null,""]
[0,0,null,false,{"$f":"SMALL($D$3:$D$2001,ROWS($E$3:E931))","v":{"$error":"#NUM!"}},{"$f":"INDEX($A$2:$B$2001,E932+1,2)","v":{"$error":"#NUM!"}},0,null,""]
[0,0,null,false,{"$f":"SMALL($D$3:$D$2001,ROWS($E$3:E932))","v":{"$error":"#NUM!"}},{"$f":"INDEX($A$2:$B$2001,E933+1,2)","v":{"$error":"#NUM!"}},0,null,""]
[0,0,null,false,{"$f":"SMALL($D$3:$D$2001,ROWS($E$3:E933))","v":{"$error":"#NUM!"}},{"$f":"INDEX($A$2:$B$2001,E934+1,2)","v":{"$error":"#NUM!"}},0,null,""]
[0,0,null,false,{"$f":"SMALL($D$3:$D$2001,ROWS($E$3:E934))","v":{"$error":"#NUM!"}},{"$f":"INDEX($A$2:$B$2001,E935+1,2)","v":{"$error":"#NUM!"}},0,null,""]
[0,0,null,false,{"$f":"SMALL($D$3:$D$2001,ROWS($E$3:E935))","v":{"$error":"#NUM!"}},{"$f":"INDEX($A$2:$B$2001,E936+1,2)","v":{"$error":"#NUM!"}},0,null,""]
[0,0,null,false,{"$f":"SMALL($D$3:$D$2001,ROWS($E$3:E936))","v":{"$error":"#NUM!"}},{"$f":"INDEX($A$2:$B$2001,E937+1,2)","v":{"$error":"#NUM!"}},0,null,""]
[0,0,null,false,{"$f":"SMALL($D$3:$D$2001,ROWS($E$3:E937))","v":{"$error":"#NUM!"}},{"$f":"INDEX($A$2:$B$2001,E938+1,2)","v":{"$error":"#NUM!"}},0,null,""]
[0,0,null,false,{"$f":"SMALL($D$3:$D$2001,ROWS($E$3:E938))","v":{"$error":"#NUM!"}},{"$f":"INDEX($A$2:$B$2001,E939+1,2)","v":{"$error":"#NUM!"}},0,null,""]
[0,0,null,false,{"$f":"SMALL($D$3:$D$2001,ROWS($E$3:E939))","v":{"$error":"#NUM!"}},{"$f":"INDEX($A$2:$B$2001,E940+1,2)","v":{"$error":"#NUM!"}},0,null,""]
[0,0,null,false,{"$f":"SMALL($D$3:$D$2001,ROWS($E$3:E940))","v":{"$error":"#NUM!"}},{"$f":"INDEX($A$2:$B$2001,E941+1,2)","v":{"$error":"#NUM!"}},0,null,""]
[0,0,null,false,{"$f":"SMALL($D$3:$D$2001,ROWS($E$3:E941))","v":{"$error":"#NUM!"}},{"$f":"INDEX($A$2:$B$2001,E942+1,2)","v":{"$error":"#NUM!"}},0,null,""]
[0,0,null,false,{"$f":"SMALL($D$3:$D$2001,ROWS($E$3:E942))","v":{"$error":"#NUM!"}},{"$f":"INDEX($A$2:$B$2001,E943+1,2)","v":{"$error":"#NUM!"}},0,null,""]
[0,0,null,false,{"$f":"SMALL($D$3:$D$2001,ROWS($E$3:E943))","v":{"$error":"#NUM!"}},{"$f":"INDEX($A$2:$B$2001,E944+1,2)","v":{"$error":"#NUM!"}},0,null,""]
[0,0,null,false,{"$f":"SMALL($D$3:$D$2001,ROWS($E$3:E944))","v":{"$error":"#NUM!"}},{"$f":"INDEX($A$2:$B$2001,E945+1,2)","v":{"$error":"#NUM!"}},0,null,""]
[0,0,null,false,{"$f":"SMALL($D$3:$D$2001,ROWS($E$3:E945))","v":{"$error":"#NUM!"}},{"$f":"INDEX($A$2:$B$2001,E946+1,2)","v":{"$error":"#NUM!"}},0,null,""]
[0,0,null,false,{"$f":"SMALL($D$3:$D$2001,ROWS($E$3:E946))","v":{"$error":"#NUM!"}},{"$f":"INDEX($A$2:$B$2001,E947+1,2)","v":{"$error":"#NUM!"}},0,null,""]
[0,0,null,false,{"$f":"SMALL($D$3:$D$2001,ROWS($E$3:E947))","v":{"$error":"#NUM!"}},{"$f":"INDEX($A$2:$B$2001,E948+1,2)","v":{"$error":"#NUM!"}},0,null,""]
[0,0,null,false,{"$f":"SMALL($D$3:$D$2001,ROWS($E$3:E948))","v":{"$error":"#NUM!"}},{"$f":"INDEX($A$2:$B$2001,E949+1,2)","v":{"$error":"#NUM!"}},0,null,""]
[0,0,null,false,{"$f":"SMALL($D$3:$D$2001,ROWS($E$3:E949))","v":{"$error":"#NUM!"}},{"$f":"INDEX($A$2:$B$2001,E950+1,2)","v":{"$error":"#NUM!"}},0,null,""]
[0,0,null,false,{"$f":"SMALL($D$3:$D$2001,ROWS($E$3:E950))","v":{"$error":"#NUM!"}},{"$f":"INDEX($A$2:$B$2001,E951+1,2)","v":{"$error":"#NUM!"}},0,null,""]
[0,0,null,false,{"$f":"SMALL($D$3:$D$2001,ROWS($E$3:E951))","v":{"$error":"#NUM!"}},{"$f":"INDEX($A$2:$B$2001,E952+1,2)","v":{"$error":"#NUM!"}},0,null,""]
[0,0,null,false,{"$f":"SMALL($D$3:$D$2001,ROWS($E$3:E952))","v":{"$error":"#NUM!"}},{"$f":"INDEX($A$2:$B$2001,E953+1,2)","v":{"$error":"#NUM!"}},0,null,""]
[0,0,null,false,{"$f":"SMALL($D$3:$D$2001,ROWS($E$3:E953))","v":{"$error":"#NUM!"}},{"$f":"INDEX($A$2:$B$2001,E954+1,2)","v":{"$error":"#NUM!"}},0,null,""]
[0,0,null,false,{"$f":"SMALL($D$3:$D$2001,ROWS($E$3:E954))","v":{"$error":"#NUM!"}},{"$f":"INDEX($A$2:$B$2001,E955+1,2)","v":{"$error":"#NUM!"}},0,null,""]
[0,0,null,false,{"$f":"SMALL($D$3:$D$2001,ROWS($E$3:E955))","v":{"$error":"#NUM!"}},{"$f":"INDEX($A$2:$B$2001,E956+1,2)","v":{"$error":"#NUM!"}},0,null,""]
[0,0,null,false,{"$f":"SMALL($D$3:$D$2001,ROWS($E$3:E956))","v":{"$error":"#NUM!"}},{"$f":"INDEX($A$2:$B$2001,E957+1,2)","v":{"$error":"#NUM!"}},0,null,""]
[0,0,null,false,{"$f":"SMALL($D$3:$D$2001,ROWS($E$3:E957))","v":{"$error":"#NUM!"}},{"$f":"INDEX($A$2:$B$2001,E958+1,2)","v":{"$error":"#NUM!"}},0,null,""]
[0,0,null,false,{"$f":"SMALL($D$3:$D$2001,ROWS($E$3:E958))","v":{"$error":"#NUM!"}},{"$f":"INDEX($A$2:$B$2001,E959+1,2)","v":{"$error":"#NUM!"}},0,null,""]
[0,0,null,false,{"$f":"SMALL($D$3:$D$2001,ROWS($E$3:E959))","v":{"$error":"#NUM!"}},{"$f":"INDEX($A$2:$B$2001,E960+1,2)","v":{"$error":"#NUM!"}},0,null,""]
[0,0,null,false,{"$f":"SMALL($D$3:$D$2001,ROWS($E$3:E960))","v":{"$error":"#NUM!"}},{"$f":"INDEX($A$2:$B$2001,E961+1,2)","v":{"$error":"#NUM!"}},0,null,""]
[0,0,null,false,{"$f":"SMALL($D$3:$D$2001,ROWS($E$3:E961))","v":{"$error":"#NUM!"}},{"$f":"INDEX($A$2:$B$2001,E962+1,2)","v":{"$error":"#NUM!"}},0,null,""]
[0,0,null,false,{"$f":"SMALL($D$3:$D$2001,ROWS($E$3:E962))","v":{"$error":"#NUM!"}},{"$f":"INDEX($A$2:$B$2001,E963+1,2)","v":{"$error":"#NUM!"}},0,null,""]
[0,0,null,false,{"$f":"SMALL($D$3:$D$2001,ROWS($E$3:E963))","v":{"$error":"#NUM!"}},{"$f":"INDEX($A$2:$B$2001,E964+1,2)","v":{"$error":"#NUM!"}},{"$f":"IFERROR(F963,0)","v":0},null,{"$f":"IF(G963=0,\"\",H963)","v":""}]
[0,0,null,{"$f":"IF(A964=$B$2,ROW(A964)-ROW($B$2))","v":false},{"$f":"SMALL($D$3:$D$2001,ROWS($E$3:E964))","v":{"$error":"#NUM!"}},{"$f":"INDEX($A$2:$B$2001,E965+1,2)","v":{"$error":"#NUM!"}},0,null,""]
[0,0,null,false,{"$f":"SMALL($D$3:$D$2001,ROWS($E$3:E965))","v":{"$error":"#NUM!"}},{"$f":"INDEX($A$2:$B$2001,E966+1,2)","v":{"$error":"#NUM!"}},0,null,""]
[0,0,null,false,{"$f":"SMALL($D$3:$D$2001,ROWS($E$3:E966))","v":{"$error":"#NUM!"}},{"$f":"INDEX($A$2:$B$2001,E967+1,2)","v":{"$error":"#NUM!"}},0,null,""]
[0,0,null,false,{"$f":"SMALL($D$3:$D$2001,ROWS($E$3:E967))","v":{"$error":"#NUM!"}},{"$f":"INDEX($A$2:$B$2001,E968+1,2)","v":{"$error":"#NUM!"}},0,null,""]
[0,0,null,false,{"$f":"SMALL($D$3:$D$2001,ROWS($E$3:E968))","v":{"$error":"#NUM!"}},{"$f":"INDEX($A$2:$B$2001,E969+1,2)","v":{"$error":"#NUM!"}},0,null,""]
[0,0,null,false,{"$f":"SMALL($D$3:$D$2001,ROWS($E$3:E969))","v":{"$error":"#NUM!"}},{"$f":"INDEX($A$2:$B$2001,E970+1,2)","v":{"$error":"#NUM!"}},0,null,""]
[0,0,null,false,{"$f":"SMALL($D$3:$D$2001,ROWS($E$3:E970))","v":{"$error":"#NUM!"}},{"$f":"INDEX($A$2:$B$2001,E971+1,2)","v":{"$error":"#NUM!"}},0,null,""]
[0,0,null,false,{"$f":"SMALL($D$3:$D$2001,ROWS($E$3:E971))","v":{"$error":"#NUM!"}},{"$f":"INDEX($A$2:$B$2001,E972+1,2)","v":{"$error":"#NUM!"}},0,null,""]
[0,0,null,false,{"$f":"SMALL($D$3:$D$2001,ROWS($E$3:E972))","v":{"$error":"#NUM!"}},{"$f":"INDEX($A$2:$B$2001,E973+1,2)","v":{"$error":"#NUM!"}},0,null,""]
[0,0,null,false,{"$f":"SMALL($D$3:$D$2001,ROWS($E$3:E973))","v":{"$error":"#NUM!"}},{"$f":"INDEX($A$2:$B$2001,E974+1,2)","v":{"$error":"#NUM!"}},0,null,""]
[0,0,null,false,{"$f":"SMALL($D$3:$D$2001,ROWS($E$3:E974))","v":{"$error":"#NUM!"}},{"$f":"INDEX($A$2:$B$2001,E975+1,2)","v":{"$error":"#NUM!"}},0,null,""]
[0,0,null,false,{"$f":"SMALL($D$3:$D$2001,ROWS($E$3:E975))","v":{"$error":"#NUM!"}},{"$f":"INDEX($A$2:$B$2001,E976+1,2)","v":{"$error":"#NUM!"}},0,null,""]
[0,0,null,false,{"$f":"SMALL($D$3:$D$2001,ROWS($E$3:E976))","v":{"$error":"#NUM!"}},{"$f":"INDEX($A$2:$B$2001,E977+1,2)","v":{"$error":"#NUM!"}},0,null,""]
[0,0,null,false,{"$f":"SMALL($D$3:$D$2001,ROWS($E$3:E977))","v":{"$error":"#NUM!"}},{"$f":"INDEX($A$2:$B$2001,E978+1,2)","v":{"$error":"#NUM!"}},0,null,""]
[0,0,null,false,{"$f":"SMALL($D$3:$D$2001,ROWS($E$3:E978))","v":{"$error":"#NUM!"}},{"$f":"INDEX($A$2:$B$2001,E979+1,2)","v":{"$error":"#NUM!"}},0,null,""]
[0,0,null,false,{"$f":"SMALL($D$3:$D$2001,ROWS($E$3:E979))","v":{"$error":"#NUM!"}},{"$f":"INDEX($A$2:$B$2001,E980+1,2)","v":{"$error":"#NUM!"}},0,null,""]
[0,0,null,false,{"$f":"SMALL($D$3:$D$2001,ROWS($E$3:E980))","v":{"$error":"#NUM!"}},{"$f":"INDEX($A$2:$B$2001,E981+1,2)","v":{"$error":"#NUM!"}},0,null,""]
[0,0,null,false,{"$f":"SMALL($D$3:$D$2001,ROWS($E$3:E981))","v":{"$error":"#NUM!"}},{"$f":"INDEX($A$2:$B$2001,E982+1,2)","v":{"$error":"#NUM!"}},0,null,""]
[0,0,null,false,{"$f":"SMALL($D$3:$D$2001,ROWS($E$3:E982))","v":{"$error":"#NUM!"}},{"$f":"INDEX($A$2:$B$2001,E983+1,2)","v":{"$error":"#NUM!"}},0,null,""]
[0,0,null,false,{"$f":"SMALL($D$3:$D$2001,ROWS($E$3:E983))","v":{"$error":"#NUM!"}},{"$f":"INDEX($A$2:$B$2001,E984+1,2)","v":{"$error":"#NUM!"}},0,null,""]
[0,0,null,false,{"$f":"SMALL($D$3:$D$2001,ROWS($E$3:E984))","v":{"$error":"#NUM!"}},{"$f":"INDEX($A$2:$B$2001,E985+1,2)","v":{"$error":"#NUM!"}},0,null,""]
[0,0,null,false,{"$f":"SMALL($D$3:$D$2001,ROWS($E$3:E985))","v":{"$error":"#NUM!"}},{"$f":"INDEX($A$2:$B$2001,E986+1,2)","v":{"$error":"#NUM!"}},0,null,""]
[0,0,null,false,{"$f":"SMALL($D$3:$D$2001,ROWS($E$3:E986))","v":{"$error":"#NUM!"}},{"$f":"INDEX($A$2:$B$2001,E987+1,2)","v":{"$error":"#NUM!"}},0,null,""]
[0,0,null,false,{"$f":"SMALL($D$3:$D$2001,ROWS($E$3:E987))","v":{"$error":"#NUM!"}},{"$f":"INDEX($A$2:$B$2001,E988+1,2)","v":{"$error":"#NUM!"}},0,null,""]
[0,0,null,false,{"$f":"SMALL($D$3:$D$2001,ROWS($E$3:E988))","v":{"$error":"#NUM!"}},{"$f":"INDEX($A$2:$B$2001,E989+1,2)","v":{"$error":"#NUM!"}},0,null,""]
[0,0,null,false,{"$f":"SMALL($D$3:$D$2001,ROWS($E$3:E989))","v":{"$error":"#NUM!"}},{"$f":"INDEX($A$2:$B$2001,E990+1,2)","v":{"$error":"#NUM!"}},0,null,""]
[0,0,null,false,{"$f":"SMALL($D$3:$D$2001,ROWS($E$3:E990))","v":{"$error":"#NUM!"}},{"$f":"INDEX($A$2:$B$2001,E991+1,2)","v":{"$error":"#NUM!"}},0,null,""]
[0,0,null,false,{"$f":"SMALL($D$3:$D$2001,ROWS($E$3:E991))","v":{"$error":"#NUM!"}},{"$f":"INDEX($A$2:$B$2001,E992+1,2)","v":{"$error":"#NUM!"}},0,null,""]
[0,0,null,false,{"$f":"SMALL($D$3:$D$2001,ROWS($E$3:E992))","v":{"$error":"#NUM!"}},{"$f":"INDEX($A$2:$B$2001,E993+1,2)","v":{"$error":"#NUM!"}},0,null,""]
[0,0,null,false,{"$f":"SMALL($D$3:$D$2001,ROWS($E$3:E993))","v":{"$error":"#NUM!"}},{"$f":"INDEX($A$2:$B$2001,E994+1,2)","v":{"$error":"#NUM!"}},0,null,""]
[0,0,null,false,{"$f":"SMALL($D$3:$D$2001,ROWS($E$3:E994))","v":{"$error":"#NUM!"}},{"$f":"INDEX($A$2:$B$2001,E995+1,2)","v":{"$error":"#NUM!"}},0,null,""]
[0,0,null,false,{"$f":"SMALL($D$3:$D$2001,ROWS($E$3:E995))","v":{"$error":"#NUM!"}},{"$f":"INDEX($A$2:$B$2001,E996+1,2)","v":{"$error":"#NUM!"}},0,null,""]
[0,0,null,false,{"$f":"SMALL($D$3:$D$2001,ROWS($E$3:E996))","v":{"$error":"#NUM!"}},{"$f":"INDEX($A$2:$B$2001,E997+1,2)","v":{"$error":"#NUM!"}},0,null,""]
[0,0,null,false,{"$f":"SMALL($D$3:$D$2001,ROWS($E$3:E997))","v":{"$error":"#NUM!"}},{"$f":"INDEX($A$2:$B$2001,E998+1,2)","v":{"$error":"#NUM!"}},0,null,""]
[0,0,null,false,{"$f":"SMALL($D$3:$D$2001,ROWS($E$3:E998))","v":{"$error":"#NUM!"}},{"$f":"INDEX($A$2:$B$2001,E999+1,2)","v":{"$error":"#NUM!"}},0,null,""]
[0,0,null,false,{"$f":"SMALL($D$3:$D$2001,ROWS($E$3:E999))","v":{"$error":"#NUM!"}},{"$f":"INDEX($A$2:$B$2001,E1000+1,2)","v":{"$error":"#NUM!"}},0,null,""]
[0,0,null,false,{"$f":"SMALL($D$3:$D$2001,ROWS($E$3:E1000))","v":{"$error":"#NUM!"}},{"$f":"INDEX($A$2:$B$2001,E1001+1,2)","v":{"$error":"#NUM!"}},0,null,""]
[0,0,null,false,{"$f":"SMALL($D$3:$D$2001,ROWS($E$3:E1001))","v":{"$error":"#NUM!"}},{"$f":"INDEX($A$2:$B$2001,E1002+1,2)","v":{"$error":"#NUM!"}},0,null,""]
[0,0,null,false,{"$f":"SMALL($D$3:$D$2001,ROWS($E$3:E1002))","v":{"$error":"#NUM!"}},{"$f":"INDEX($A$2:$B$2001,E1003+1,2)","v":{"$error":"#NUM!"}},0,null,""]
[0,0,null,false,{"$f":"SMALL($D$3:$D$2001,ROWS($E$3:E1003))","v":{"$error":"#NUM!"}},{"$f":"INDEX($A$2:$B$2001,E1004+1,2)","v":{"$error":"#NUM!"}},0,null,""]
[0,0,null,false,{"$f":"SMALL($D$3:$D$2001,ROWS($E$3:E1004))","v":{"$error":"#NUM!"}},{"$f":"INDEX($A$2:$B$2001,E1005+1,2)","v":{"$error":"#NUM!"}},0,null,""]
[0,0,null,false,{"$f":"SMALL($D$3:$D$2001,ROWS($E$3:E1005))","v":{"$error":"#NUM!"}},{"$f":"INDEX($A$2:$B$2001,E1006+1,2)","v":{"$error":"#NUM!"}},0,null,""]
[0,0,null,false,{"$f":"SMALL($D$3:$D$2001,ROWS($E$3:E1006))","v":{"$error":"#NUM!"}},{"$f":"INDEX($A$2:$B$2001,E1007+1,2)","v":{"$error":"#NUM!"}},0,null,""]
[0,0,null,false,{"$f":"SMALL($D$3:$D$2001,ROWS($E$3:E1007))","v":{"$error":"#NUM!"}},{"$f":"INDEX($A$2:$B$2001,E1008+1,2)","v":{"$error":"#NUM!"}},0,null,""]
[0,0,null,false,{"$f":"SMALL($D$3:$D$2001,ROWS($E$3:E1008))","v":{"$error":"#NUM!"}},{"$f":"INDEX($A$2:$B$2001,E1009+1,2)","v":{"$error":"#NUM!"}},0,null,""]
[0,0,null,false,{"$f":"SMALL($D$3:$D$2001,ROWS($E$3:E1009))","v":{"$error":"#NUM!"}},{"$f":"INDEX($A$2:$B$2001,E1010+1,2)","v":{"$error":"#NUM!"}},0,null,""]
[0,0,null,false,{"$f":"SMALL($D$3:$D$2001,ROWS($E$3:E1010))","v":{"$error":"#NUM!"}},{"$f":"INDEX($A$2:$B$2001,E1011+1,2)","v":{"$error":"#NUM!"}},0,null,""]
[0,0,null,false,{"$f":"SMALL($D$3:$D$2001,ROWS($E$3:E1011))","v":{"$error":"#NUM!"}},{"$f":"INDEX($A$2:$B$2001,E1012+1,2)","v":{"$error":"#NUM!"}},0,null,""]
[0,0,null,false,{"$f":"SMALL($D$3:$D$2001,ROWS($E$3:E1012))","v":{"$error":"#NUM!"}},{"$f":"INDEX($A$2:$B$2001,E1013+1,2)","v":{"$error":"#NUM!"}},0,null,""]
[0,0,null,false,{"$f":"SMALL($D$3:$D$2001,ROWS($E$3:E1013))","v":{"$error":"#NUM!"}},{"$f":"INDEX($A$2:$B$2001,E1014+1,2)","v":{"$error":"#NUM!"}},0,null,""]
[0,0,null,false,{"$f":"SMALL($D$3:$D$2001,ROWS($E$3:E1014))","v":{"$error":"#NUM!"}},{"$f":"INDEX($A$2:$B$2001,E1015+1,2)","v":{"$error":"#NUM!"}},0,null,""]
[0,0,null,false,{"$f":"SMALL($D$3:$D$2001,ROWS($E$3:E1015))","v":{"$error":"#NUM!"}},{"$f":"INDEX($A$2:$B$2001,E1016+1,2)","v":{"$error":"#NUM!"}},0,null,""]
[0,0,null,false,{"$f":"SMALL($D$3:$D$2001,ROWS($E$3:E1016))","v":{"$error":"#NUM!"}},{"$f":"INDEX($A$2:$B$2001,E1017+1,2)","v":{"$error":"#NUM!"}},0,null,""]
[0,0,null,false,{"$f":"SMALL($D$3:$D$2001,ROWS($E$3:E1017))","v":{"$error":"#NUM!"}},{"$f":"INDEX($A$2:$B$2001,E1018+1,2)","v":{"$error":"#NUM!"}},0,null,""]
[0,0,null,false,{"$f":"SMALL($D$3:$D$2001,ROWS($E$3:E1018))","v":{"$error":"#NUM!"}},{"$f":"INDEX($A$2:$B$2001,E1019+1,2)","v":{"$error":"#NUM!"}},0,null,""]
[0,0,null,false,{"$f":"SMALL($D$3:$D$2001,ROWS($E$3:E1019))","v":{"$error":"#NUM!"}},{"$f":"INDEX($A$2:$B$2001,E1020+1,2)","v":{"$error":"#NUM!"}},0,null,""]
[0,0,null,false,{"$f":"SMALL($D$3:$D$2001,ROWS($E$3:E1020))","v":{"$error":"#NUM!"}},{"$f":"INDEX($A$2:$B$2001,E1021+1,2)","v":{"$error":"#NUM!"}},0,null,""]
[0,0,null,false,{"$f":"SMALL($D$3:$D$2001,ROWS($E$3:E1021))","v":{"$error":"#NUM!"}},{"$f":"INDEX($A$2:$B$2001,E1022+1,2)","v":{"$error":"#NUM!"}},0,null,""]
[0,0,null,false,{"$f":"SMALL($D$3:$D$2001,ROWS($E$3:E1022))","v":{"$error":"#NUM!"}},{"$f":"INDEX($A$2:$B$2001,E1023+1,2)","v":{"$error":"#NUM!"}},0,null,""]
[0,0,null,false,{"$f":"SMALL($D$3:$D$2001,ROWS($E$3:E1023))","v":{"$error":"#NUM!"}},{"$f":"INDEX($A$2:$B$2001,E1024+1,2)","v":{"$error":"#NUM!"}},0,null,""]
[0,0,null,false,{"$f":"SMALL($D$3:$D$2001,ROWS($E$3:E1024))","v":{"$error":"#NUM!"}},{"$f":"INDEX($A$2:$B$2001,E1025+1,2)","v":{"$error":"#NUM!"}},0,null,""]
[0,0,null,false,{"$f":"SMALL($D$3:$D$2001,ROWS($E$3:E1025))","v":{"$error":"#NUM!"}},{"$f":"INDEX($A$2:$B$2001,E1026+1,2)","v":{"$error":"#NUM!"}},0,null,""]
[0,0,null,false,{"$f":"SMALL($D$3:$D$2001,ROWS($E$3:E1026))","v":{"$error":"#NUM!"}},{"$f":"INDEX($A$2:$B$2001,E1027+1,2)","v":{"$error":"#NUM!"}},0,null,""]
[0,0,null,false,{"$f":"SMALL($D$3:$D$2001,ROWS($E$3:E1027))","v":{"$error":"#NUM!"}},{"$f":"INDEX($A$2:$B$2001,E1028+1,2)","v":{"$error":"#NUM!"}},{"$f":"IFERROR(F1027,0)","v":0},null,{"$f":"IF(G1027=0,\"\",H1027)","v":""}]
[0,0,null,{"$f":"IF(A1028=$B$2,ROW(A1028)-ROW($B$2))","v":false},{"$f":"SMALL($D$3:$D$2001,ROWS($E$3:E1028))","v":{"$error":"#NUM!"}},{"$f":"INDEX($A$2:$B$2001,E1029+1,2)","v":{"$error":"#NUM!"}},0,null,""]
[0,0,null,false,{"$f":"SMALL($D$3:$D$2001,ROWS($E$3:E1029))","v":{"$error":"#NUM!"}},{"$f":"INDEX($A$2:$B$2001,E1030+1,2)","v":{"$error":"#NUM!"}},0,null,""]
[0,0,null,false,{"$f":"SMALL($D$3:$D$2001,ROWS($E$3:E1030))","v":{"$error":"#NUM!"}},{"$f":"INDEX($A$2:$B$2001,E1031+1,2)","v":{"$error":"#NUM!"}},0,null,""]
[0,0,null,false,{"$f":"SMALL($D$3:$D$2001,ROWS($E$3:E1031))","v":{"$error":"#NUM!"}},{"$f":"INDEX($A$2:$B$2001,E1032+1,2)","v":{"$error":"#NUM!"}},0,null,""]
[0,0,null,false,{"$f":"SMALL($D$3:$D$2001,ROWS($E$3:E1032))","v":{"$error":"#NUM!"}},{"$f":"INDEX($A$2:$B$2001,E1033+1,2)","v":{"$error":"#NUM!"}},0,null,""]
[0,0,null,false,{"$f":"SMALL($D$3:$D$2001,ROWS($E$3:E1033))","v":{"$error":"#NUM!"}},{"$f":"INDEX($A$2:$B$2001,E1034+1,2)","v":{"$error":"#NUM!"}},0,null,""]
[0,0,null,false,{"$f":"SMALL($D$3:$D$2001,ROWS($E$3:E1034))","v":{"$error":"#NUM!"}},{"$f":"INDEX($A$2:$B$2001,E1035+1,2)","v":{"$error":"#NUM!"}},0,null,""]
[0,0,null,false,{"$f":"SMALL($D$3:$D$2001,ROWS($E$3:E1035))","v":{"$error":"#NUM!"}},{"$f":"INDEX($A$2:$B$2001,E1036+1,2)","v":{"$error":"#NUM!"}},0,null,""]
[0,0,null,false,{"$f":"SMALL($D$3:$D$2001,ROWS($E$3:E1036))","v":{"$error":"#NUM!"}},{"$f":"INDEX($A$2:$B$2001,E1037+1,2)","v":{"$error":"#NUM!"}},0,null,""]
[0,0,null,false,{"$f":"SMALL($D$3:$D$2001,ROWS($E$3:E1037))","v":{"$error":"#NUM!"}},{"$f":"INDEX($A$2:$B$2001,E1038+1,2)","v":{"$error":"#NUM!"}},0,null,""]
[0,0,null,false,{"$f":"SMALL($D$3:$D$2001,ROWS($E$3:E1038))","v":{"$error":"#NUM!"}},{"$f":"INDEX($A$2:$B$2001,E1039+1,2)","v":{"$error":"#NUM!"}},0,null,""]
[0,0,null,false,{"$f":"SMALL($D$3:$D$2001,ROWS($E$3:E1039))","v":{"$error":"#NUM!"}},{"$f":"INDEX($A$2:$B$2001,E1040+1,2)","v":{"$error":"#NUM!"}},0,null,""]
[0,0,null,false,{"$f":"SMALL($D$3:$D$2001,ROWS($E$3:E1040))","v":{"$error":"#NUM!"}},{"$f":"INDEX($A$2:$B$2001,E1041+1,2)","v":{"$error":"#NUM!"}},0,null,""]
[0,0,null,false,{"$f":"SMALL($D$3:$D$2001,ROWS($E$3:E1041))","v":{"$error":"#NUM!"}},{"$f":"INDEX($A$2:$B$2001,E1042+1,2)","v":{"$error":"#NUM!"}},0,null,""]
[0,0,null,false,{"$f":"SMALL($D$3:$D$2001,ROWS($E$3:E1042))","v":{"$error":"#NUM!"}},{"$f":"INDEX($A$2:$B$2001,E1043+1,2)","v":{"$error":"#NUM!"}},0,null,""]
[0,0,null,false,{"$f":"SMALL($D$3:$D$2001,ROWS($E$3:E1043))","v":{"$error":"#NUM!"}},{"$f":"INDEX($A$2:$B$2001,E1044+1,2)","v":{"$error":"#NUM!"}},0,null,""]
[0,0,null,false,{"$f":"SMALL($D$3:$D$2001,ROWS($E$3:E1044))","v":{"$error":"#NUM!"}},{"$f":"INDEX($A$2:$B$2001,E1045+1,2)","v":{"$error":"#NUM!"}},0,null,""]
[0,0,null,false,{"$f":"SMALL($D$3:$D$2001,ROWS($E$3:E1045))","v":{"$error":"#NUM!"}},{"$f":"INDEX($A$2:$B$2001,E1046+1,2)","v":{"$error":"#NUM!"}},0,null,""]
[0,0,null,false,{"$f":"SMALL($D$3:$D$2001,ROWS($E$3:E1046))","v":{"$error":"#NUM!"}},{"$f":"INDEX($A$2:$B$2001,E1047+1,2)","v":{"$error":"#NUM!"}},0,null,""]
[0,0,null,false,{"$f":"SMALL($D$3:$D$2001,ROWS($E$3:E1047))","v":{"$error":"#NUM!"}},{"$f":"INDEX($A$2:$B$2001,E1048+1,2)","v":{"$error":"#NUM!"}},0,null,""]
[0,0,null,false,{"$f":"SMALL($D$3:$D$2001,ROWS($E$3:E1048))","v":{"$error":"#NUM!"}},{"$f":"INDEX($A$2:$B$2001,E1049+1,2)","v":{"$error":"#NUM!"}},0,null,""]
[0,0,null,false,{"$f":"SMALL($D$3:$D$2001,ROWS($E$3:E1049))","v":{"$error":"#NUM!"}},{"$f":"INDEX($A$2:$B$2001,E1050+1,2)","v":{"$error":"#NUM!"}},0,null,""]
[0,0,null,false,{"$f":"SMALL($D$3:$D$2001,ROWS($E$3:E1050))","v":{"$error":"#NUM!"}},{"$f":"INDEX($A$2:$B$2001,E1051+1,2)","v":{"$error":"#NUM!"}},0,null,""]
[0,0,null,false,{"$f":"SMALL($D$3:$D$2001,ROWS($E$3:E1051))","v":{"$error":"#NUM!"}},{"$f":"INDEX($A$2:$B$2001,E1052+1,2)","v":{"$error":"#NUM!"}},0,null,""]
[0,0,null,false,{"$f":"SMALL($D$3:$D$2001,ROWS($E$3:E1052))","v":{"$error":"#NUM!"}},{"$f":"INDEX($A$2:$B$2001,E1053+1,2)","v":{"$error":"#NUM!"}},0,null,""]
[0,0,null,false,{"$f":"SMALL($D$3:$D$2001,ROWS($E$3:E1053))","v":{"$error":"#NUM!"}},{"$f":"INDEX($A$2:$B$2001,E1054+1,2)","v":{"$error":"#NUM!"}},0,null,""]
[0,0,null,false,{"$f":"SMALL($D$3:$D$2001,ROWS($E$3:E1054))","v":{"$error":"#NUM!"}},{"$f":"INDEX($A$2:$B$2001,E1055+1,2)","v":{"$error":"#NUM!"}},0,null,""]
[0,0,null,false,{"$f":"SMALL($D$3:$D$2001,ROWS($E$3:E1055))","v":{"$error":"#NUM!"}},{"$f":"INDEX($A$2:$B$2001,E1056+1,2)","v":{"$error":"#NUM!"}},0,null,""]
[0,0,null,false,{"$f":"SMALL($D$3:$D$2001,ROWS($E$3:E1056))","v":{"$error":"#NUM!"}},{"$f":"INDEX($A$2:$B$2001,E1057+1,2)","v":{"$error":"#NUM!"}},0,null,""]
[0,0,null,false,{"$f":"SMALL($D$3:$D$2001,ROWS($E$3:E1057))","v":{"$error":"#NUM!"}},{"$f":"INDEX($A$2:$B$2001,E1058+1,2)","v":{"$error":"#NUM!"}},0,null,""]
[0,0,null,false,{"$f":"SMALL($D$3:$D$2001,ROWS($E$3:E1058))","v":{"$error":"#NUM!"}},{"$f":"INDEX($A$2:$B$2001,E1059+1,2)","v":{"$error":"#NUM!"}},0,null,""]
[0,0,null,false,{"$f":"SMALL($D$3:$D$2001,ROWS($E$3:E1059))","v":{"$error":"#NUM!"}},{"$f":"INDEX($A$2:$B$2001,E1060+1,2)","v":{"$error":"#NUM!"}},0,null,""]
[0,0,null,false,{"$f":"SMALL($D$3:$D$2001,ROWS($E$3:E1060))","v":{"$error":"#NUM!"}},{"$f":"INDEX($A$2:$B$2001,E1061+1,2)","v":{"$error":"#NUM!"}},0,null,""]
[0,0,null,false,{"$f":"SMALL($D$3:$D$2001,ROWS($E$3:E1061))","v":{"$error":"#NUM!"}},{"$f":"INDEX($A$2:$B$2001,E1062+1,2)","v":{"$error":"#NUM!"}},0,null,""]
[0,0,null,false,{"$f":"SMALL($D$3:$D$2001,ROWS($E$3:E1062))","v":{"$error":"#NUM!"}},{"$f":"INDEX($A$2:$B$2001,E1063+1,2)","v":{"$error":"#NUM!"}},0,null,""]
[0,0,null,false,{"$f":"SMALL($D$3:$D$2001,ROWS($E$3:E1063))","v":{"$error":"#NUM!"}},{"$f":"INDEX($A$2:$B$2001,E1064+1,2)","v":{"$error":"#NUM!"}},0,null,""]
[0,0,null,false,{"$f":"SMALL($D$3:$D$2001,ROWS($E$3:E1064))","v":{"$error":"#NUM!"}},{"$f":"INDEX($A$2:$B$2001,E1065+1,2)","v":{"$error":"#NUM!"}},0,null,""]
[0,0,null,false,{"$f":"SMALL($D$3:$D$2001,ROWS($E$3:E1065))","v":{"$error":"#NUM!"}},{"$f":"INDEX($A$2:$B$2001,E1066+1,2)","v":{"$error":"#NUM!"}},0,null,""]
[0,0,null,false,{"$f":"SMALL($D$3:$D$2001,ROWS($E$3:E1066))","v":{"$error":"#NUM!"}},{"$f":"INDEX($A$2:$B$2001,E1067+1,2)","v":{"$error":"#NUM!"}},0,null,""]
[0,0,null,false,{"$f":"SMALL($D$3:$D$2001,ROWS($E$3:E1067))","v":{"$error":"#NUM!"}},{"$f":"INDEX($A$2:$B$2001,E1068+1,2)","v":{"$error":"#NUM!"}},0,null,""]
[0,0,null,false,{"$f":"SMALL($D$3:$D$2001,ROWS($E$3:E1068))","v":{"$error":"#NUM!"}},{"$f":"INDEX($A$2:$B$2001,E1069+1,2)","v":{"$error":"#NUM!"}},0,null,""]
[0,0,null,false,{"$f":"SMALL($D$3:$D$2001,ROWS($E$3:E1069))","v":{"$error":"#NUM!"}},{"$f":"INDEX($A$2:$B$2001,E1070+1,2)","v":{"$error":"#NUM!"}},0,null,""]
[0,0,null,false,{"$f":"SMALL($D$3:$D$2001,ROWS($E$3:E1070))","v":{"$error":"#NUM!"}},{"$f":"INDEX($A$2:$B$2001,E1071+1,2)","v":{"$error":"#NUM!"}},0,null,""]
[0,0,null,false,{"$f":"SMALL($D$3:$D$2001,ROWS($E$3:E1071))","v":{"$error":"#NUM!"}},{"$f":"INDEX($A$2:$B$2001,E1072+1,2)","v":{"$error":"#NUM!"}},0,null,""]
[0,0,null,false,{"$f":"SMALL($D$3:$D$2001,ROWS($E$3:E1072))","v":{"$error":"#NUM!"}},{"$f":"INDEX($A$2:$B$2001,E1073+1,2)","v":{"$error":"#NUM!"}},0,null,""]
[0,0,null,false,{"$f":"SMALL($D$3:$D$2001,ROWS($E$3:E1073))","v":{"$error":"#NUM!"}},{"$f":"INDEX($A$2:$B$2001,E1074+1,2)","v":{"$error":"#NUM!"}},0,null,""]
[0,0,null,false,{"$f":"SMALL($D$3:$D$2001,ROWS($E$3:E1074))","v":{"$error":"#NUM!"}},{"$f":"INDEX($A$2:$B$2001,E1075+1,2)","v":{"$error":"#NUM!"}},0,null,""]
[0,0,null,false,{"$f":"SMALL($D$3:$D$2001,ROWS($E$3:E1075))","v":{"$error":"#NUM!"}},{"$f":"INDEX($A$2:$B$2001,E1076+1,2)","v":{"$error":"#NUM!"}},0,null,""]
[0,0,null,false,{"$f":"SMALL($D$3:$D$2001,ROWS($E$3:E1076))","v":{"$error":"#NUM!"}},{"$f":"INDEX($A$2:$B$2001,E1077+1,2)","v":{"$error":"#NUM!"}},0,null,""]
[0,0,null,false,{"$f":"SMALL($D$3:$D$2001,ROWS($E$3:E1077))","v":{"$error":"#NUM!"}},{"$f":"INDEX($A$2:$B$2001,E1078+1,2)","v":{"$error":"#NUM!"}},0,null,""]
[0,0,null,false,{"$f":"SMALL($D$3:$D$2001,ROWS($E$3:E1078))","v":{"$error":"#NUM!"}},{"$f":"INDEX($A$2:$B$2001,E1079+1,2)","v":{"$error":"#NUM!"}},0,null,""]
[0,0,null,false,{"$f":"SMALL($D$3:$D$2001,ROWS($E$3:E1079))","v":{"$error":"#NUM!"}},{"$f":"INDEX($A$2:$B$2001,E1080+1,2)","v":{"$error":"#NUM!"}},0,null,""]
[0,0,null,false,{"$f":"SMALL($D$3:$D$2001,ROWS($E$3:E1080))","v":{"$error":"#NUM!"}},{"$f":"INDEX($A$2:$B$2001,E1081+1,2)","v":{"$error":"#NUM!"}},0,null,""]
[0,0,null,false,{"$f":"SMALL($D$3:$D$2001,ROWS($E$3:E1081))","v":{"$error":"#NUM!"}},{"$f":"INDEX($A$2:$B$2001,E1082+1,2)","v":{"$error":"#NUM!"}},0,null,""]
[0,0,null,false,{"$f":"SMALL($D$3:$D$2001,ROWS($E$3:E1082))","v":{"$error":"#NUM!"}},{"$f":"INDEX($A$2:$B$2001,E1083+1,2)","v":{"$error":"#NUM!"}},0,null,""]
[0,0,null,false,{"$f":"SMALL($D$3:$D$2001,ROWS($E$3:E1083))","v":{"$error":"#NUM!"}},{"$f":"INDEX($A$2:$B$2001,E1084+1,2)","v":{"$error":"#NUM!"}},0,null,""]
[0,0,null,false,{"$f":"SMALL($D$3:$D$2001,ROWS($E$3:E1084))","v":{"$error":"#NUM!"}},{"$f":"INDEX($A$2:$B$2001,E1085+1,2)","v":{"$error":"#NUM!"}},0,null,""]
[0,0,null,false,{"$f":"SMALL($D$3:$D$2001,ROWS($E$3:E1085))","v":{"$error":"#NUM!"}},{"$f":"INDEX($A$2:$B$2001,E1086+1,2)","v":{"$error":"#NUM!"}},0,null,""]
[0,0,null,false,{"$f":"SMALL($D$3:$D$2001,ROWS($E$3:E1086))","v":{"$error":"#NUM!"}},{"$f":"INDEX($A$2:$B$2001,E1087+1,2)","v":{"$error":"#NUM!"}},0,null,""]
[0,0,null,false,{"$f":"SMALL($D$3:$D$2001,ROWS($E$3:E1087))","v":{"$error":"#NUM!"}},{"$f":"INDEX($A$2:$B$2001,E1088+1,2)","v":{"$error":"#NUM!"}},0,null,""]
[0,0,null,false,{"$f":"SMALL($D$3:$D$2001,ROWS($E$3:E1088))","v":{"$error":"#NUM!"}},{"$f":"INDEX($A$2:$B$2001,E1089+1,2)","v":{"$error":"#NUM!"}},0,null,""]
[0,0,null,false,{"$f":"SMALL($D$3:$D$2001,ROWS($E$3:E1089))","v":{"$error":"#NUM!"}},{"$f":"INDEX($A$2:$B$2001,E1090+1,2)","v":{"$error":"#NUM!"}},0,null,""]
[0,0,null,false,{"$f":"SMALL($D$3:$D$2001,ROWS($E$3:E1090))","v":{"$error":"#NUM!"}},{"$f":"INDEX($A$2:$B$2001,E1091+1,2)","v":{"$error":"#NUM!"}},0,null,""]
[0,0,null,false,{"$f":"SMALL($D$3:$D$2001,ROWS($E$3:E1091))","v":{"$error":"#NUM!"}},{"$f":"INDEX($A$2:$B$2001,E1092+1,2)","v":{"$error":"#NUM!"}},{"$f":"IFERROR(F1091,0)","v":0},null,{"$f":"IF(G1091=0,\"\",H1091)","v":""}]
[0,0,null,{"$f":"IF(A1092=$B$2,ROW(A1092)-ROW($B$2))","v":false},{"$f":"SMALL($D$3:$D$2001,ROWS($E$3:E1092))","v":{"$error":"#NUM!"}},{"$f":"INDEX($A$2:$B$2001,E1093+1,2)","v":{"$error":"#NUM!"}},0,null,""]
[0,0,null,false,{"$f":"SMALL($D$3:$D$2001,ROWS($E$3:E1093))","v":{"$error":"#NUM!"}},{"$f":"INDEX($A$2:$B$2001,E1094+1,2)","v":{"$error":"#NUM!"}},0,null,""]
[0,0,null,false,{"$f":"SMALL($D$3:$D$2001,ROWS($E$3:E1094))","v":{"$error":"#NUM!"}},{"$f":"INDEX($A$2:$B$2001,E1095+1,2)","v":{"$error":"#NUM!"}},0,null,""]
[0,0,null,false,{"$f":"SMALL($D$3:$D$2001,ROWS($E$3:E1095))","v":{"$error":"#NUM!"}},{"$f":"INDEX($A$2:$B$2001,E1096+1,2)","v":{"$error":"#NUM!"}},0,null,""]
[0,0,null,false,{"$f":"SMALL($D$3:$D$2001,ROWS($E$3:E1096))","v":{"$error":"#NUM!"}},{"$f":"INDEX($A$2:$B$2001,E1097+1,2)","v":{"$error":"#NUM!"}},0,null,""]
[0,0,null,false,{"$f":"SMALL($D$3:$D$2001,ROWS($E$3:E1097))","v":{"$error":"#NUM!"}},{"$f":"INDEX($A$2:$B$2001,E1098+1,2)","v":{"$error":"#NUM!"}},0,null,""]
[0,0,null,false,{"$f":"SMALL($D$3:$D$2001,ROWS($E$3:E1098))","v":{"$error":"#NUM!"}},{"$f":"INDEX($A$2:$B$2001,E1099+1,2)","v":{"$error":"#NUM!"}},0,null,""]
[0,0,null,false,{"$f":"SMALL($D$3:$D$2001,ROWS($E$3:E1099))","v":{"$error":"#NUM!"}},{"$f":"INDEX($A$2:$B$2001,E1100+1,2)","v":{"$error":"#NUM!"}},0,null,""]
[0,0,null,false,{"$f":"SMALL($D$3:$D$2001,ROWS($E$3:E1100))","v":{"$error":"#NUM!"}},{"$f":"INDEX($A$2:$B$2001,E1101+1,2)","v":{"$error":"#NUM!"}},0,null,""]
[0,0,null,false,{"$f":"SMALL($D$3:$D$2001,ROWS($E$3:E1101))","v":{"$error":"#NUM!"}},{"$f":"INDEX($A$2:$B$2001,E1102+1,2)","v":{"$error":"#NUM!"}},0,null,""]
[0,0,null,false,{"$f":"SMALL($D$3:$D$2001,ROWS($E$3:E1102))","v":{"$error":"#NUM!"}},{"$f":"INDEX($A$2:$B$2001,E1103+1,2)","v":{"$error":"#NUM!"}},0,null,""]
[0,0,null,false,{"$f":"SMALL($D$3:$D$2001,ROWS($E$3:E1103))","v":{"$error":"#NUM!"}},{"$f":"INDEX($A$2:$B$2001,E1104+1,2)","v":{"$error":"#NUM!"}},0,null,""]
[0,0,null,false,{"$f":"SMALL($D$3:$D$2001,ROWS($E$3:E1104))","v":{"$error":"#NUM!"}},{"$f":"INDEX($A$2:$B$2001,E1105+1,2)","v":{"$error":"#NUM!"}},0,null,""]
[0,0,null,false,{"$f":"SMALL($D$3:$D$2001,ROWS($E$3:E1105))","v":{"$error":"#NUM!"}},{"$f":"INDEX($A$2:$B$2001,E1106+1,2)","v":{"$error":"#NUM!"}},0,null,""]
[0,0,null,false,{"$f":"SMALL($D$3:$D$2001,ROWS($E$3:E1106))","v":{"$error":"#NUM!"}},{"$f":"INDEX($A$2:$B$2001,E1107+1,2)","v":{"$error":"#NUM!"}},0,null,""]
[0,0,null,false,{"$f":"SMALL($D$3:$D$2001,ROWS($E$3:E1107))","v":{"$error":"#NUM!"}},{"$f":"INDEX($A$2:$B$2001,E1108+1,2)","v":{"$error":"#NUM!"}},0,null,""]
[0,0,null,false,{"$f":"SMALL($D$3:$D$2001,ROWS($E$3:E1108))","v":{"$error":"#NUM!"}},{"$f":"INDEX($A$2:$B$2001,E1109+1,2)","v":{"$error":"#NUM!"}},0,null,""]
[0,0,null,false,{"$f":"SMALL($D$3:$D$2001,ROWS($E$3:E1109))","v":{"$error":"#NUM!"}},{"$f":"INDEX($A$2:$B$2001,E1110+1,2)","v":{"$error":"#NUM!"}},0,null,""]
[0,0,null,false,{"$f":"SMALL($D$3:$D$2001,ROWS($E$3:E1110))","v":{"$error":"#NUM!"}},{"$f":"INDEX($A$2:$B$2001,E1111+1,2)","v":{"$error":"#NUM!"}},0,null,""]
[0,0,null,false,{"$f":"SMALL($D$3:$D$2001,ROWS($E$3:E1111))","v":{"$error":"#NUM!"}},{"$f":"INDEX($A$2:$B$2001,E1112+1,2)","v":{"$error":"#NUM!"}},0,null,""]
[0,0,null,false,{"$f":"SMALL($D$3:$D$2001,ROWS($E$3:E1112))","v":{"$error":"#NUM!"}},{"$f":"INDEX($A$2:$B$2001,E1113+1,2)","v":{"$error":"#NUM!"}},0,null,""]
[0,0,null,false,{"$f":"SMALL($D$3:$D$2001,ROWS($E$3:E1113))","v":{"$error":"#NUM!"}},{"$f":"INDEX($A$2:$B$2001,E1114+1,2)","v":{"$error":"#NUM!"}},0,null,""]
[0,0,null,false,{"$f":"SMALL($D$3:$D$2001,ROWS($E$3:E1114))","v":{"$error":"#NUM!"}},{"$f":"INDEX($A$2:$B$2001,E1115+1,2)","v":{"$error":"#NUM!"}},0,null,""]
[0,0,null,false,{"$f":"SMALL($D$3:$D$2001,ROWS($E$3:E1115))","v":{"$error":"#NUM!"}},{"$f":"INDEX($A$2:$B$2001,E1116+1,2)","v":{"$error":"#NUM!"}},0,null,""]
[0,0,null,false,{"$f":"SMALL($D$3:$D$2001,ROWS($E$3:E1116))","v":{"$error":"#NUM!"}},{"$f":"INDEX($A$2:$B$2001,E1117+1,2)","v":{"$error":"#NUM!"}},0,null,""]
[0,0,null,false,{"$f":"SMALL($D$3:$D$2001,ROWS($E$3:E1117))","v":{"$error":"#NUM!"}},{"$f":"INDEX($A$2:$B$2001,E1118+1,2)","v":{"$error":"#NUM!"}},0,null,""]
[0,0,null,false,{"$f":"SMALL($D$3:$D$2001,ROWS($E$3:E1118))","v":{"$error":"#NUM!"}},{"$f":"INDEX($A$2:$B$2001,E1119+1,2)","v":{"$error":"#NUM!"}},0,null,""]
[0,0,null,false,{"$f":"SMALL($D$3:$D$2001,ROWS($E$3:E1119))","v":{"$error":"#NUM!"}},{"$f":"INDEX($A$2:$B$2001,E1120+1,2)","v":{"$error":"#NUM!"}},0,null,""]
[0,0,null,false,{"$f":"SMALL($D$3:$D$2001,ROWS($E$3:E1120))","v":{"$error":"#NUM!"}},{"$f":"INDEX($A$2:$B$2001,E1121+1,2)","v":{"$error":"#NUM!"}},0,null,""]
[0,0,null,false,{"$f":"SMALL($D$3:$D$2001,ROWS($E$3:E1121))","v":{"$error":"#NUM!"}},{"$f":"INDEX($A$2:$B$2001,E1122+1,2)","v":{"$error":"#NUM!"}},0,null,""]
[0,0,null,false,{"$f":"SMALL($D$3:$D$2001,ROWS($E$3:E1122))","v":{"$error":"#NUM!"}},{"$f":"INDEX($A$2:$B$2001,E1123+1,2)","v":{"$error":"#NUM!"}},0,null,""]
[0,0,null,false,{"$f":"SMALL($D$3:$D$2001,ROWS($E$3:E1123))","v":{"$error":"#NUM!"}},{"$f":"INDEX($A$2:$B$2001,E1124+1,2)","v":{"$error":"#NUM!"}},0,null,""]
[0,0,null,false,{"$f":"SMALL($D$3:$D$2001,ROWS($E$3:E1124))","v":{"$error":"#NUM!"}},{"$f":"INDEX($A$2:$B$2001,E1125+1,2)","v":{"$error":"#NUM!"}},0,null,""]
[0,0,null,false,{"$f":"SMALL($D$3:$D$2001,ROWS($E$3:E1125))","v":{"$error":"#NUM!"}},{"$f":"INDEX($A$2:$B$2001,E1126+1,2)","v":{"$error":"#NUM!"}},0,null,""]
[0,0,null,false,{"$f":"SMALL($D$3:$D$2001,ROWS($E$3:E1126))","v":{"$error":"#NUM!"}},{"$f":"INDEX($A$2:$B$2001,E1127+1,2)","v":{"$error":"#NUM!"}},0,null,""]
[0,0,null,false,{"$f":"SMALL($D$3:$D$2001,ROWS($E$3:E1127))","v":{"$error":"#NUM!"}},{"$f":"INDEX($A$2:$B$2001,E1128+1,2)","v":{"$error":"#NUM!"}},0,null,""]
[0,0,null,false,{"$f":"SMALL($D$3:$D$2001,ROWS($E$3:E1128))","v":{"$error":"#NUM!"}},{"$f":"INDEX($A$2:$B$2001,E1129+1,2)","v":{"$error":"#NUM!"}},0,null,""]
[0,0,null,false,{"$f":"SMALL($D$3:$D$2001,ROWS($E$3:E1129))","v":{"$error":"#NUM!"}},{"$f":"INDEX($A$2:$B$2001,E1130+1,2)","v":{"$error":"#NUM!"}},0,null,""]
[0,0,null,false,{"$f":"SMALL($D$3:$D$2001,ROWS($E$3:E1130))","v":{"$error":"#NUM!"}},{"$f":"INDEX($A$2:$B$2001,E1131+1,2)","v":{"$error":"#NUM!"}},0,null,""]
[0,0,null,false,{"$f":"SMALL($D$3:$D$2001,ROWS($E$3:E1131))","v":{"$error":"#NUM!"}},{"$f":"INDEX($A$2:$B$2001,E1132+1,2)","v":{"$error":"#NUM!"}},0,null,""]
[0,0,null,false,{"$f":"SMALL($D$3:$D$2001,ROWS($E$3:E1132))","v":{"$error":"#NUM!"}},{"$f":"INDEX($A$2:$B$2001,E1133+1,2)","v":{"$error":"#NUM!"}},0,null,""]
[0,0,null,false,{"$f":"SMALL($D$3:$D$2001,ROWS($E$3:E1133))","v":{"$error":"#NUM!"}},{"$f":"INDEX($A$2:$B$2001,E1134+1,2)","v":{"$error":"#NUM!"}},0,null,""]
[0,0,null,false,{"$f":"SMALL($D$3:$D$2001,ROWS($E$3:E1134))","v":{"$error":"#NUM!"}},{"$f":"INDEX($A$2:$B$2001,E1135+1,2)","v":{"$error":"#NUM!"}},0,null,""]
[0,0,null,false,{"$f":"SMALL($D$3:$D$2001,ROWS($E$3:E1135))","v":{"$error":"#NUM!"}},{"$f":"INDEX($A$2:$B$2001,E1136+1,2)","v":{"$error":"#NUM!"}},0,null,""]
[0,0,null,false,{"$f":"SMALL($D$3:$D$2001,ROWS($E$3:E1136))","v":{"$error":"#NUM!"}},{"$f":"INDEX($A$2:$B$2001,E1137+1,2)","v":{"$error":"#NUM!"}},0,null,""]
[0,0,null,false,{"$f":"SMALL($D$3:$D$2001,ROWS($E$3:E1137))","v":{"$error":"#NUM!"}},{"$f":"INDEX($A$2:$B$2001,E1138+1,2)","v":{"$error":"#NUM!"}},0,null,""]
[0,0,null,false,{"$f":"SMALL($D$3:$D$2001,ROWS($E$3:E1138))","v":{"$error":"#NUM!"}},{"$f":"INDEX($A$2:$B$2001,E1139+1,2)","v":{"$error":"#NUM!"}},0,null,""]
[0,0,null,false,{"$f":"SMALL($D$3:$D$2001,ROWS($E$3:E1139))","v":{"$error":"#NUM!"}},{"$f":"INDEX($A$2:$B$2001,E1140+1,2)","v":{"$error":"#NUM!"}},0,null,""]
[0,0,null,false,{"$f":"SMALL($D$3:$D$2001,ROWS($E$3:E1140))","v":{"$error":"#NUM!"}},{"$f":"INDEX($A$2:$B$2001,E1141+1,2)","v":{"$error":"#NUM!"}},0,null,""]
[0,0,null,false,{"$f":"SMALL($D$3:$D$2001,ROWS($E$3:E1141))","v":{"$error":"#NUM!"}},{"$f":"INDEX($A$2:$B$2001,E1142+1,2)","v":{"$error":"#NUM!"}},0,null,""]
[0,0,null,false,{"$f":"SMALL($D$3:$D$2001,ROWS($E$3:E1142))","v":{"$error":"#NUM!"}},{"$f":"INDEX($A$2:$B$2001,E1143+1,2)","v":{"$error":"#NUM!"}},0,null,""]
[0,0,null,false,{"$f":"SMALL($D$3:$D$2001,ROWS($E$3:E1143))","v":{"$error":"#NUM!"}},{"$f":"INDEX($A$2:$B$2001,E1144+1,2)","v":{"$error":"#NUM!"}},0,null,""]
[0,0,null,false,{"$f":"SMALL($D$3:$D$2001,ROWS($E$3:E1144))","v":{"$error":"#NUM!"}},{"$f":"INDEX($A$2:$B$2001,E1145+1,2)","v":{"$error":"#NUM!"}},0,null,""]
[0,0,null,false,{"$f":"SMALL($D$3:$D$2001,ROWS($E$3:E1145))","v":{"$error":"#NUM!"}},{"$f":"INDEX($A$2:$B$2001,E1146+1,2)","v":{"$error":"#NUM!"}},0,null,""]
[0,0,null,false,{"$f":"SMALL($D$3:$D$2001,ROWS($E$3:E1146))","v":{"$error":"#NUM!"}},{"$f":"INDEX($A$2:$B$2001,E1147+1,2)","v":{"$error":"#NUM!"}},0,null,""]
[0,0,null,false,{"$f":"SMALL($D$3:$D$2001,ROWS($E$3:E1147))","v":{"$error":"#NUM!"}},{"$f":"INDEX($A$2:$B$2001,E1148+1,2)","v":{"$error":"#NUM!"}},0,null,""]
[0,0,null,false,{"$f":"SMALL($D$3:$D$2001,ROWS($E$3:E1148))","v":{"$error":"#NUM!"}},{"$f":"INDEX($A$2:$B$2001,E1149+1,2)","v":{"$error":"#NUM!"}},0,null,""]
[0,0,null,false,{"$f":"SMALL($D$3:$D$2001,ROWS($E$3:E1149))","v":{"$error":"#NUM!"}},{"$f":"INDEX($A$2:$B$2001,E1150+1,2)","v":{"$error":"#NUM!"}},0,null,""]
[0,0,null,false,{"$f":"SMALL($D$3:$D$2001,ROWS($E$3:E1150))","v":{"$error":"#NUM!"}},{"$f":"INDEX($A$2:$B$2001,E1151+1,2)","v":{"$error":"#NUM!"}},0,null,""]
[0,0,null,false,{"$f":"SMALL($D$3:$D$2001,ROWS($E$3:E1151))","v":{"$error":"#NUM!"}},{"$f":"INDEX($A$2:$B$2001,E1152+1,2)","v":{"$error":"#NUM!"}},0,null,""]
[0,0,null,false,{"$f":"SMALL($D$3:$D$2001,ROWS($E$3:E1152))","v":{"$error":"#NUM!"}},{"$f":"INDEX($A$2:$B$2001,E1153+1,2)","v":{"$error":"#NUM!"}},0,null,""]
[0,0,null,false,{"$f":"SMALL($D$3:$D$2001,ROWS($E$3:E1153))","v":{"$error":"#NUM!"}},{"$f":"INDEX($A$2:$B$2001,E1154+1,2)","v":{"$error":"#NUM!"}},0,null,""]
[0,0,null,false,{"$f":"SMALL($D$3:$D$2001,ROWS($E$3:E1154))","v":{"$error":"#NUM!"}},{"$f":"INDEX($A$2:$B$2001,E1155+1,2)","v":{"$error":"#NUM!"}},0,null,""]
[0,0,null,false,{"$f":"SMALL($D$3:$D$2001,ROWS($E$3:E1155))","v":{"$error":"#NUM!"}},{"$f":"INDEX($A$2:$B$2001,E1156+1,2)","v":{"$error":"#NUM!"}},{"$f":"IFERROR(F1155,0)","v":0},null,{"$f":"IF(G1155=0,\"\",H1155)","v":""}]
[0,0,null,{"$f":"IF(A1156=$B$2,ROW(A1156)-ROW($B$2))","v":false},{"$f":"SMALL($D$3:$D$2001,ROWS($E$3:E1156))","v":{"$error":"#NUM!"}},{"$f":"INDEX($A$2:$B$2001,E1157+1,2)","v":{"$error":"#NUM!"}},0,null,""]
[0,0,null,false,{"$f":"SMALL($D$3:$D$2001,ROWS($E$3:E1157))","v":{"$error":"#NUM!"}},{"$f":"INDEX($A$2:$B$2001,E1158+1,2)","v":{"$error":"#NUM!"}},0,null,""]
[0,0,null,false,{"$f":"SMALL($D$3:$D$2001,ROWS($E$3:E1158))","v":{"$error":"#NUM!"}},{"$f":"INDEX($A$2:$B$2001,E1159+1,2)","v":{"$error":"#NUM!"}},0,null,""]
[0,0,null,false,{"$f":"SMALL($D$3:$D$2001,ROWS($E$3:E1159))","v":{"$error":"#NUM!"}},{"$f":"INDEX($A$2:$B$2001,E1160+1,2)","v":{"$error":"#NUM!"}},0,null,""]
[0,0,null,false,{"$f":"SMALL($D$3:$D$2001,ROWS($E$3:E1160))","v":{"$error":"#NUM!"}},{"$f":"INDEX($A$2:$B$2001,E1161+1,2)","v":{"$error":"#NUM!"}},0,null,""]
[0,0,null,false,{"$f":"SMALL($D$3:$D$2001,ROWS($E$3:E1161))","v":{"$error":"#NUM!"}},{"$f":"INDEX($A$2:$B$2001,E1162+1,2)","v":{"$error":"#NUM!"}},0,null,""]
[0,0,null,false,{"$f":"SMALL($D$3:$D$2001,ROWS($E$3:E1162))","v":{"$error":"#NUM!"}},{"$f":"INDEX($A$2:$B$2001,E1163+1,2)","v":{"$error":"#NUM!"}},0,null,""]
[0,0,null,false,{"$f":"SMALL($D$3:$D$2001,ROWS($E$3:E1163))","v":{"$error":"#NUM!"}},{"$f":"INDEX($A$2:$B$2001,E1164+1,2)","v":{"$error":"#NUM!"}},0,null,""]
[0,0,null,false,{"$f":"SMALL($D$3:$D$2001,ROWS($E$3:E1164))","v":{"$error":"#NUM!"}},{"$f":"INDEX($A$2:$B$2001,E1165+1,2)","v":{"$error":"#NUM!"}},0,null,""]
[0,0,null,false,{"$f":"SMALL($D$3:$D$2001,ROWS($E$3:E1165))","v":{"$error":"#NUM!"}},{"$f":"INDEX($A$2:$B$2001,E1166+1,2)","v":{"$error":"#NUM!"}},0,null,""]
[0,0,null,false,{"$f":"SMALL($D$3:$D$2001,ROWS($E$3:E1166))","v":{"$error":"#NUM!"}},{"$f":"INDEX($A$2:$B$2001,E1167+1,2)","v":{"$error":"#NUM!"}},0,null,""]
[0,0,null,false,{"$f":"SMALL($D$3:$D$2001,ROWS($E$3:E1167))","v":{"$error":"#NUM!"}},{"$f":"INDEX($A$2:$B$2001,E1168+1,2)","v":{"$error":"#NUM!"}},0,null,""]
[0,0,null,false,{"$f":"SMALL($D$3:$D$2001,ROWS($E$3:E1168))","v":{"$error":"#NUM!"}},{"$f":"INDEX($A$2:$B$2001,E1169+1,2)","v":{"$error":"#NUM!"}},0,null,""]
[0,0,null,false,{"$f":"SMALL($D$3:$D$2001,ROWS($E$3:E1169))","v":{"$error":"#NUM!"}},{"$f":"INDEX($A$2:$B$2001,E1170+1,2)","v":{"$error":"#NUM!"}},0,null,""]
[0,0,null,false,{"$f":"SMALL($D$3:$D$2001,ROWS($E$3:E1170))","v":{"$error":"#NUM!"}},{"$f":"INDEX($A$2:$B$2001,E1171+1,2)","v":{"$error":"#NUM!"}},0,null,""]
[0,0,null,false,{"$f":"SMALL($D$3:$D$2001,ROWS($E$3:E1171))","v":{"$error":"#NUM!"}},{"$f":"INDEX($A$2:$B$2001,E1172+1,2)","v":{"$error":"#NUM!"}},0,null,""]
[0,0,null,false,{"$f":"SMALL($D$3:$D$2001,ROWS($E$3:E1172))","v":{"$error":"#NUM!"}},{"$f":"INDEX($A$2:$B$2001,E1173+1,2)","v":{"$error":"#NUM!"}},0,null,""]
[0,0,null,false,{"$f":"SMALL($D$3:$D$2001,ROWS($E$3:E1173))","v":{"$error":"#NUM!"}},{"$f":"INDEX($A$2:$B$2001,E1174+1,2)","v":{"$error":"#NUM!"}},0,null,""]
[0,0,null,false,{"$f":"SMALL($D$3:$D$2001,ROWS($E$3:E1174))","v":{"$error":"#NUM!"}},{"$f":"INDEX($A$2:$B$2001,E1175+1,2)","v":{"$error":"#NUM!"}},0,null,""]
[0,0,null,false,{"$f":"SMALL($D$3:$D$2001,ROWS($E$3:E1175))","v":{"$error":"#NUM!"}},{"$f":"INDEX($A$2:$B$2001,E1176+1,2)","v":{"$error":"#NUM!"}},0,null,""]
[0,0,null,false,{"$f":"SMALL($D$3:$D$2001,ROWS($E$3:E1176))","v":{"$error":"#NUM!"}},{"$f":"INDEX($A$2:$B$2001,E1177+1,2)","v":{"$error":"#NUM!"}},0,null,""]
[0,0,null,false,{"$f":"SMALL($D$3:$D$2001,ROWS($E$3:E1177))","v":{"$error":"#NUM!"}},{"$f":"INDEX($A$2:$B$2001,E1178+1,2)","v":{"$error":"#NUM!"}},0,null,""]
[0,0,null,false,{"$f":"SMALL($D$3:$D$2001,ROWS($E$3:E1178))","v":{"$error":"#NUM!"}},{"$f":"INDEX($A$2:$B$2001,E1179+1,2)","v":{"$error":"#NUM!"}},0,null,""]
[0,0,null,false,{"$f":"SMALL($D$3:$D$2001,ROWS($E$3:E1179))","v":{"$error":"#NUM!"}},{"$f":"INDEX($A$2:$B$2001,E1180+1,2)","v":{"$error":"#NUM!"}},0,null,""]
[0,0,null,false,{"$f":"SMALL($D$3:$D$2001,ROWS($E$3:E1180))","v":{"$error":"#NUM!"}},{"$f":"INDEX($A$2:$B$2001,E1181+1,2)","v":{"$error":"#NUM!"}},0,null,""]
[0,0,null,false,{"$f":"SMALL($D$3:$D$2001,ROWS($E$3:E1181))","v":{"$error":"#NUM!"}},{"$f":"INDEX($A$2:$B$2001,E1182+1,2)","v":{"$error":"#NUM!"}},0,null,""]
[0,0,null,false,{"$f":"SMALL($D$3:$D$2001,ROWS($E$3:E1182))","v":{"$error":"#NUM!"}},{"$f":"INDEX($A$2:$B$2001,E1183+1,2)","v":{"$error":"#NUM!"}},0,null,""]
[0,0,null,false,{"$f":"SMALL($D$3:$D$2001,ROWS($E$3:E1183))","v":{"$error":"#NUM!"}},{"$f":"INDEX($A$2:$B$2001,E1184+1,2)","v":{"$error":"#NUM!"}},0,null,""]
[0,0,null,false,{"$f":"SMALL($D$3:$D$2001,ROWS($E$3:E1184))","v":{"$error":"#NUM!"}},{"$f":"INDEX($A$2:$B$2001,E1185+1,2)","v":{"$error":"#NUM!"}},0,null,""]
[0,0,null,false,{"$f":"SMALL($D$3:$D$2001,ROWS($E$3:E1185))","v":{"$error":"#NUM!"}},{"$f":"INDEX($A$2:$B$2001,E1186+1,2)","v":{"$error":"#NUM!"}},0,null,""]
[0,0,null,false,{"$f":"SMALL($D$3:$D$2001,ROWS($E$3:E1186))","v":{"$error":"#NUM!"}},{"$f":"INDEX($A$2:$B$2001,E1187+1,2)","v":{"$error":"#NUM!"}},0,null,""]
[0,0,null,false,{"$f":"SMALL($D$3:$D$2001,ROWS($E$3:E1187))","v":{"$error":"#NUM!"}},{"$f":"INDEX($A$2:$B$2001,E1188+1,2)","v":{"$error":"#NUM!"}},0,null,""]
[0,0,null,false,{"$f":"SMALL($D$3:$D$2001,ROWS($E$3:E1188))","v":{"$error":"#NUM!"}},{"$f":"INDEX($A$2:$B$2001,E1189+1,2)","v":{"$error":"#NUM!"}},0,null,""]
[0,0,null,false,{"$f":"SMALL($D$3:$D$2001,ROWS($E$3:E1189))","v":{"$error":"#NUM!"}},{"$f":"INDEX($A$2:$B$2001,E1190+1,2)","v":{"$error":"#NUM!"}},0,null,""]
[0,0,null,false,{"$f":"SMALL($D$3:$D$2001,ROWS($E$3:E1190))","v":{"$error":"#NUM!"}},{"$f":"INDEX($A$2:$B$2001,E1191+1,2)","v":{"$error":"#NUM!"}},0,null,""]
[0,0,null,false,{"$f":"SMALL($D$3:$D$2001,ROWS($E$3:E1191))","v":{"$error":"#NUM!"}},{"$f":"INDEX($A$2:$B$2001,E1192+1,2)","v":{"$error":"#NUM!"}},0,null,""]
[0,0,null,false,{"$f":"SMALL($D$3:$D$2001,ROWS($E$3:E1192))","v":{"$error":"#NUM!"}},{"$f":"INDEX($A$2:$B$2001,E1193+1,2)","v":{"$error":"#NUM!"}},0,null,""]
[0,0,null,false,{"$f":"SMALL($D$3:$D$2001,ROWS($E$3:E1193))","v":{"$error":"#NUM!"}},{"$f":"INDEX($A$2:$B$2001,E1194+1,2)","v":{"$error":"#NUM!"}},0,null,""]
[0,0,null,false,{"$f":"SMALL($D$3:$D$2001,ROWS($E$3:E1194))","v":{"$error":"#NUM!"}},{"$f":"INDEX($A$2:$B$2001,E1195+1,2)","v":{"$error":"#NUM!"}},0,null,""]
[0,0,null,false,{"$f":"SMALL($D$3:$D$2001,ROWS($E$3:E1195))","v":{"$error":"#NUM!"}},{"$f":"INDEX($A$2:$B$2001,E1196+1,2)","v":{"$error":"#NUM!"}},0,null,""]
[0,0,null,false,{"$f":"SMALL($D$3:$D$2001,ROWS($E$3:E1196))","v":{"$error":"#NUM!"}},{"$f":"INDEX($A$2:$B$2001,E1197+1,2)","v":{"$error":"#NUM!"}},0,null,""]
[0,0,null,false,{"$f":"SMALL($D$3:$D$2001,ROWS($E$3:E1197))","v":{"$error":"#NUM!"}},{"$f":"INDEX($A$2:$B$2001,E1198+1,2)","v":{"$error":"#NUM!"}},0,null,""]
[0,0,null,false,{"$f":"SMALL($D$3:$D$2001,ROWS($E$3:E1198))","v":{"$error":"#NUM!"}},{"$f":"INDEX($A$2:$B$2001,E1199+1,2)","v":{"$error":"#NUM!"}},0,null,""]
[0,0,null,false,{"$f":"SMALL($D$3:$D$2001,ROWS($E$3:E1199))","v":{"$error":"#NUM!"}},{"$f":"INDEX($A$2:$B$2001,E1200+1,2)","v":{"$error":"#NUM!"}},0,null,""]
[0,0,null,false,{"$f":"SMALL($D$3:$D$2001,ROWS($E$3:E1200))","v":{"$error":"#NUM!"}},{"$f":"INDEX($A$2:$B$2001,E1201+1,2)","v":{"$error":"#NUM!"}},0,null,""]
[0,0,null,false,{"$f":"SMALL($D$3:$D$2001,ROWS($E$3:E1201))","v":{"$error":"#NUM!"}},{"$f":"INDEX($A$2:$B$2001,E1202+1,2)","v":{"$error":"#NUM!"}},0,null,""]
[0,0,null,false,{"$f":"SMALL($D$3:$D$2001,ROWS($E$3:E1202))","v":{"$error":"#NUM!"}},{"$f":"INDEX($A$2:$B$2001,E1203+1,2)","v":{"$error":"#NUM!"}},0,null,""]
[0,0,null,false,{"$f":"SMALL($D$3:$D$2001,ROWS($E$3:E1203))","v":{"$error":"#NUM!"}},{"$f":"INDEX($A$2:$B$2001,E1204+1,2)","v":{"$error":"#NUM!"}},0,null,""]
[0,0,null,false,{"$f":"SMALL($D$3:$D$2001,ROWS($E$3:E1204))","v":{"$error":"#NUM!"}},{"$f":"INDEX($A$2:$B$2001,E1205+1,2)","v":{"$error":"#NUM!"}},0,null,""]
[0,0,null,false,{"$f":"SMALL($D$3:$D$2001,ROWS($E$3:E1205))","v":{"$error":"#NUM!"}},{"$f":"INDEX($A$2:$B$2001,E1206+1,2)","v":{"$error":"#NUM!"}},0,null,""]
[0,0,null,false,{"$f":"SMALL($D$3:$D$2001,ROWS($E$3:E1206))","v":{"$error":"#NUM!"}},{"$f":"INDEX($A$2:$B$2001,E1207+1,2)","v":{"$error":"#NUM!"}},0,null,""]
[0,0,null,false,{"$f":"SMALL($D$3:$D$2001,ROWS($E$3:E1207))","v":{"$error":"#NUM!"}},{"$f":"INDEX($A$2:$B$2001,E1208+1,2)","v":{"$error":"#NUM!"}},0,null,""]
[0,0,null,false,{"$f":"SMALL($D$3:$D$2001,ROWS($E$3:E1208))","v":{"$error":"#NUM!"}},{"$f":"INDEX($A$2:$B$2001,E1209+1,2)","v":{"$error":"#NUM!"}},0,null,""]
[0,0,null,false,{"$f":"SMALL($D$3:$D$2001,ROWS($E$3:E1209))","v":{"$error":"#NUM!"}},{"$f":"INDEX($A$2:$B$2001,E1210+1,2)","v":{"$error":"#NUM!"}},0,null,""]
[0,0,null,false,{"$f":"SMALL($D$3:$D$2001,ROWS($E$3:E1210))","v":{"$error":"#NUM!"}},{"$f":"INDEX($A$2:$B$2001,E1211+1,2)","v":{"$error":"#NUM!"}},0,null,""]
[0,0,null,false,{"$f":"SMALL($D$3:$D$2001,ROWS($E$3:E1211))","v":{"$error":"#NUM!"}},{"$f":"INDEX($A$2:$B$2001,E1212+1,2)","v":{"$error":"#NUM!"}},0,null,""]
[0,0,null,false,{"$f":"SMALL($D$3:$D$2001,ROWS($E$3:E1212))","v":{"$error":"#NUM!"}},{"$f":"INDEX($A$2:$B$2001,E1213+1,2)","v":{"$error":"#NUM!"}},0,null,""]
[0,0,null,false,{"$f":"SMALL($D$3:$D$2001,ROWS($E$3:E1213))","v":{"$error":"#NUM!"}},{"$f":"INDEX($A$2:$B$2001,E1214+1,2)","v":{"$error":"#NUM!"}},0,null,""]
[0,0,null,false,{"$f":"SMALL($D$3:$D$2001,ROWS($E$3:E1214))","v":{"$error":"#NUM!"}},{"$f":"INDEX($A$2:$B$2001,E1215+1,2)","v":{"$error":"#NUM!"}},0,null,""]
[0,0,null,false,{"$f":"SMALL($D$3:$D$2001,ROWS($E$3:E1215))","v":{"$error":"#NUM!"}},{"$f":"INDEX($A$2:$B$2001,E1216+1,2)","v":{"$error":"#NUM!"}},0,null,""]
[0,0,null,false,{"$f":"SMALL($D$3:$D$2001,ROWS($E$3:E1216))","v":{"$error":"#NUM!"}},{"$f":"INDEX($A$2:$B$2001,E1217+1,2)","v":{"$error":"#NUM!"}},0,null,""]
[0,0,null,false,{"$f":"SMALL($D$3:$D$2001,ROWS($E$3:E1217))","v":{"$error":"#NUM!"}},{"$f":"INDEX($A$2:$B$2001,E1218+1,2)","v":{"$error":"#NUM!"}},0,null,""]
[0,0,null,false,{"$f":"SMALL($D$3:$D$2001,ROWS($E$3:E1218))","v":{"$error":"#NUM!"}},{"$f":"INDEX($A$2:$B$2001,E1219+1,2)","v":{"$error":"#NUM!"}},0,null,""]
[0,0,null,false,{"$f":"SMALL($D$3:$D$2001,ROWS($E$3:E1219))","v":{"$error":"#NUM!"}},{"$f":"INDEX($A$2:$B$2001,E1220+1,2)","v":{"$error":"#NUM!"}},{"$f":"IFERROR(F1219,0)","v":0},null,{"$f":"IF(G1219=0,\"\",H1219)","v":""}]
[0,0,null,{"$f":"IF(A1220=$B$2,ROW(A1220)-ROW($B$2))","v":false},{"$f":"SMALL($D$3:$D$2001,ROWS($E$3:E1220))","v":{"$error":"#NUM!"}},{"$f":"INDEX($A$2:$B$2001,E1221+1,2)","v":{"$error":"#NUM!"}},0,null,""]
[0,0,null,false,{"$f":"SMALL($D$3:$D$2001,ROWS($E$3:E1221))","v":{"$error":"#NUM!"}},{"$f":"INDEX($A$2:$B$2001,E1222+1,2)","v":{"$error":"#NUM!"}},0,null,""]
[0,0,null,false,{"$f":"SMALL($D$3:$D$2001,ROWS($E$3:E1222))","v":{"$error":"#NUM!"}},{"$f":"INDEX($A$2:$B$2001,E1223+1,2)","v":{"$error":"#NUM!"}},0,null,""]
[0,0,null,false,{"$f":"SMALL($D$3:$D$2001,ROWS($E$3:E1223))","v":{"$error":"#NUM!"}},{"$f":"INDEX($A$2:$B$2001,E1224+1,2)","v":{"$error":"#NUM!"}},0,null,""]
[0,0,null,false,{"$f":"SMALL($D$3:$D$2001,ROWS($E$3:E1224))","v":{"$error":"#NUM!"}},{"$f":"INDEX($A$2:$B$2001,E1225+1,2)","v":{"$error":"#NUM!"}},0,null,""]
[0,0,null,false,{"$f":"SMALL($D$3:$D$2001,ROWS($E$3:E1225))","v":{"$error":"#NUM!"}},{"$f":"INDEX($A$2:$B$2001,E1226+1,2)","v":{"$error":"#NUM!"}},0,null,""]
[0,0,null,false,{"$f":"SMALL($D$3:$D$2001,ROWS($E$3:E1226))","v":{"$error":"#NUM!"}},{"$f":"INDEX($A$2:$B$2001,E1227+1,2)","v":{"$error":"#NUM!"}},0,null,""]
[0,0,null,false,{"$f":"SMALL($D$3:$D$2001,ROWS($E$3:E1227))","v":{"$error":"#NUM!"}},{"$f":"INDEX($A$2:$B$2001,E1228+1,2)","v":{"$error":"#NUM!"}},0,null,""]
[0,0,null,false,{"$f":"SMALL($D$3:$D$2001,ROWS($E$3:E1228))","v":{"$error":"#NUM!"}},{"$f":"INDEX($A$2:$B$2001,E1229+1,2)","v":{"$error":"#NUM!"}},0,null,""]
[0,0,null,false,{"$f":"SMALL($D$3:$D$2001,ROWS($E$3:E1229))","v":{"$error":"#NUM!"}},{"$f":"INDEX($A$2:$B$2001,E1230+1,2)","v":{"$error":"#NUM!"}},0,null,""]
[0,0,null,false,{"$f":"SMALL($D$3:$D$2001,ROWS($E$3:E1230))","v":{"$error":"#NUM!"}},{"$f":"INDEX($A$2:$B$2001,E1231+1,2)","v":{"$error":"#NUM!"}},0,null,""]
[0,0,null,false,{"$f":"SMALL($D$3:$D$2001,ROWS($E$3:E1231))","v":{"$error":"#NUM!"}},{"$f":"INDEX($A$2:$B$2001,E1232+1,2)","v":{"$error":"#NUM!"}},0,null,""]
[0,0,null,false,{"$f":"SMALL($D$3:$D$2001,ROWS($E$3:E1232))","v":{"$error":"#NUM!"}},{"$f":"INDEX($A$2:$B$2001,E1233+1,2)","v":{"$error":"#NUM!"}},0,null,""]
[0,0,null,false,{"$f":"SMALL($D$3:$D$2001,ROWS($E$3:E1233))","v":{"$error":"#NUM!"}},{"$f":"INDEX($A$2:$B$2001,E1234+1,2)","v":{"$error":"#NUM!"}},0,null,""]
[0,0,null,false,{"$f":"SMALL($D$3:$D$2001,ROWS($E$3:E1234))","v":{"$error":"#NUM!"}},{"$f":"INDEX($A$2:$B$2001,E1235+1,2)","v":{"$error":"#NUM!"}},0,null,""]
[0,0,null,false,{"$f":"SMALL($D$3:$D$2001,ROWS($E$3:E1235))","v":{"$error":"#NUM!"}},{"$f":"INDEX($A$2:$B$2001,E1236+1,2)","v":{"$error":"#NUM!"}},0,null,""]
[0,0,null,false,{"$f":"SMALL($D$3:$D$2001,ROWS($E$3:E1236))","v":{"$error":"#NUM!"}},{"$f":"INDEX($A$2:$B$2001,E1237+1,2)","v":{"$error":"#NUM!"}},0,null,""]
[0,0,null,false,{"$f":"SMALL($D$3:$D$2001,ROWS($E$3:E1237))","v":{"$error":"#NUM!"}},{"$f":"INDEX($A$2:$B$2001,E1238+1,2)","v":{"$error":"#NUM!"}},0,null,""]
[0,0,null,false,{"$f":"SMALL($D$3:$D$2001,ROWS($E$3:E1238))","v":{"$error":"#NUM!"}},{"$f":"INDEX($A$2:$B$2001,E1239+1,2)","v":{"$error":"#NUM!"}},0,null,""]
[0,0,null,false,{"$f":"SMALL($D$3:$D$2001,ROWS($E$3:E1239))","v":{"$error":"#NUM!"}},{"$f":"INDEX($A$2:$B$2001,E1240+1,2)","v":{"$error":"#NUM!"}},0,null,""]
[0,0,null,false,{"$f":"SMALL($D$3:$D$2001,ROWS($E$3:E1240))","v":{"$error":"#NUM!"}},{"$f":"INDEX($A$2:$B$2001,E1241+1,2)","v":{"$error":"#NUM!"}},0,null,""]
[0,0,null,false,{"$f":"SMALL($D$3:$D$2001,ROWS($E$3:E1241))","v":{"$error":"#NUM!"}},{"$f":"INDEX($A$2:$B$2001,E1242+1,2)","v":{"$error":"#NUM!"}},0,null,""]
[0,0,null,false,{"$f":"SMALL($D$3:$D$2001,ROWS($E$3:E1242))","v":{"$error":"#NUM!"}},{"$f":"INDEX($A$2:$B$2001,E1243+1,2)","v":{"$error":"#NUM!"}},0,null,""]
[0,0,null,false,{"$f":"SMALL($D$3:$D$2001,ROWS($E$3:E1243))","v":{"$error":"#NUM!"}},{"$f":"INDEX($A$2:$B$2001,E1244+1,2)","v":{"$error":"#NUM!"}},0,null,""]
[0,0,null,false,{"$f":"SMALL($D$3:$D$2001,ROWS($E$3:E1244))","v":{"$error":"#NUM!"}},{"$f":"INDEX($A$2:$B$2001,E1245+1,2)","v":{"$error":"#NUM!"}},0,null,""]
[0,0,null,false,{"$f":"SMALL($D$3:$D$2001,ROWS($E$3:E1245))","v":{"$error":"#NUM!"}},{"$f":"INDEX($A$2:$B$2001,E1246+1,2)","v":{"$error":"#NUM!"}},0,null,""]
[0,0,null,false,{"$f":"SMALL($D$3:$D$2001,ROWS($E$3:E1246))","v":{"$error":"#NUM!"}},{"$f":"INDEX($A$2:$B$2001,E1247+1,2)","v":{"$error":"#NUM!"}},0,null,""]
[0,0,null,false,{"$f":"SMALL($D$3:$D$2001,ROWS($E$3:E1247))","v":{"$error":"#NUM!"}},{"$f":"INDEX($A$2:$B$2001,E1248+1,2)","v":{"$error":"#NUM!"}},0,null,""]
[0,0,null,false,{"$f":"SMALL($D$3:$D$2001,ROWS($E$3:E1248))","v":{"$error":"#NUM!"}},{"$f":"INDEX($A$2:$B$2001,E1249+1,2)","v":{"$error":"#NUM!"}},0,null,""]
[0,0,null,false,{"$f":"SMALL($D$3:$D$2001,ROWS($E$3:E1249))","v":{"$error":"#NUM!"}},{"$f":"INDEX($A$2:$B$2001,E1250+1,2)","v":{"$error":"#NUM!"}},0,null,""]
[0,0,null,false,{"$f":"SMALL($D$3:$D$2001,ROWS($E$3:E1250))","v":{"$error":"#NUM!"}},{"$f":"INDEX($A$2:$B$2001,E1251+1,2)","v":{"$error":"#NUM!"}},0,null,""]
[0,0,null,false,{"$f":"SMALL($D$3:$D$2001,ROWS($E$3:E1251))","v":{"$error":"#NUM!"}},{"$f":"INDEX($A$2:$B$2001,E1252+1,2)","v":{"$error":"#NUM!"}},0,null,""]
[0,0,null,false,{"$f":"SMALL($D$3:$D$2001,ROWS($E$3:E1252))","v":{"$error":"#NUM!"}},{"$f":"INDEX($A$2:$B$2001,E1253+1,2)","v":{"$error":"#NUM!"}},0,null,""]
[0,0,null,false,{"$f":"SMALL($D$3:$D$2001,ROWS($E$3:E1253))","v":{"$error":"#NUM!"}},{"$f":"INDEX($A$2:$B$2001,E1254+1,2)","v":{"$error":"#NUM!"}},0,null,""]
[0,0,null,false,{"$f":"SMALL($D$3:$D$2001,ROWS($E$3:E1254))","v":{"$error":"#NUM!"}},{"$f":"INDEX($A$2:$B$2001,E1255+1,2)","v":{"$error":"#NUM!"}},0,null,""]
[0,0,null,false,{"$f":"SMALL($D$3:$D$2001,ROWS($E$3:E1255))","v":{"$error":"#NUM!"}},{"$f":"INDEX($A$2:$B$2001,E1256+1,2)","v":{"$error":"#NUM!"}},0,null,""]
[0,0,null,false,{"$f":"SMALL($D$3:$D$2001,ROWS($E$3:E1256))","v":{"$error":"#NUM!"}},{"$f":"INDEX($A$2:$B$2001,E1257+1,2)","v":{"$error":"#NUM!"}},0,null,""]
[0,0,null,false,{"$f":"SMALL($D$3:$D$2001,ROWS($E$3:E1257))","v":{"$error":"#NUM!"}},{"$f":"INDEX($A$2:$B$2001,E1258+1,2)","v":{"$error":"#NUM!"}},0,null,""]
[0,0,null,false,{"$f":"SMALL($D$3:$D$2001,ROWS($E$3:E1258))","v":{"$error":"#NUM!"}},{"$f":"INDEX($A$2:$B$2001,E1259+1,2)","v":{"$error":"#NUM!"}},0,null,""]
[0,0,null,false,{"$f":"SMALL($D$3:$D$2001,ROWS($E$3:E1259))","v":{"$error":"#NUM!"}},{"$f":"INDEX($A$2:$B$2001,E1260+1,2)","v":{"$error":"#NUM!"}},0,null,""]
[0,0,null,false,{"$f":"SMALL($D$3:$D$2001,ROWS($E$3:E1260))","v":{"$error":"#NUM!"}},{"$f":"INDEX($A$2:$B$2001,E1261+1,2)","v":{"$error":"#NUM!"}},0,null,""]
[0,0,null,false,{"$f":"SMALL($D$3:$D$2001,ROWS($E$3:E1261))","v":{"$error":"#NUM!"}},{"$f":"INDEX($A$2:$B$2001,E1262+1,2)","v":{"$error":"#NUM!"}},0,null,""]
[0,0,null,false,{"$f":"SMALL($D$3:$D$2001,ROWS($E$3:E1262))","v":{"$error":"#NUM!"}},{"$f":"INDEX($A$2:$B$2001,E1263+1,2)","v":{"$error":"#NUM!"}},0,null,""]
[0,0,null,false,{"$f":"SMALL($D$3:$D$2001,ROWS($E$3:E1263))","v":{"$error":"#NUM!"}},{"$f":"INDEX($A$2:$B$2001,E1264+1,2)","v":{"$error":"#NUM!"}},0,null,""]
[0,0,null,false,{"$f":"SMALL($D$3:$D$2001,ROWS($E$3:E1264))","v":{"$error":"#NUM!"}},{"$f":"INDEX($A$2:$B$2001,E1265+1,2)","v":{"$error":"#NUM!"}},0,null,""]
[0,0,null,false,{"$f":"SMALL($D$3:$D$2001,ROWS($E$3:E1265))","v":{"$error":"#NUM!"}},{"$f":"INDEX($A$2:$B$2001,E1266+1,2)","v":{"$error":"#NUM!"}},0,null,""]
[0,0,null,false,{"$f":"SMALL($D$3:$D$2001,ROWS($E$3:E1266))","v":{"$error":"#NUM!"}},{"$f":"INDEX($A$2:$B$2001,E1267+1,2)","v":{"$error":"#NUM!"}},0,null,""]
[0,0,null,false,{"$f":"SMALL($D$3:$D$2001,ROWS($E$3:E1267))","v":{"$error":"#NUM!"}},{"$f":"INDEX($A$2:$B$2001,E1268+1,2)","v":{"$error":"#NUM!"}},0,null,""]
[0,0,null,false,{"$f":"SMALL($D$3:$D$2001,ROWS($E$3:E1268))","v":{"$error":"#NUM!"}},{"$f":"INDEX($A$2:$B$2001,E1269+1,2)","v":{"$error":"#NUM!"}},0,null,""]
[0,0,null,false,{"$f":"SMALL($D$3:$D$2001,ROWS($E$3:E1269))","v":{"$error":"#NUM!"}},{"$f":"INDEX($A$2:$B$2001,E1270+1,2)","v":{"$error":"#NUM!"}},0,null,""]
[0,0,null,false,{"$f":"SMALL($D$3:$D$2001,ROWS($E$3:E1270))","v":{"$error":"#NUM!"}},{"$f":"INDEX($A$2:$B$2001,E1271+1,2)","v":{"$error":"#NUM!"}},0,null,""]
[0,0,null,false,{"$f":"SMALL($D$3:$D$2001,ROWS($E$3:E1271))","v":{"$error":"#NUM!"}},{"$f":"INDEX($A$2:$B$2001,E1272+1,2)","v":{"$error":"#NUM!"}},0,null,""]
[0,0,null,false,{"$f":"SMALL($D$3:$D$2001,ROWS($E$3:E1272))","v":{"$error":"#NUM!"}},{"$f":"INDEX($A$2:$B$2001,E1273+1,2)","v":{"$error":"#NUM!"}},0,null,""]
[0,0,null,false,{"$f":"SMALL($D$3:$D$2001,ROWS($E$3:E1273))","v":{"$error":"#NUM!"}},{"$f":"INDEX($A$2:$B$2001,E1274+1,2)","v":{"$error":"#NUM!"}},0,null,""]
[0,0,null,false,{"$f":"SMALL($D$3:$D$2001,ROWS($E$3:E1274))","v":{"$error":"#NUM!"}},{"$f":"INDEX($A$2:$B$2001,E1275+1,2)","v":{"$error":"#NUM!"}},0,null,""]
[0,0,null,false,{"$f":"SMALL($D$3:$D$2001,ROWS($E$3:E1275))","v":{"$error":"#NUM!"}},{"$f":"INDEX($A$2:$B$2001,E1276+1,2)","v":{"$error":"#NUM!"}},0,null,""]
[0,0,null,false,{"$f":"SMALL($D$3:$D$2001,ROWS($E$3:E1276))","v":{"$error":"#NUM!"}},{"$f":"INDEX($A$2:$B$2001,E1277+1,2)","v":{"$error":"#NUM!"}},0,null,""]
[0,0,null,false,{"$f":"SMALL($D$3:$D$2001,ROWS($E$3:E1277))","v":{"$error":"#NUM!"}},{"$f":"INDEX($A$2:$B$2001,E1278+1,2)","v":{"$error":"#NUM!"}},0,null,""]
[0,0,null,false,{"$f":"SMALL($D$3:$D$2001,ROWS($E$3:E1278))","v":{"$error":"#NUM!"}},{"$f":"INDEX($A$2:$B$2001,E1279+1,2)","v":{"$error":"#NUM!"}},0,null,""]
[0,0,null,false,{"$f":"SMALL($D$3:$D$2001,ROWS($E$3:E1279))","v":{"$error":"#NUM!"}},{"$f":"INDEX($A$2:$B$2001,E1280+1,2)","v":{"$error":"#NUM!"}},0,null,""]
[0,0,null,false,{"$f":"SMALL($D$3:$D$2001,ROWS($E$3:E1280))","v":{"$error":"#NUM!"}},{"$f":"INDEX($A$2:$B$2001,E1281+1,2)","v":{"$error":"#NUM!"}},0,null,""]
[0,0,null,false,{"$f":"SMALL($D$3:$D$2001,ROWS($E$3:E1281))","v":{"$error":"#NUM!"}},{"$f":"INDEX($A$2:$B$2001,E1282+1,2)","v":{"$error":"#NUM!"}},0,null,""]
[0,0,null,false,{"$f":"SMALL($D$3:$D$2001,ROWS($E$3:E1282))","v":{"$error":"#NUM!"}},{"$f":"INDEX($A$2:$B$2001,E1283+1,2)","v":{"$error":"#NUM!"}},0,null,""]
[0,0,null,false,{"$f":"SMALL($D$3:$D$2001,ROWS($E$3:E1283))","v":{"$error":"#NUM!"}},{"$f":"INDEX($A$2:$B$2001,E1284+1,2)","v":{"$error":"#NUM!"}},{"$f":"IFERROR(F1283,0)","v":0},null,{"$f":"IF(G1283=0,\"\",H1283)","v":""}]
[0,0,null,{"$f":"IF(A1284=$B$2,ROW(A1284)-ROW($B$2))","v":false},{"$f":"SMALL($D$3:$D$2001,ROWS($E$3:E1284))","v":{"$error":"#NUM!"}},{"$f":"INDEX($A$2:$B$2001,E1285+1,2)","v":{"$error":"#NUM!"}},0,null,""]
[0,0,null,false,{"$f":"SMALL($D$3:$D$2001,ROWS($E$3:E1285))","v":{"$error":"#NUM!"}},{"$f":"INDEX($A$2:$B$2001,E1286+1,2)","v":{"$error":"#NUM!"}},0,null,""]
[0,0,null,false,{"$f":"SMALL($D$3:$D$2001,ROWS($E$3:E1286))","v":{"$error":"#NUM!"}},{"$f":"INDEX($A$2:$B$2001,E1287+1,2)","v":{"$error":"#NUM!"}},0,null,""]
[0,0,null,false,{"$f":"SMALL($D$3:$D$2001,ROWS($E$3:E1287))","v":{"$error":"#NUM!"}},{"$f":"INDEX($A$2:$B$2001,E1288+1,2)","v":{"$error":"#NUM!"}},0,null,""]
[0,0,null,false,{"$f":"SMALL($D$3:$D$2001,ROWS($E$3:E1288))","v":{"$error":"#NUM!"}},{"$f":"INDEX($A$2:$B$2001,E1289+1,2)","v":{"$error":"#NUM!"}},0,null,""]
[0,0,null,false,{"$f":"SMALL($D$3:$D$2001,ROWS($E$3:E1289))","v":{"$error":"#NUM!"}},{"$f":"INDEX($A$2:$B$2001,E1290+1,2)","v":{"$error":"#NUM!"}},0,null,""]
[0,0,null,false,{"$f":"SMALL($D$3:$D$2001,ROWS($E$3:E1290))","v":{"$error":"#NUM!"}},{"$f":"INDEX($A$2:$B$2001,E1291+1,2)","v":{"$error":"#NUM!"}},0,null,""]
[0,0,null,false,{"$f":"SMALL($D$3:$D$2001,ROWS($E$3:E1291))","v":{"$error":"#NUM!"}},{"$f":"INDEX($A$2:$B$2001,E1292+1,2)","v":{"$error":"#NUM!"}},0,null,""]
[0,0,null,false,{"$f":"SMALL($D$3:$D$2001,ROWS($E$3:E1292))","v":{"$error":"#NUM!"}},{"$f":"INDEX($A$2:$B$2001,E1293+1,2)","v":{"$error":"#NUM!"}},0,null,""]
[0,0,null,false,{"$f":"SMALL($D$3:$D$2001,ROWS($E$3:E1293))","v":{"$error":"#NUM!"}},{"$f":"INDEX($A$2:$B$2001,E1294+1,2)","v":{"$error":"#NUM!"}},0,null,""]
[0,0,null,false,{"$f":"SMALL($D$3:$D$2001,ROWS($E$3:E1294))","v":{"$error":"#NUM!"}},{"$f":"INDEX($A$2:$B$2001,E1295+1,2)","v":{"$error":"#NUM!"}},0,null,""]
[0,0,null,false,{"$f":"SMALL($D$3:$D$2001,ROWS($E$3:E1295))","v":{"$error":"#NUM!"}},{"$f":"INDEX($A$2:$B$2001,E1296+1,2)","v":{"$error":"#NUM!"}},0,null,""]
[0,0,null,false,{"$f":"SMALL($D$3:$D$2001,ROWS($E$3:E1296))","v":{"$error":"#NUM!"}},{"$f":"INDEX($A$2:$B$2001,E1297+1,2)","v":{"$error":"#NUM!"}},0,null,""]
[0,0,null,false,{"$f":"SMALL($D$3:$D$2001,ROWS($E$3:E1297))","v":{"$error":"#NUM!"}},{"$f":"INDEX($A$2:$B$2001,E1298+1,2)","v":{"$error":"#NUM!"}},0,null,""]
[0,0,null,false,{"$f":"SMALL($D$3:$D$2001,ROWS($E$3:E1298))","v":{"$error":"#NUM!"}},{"$f":"INDEX($A$2:$B$2001,E1299+1,2)","v":{"$error":"#NUM!"}},0,null,""]
[0,0,null,false,{"$f":"SMALL($D$3:$D$2001,ROWS($E$3:E1299))","v":{"$error":"#NUM!"}},{"$f":"INDEX($A$2:$B$2001,E1300+1,2)","v":{"$error":"#NUM!"}},0,null,""]
[0,0,null,false,{"$f":"SMALL($D$3:$D$2001,ROWS($E$3:E1300))","v":{"$error":"#NUM!"}},{"$f":"INDEX($A$2:$B$2001,E1301+1,2)","v":{"$error":"#NUM!"}},0,null,""]
[0,0,null,false,{"$f":"SMALL($D$3:$D$2001,ROWS($E$3:E1301))","v":{"$error":"#NUM!"}},{"$f":"INDEX($A$2:$B$2001,E1302+1,2)","v":{"$error":"#NUM!"}},0,null,""]
[0,0,null,false,{"$f":"SMALL($D$3:$D$2001,ROWS($E$3:E1302))","v":{"$error":"#NUM!"}},{"$f":"INDEX($A$2:$B$2001,E1303+1,2)","v":{"$error":"#NUM!"}},0,null,""]
[0,0,null,false,{"$f":"SMALL($D$3:$D$2001,ROWS($E$3:E1303))","v":{"$error":"#NUM!"}},{"$f":"INDEX($A$2:$B$2001,E1304+1,2)","v":{"$error":"#NUM!"}},0,null,""]
[0,0,null,false,{"$f":"SMALL($D$3:$D$2001,ROWS($E$3:E1304))","v":{"$error":"#NUM!"}},{"$f":"INDEX($A$2:$B$2001,E1305+1,2)","v":{"$error":"#NUM!"}},0,null,""]
[0,0,null,false,{"$f":"SMALL($D$3:$D$2001,ROWS($E$3:E1305))","v":{"$error":"#NUM!"}},{"$f":"INDEX($A$2:$B$2001,E1306+1,2)","v":{"$error":"#NUM!"}},0,null,""]
[0,0,null,false,{"$f":"SMALL($D$3:$D$2001,ROWS($E$3:E1306))","v":{"$error":"#NUM!"}},{"$f":"INDEX($A$2:$B$2001,E1307+1,2)","v":{"$error":"#NUM!"}},0,null,""]
[0,0,null,false,{"$f":"SMALL($D$3:$D$2001,ROWS($E$3:E1307))","v":{"$error":"#NUM!"}},{"$f":"INDEX($A$2:$B$2001,E1308+1,2)","v":{"$error":"#NUM!"}},0,null,""]
[0,0,null,false,{"$f":"SMALL($D$3:$D$2001,ROWS($E$3:E1308))","v":{"$error":"#NUM!"}},{"$f":"INDEX($A$2:$B$2001,E1309+1,2)","v":{"$error":"#NUM!"}},0,null,""]
[0,0,null,false,{"$f":"SMALL($D$3:$D$2001,ROWS($E$3:E1309))","v":{"$error":"#NUM!"}},{"$f":"INDEX($A$2:$B$2001,E1310+1,2)","v":{"$error":"#NUM!"}},0,null,""]
[0,0,null,false,{"$f":"SMALL($D$3:$D$2001,ROWS($E$3:E1310))","v":{"$error":"#NUM!"}},{"$f":"INDEX($A$2:$B$2001,E1311+1,2)","v":{"$error":"#NUM!"}},0,null,""]
[0,0,null,false,{"$f":"SMALL($D$3:$D$2001,ROWS($E$3:E1311))","v":{"$error":"#NUM!"}},{"$f":"INDEX($A$2:$B$2001,E1312+1,2)","v":{"$error":"#NUM!"}},0,null,""]
[0,0,null,false,{"$f":"SMALL($D$3:$D$2001,ROWS($E$3:E1312))","v":{"$error":"#NUM!"}},{"$f":"INDEX($A$2:$B$2001,E1313+1,2)","v":{"$error":"#NUM!"}},0,null,""]
[0,0,null,false,{"$f":"SMALL($D$3:$D$2001,ROWS($E$3:E1313))","v":{"$error":"#NUM!"}},{"$f":"INDEX($A$2:$B$2001,E1314+1,2)","v":{"$error":"#NUM!"}},0,null,""]
[0,0,null,false,{"$f":"SMALL($D$3:$D$2001,ROWS($E$3:E1314))","v":{"$error":"#NUM!"}},{"$f":"INDEX($A$2:$B$2001,E1315+1,2)","v":{"$error":"#NUM!"}},0,null,""]
[0,0,null,false,{"$f":"SMALL($D$3:$D$2001,ROWS($E$3:E1315))","v":{"$error":"#NUM!"}},{"$f":"INDEX($A$2:$B$2001,E1316+1,2)","v":{"$error":"#NUM!"}},0,null,""]
[0,0,null,false,{"$f":"SMALL($D$3:$D$2001,ROWS($E$3:E1316))","v":{"$error":"#NUM!"}},{"$f":"INDEX($A$2:$B$2001,E1317+1,2)","v":{"$error":"#NUM!"}},0,null,""]
[0,0,null,false,{"$f":"SMALL($D$3:$D$2001,ROWS($E$3:E1317))","v":{"$error":"#NUM!"}},{"$f":"INDEX($A$2:$B$2001,E1318+1,2)","v":{"$error":"#NUM!"}},0,null,""]
[0,0,null,false,{"$f":"SMALL($D$3:$D$2001,ROWS($E$3:E1318))","v":{"$error":"#NUM!"}},{"$f":"INDEX($A$2:$B$2001,E1319+1,2)","v":{"$error":"#NUM!"}},0,null,""]
[0,0,null,false,{"$f":"SMALL($D$3:$D$2001,ROWS($E$3:E1319))","v":{"$error":"#NUM!"}},{"$f":"INDEX($A$2:$B$2001,E1320+1,2)","v":{"$error":"#NUM!"}},0,null,""]
[0,0,null,false,{"$f":"SMALL($D$3:$D$2001,ROWS($E$3:E1320))","v":{"$error":"#NUM!"}},{"$f":"INDEX($A$2:$B$2001,E1321+1,2)","v":{"$error":"#NUM!"}},0,null,""]
[0,0,null,false,{"$f":"SMALL($D$3:$D$2001,ROWS($E$3:E1321))","v":{"$error":"#NUM!"}},{"$f":"INDEX($A$2:$B$2001,E1322+1,2)","v":{"$error":"#NUM!"}},0,null,""]
[0,0,null,false,{"$f":"SMALL($D$3:$D$2001,ROWS($E$3:E1322))","v":{"$error":"#NUM!"}},{"$f":"INDEX($A$2:$B$2001,E1323+1,2)","v":{"$error":"#NUM!"}},0,null,""]
[0,0,null,false,{"$f":"SMALL($D$3:$D$2001,ROWS($E$3:E1323))","v":{"$error":"#NUM!"}},{"$f":"INDEX($A$2:$B$2001,E1324+1,2)","v":{"$error":"#NUM!"}},0,null,""]
[0,0,null,false,{"$f":"SMALL($D$3:$D$2001,ROWS($E$3:E1324))","v":{"$error":"#NUM!"}},{"$f":"INDEX($A$2:$B$2001,E1325+1,2)","v":{"$error":"#NUM!"}},0,null,""]
[0,0,null,false,{"$f":"SMALL($D$3:$D$2001,ROWS($E$3:E1325))","v":{"$error":"#NUM!"}},{"$f":"INDEX($A$2:$B$2001,E1326+1,2)","v":{"$error":"#NUM!"}},0,null,""]
[0,0,null,false,{"$f":"SMALL($D$3:$D$2001,ROWS($E$3:E1326))","v":{"$error":"#NUM!"}},{"$f":"INDEX($A$2:$B$2001,E1327+1,2)","v":{"$error":"#NUM!"}},0,null,""]
[0,0,null,false,{"$f":"SMALL($D$3:$D$2001,ROWS($E$3:E1327))","v":{"$error":"#NUM!"}},{"$f":"INDEX($A$2:$B$2001,E1328+1,2)","v":{"$error":"#NUM!"}},0,null,""]
[0,0,null,false,{"$f":"SMALL($D$3:$D$2001,ROWS($E$3:E1328))","v":{"$error":"#NUM!"}},{"$f":"INDEX($A$2:$B$2001,E1329+1,2)","v":{"$error":"#NUM!"}},0,null,""]
[0,0,null,false,{"$f":"SMALL($D$3:$D$2001,ROWS($E$3:E1329))","v":{"$error":"#NUM!"}},{"$f":"INDEX($A$2:$B$2001,E1330+1,2)","v":{"$error":"#NUM!"}},0,null,""]
[0,0,null,false,{"$f":"SMALL($D$3:$D$2001,ROWS($E$3:E1330))","v":{"$error":"#NUM!"}},{"$f":"INDEX($A$2:$B$2001,E1331+1,2)","v":{"$error":"#NUM!"}},0,null,""]
[0,0,null,false,{"$f":"SMALL($D$3:$D$2001,ROWS($E$3:E1331))","v":{"$error":"#NUM!"}},{"$f":"INDEX($A$2:$B$2001,E1332+1,2)","v":{"$error":"#NUM!"}},0,null,""]
[0,0,null,false,{"$f":"SMALL($D$3:$D$2001,ROWS($E$3:E1332))","v":{"$error":"#NUM!"}},{"$f":"INDEX($A$2:$B$2001,E1333+1,2)","v":{"$error":"#NUM!"}},0,null,""]
[0,0,null,false,{"$f":"SMALL($D$3:$D$2001,ROWS($E$3:E1333))","v":{"$error":"#NUM!"}},{"$f":"INDEX($A$2:$B$2001,E1334+1,2)","v":{"$error":"#NUM!"}},0,null,""]
[0,0,null,false,{"$f":"SMALL($D$3:$D$2001,ROWS($E$3:E1334))","v":{"$error":"#NUM!"}},{"$f":"INDEX($A$2:$B$2001,E1335+1,2)","v":{"$error":"#NUM!"}},0,null,""]
[0,0,null,false,{"$f":"SMALL($D$3:$D$2001,ROWS($E$3:E1335))","v":{"$error":"#NUM!"}},{"$f":"INDEX($A$2:$B$2001,E1336+1,2)","v":{"$error":"#NUM!"}},0,null,""]
[0,0,null,false,{"$f":"SMALL($D$3:$D$2001,ROWS($E$3:E1336))","v":{"$error":"#NUM!"}},{"$f":"INDEX($A$2:$B$2001,E1337+1,2)","v":{"$error":"#NUM!"}},0,null,""]
[0,0,null,false,{"$f":"SMALL($D$3:$D$2001,ROWS($E$3:E1337))","v":{"$error":"#NUM!"}},{"$f":"INDEX($A$2:$B$2001,E1338+1,2)","v":{"$error":"#NUM!"}},0,null,""]
[0,0,null,false,{"$f":"SMALL($D$3:$D$2001,ROWS($E$3:E1338))","v":{"$error":"#NUM!"}},{"$f":"INDEX($A$2:$B$2001,E1339+1,2)","v":{"$error":"#NUM!"}},0,null,""]
[0,0,null,false,{"$f":"SMALL($D$3:$D$2001,ROWS($E$3:E1339))","v":{"$error":"#NUM!"}},{"$f":"INDEX($A$2:$B$2001,E1340+1,2)","v":{"$error":"#NUM!"}},0,null,""]
[0,0,null,false,{"$f":"SMALL($D$3:$D$2001,ROWS($E$3:E1340))","v":{"$error":"#NUM!"}},{"$f":"INDEX($A$2:$B$2001,E1341+1,2)","v":{"$error":"#NUM!"}},0,null,""]
[0,0,null,false,{"$f":"SMALL($D$3:$D$2001,ROWS($E$3:E1341))","v":{"$error":"#NUM!"}},{"$f":"INDEX($A$2:$B$2001,E1342+1,2)","v":{"$error":"#NUM!"}},0,null,""]
[0,0,null,false,{"$f":"SMALL($D$3:$D$2001,ROWS($E$3:E1342))","v":{"$error":"#NUM!"}},{"$f":"INDEX($A$2:$B$2001,E1343+1,2)","v":{"$error":"#NUM!"}},0,null,""]
[0,0,null,false,{"$f":"SMALL($D$3:$D$2001,ROWS($E$3:E1343))","v":{"$error":"#NUM!"}},{"$f":"INDEX($A$2:$B$2001,E1344+1,2)","v":{"$error":"#NUM!"}},0,null,""]
[0,0,null,false,{"$f":"SMALL($D$3:$D$2001,ROWS($E$3:E1344))","v":{"$error":"#NUM!"}},{"$f":"INDEX($A$2:$B$2001,E1345+1,2)","v":{"$error":"#NUM!"}},0,null,""]
[0,0,null,false,{"$f":"SMALL($D$3:$D$2001,ROWS($E$3:E1345))","v":{"$error":"#NUM!"}},{"$f":"INDEX($A$2:$B$2001,E1346+1,2)","v":{"$error":"#NUM!"}},0,null,""]
[0,0,null,false,{"$f":"SMALL($D$3:$D$2001,ROWS($E$3:E1346))","v":{"$error":"#NUM!"}},{"$f":"INDEX($A$2:$B$2001,E1347+1,2)","v":{"$error":"#NUM!"}},0,null,""]
[0,0,null,false,{"$f":"SMALL($D$3:$D$2001,ROWS($E$3:E1347))","v":{"$error":"#NUM!"}},{"$f":"INDEX($A$2:$B$2001,E1348+1,2)","v":{"$error":"#NUM!"}},{"$f":"IFERROR(F1347,0)","v":0},null,{"$f":"IF(G1347=0,\"\",H1347)","v":""}]
[0,0,null,{"$f":"IF(A1348=$B$2,ROW(A1348)-ROW($B$2))","v":false},{"$f":"SMALL($D$3:$D$2001,ROWS($E$3:E1348))","v":{"$error":"#NUM!"}},{"$f":"INDEX($A$2:$B$2001,E1349+1,2)","v":{"$error":"#NUM!"}},0,null,""]
[0,0,null,false,{"$f":"SMALL($D$3:$D$2001,ROWS($E$3:E1349))","v":{"$error":"#NUM!"}},{"$f":"INDEX($A$2:$B$2001,E1350+1,2)","v":{"$error":"#NUM!"}},0,null,""]
[0,0,null,false,{"$f":"SMALL($D$3:$D$2001,ROWS($E$3:E1350))","v":{"$error":"#NUM!"}},{"$f":"INDEX($A$2:$B$2001,E1351+1,2)","v":{"$error":"#NUM!"}},0,null,""]
[0,0,null,false,{"$f":"SMALL($D$3:$D$2001,ROWS($E$3:E1351))","v":{"$error":"#NUM!"}},{"$f":"INDEX($A$2:$B$2001,E1352+1,2)","v":{"$error":"#NUM!"}},0,null,""]
[0,0,null,false,{"$f":"SMALL($D$3:$D$2001,ROWS($E$3:E1352))","v":{"$error":"#NUM!"}},{"$f":"INDEX($A$2:$B$2001,E1353+1,2)","v":{"$error":"#NUM!"}},0,null,""]
[0,0,null,false,{"$f":"SMALL($D$3:$D$2001,ROWS($E$3:E1353))","v":{"$error":"#NUM!"}},{"$f":"INDEX($A$2:$B$2001,E1354+1,2)","v":{"$error":"#NUM!"}},0,null,""]
[0,0,null,false,{"$f":"SMALL($D$3:$D$2001,ROWS($E$3:E1354))","v":{"$error":"#NUM!"}},{"$f":"INDEX($A$2:$B$2001,E1355+1,2)","v":{"$error":"#NUM!"}},0,null,""]
[0,0,null,false,{"$f":"SMALL($D$3:$D$2001,ROWS($E$3:E1355))","v":{"$error":"#NUM!"}},{"$f":"INDEX($A$2:$B$2001,E1356+1,2)","v":{"$error":"#NUM!"}},0,null,""]
[0,0,null,false,{"$f":"SMALL($D$3:$D$2001,ROWS($E$3:E1356))","v":{"$error":"#NUM!"}},{"$f":"INDEX($A$2:$B$2001,E1357+1,2)","v":{"$error":"#NUM!"}},0,null,""]
[0,0,null,false,{"$f":"SMALL($D$3:$D$2001,ROWS($E$3:E1357))","v":{"$error":"#NUM!"}},{"$f":"INDEX($A$2:$B$2001,E1358+1,2)","v":{"$error":"#NUM!"}},0,null,""]
[0,0,null,false,{"$f":"SMALL($D$3:$D$2001,ROWS($E$3:E1358))","v":{"$error":"#NUM!"}},{"$f":"INDEX($A$2:$B$2001,E1359+1,2)","v":{"$error":"#NUM!"}},0,null,""]
[0,0,null,false,{"$f":"SMALL($D$3:$D$2001,ROWS($E$3:E1359))","v":{"$error":"#NUM!"}},{"$f":"INDEX($A$2:$B$2001,E1360+1,2)","v":{"$error":"#NUM!"}},0,null,""]
[0,0,null,false,{"$f":"SMALL($D$3:$D$2001,ROWS($E$3:E1360))","v":{"$error":"#NUM!"}},{"$f":"INDEX($A$2:$B$2001,E1361+1,2)","v":{"$error":"#NUM!"}},0,null,""]
[0,0,null,false,{"$f":"SMALL($D$3:$D$2001,ROWS($E$3:E1361))","v":{"$error":"#NUM!"}},{"$f":"INDEX($A$2:$B$2001,E1362+1,2)","v":{"$error":"#NUM!"}},0,null,""]
[0,0,null,false,{"$f":"SMALL($D$3:$D$2001,ROWS($E$3:E1362))","v":{"$error":"#NUM!"}},{"$f":"INDEX($A$2:$B$2001,E1363+1,2)","v":{"$error":"#NUM!"}},0,null,""]
[0,0,null,false,{"$f":"SMALL($D$3:$D$2001,ROWS($E$3:E1363))","v":{"$error":"#NUM!"}},{"$f":"INDEX($A$2:$B$2001,E1364+1,2)","v":{"$error":"#NUM!"}},0,null,""]
[0,0,null,false,{"$f":"SMALL($D$3:$D$2001,ROWS($E$3:E1364))","v":{"$error":"#NUM!"}},{"$f":"INDEX($A$2:$B$2001,E1365+1,2)","v":{"$error":"#NUM!"}},0,null,""]
[0,0,null,false,{"$f":"SMALL($D$3:$D$2001,ROWS($E$3:E1365))","v":{"$error":"#NUM!"}},{"$f":"INDEX($A$2:$B$2001,E1366+1,2)","v":{"$error":"#NUM!"}},0,null,""]
[0,0,null,false,{"$f":"SMALL($D$3:$D$2001,ROWS($E$3:E1366))","v":{"$error":"#NUM!"}},{"$f":"INDEX($A$2:$B$2001,E1367+1,2)","v":{"$error":"#NUM!"}},0,null,""]
[0,0,null,false,{"$f":"SMALL($D$3:$D$2001,ROWS($E$3:E1367))","v":{"$error":"#NUM!"}},{"$f":"INDEX($A$2:$B$2001,E1368+1,2)","v":{"$error":"#NUM!"}},0,null,""]
[0,0,null,false,{"$f":"SMALL($D$3:$D$2001,ROWS($E$3:E1368))","v":{"$error":"#NUM!"}},{"$f":"INDEX($A$2:$B$2001,E1369+1,2)","v":{"$error":"#NUM!"}},0,null,""]
[0,0,null,false,{"$f":"SMALL($D$3:$D$2001,ROWS($E$3:E1369))","v":{"$error":"#NUM!"}},{"$f":"INDEX($A$2:$B$2001,E1370+1,2)","v":{"$error":"#NUM!"}},0,null,""]
[0,0,null,false,{"$f":"SMALL($D$3:$D$2001,ROWS($E$3:E1370))","v":{"$error":"#NUM!"}},{"$f":"INDEX($A$2:$B$2001,E1371+1,2)","v":{"$error":"#NUM!"}},0,null,""]
[0,0,null,false,{"$f":"SMALL($D$3:$D$2001,ROWS($E$3:E1371))","v":{"$error":"#NUM!"}},{"$f":"INDEX($A$2:$B$2001,E1372+1,2)","v":{"$error":"#NUM!"}},0,null,""]
[0,0,null,false,{"$f":"SMALL($D$3:$D$2001,ROWS($E$3:E1372))","v":{"$error":"#NUM!"}},{"$f":"INDEX($A$2:$B$2001,E1373+1,2)","v":{"$error":"#NUM!"}},0,null,""]
[0,0,null,false,{"$f":"SMALL($D$3:$D$2001,ROWS($E$3:E1373))","v":{"$error":"#NUM!"}},{"$f":"INDEX($A$2:$B$2001,E1374+1,2)","v":{"$error":"#NUM!"}},0,null,""]
[0,0,null,false,{"$f":"SMALL($D$3:$D$2001,ROWS($E$3:E1374))","v":{"$error":"#NUM!"}},{"$f":"INDEX($A$2:$B$2001,E1375+1,2)","v":{"$error":"#NUM!"}},0,null,""]
[0,0,null,false,{"$f":"SMALL($D$3:$D$2001,ROWS($E$3:E1375))","v":{"$error":"#NUM!"}},{"$f":"INDEX($A$2:$B$2001,E1376+1,2)","v":{"$error":"#NUM!"}},0,null,""]
[0,0,null,false,{"$f":"SMALL($D$3:$D$2001,ROWS($E$3:E1376))","v":{"$error":"#NUM!"}},{"$f":"INDEX($A$2:$B$2001,E1377+1,2)","v":{"$error":"#NUM!"}},0,null,""]
[0,0,null,false,{"$f":"SMALL($D$3:$D$2001,ROWS($E$3:E1377))","v":{"$error":"#NUM!"}},{"$f":"INDEX($A$2:$B$2001,E1378+1,2)","v":{"$error":"#NUM!"}},0,null,""]
[0,0,null,false,{"$f":"SMALL($D$3:$D$2001,ROWS($E$3:E1378))","v":{"$error":"#NUM!"}},{"$f":"INDEX($A$2:$B$2001,E1379+1,2)","v":{"$error":"#NUM!"}},0,null,""]
[0,0,null,false,{"$f":"SMALL($D$3:$D$2001,ROWS($E$3:E1379))","v":{"$error":"#NUM!"}},{"$f":"INDEX($A$2:$B$2001,E1380+1,2)","v":{"$error":"#NUM!"}},0,null,""]
[0,0,null,false,{"$f":"SMALL($D$3:$D$2001,ROWS($E$3:E1380))","v":{"$error":"#NUM!"}},{"$f":"INDEX($A$2:$B$2001,E1381+1,2)","v":{"$error":"#NUM!"}},0,null,""]
[0,0,null,false,{"$f":"SMALL($D$3:$D$2001,ROWS($E$3:E1381))","v":{"$error":"#NUM!"}},{"$f":"INDEX($A$2:$B$2001,E1382+1,2)","v":{"$error":"#NUM!"}},0,null,""]
[0,0,null,false,{"$f":"SMALL($D$3:$D$2001,ROWS($E$3:E1382))","v":{"$error":"#NUM!"}},{"$f":"INDEX($A$2:$B$2001,E1383+1,2)","v":{"$error":"#NUM!"}},0,null,""]
[0,0,null,false,{"$f":"SMALL($D$3:$D$2001,ROWS($E$3:E1383))","v":{"$error":"#NUM!"}},{"$f":"INDEX($A$2:$B$2001,E1384+1,2)","v":{"$error":"#NUM!"}},0,null,""]
[0,0,null,false,{"$f":"SMALL($D$3:$D$2001,ROWS($E$3:E1384))","v":{"$error":"#NUM!"}},{"$f":"INDEX($A$2:$B$2001,E1385+1,2)","v":{"$error":"#NUM!"}},0,null,""]
[0,0,null,false,{"$f":"SMALL($D$3:$D$2001,ROWS($E$3:E1385))","v":{"$error":"#NUM!"}},{"$f":"INDEX($A$2:$B$2001,E1386+1,2)","v":{"$error":"#NUM!"}},0,null,""]
[0,0,null,false,{"$f":"SMALL($D$3:$D$2001,ROWS($E$3:E1386))","v":{"$error":"#NUM!"}},{"$f":"INDEX($A$2:$B$2001,E1387+1,2)","v":{"$error":"#NUM!"}},0,null,""]
[0,0,null,false,{"$f":"SMALL($D$3:$D$2001,ROWS($E$3:E1387))","v":{"$error":"#NUM!"}},{"$f":"INDEX($A$2:$B$2001,E1388+1,2)","v":{"$error":"#NUM!"}},0,null,""]
[0,0,null,false,{"$f":"SMALL($D$3:$D$2001,ROWS($E$3:E1388))","v":{"$error":"#NUM!"}},{"$f":"INDEX($A$2:$B$2001,E1389+1,2)","v":{"$error":"#NUM!"}},0,null,""]
[0,0,null,false,{"$f":"SMALL($D$3:$D$2001,ROWS($E$3:E1389))","v":{"$error":"#NUM!"}},{"$f":"INDEX($A$2:$B$2001,E1390+1,2)","v":{"$error":"#NUM!"}},0,null,""]
[0,0,null,false,{"$f":"SMALL($D$3:$D$2001,ROWS($E$3:E1390))","v":{"$error":"#NUM!"}},{"$f":"INDEX($A$2:$B$2001,E1391+1,2)","v":{"$error":"#NUM!"}},0,null,""]
[0,0,null,false,{"$f":"SMALL($D$3:$D$2001,ROWS($E$3:E1391))","v":{"$error":"#NUM!"}},{"$f":"INDEX($A$2:$B$2001,E1392+1,2)","v":{"$error":"#NUM!"}},0,null,""]
[0,0,null,false,{"$f":"SMALL($D$3:$D$2001,ROWS($E$3:E1392))","v":{"$error":"#NUM!"}},{"$f":"INDEX($A$2:$B$2001,E1393+1,2)","v":{"$error":"#NUM!"}},0,null,""]
[0,0,null,false,{"$f":"SMALL($D$3:$D$2001,ROWS($E$3:E1393))","v":{"$error":"#NUM!"}},{"$f":"INDEX($A$2:$B$2001,E1394+1,2)","v":{"$error":"#NUM!"}},0,null,""]
[0,0,null,false,{"$f":"SMALL($D$3:$D$2001,ROWS($E$3:E1394))","v":{"$error":"#NUM!"}},{"$f":"INDEX($A$2:$B$2001,E1395+1,2)","v":{"$error":"#NUM!"}},0,null,""]
[0,0,null,false,{"$f":"SMALL($D$3:$D$2001,ROWS($E$3:E1395))","v":{"$error":"#NUM!"}},{"$f":"INDEX($A$2:$B$2001,E1396+1,2)","v":{"$error":"#NUM!"}},0,null,""]
[0,0,null,false,{"$f":"SMALL($D$3:$D$2001,ROWS($E$3:E1396))","v":{"$error":"#NUM!"}},{"$f":"INDEX($A$2:$B$2001,E1397+1,2)","v":{"$error":"#NUM!"}},0,null,""]
[0,0,null,false,{"$f":"SMALL($D$3:$D$2001,ROWS($E$3:E1397))","v":{"$error":"#NUM!"}},{"$f":"INDEX($A$2:$B$2001,E1398+1,2)","v":{"$error":"#NUM!"}},0,null,""]
[0,0,null,false,{"$f":"SMALL($D$3:$D$2001,ROWS($E$3:E1398))","v":{"$error":"#NUM!"}},{"$f":"INDEX($A$2:$B$2001,E1399+1,2)","v":{"$error":"#NUM!"}},0,null,""]
[0,0,null,false,{"$f":"SMALL($D$3:$D$2001,ROWS($E$3:E1399))","v":{"$error":"#NUM!"}},{"$f":"INDEX($A$2:$B$2001,E1400+1,2)","v":{"$error":"#NUM!"}},0,null,""]
[0,0,null,false,{"$f":"SMALL($D$3:$D$2001,ROWS($E$3:E1400))","v":{"$error":"#NUM!"}},{"$f":"INDEX($A$2:$B$2001,E1401+1,2)","v":{"$error":"#NUM!"}},0,null,""]
[0,0,null,false,{"$f":"SMALL($D$3:$D$2001,ROWS($E$3:E1401))","v":{"$error":"#NUM!"}},{"$f":"INDEX($A$2:$B$2001,E1402+1,2)","v":{"$error":"#NUM!"}},0,null,""]
[0,0,null,false,{"$f":"SMALL($D$3:$D$2001,ROWS($E$3:E1402))","v":{"$error":"#NUM!"}},{"$f":"INDEX($A$2:$B$2001,E1403+1,2)","v":{"$error":"#NUM!"}},0,null,""]
[0,0,null,false,{"$f":"SMALL($D$3:$D$2001,ROWS($E$3:E1403))","v":{"$error":"#NUM!"}},{"$f":"INDEX($A$2:$B$2001,E1404+1,2)","v":{"$error":"#NUM!"}},0,null,""]
[0,0,null,false,{"$f":"SMALL($D$3:$D$2001,ROWS($E$3:E1404))","v":{"$error":"#NUM!"}},{"$f":"INDEX($A$2:$B$2001,E1405+1,2)","v":{"$error":"#NUM!"}},0,null,""]
[0,0,null,false,{"$f":"SMALL($D$3:$D$2001,ROWS($E$3:E1405))","v":{"$error":"#NUM!"}},{"$f":"INDEX($A$2:$B$2001,E1406+1,2)","v":{"$error":"#NUM!"}},0,null,""]
[0,0,null,false,{"$f":"SMALL($D$3:$D$2001,ROWS($E$3:E1406))","v":{"$error":"#NUM!"}},{"$f":"INDEX($A$2:$B$2001,E1407+1,2)","v":{"$error":"#NUM!"}},0,null,""]
[0,0,null,false,{"$f":"SMALL($D$3:$D$2001,ROWS($E$3:E1407))","v":{"$error":"#NUM!"}},{"$f":"INDEX($A$2:$B$2001,E1408+1,2)","v":{"$error":"#NUM!"}},0,null,""]
[0,0,null,false,{"$f":"SMALL($D$3:$D$2001,ROWS($E$3:E1408))","v":{"$error":"#NUM!"}},{"$f":"INDEX($A$2:$B$2001,E1409+1,2)","v":{"$error":"#NUM!"}},0,null,""]
[0,0,null,false,{"$f":"SMALL($D$3:$D$2001,ROWS($E$3:E1409))","v":{"$error":"#NUM!"}},{"$f":"INDEX($A$2:$B$2001,E1410+1,2)","v":{"$error":"#NUM!"}},0,null,""]
[0,0,null,false,{"$f":"SMALL($D$3:$D$2001,ROWS($E$3:E1410))","v":{"$error":"#NUM!"}},{"$f":"INDEX($A$2:$B$2001,E1411+1,2)","v":{"$error":"#NUM!"}},0,null,""]
[0,0,null,false,{"$f":"SMALL($D$3:$D$2001,ROWS($E$3:E1411))","v":{"$error":"#NUM!"}},{"$f":"INDEX($A$2:$B$2001,E1412+1,2)","v":{"$error":"#NUM!"}},{"$f":"IFERROR(F1411,0)","v":0},null,{"$f":"IF(G1411=0,\"\",H1411)","v":""}]
[0,0,null,{"$f":"IF(A1412=$B$2,ROW(A1412)-ROW($B$2))","v":false},{"$f":"SMALL($D$3:$D$2001,ROWS($E$3:E1412))","v":{"$error":"#NUM!"}},{"$f":"INDEX($A$2:$B$2001,E1413+1,2)","v":{"$error":"#NUM!"}},0,null,""]
[0,0,null,false,{"$f":"SMALL($D$3:$D$2001,ROWS($E$3:E1413))","v":{"$error":"#NUM!"}},{"$f":"INDEX($A$2:$B$2001,E1414+1,2)","v":{"$error":"#NUM!"}},0,null,""]
[0,0,null,false,{"$f":"SMALL($D$3:$D$2001,ROWS($E$3:E1414))","v":{"$error":"#NUM!"}},{"$f":"INDEX($A$2:$B$2001,E1415+1,2)","v":{"$error":"#NUM!"}},0,null,""]
[0,0,null,false,{"$f":"SMALL($D$3:$D$2001,ROWS($E$3:E1415))","v":{"$error":"#NUM!"}},{"$f":"INDEX($A$2:$B$2001,E1416+1,2)","v":{"$error":"#NUM!"}},0,null,""]
[0,0,null,false,{"$f":"SMALL($D$3:$D$2001,ROWS($E$3:E1416))","v":{"$error":"#NUM!"}},{"$f":"INDEX($A$2:$B$2001,E1417+1,2)","v":{"$error":"#NUM!"}},0,null,""]
[0,0,null,false,{"$f":"SMALL($D$3:$D$2001,ROWS($E$3:E1417))","v":{"$error":"#NUM!"}},{"$f":"INDEX($A$2:$B$2001,E1418+1,2)","v":{"$error":"#NUM!"}},0,null,""]
[0,0,null,false,{"$f":"SMALL($D$3:$D$2001,ROWS($E$3:E1418))","v":{"$error":"#NUM!"}},{"$f":"INDEX($A$2:$B$2001,E1419+1,2)","v":{"$error":"#NUM!"}},0,null,""]
[0,0,null,false,{"$f":"SMALL($D$3:$D$2001,ROWS($E$3:E1419))","v":{"$error":"#NUM!"}},{"$f":"INDEX($A$2:$B$2001,E1420+1,2)","v":{"$error":"#NUM!"}},0,null,""]
[0,0,null,false,{"$f":"SMALL($D$3:$D$2001,ROWS($E$3:E1420))","v":{"$error":"#NUM!"}},{"$f":"INDEX($A$2:$B$2001,E1421+1,2)","v":{"$error":"#NUM!"}},0,null,""]
[0,0,null,false,{"$f":"SMALL($D$3:$D$2001,ROWS($E$3:E1421))","v":{"$error":"#NUM!"}},{"$f":"INDEX($A$2:$B$2001,E1422+1,2)","v":{"$error":"#NUM!"}},0,null,""]
[0,0,null,false,{"$f":"SMALL($D$3:$D$2001,ROWS($E$3:E1422))","v":{"$error":"#NUM!"}},{"$f":"INDEX($A$2:$B$2001,E1423+1,2)","v":{"$error":"#NUM!"}},0,null,""]
[0,0,null,false,{"$f":"SMALL($D$3:$D$2001,ROWS($E$3:E1423))","v":{"$error":"#NUM!"}},{"$f":"INDEX($A$2:$B$2001,E1424+1,2)","v":{"$error":"#NUM!"}},0,null,""]
[0,0,null,false,{"$f":"SMALL($D$3:$D$2001,ROWS($E$3:E1424))","v":{"$error":"#NUM!"}},{"$f":"INDEX($A$2:$B$2001,E1425+1,2)","v":{"$error":"#NUM!"}},0,null,""]
[0,0,null,false,{"$f":"SMALL($D$3:$D$2001,ROWS($E$3:E1425))","v":{"$error":"#NUM!"}},{"$f":"INDEX($A$2:$B$2001,E1426+1,2)","v":{"$error":"#NUM!"}},0,null,""]
[0,0,null,false,{"$f":"SMALL($D$3:$D$2001,ROWS($E$3:E1426))","v":{"$error":"#NUM!"}},{"$f":"INDEX($A$2:$B$2001,E1427+1,2)","v":{"$error":"#NUM!"}},0,null,""]
[0,0,null,false,{"$f":"SMALL($D$3:$D$2001,ROWS($E$3:E1427))","v":{"$error":"#NUM!"}},{"$f":"INDEX($A$2:$B$2001,E1428+1,2)","v":{"$error":"#NUM!"}},0,null,""]
[0,0,null,false,{"$f":"SMALL($D$3:$D$2001,ROWS($E$3:E1428))","v":{"$error":"#NUM!"}},{"$f":"INDEX($A$2:$B$2001,E1429+1,2)","v":{"$error":"#NUM!"}},0,null,""]
[0,0,null,false,{"$f":"SMALL($D$3:$D$2001,ROWS($E$3:E1429))","v":{"$error":"#NUM!"}},{"$f":"INDEX($A$2:$B$2001,E1430+1,2)","v":{"$error":"#NUM!"}},0,null,""]
[0,0,null,false,{"$f":"SMALL($D$3:$D$2001,ROWS($E$3:E1430))","v":{"$error":"#NUM!"}},{"$f":"INDEX($A$2:$B$2001,E1431+1,2)","v":{"$error":"#NUM!"}},0,null,""]
[0,0,null,false,{"$f":"SMALL($D$3:$D$2001,ROWS($E$3:E1431))","v":{"$error":"#NUM!"}},{"$f":"INDEX($A$2:$B$2001,E1432+1,2)","v":{"$error":"#NUM!"}},0,null,""]
[0,0,null,false,{"$f":"SMALL($D$3:$D$2001,ROWS($E$3:E1432))","v":{"$error":"#NUM!"}},{"$f":"INDEX($A$2:$B$2001,E1433+1,2)","v":{"$error":"#NUM!"}},0,null,""]
[0,0,null,false,{"$f":"SMALL($D$3:$D$2001,ROWS($E$3:E1433))","v":{"$error":"#NUM!"}},{"$f":"INDEX($A$2:$B$2001,E1434+1,2)","v":{"$error":"#NUM!"}},0,null,""]
[0,0,null,false,{"$f":"SMALL($D$3:$D$2001,ROWS($E$3:E1434))","v":{"$error":"#NUM!"}},{"$f":"INDEX($A$2:$B$2001,E1435+1,2)","v":{"$error":"#NUM!"}},0,null,""]
[0,0,null,false,{"$f":"SMALL($D$3:$D$2001,ROWS($E$3:E1435))","v":{"$error":"#NUM!"}},{"$f":"INDEX($A$2:$B$2001,E1436+1,2)","v":{"$error":"#NUM!"}},0,null,""]
[0,0,null,false,{"$f":"SMALL($D$3:$D$2001,ROWS($E$3:E1436))","v":{"$error":"#NUM!"}},{"$f":"INDEX($A$2:$B$2001,E1437+1,2)","v":{"$error":"#NUM!"}},0,null,""]
[0,0,null,false,{"$f":"SMALL($D$3:$D$2001,ROWS($E$3:E1437))","v":{"$error":"#NUM!"}},{"$f":"INDEX($A$2:$B$2001,E1438+1,2)","v":{"$error":"#NUM!"}},0,null,""]
[0,0,null,false,{"$f":"SMALL($D$3:$D$2001,ROWS($E$3:E1438))","v":{"$error":"#NUM!"}},{"$f":"INDEX($A$2:$B$2001,E1439+1,2)","v":{"$error":"#NUM!"}},0,null,""]
[0,0,null,false,{"$f":"SMALL($D$3:$D$2001,ROWS($E$3:E1439))","v":{"$error":"#NUM!"}},{"$f":"INDEX($A$2:$B$2001,E1440+1,2)","v":{"$error":"#NUM!"}},0,null,""]
[0,0,null,false,{"$f":"SMALL($D$3:$D$2001,ROWS($E$3:E1440))","v":{"$error":"#NUM!"}},{"$f":"INDEX($A$2:$B$2001,E1441+1,2)","v":{"$error":"#NUM!"}},0,null,""]
[0,0,null,false,{"$f":"SMALL($D$3:$D$2001,ROWS($E$3:E1441))","v":{"$error":"#NUM!"}},{"$f":"INDEX($A$2:$B$2001,E1442+1,2)","v":{"$error":"#NUM!"}},0,null,""]
[0,0,null,false,{"$f":"SMALL($D$3:$D$2001,ROWS($E$3:E1442))","v":{"$error":"#NUM!"}},{"$f":"INDEX($A$2:$B$2001,E1443+1,2)","v":{"$error":"#NUM!"}},0,null,""]
[0,0,null,false,{"$f":"SMALL($D$3:$D$2001,ROWS($E$3:E1443))","v":{"$error":"#NUM!"}},{"$f":"INDEX($A$2:$B$2001,E1444+1,2)","v":{"$error":"#NUM!"}},0,null,""]
[0,0,null,false,{"$f":"SMALL($D$3:$D$2001,ROWS($E$3:E1444))","v":{"$error":"#NUM!"}},{"$f":"INDEX($A$2:$B$2001,E1445+1,2)","v":{"$error":"#NUM!"}},0,null,""]
[0,0,null,false,{"$f":"SMALL($D$3:$D$2001,ROWS($E$3:E1445))","v":{"$error":"#NUM!"}},{"$f":"INDEX($A$2:$B$2001,E1446+1,2)","v":{"$error":"#NUM!"}},0,null,""]
[0,0,null,false,{"$f":"SMALL($D$3:$D$2001,ROWS($E$3:E1446))","v":{"$error":"#NUM!"}},{"$f":"INDEX($A$2:$B$2001,E1447+1,2)","v":{"$error":"#NUM!"}},0,null,""]
[0,0,null,false,{"$f":"SMALL($D$3:$D$2001,ROWS($E$3:E1447))","v":{"$error":"#NUM!"}},{"$f":"INDEX($A$2:$B$2001,E1448+1,2)","v":{"$error":"#NUM!"}},0,null,""]
[0,0,null,false,{"$f":"SMALL($D$3:$D$2001,ROWS($E$3:E1448))","v":{"$error":"#NUM!"}},{"$f":"INDEX($A$2:$B$2001,E1449+1,2)","v":{"$error":"#NUM!"}},0,null,""]
[0,0,null,false,{"$f":"SMALL($D$3:$D$2001,ROWS($E$3:E1449))","v":{"$error":"#NUM!"}},{"$f":"INDEX($A$2:$B$2001,E1450+1,2)","v":{"$error":"#NUM!"}},0,null,""]
[0,0,null,false,{"$f":"SMALL($D$3:$D$2001,ROWS($E$3:E1450))","v":{"$error":"#NUM!"}},{"$f":"INDEX($A$2:$B$2001,E1451+1,2)","v":{"$error":"#NUM!"}},0,null,""]
[0,0,null,false,{"$f":"SMALL($D$3:$D$2001,ROWS($E$3:E1451))","v":{"$error":"#NUM!"}},{"$f":"INDEX($A$2:$B$2001,E1452+1,2)","v":{"$error":"#NUM!"}},0,null,""]
[0,0,null,false,{"$f":"SMALL($D$3:$D$2001,ROWS($E$3:E1452))","v":{"$error":"#NUM!"}},{"$f":"INDEX($A$2:$B$2001,E1453+1,2)","v":{"$error":"#NUM!"}},0,null,""]
[0,0,null,false,{"$f":"SMALL($D$3:$D$2001,ROWS($E$3:E1453))","v":{"$error":"#NUM!"}},{"$f":"INDEX($A$2:$B$2001,E1454+1,2)","v":{"$error":"#NUM!"}},0,null,""]
[0,0,null,false,{"$f":"SMALL($D$3:$D$2001,ROWS($E$3:E1454))","v":{"$error":"#NUM!"}},{"$f":"INDEX($A$2:$B$2001,E1455+1,2)","v":{"$error":"#NUM!"}},0,null,""]
[0,0,null,false,{"$f":"SMALL($D$3:$D$2001,ROWS($E$3:E1455))","v":{"$error":"#NUM!"}},{"$f":"INDEX($A$2:$B$2001,E1456+1,2)","v":{"$error":"#NUM!"}},0,null,""]
[0,0,null,false,{"$f":"SMALL($D$3:$D$2001,ROWS($E$3:E1456))","v":{"$error":"#NUM!"}},{"$f":"INDEX($A$2:$B$2001,E1457+1,2)","v":{"$error":"#NUM!"}},0,null,""]
[0,0,null,false,{"$f":"SMALL($D$3:$D$2001,ROWS($E$3:E1457))","v":{"$error":"#NUM!"}},{"$f":"INDEX($A$2:$B$2001,E1458+1,2)","v":{"$error":"#NUM!"}},0,null,""]
[0,0,null,false,{"$f":"SMALL($D$3:$D$2001,ROWS($E$3:E1458))","v":{"$error":"#NUM!"}},{"$f":"INDEX($A$2:$B$2001,E1459+1,2)","v":{"$error":"#NUM!"}},0,null,""]
[0,0,null,false,{"$f":"SMALL($D$3:$D$2001,ROWS($E$3:E1459))","v":{"$error":"#NUM!"}},{"$f":"INDEX($A$2:$B$2001,E1460+1,2)","v":{"$error":"#NUM!"}},0,null,""]
[0,0,null,false,{"$f":"SMALL($D$3:$D$2001,ROWS($E$3:E1460))","v":{"$error":"#NUM!"}},{"$f":"INDEX($A$2:$B$2001,E1461+1,2)","v":{"$error":"#NUM!"}},0,null,""]
[0,0,null,false,{"$f":"SMALL($D$3:$D$2001,ROWS($E$3:E1461))","v":{"$error":"#NUM!"}},{"$f":"INDEX($A$2:$B$2001,E1462+1,2)","v":{"$error":"#NUM!"}},0,null,""]
[0,0,null,false,{"$f":"SMALL($D$3:$D$2001,ROWS($E$3:E1462))","v":{"$error":"#NUM!"}},{"$f":"INDEX($A$2:$B$2001,E1463+1,2)","v":{"$error":"#NUM!"}},0,null,""]
[0,0,null,false,{"$f":"SMALL($D$3:$D$2001,ROWS($E$3:E1463))","v":{"$error":"#NUM!"}},{"$f":"INDEX($A$2:$B$2001,E1464+1,2)","v":{"$error":"#NUM!"}},0,null,""]
[0,0,null,false,{"$f":"SMALL($D$3:$D$2001,ROWS($E$3:E1464))","v":{"$error":"#NUM!"}},{"$f":"INDEX($A$2:$B$2001,E1465+1,2)","v":{"$error":"#NUM!"}},0,null,""]
[0,0,null,false,{"$f":"SMALL($D$3:$D$2001,ROWS($E$3:E1465))","v":{"$error":"#NUM!"}},{"$f":"INDEX($A$2:$B$2001,E1466+1,2)","v":{"$error":"#NUM!"}},0,null,""]
[0,0,null,false,{"$f":"SMALL($D$3:$D$2001,ROWS($E$3:E1466))","v":{"$error":"#NUM!"}},{"$f":"INDEX($A$2:$B$2001,E1467+1,2)","v":{"$error":"#NUM!"}},0,null,""]
[0,0,null,false,{"$f":"SMALL($D$3:$D$2001,ROWS($E$3:E1467))","v":{"$error":"#NUM!"}},{"$f":"INDEX($A$2:$B$2001,E1468+1,2)","v":{"$error":"#NUM!"}},0,null,""]
[0,0,null,false,{"$f":"SMALL($D$3:$D$2001,ROWS($E$3:E1468))","v":{"$error":"#NUM!"}},{"$f":"INDEX($A$2:$B$2001,E1469+1,2)","v":{"$error":"#NUM!"}},0,null,""]
[0,0,null,false,{"$f":"SMALL($D$3:$D$2001,ROWS($E$3:E1469))","v":{"$error":"#NUM!"}},{"$f":"INDEX($A$2:$B$2001,E1470+1,2)","v":{"$error":"#NUM!"}},0,null,""]
[0,0,null,false,{"$f":"SMALL($D$3:$D$2001,ROWS($E$3:E1470))","v":{"$error":"#NUM!"}},{"$f":"INDEX($A$2:$B$2001,E1471+1,2)","v":{"$error":"#NUM!"}},0,null,""]
[0,0,null,false,{"$f":"SMALL($D$3:$D$2001,ROWS($E$3:E1471))","v":{"$error":"#NUM!"}},{"$f":"INDEX($A$2:$B$2001,E1472+1,2)","v":{"$error":"#NUM!"}},0,null,""]
[0,0,null,false,{"$f":"SMALL($D$3:$D$2001,ROWS($E$3:E1472))","v":{"$error":"#NUM!"}},{"$f":"INDEX($A$2:$B$2001,E1473+1,2)","v":{"$error":"#NUM!"}},0,null,""]
[0,0,null,false,{"$f":"SMALL($D$3:$D$2001,ROWS($E$3:E1473))","v":{"$error":"#NUM!"}},{"$f":"INDEX($A$2:$B$2001,E1474+1,2)","v":{"$error":"#NUM!"}},0,null,""]
[0,0,null,false,{"$f":"SMALL($D$3:$D$2001,ROWS($E$3:E1474))","v":{"$error":"#NUM!"}},{"$f":"INDEX($A$2:$B$2001,E1475+1,2)","v":{"$error":"#NUM!"}},0,null,""]
[0,0,null,false,{"$f":"SMALL($D$3:$D$2001,ROWS($E$3:E1475))","v":{"$error":"#NUM!"}},{"$f":"INDEX($A$2:$B$2001,E1476+1,2)","v":{"$error":"#NUM!"}},{"$f":"IFERROR(F1475,0)","v":0},null,{"$f":"IF(G1475=0,\"\",H1475)","v":""}]
[0,0,null,{"$f":"IF(A1476=$B$2,ROW(A1476)-ROW($B$2))","v":false},{"$f":"SMALL($D$3:$D$2001,ROWS($E$3:E1476))","v":{"$error":"#NUM!"}},{"$f":"INDEX($A$2:$B$2001,E1477+1,2)","v":{"$error":"#NUM!"}},0,null,""]
[0,0,null,false,{"$f":"SMALL($D$3:$D$2001,ROWS($E$3:E1477))","v":{"$error":"#NUM!"}},{"$f":"INDEX($A$2:$B$2001,E1478+1,2)","v":{"$error":"#NUM!"}},0,null,""]
[0,0,null,false,{"$f":"SMALL($D$3:$D$2001,ROWS($E$3:E1478))","v":{"$error":"#NUM!"}},{"$f":"INDEX($A$2:$B$2001,E1479+1,2)","v":{"$error":"#NUM!"}},0,null,""]
[0,0,null,false,{"$f":"SMALL($D$3:$D$2001,ROWS($E$3:E1479))","v":{"$error":"#NUM!"}},{"$f":"INDEX($A$2:$B$2001,E1480+1,2)","v":{"$error":"#NUM!"}},0,null,""]
[0,0,null,false,{"$f":"SMALL($D$3:$D$2001,ROWS($E$3:E1480))","v":{"$error":"#NUM!"}},{"$f":"INDEX($A$2:$B$2001,E1481+1,2)","v":{"$error":"#NUM!"}},0,null,""]
[0,0,null,false,{"$f":"SMALL($D$3:$D$2001,ROWS($E$3:E1481))","v":{"$error":"#NUM!"}},{"$f":"INDEX($A$2:$B$2001,E1482+1,2)","v":{"$error":"#NUM!"}},0,null,""]
[0,0,null,false,{"$f":"SMALL($D$3:$D$2001,ROWS($E$3:E1482))","v":{"$error":"#NUM!"}},{"$f":"INDEX($A$2:$B$2001,E1483+1,2)","v":{"$error":"#NUM!"}},0,null,""]
[0,0,null,false,{"$f":"SMALL($D$3:$D$2001,ROWS($E$3:E1483))","v":{"$error":"#NUM!"}},{"$f":"INDEX($A$2:$B$2001,E1484+1,2)","v":{"$error":"#NUM!"}},0,null,""]
[0,0,null,false,{"$f":"SMALL($D$3:$D$2001,ROWS($E$3:E1484))","v":{"$error":"#NUM!"}},{"$f":"INDEX($A$2:$B$2001,E1485+1,2)","v":{"$error":"#NUM!"}},0,null,""]
[0,0,null,false,{"$f":"SMALL($D$3:$D$2001,ROWS($E$3:E1485))","v":{"$error":"#NUM!"}},{"$f":"INDEX($A$2:$B$2001,E1486+1,2)","v":{"$error":"#NUM!"}},0,null,""]
[0,0,null,false,{"$f":"SMALL($D$3:$D$2001,ROWS($E$3:E1486))","v":{"$error":"#NUM!"}},{"$f":"INDEX($A$2:$B$2001,E1487+1,2)","v":{"$error":"#NUM!"}},0,null,""]
[0,0,null,false,{"$f":"SMALL($D$3:$D$2001,ROWS($E$3:E1487))","v":{"$error":"#NUM!"}},{"$f":"INDEX($A$2:$B$2001,E1488+1,2)","v":{"$error":"#NUM!"}},0,null,""]
[0,0,null,false,{"$f":"SMALL($D$3:$D$2001,ROWS($E$3:E1488))","v":{"$error":"#NUM!"}},{"$f":"INDEX($A$2:$B$2001,E1489+1,2)","v":{"$error":"#NUM!"}},0,null,""]
[0,0,null,false,{"$f":"SMALL($D$3:$D$2001,ROWS($E$3:E1489))","v":{"$error":"#NUM!"}},{"$f":"INDEX($A$2:$B$2001,E1490+1,2)","v":{"$error":"#NUM!"}},0,null,""]
[0,0,null,false,{"$f":"SMALL($D$3:$D$2001,ROWS($E$3:E1490))","v":{"$error":"#NUM!"}},{"$f":"INDEX($A$2:$B$2001,E1491+1,2)","v":{"$error":"#NUM!"}},0,null,""]
[0,0,null,false,{"$f":"SMALL($D$3:$D$2001,ROWS($E$3:E1491))","v":{"$error":"#NUM!"}},{"$f":"INDEX($A$2:$B$2001,E1492+1,2)","v":{"$error":"#NUM!"}},0,null,""]
[0,0,null,false,{"$f":"SMALL($D$3:$D$2001,ROWS($E$3:E1492))","v":{"$error":"#NUM!"}},{"$f":"INDEX($A$2:$B$2001,E1493+1,2)","v":{"$error":"#NUM!"}},0,null,""]
[0,0,null,false,{"$f":"SMALL($D$3:$D$2001,ROWS($E$3:E1493))","v":{"$error":"#NUM!"}},{"$f":"INDEX($A$2:$B$2001,E1494+1,2)","v":{"$error":"#NUM!"}},0,null,""]
[0,0,null,false,{"$f":"SMALL($D$3:$D$2001,ROWS($E$3:E1494))","v":{"$error":"#NUM!"}},{"$f":"INDEX($A$2:$B$2001,E1495+1,2)","v":{"$error":"#NUM!"}},0,null,""]
[0,0,null,false,{"$f":"SMALL($D$3:$D$2001,ROWS($E$3:E1495))","v":{"$error":"#NUM!"}},{"$f":"INDEX($A$2:$B$2001,E1496+1,2)","v":{"$error":"#NUM!"}},0,null,""]
[0,0,null,false,{"$f":"SMALL($D$3:$D$2001,ROWS($E$3:E1496))","v":{"$error":"#NUM!"}},{"$f":"INDEX($A$2:$B$2001,E1497+1,2)","v":{"$error":"#NUM!"}},0,null,""]
[0,0,null,false,{"$f":"SMALL($D$3:$D$2001,ROWS($E$3:E1497))","v":{"$error":"#NUM!"}},{"$f":"INDEX($A$2:$B$2001,E1498+1,2)","v":{"$error":"#NUM!"}},0,null,""]
[0,0,null,false,{"$f":"SMALL($D$3:$D$2001,ROWS($E$3:E1498))","v":{"$error":"#NUM!"}},{"$f":"INDEX($A$2:$B$2001,E1499+1,2)","v":{"$error":"#NUM!"}},0,null,""]
[0,0,null,false,{"$f":"SMALL($D$3:$D$2001,ROWS($E$3:E1499))","v":{"$error":"#NUM!"}},{"$f":"INDEX($A$2:$B$2001,E1500+1,2)","v":{"$error":"#NUM!"}},0,null,""]
[0,0,null,false,{"$f":"SMALL($D$3:$D$2001,ROWS($E$3:E1500))","v":{"$error":"#NUM!"}},{"$f":"INDEX($A$2:$B$2001,E1501+1,2)","v":{"$error":"#NUM!"}},0,null,""]
[0,0,null,false,{"$f":"SMALL($D$3:$D$2001,ROWS($E$3:E1501))","v":{"$error":"#NUM!"}},{"$f":"INDEX($A$2:$B$2001,E1502+1,2)","v":{"$error":"#NUM!"}},0,null,""]
[0,0,null,false,{"$f":"SMALL($D$3:$D$2001,ROWS($E$3:E1502))","v":{"$error":"#NUM!"}},{"$f":"INDEX($A$2:$B$2001,E1503+1,2)","v":{"$error":"#NUM!"}},0,null,""]
[0,0,null,false,{"$f":"SMALL($D$3:$D$2001,ROWS($E$3:E1503))","v":{"$error":"#NUM!"}},{"$f":"INDEX($A$2:$B$2001,E1504+1,2)","v":{"$error":"#NUM!"}},0,null,""]
[0,0,null,false,{"$f":"SMALL($D$3:$D$2001,ROWS($E$3:E1504))","v":{"$error":"#NUM!"}},{"$f":"INDEX($A$2:$B$2001,E1505+1,2)","v":{"$error":"#NUM!"}},0,null,""]
[0,0,null,false,{"$f":"SMALL($D$3:$D$2001,ROWS($E$3:E1505))","v":{"$error":"#NUM!"}},{"$f":"INDEX($A$2:$B$2001,E1506+1,2)","v":{"$error":"#NUM!"}},0,null,""]
[0,0,null,false,{"$f":"SMALL($D$3:$D$2001,ROWS($E$3:E1506))","v":{"$error":"#NUM!"}},{"$f":"INDEX($A$2:$B$2001,E1507+1,2)","v":{"$error":"#NUM!"}},0,null,""]
[0,0,null,false,{"$f":"SMALL($D$3:$D$2001,ROWS($E$3:E1507))","v":{"$error":"#NUM!"}},{"$f":"INDEX($A$2:$B$2001,E1508+1,2)","v":{"$error":"#NUM!"}},0,null,""]
[0,0,null,false,{"$f":"SMALL($D$3:$D$2001,ROWS($E$3:E1508))","v":{"$error":"#NUM!"}},{"$f":"INDEX($A$2:$B$2001,E1509+1,2)","v":{"$error":"#NUM!"}},0,null,""]
[0,0,null,false,{"$f":"SMALL($D$3:$D$2001,ROWS($E$3:E1509))","v":{"$error":"#NUM!"}},{"$f":"INDEX($A$2:$B$2001,E1510+1,2)","v":{"$error":"#NUM!"}},0,null,""]
[0,0,null,false,{"$f":"SMALL($D$3:$D$2001,ROWS($E$3:E1510))","v":{"$error":"#NUM!"}},{"$f":"INDEX($A$2:$B$2001,E1511+1,2)","v":{"$error":"#NUM!"}},0,null,""]
[0,0,null,false,{"$f":"SMALL($D$3:$D$2001,ROWS($E$3:E1511))","v":{"$error":"#NUM!"}},{"$f":"INDEX($A$2:$B$2001,E1512+1,2)","v":{"$error":"#NUM!"}},0,null,""]
[0,0,null,false,{"$f":"SMALL($D$3:$D$2001,ROWS($E$3:E1512))","v":{"$error":"#NUM!"}},{"$f":"INDEX($A$2:$B$2001,E1513+1,2)","v":{"$error":"#NUM!"}},0,null,""]
[0,0,null,false,{"$f":"SMALL($D$3:$D$2001,ROWS($E$3:E1513))","v":{"$error":"#NUM!"}},{"$f":"INDEX($A$2:$B$2001,E1514+1,2)","v":{"$error":"#NUM!"}},0,null,""]
[0,0,null,false,{"$f":"SMALL($D$3:$D$2001,ROWS($E$3:E1514))","v":{"$error":"#NUM!"}},{"$f":"INDEX($A$2:$B$2001,E1515+1,2)","v":{"$error":"#NUM!"}},0,null,""]
[0,0,null,false,{"$f":"SMALL($D$3:$D$2001,ROWS($E$3:E1515))","v":{"$error":"#NUM!"}},{"$f":"INDEX($A$2:$B$2001,E1516+1,2)","v":{"$error":"#NUM!"}},0,null,""]
[0,0,null,false,{"$f":"SMALL($D$3:$D$2001,ROWS($E$3:E1516))","v":{"$error":"#NUM!"}},{"$f":"INDEX($A$2:$B$2001,E1517+1,2)","v":{"$error":"#NUM!"}},0,null,""]
[0,0,null,false,{"$f":"SMALL($D$3:$D$2001,ROWS($E$3:E1517))","v":{"$error":"#NUM!"}},{"$f":"INDEX($A$2:$B$2001,E1518+1,2)","v":{"$error":"#NUM!"}},0,null,""]
[0,0,null,false,{"$f":"SMALL($D$3:$D$2001,ROWS($E$3:E1518))","v":{"$error":"#NUM!"}},{"$f":"INDEX($A$2:$B$2001,E1519+1,2)","v":{"$error":"#NUM!"}},0,null,""]
[0,0,null,false,{"$f":"SMALL($D$3:$D$2001,ROWS($E$3:E1519))","v":{"$error":"#NUM!"}},{"$f":"INDEX($A$2:$B$2001,E1520+1,2)","v":{"$error":"#NUM!"}},0,null,""]
[0,0,null,false,{"$f":"SMALL($D$3:$D$2001,ROWS($E$3:E1520))","v":{"$error":"#NUM!"}},{"$f":"INDEX($A$2:$B$2001,E1521+1,2)","v":{"$error":"#NUM!"}},0,null,""]
[0,0,null,false,{"$f":"SMALL($D$3:$D$2001,ROWS($E$3:E1521))","v":{"$error":"#NUM!"}},{"$f":"INDEX($A$2:$B$2001,E1522+1,2)","v":{"$error":"#NUM!"}},0,null,""]
[0,0,null,false,{"$f":"SMALL($D$3:$D$2001,ROWS($E$3:E1522))","v":{"$error":"#NUM!"}},{"$f":"INDEX($A$2:$B$2001,E1523+1,2)","v":{"$error":"#NUM!"}},0,null,""]
[0,0,null,false,{"$f":"SMALL($D$3:$D$2001,ROWS($E$3:E1523))","v":{"$error":"#NUM!"}},{"$f":"INDEX($A$2:$B$2001,E1524+1,2)","v":{"$error":"#NUM!"}},0,null,""]
[0,0,null,false,{"$f":"SMALL($D$3:$D$2001,ROWS($E$3:E1524))","v":{"$error":"#NUM!"}},{"$f":"INDEX($A$2:$B$2001,E1525+1,2)","v":{"$error":"#NUM!"}},0,null,""]
[0,0,null,false,{"$f":"SMALL($D$3:$D$2001,ROWS($E$3:E1525))","v":{"$error":"#NUM!"}},{"$f":"INDEX($A$2:$B$2001,E1526+1,2)","v":{"$error":"#NUM!"}},0,null,""]
[0,0,null,false,{"$f":"SMALL($D$3:$D$2001,ROWS($E$3:E1526))","v":{"$error":"#NUM!"}},{"$f":"INDEX($A$2:$B$2001,E1527+1,2)","v":{"$error":"#NUM!"}},0,null,""]
[0,0,null,false,{"$f":"SMALL($D$3:$D$2001,ROWS($E$3:E1527))","v":{"$error":"#NUM!"}},{"$f":"INDEX($A$2:$B$2001,E1528+1,2)","v":{"$error":"#NUM!"}},0,null,""]
[0,0,null,false,{"$f":"SMALL($D$3:$D$2001,ROWS($E$3:E1528))","v":{"$error":"#NUM!"}},{"$f":"INDEX($A$2:$B$2001,E1529+1,2)","v":{"$error":"#NUM!"}},0,null,""]
[0,0,null,false,{"$f":"SMALL($D$3:$D$2001,ROWS($E$3:E1529))","v":{"$error":"#NUM!"}},{"$f":"INDEX($A$2:$B$2001,E1530+1,2)","v":{"$error":"#NUM!"}},0,null,""]
[0,0,null,false,{"$f":"SMALL($D$3:$D$2001,ROWS($E$3:E1530))","v":{"$error":"#NUM!"}},{"$f":"INDEX($A$2:$B$2001,E1531+1,2)","v":{"$error":"#NUM!"}},0,null,""]
[0,0,null,false,{"$f":"SMALL($D$3:$D$2001,ROWS($E$3:E1531))","v":{"$error":"#NUM!"}},{"$f":"INDEX($A$2:$B$2001,E1532+1,2)","v":{"$error":"#NUM!"}},0,null,""]
[0,0,null,false,{"$f":"SMALL($D$3:$D$2001,ROWS($E$3:E1532))","v":{"$error":"#NUM!"}},{"$f":"INDEX($A$2:$B$2001,E1533+1,2)","v":{"$error":"#NUM!"}},0,null,""]
[0,0,null,false,{"$f":"SMALL($D$3:$D$2001,ROWS($E$3:E1533))","v":{"$error":"#NUM!"}},{"$f":"INDEX($A$2:$B$2001,E1534+1,2)","v":{"$error":"#NUM!"}},0,null,""]
[0,0,null,false,{"$f":"SMALL($D$3:$D$2001,ROWS($E$3:E1534))","v":{"$error":"#NUM!"}},{"$f":"INDEX($A$2:$B$2001,E1535+1,2)","v":{"$error":"#NUM!"}},0,null,""]
[0,0,null,false,{"$f":"SMALL($D$3:$D$2001,ROWS($E$3:E1535))","v":{"$error":"#NUM!"}},{"$f":"INDEX($A$2:$B$2001,E1536+1,2)","v":{"$error":"#NUM!"}},0,null,""]
[0,0,null,false,{"$f":"SMALL($D$3:$D$2001,ROWS($E$3:E1536))","v":{"$error":"#NUM!"}},{"$f":"INDEX($A$2:$B$2001,E1537+1,2)","v":{"$error":"#NUM!"}},0,null,""]
[0,0,null,false,{"$f":"SMALL($D$3:$D$2001,ROWS($E$3:E1537))","v":{"$error":"#NUM!"}},{"$f":"INDEX($A$2:$B$2001,E1538+1,2)","v":{"$error":"#NUM!"}},0,null,""]
[0,0,null,false,{"$f":"SMALL($D$3:$D$2001,ROWS($E$3:E1538))","v":{"$error":"#NUM!"}},{"$f":"INDEX($A$2:$B$2001,E1539+1,2)","v":{"$error":"#NUM!"}},0,null,""]
[0,0,null,false,{"$f":"SMALL($D$3:$D$2001,ROWS($E$3:E1539))","v":{"$error":"#NUM!"}},{"$f":"INDEX($A$2:$B$2001,E1540+1,2)","v":{"$error":"#NUM!"}},{"$f":"IFERROR(F1539,0)","v":0},null,{"$f":"IF(G1539=0,\"\",H1539)","v":""}]
[0,0,null,{"$f":"IF(A1540=$B$2,ROW(A1540)-ROW($B$2))","v":false},{"$f":"SMALL($D$3:$D$2001,ROWS($E$3:E1540))","v":{"$error":"#NUM!"}},{"$f":"INDEX($A$2:$B$2001,E1541+1,2)","v":{"$error":"#NUM!"}},0,null,""]
[0,0,null,false,{"$f":"SMALL($D$3:$D$2001,ROWS($E$3:E1541))","v":{"$error":"#NUM!"}},{"$f":"INDEX($A$2:$B$2001,E1542+1,2)","v":{"$error":"#NUM!"}},0,null,""]
[0,0,null,false,{"$f":"SMALL($D$3:$D$2001,ROWS($E$3:E1542))","v":{"$error":"#NUM!"}},{"$f":"INDEX($A$2:$B$2001,E1543+1,2)","v":{"$error":"#NUM!"}},0,null,""]
[0,0,null,false,{"$f":"SMALL($D$3:$D$2001,ROWS($E$3:E1543))","v":{"$error":"#NUM!"}},{"$f":"INDEX($A$2:$B$2001,E1544+1,2)","v":{"$error":"#NUM!"}},0,null,""]
[0,0,null,false,{"$f":"SMALL($D$3:$D$2001,ROWS($E$3:E1544))","v":{"$error":"#NUM!"}},{"$f":"INDEX($A$2:$B$2001,E1545+1,2)","v":{"$error":"#NUM!"}},0,null,""]
[0,0,null,false,{"$f":"SMALL($D$3:$D$2001,ROWS($E$3:E1545))","v":{"$error":"#NUM!"}},{"$f":"INDEX($A$2:$B$2001,E1546+1,2)","v":{"$error":"#NUM!"}},0,null,""]
[0,0,null,false,{"$f":"SMALL($D$3:$D$2001,ROWS($E$3:E1546))","v":{"$error":"#NUM!"}},{"$f":"INDEX($A$2:$B$2001,E1547+1,2)","v":{"$error":"#NUM!"}},0,null,""]
[0,0,null,false,{"$f":"SMALL($D$3:$D$2001,ROWS($E$3:E1547))","v":{"$error":"#NUM!"}},{"$f":"INDEX($A$2:$B$2001,E1548+1,2)","v":{"$error":"#NUM!"}},0,null,""]
[0,0,null,false,{"$f":"SMALL($D$3:$D$2001,ROWS($E$3:E1548))","v":{"$error":"#NUM!"}},{"$f":"INDEX($A$2:$B$2001,E1549+1,2)","v":{"$error":"#NUM!"}},0,null,""]
[0,0,null,false,{"$f":"SMALL($D$3:$D$2001,ROWS($E$3:E1549))","v":{"$error":"#NUM!"}},{"$f":"INDEX($A$2:$B$2001,E1550+1,2)","v":{"$error":"#NUM!"}},0,null,""]
[0,0,null,false,{"$f":"SMALL($D$3:$D$2001,ROWS($E$3:E1550))","v":{"$error":"#NUM!"}},{"$f":"INDEX($A$2:$B$2001,E1551+1,2)","v":{"$error":"#NUM!"}},0,null,""]
[0,0,null,false,{"$f":"SMALL($D$3:$D$2001,ROWS($E$3:E1551))","v":{"$error":"#NUM!"}},{"$f":"INDEX($A$2:$B$2001,E1552+1,2)","v":{"$error":"#NUM!"}},0,null,""]
[0,0,null,false,{"$f":"SMALL($D$3:$D$2001,ROWS($E$3:E1552))","v":{"$error":"#NUM!"}},{"$f":"INDEX($A$2:$B$2001,E1553+1,2)","v":{"$error":"#NUM!"}},0,null,""]
[0,0,null,false,{"$f":"SMALL($D$3:$D$2001,ROWS($E$3:E1553))","v":{"$error":"#NUM!"}},{"$f":"INDEX($A$2:$B$2001,E1554+1,2)","v":{"$error":"#NUM!"}},0,null,""]
[0,0,null,false,{"$f":"SMALL($D$3:$D$2001,ROWS($E$3:E1554))","v":{"$error":"#NUM!"}},{"$f":"INDEX($A$2:$B$2001,E1555+1,2)","v":{"$error":"#NUM!"}},0,null,""]
[0,0,null,false,{"$f":"SMALL($D$3:$D$2001,ROWS($E$3:E1555))","v":{"$error":"#NUM!"}},{"$f":"INDEX($A$2:$B$2001,E1556+1,2)","v":{"$error":"#NUM!"}},0,null,""]
[0,0,null,false,{"$f":"SMALL($D$3:$D$2001,ROWS($E$3:E1556))","v":{"$error":"#NUM!"}},{"$f":"INDEX($A$2:$B$2001,E1557+1,2)","v":{"$error":"#NUM!"}},0,null,""]
[0,0,null,false,{"$f":"SMALL($D$3:$D$2001,ROWS($E$3:E1557))","v":{"$error":"#NUM!"}},{"$f":"INDEX($A$2:$B$2001,E1558+1,2)","v":{"$error":"#NUM!"}},0,null,""]
[0,0,null,false,{"$f":"SMALL($D$3:$D$2001,ROWS($E$3:E1558))","v":{"$error":"#NUM!"}},{"$f":"INDEX($A$2:$B$2001,E1559+1,2)","v":{"$error":"#NUM!"}},0,null,""]
[0,0,null,false,{"$f":"SMALL($D$3:$D$2001,ROWS($E$3:E1559))","v":{"$error":"#NUM!"}},{"$f":"INDEX($A$2:$B$2001,E1560+1,2)","v":{"$error":"#NUM!"}},0,null,""]
[0,0,null,false,{"$f":"SMALL($D$3:$D$2001,ROWS($E$3:E1560))","v":{"$error":"#NUM!"}},{"$f":"INDEX($A$2:$B$2001,E1561+1,2)","v":{"$error":"#NUM!"}},0,null,""]
[0,0,null,false,{"$f":"SMALL($D$3:$D$2001,ROWS($E$3:E1561))","v":{"$error":"#NUM!"}},{"$f":"INDEX($A$2:$B$2001,E1562+1,2)","v":{"$error":"#NUM!"}},0,null,""]
[0,0,null,false,{"$f":"SMALL($D$3:$D$2001,ROWS($E$3:E1562))","v":{"$error":"#NUM!"}},{"$f":"INDEX($A$2:$B$2001,E1563+1,2)","v":{"$error":"#NUM!"}},0,null,""]
[0,0,null,false,{"$f":"SMALL($D$3:$D$2001,ROWS($E$3:E1563))","v":{"$error":"#NUM!"}},{"$f":"INDEX($A$2:$B$2001,E1564+1,2)","v":{"$error":"#NUM!"}},0,null,""]
[0,0,null,false,{"$f":"SMALL($D$3:$D$2001,ROWS($E$3:E1564))","v":{"$error":"#NUM!"}},{"$f":"INDEX($A$2:$B$2001,E1565+1,2)","v":{"$error":"#NUM!"}},0,null,""]
[0,0,null,false,{"$f":"SMALL($D$3:$D$2001,ROWS($E$3:E1565))","v":{"$error":"#NUM!"}},{"$f":"INDEX($A$2:$B$2001,E1566+1,2)","v":{"$error":"#NUM!"}},0,null,""]
[0,0,null,false,{"$f":"SMALL($D$3:$D$2001,ROWS($E$3:E1566))","v":{"$error":"#NUM!"}},{"$f":"INDEX($A$2:$B$2001,E1567+1,2)","v":{"$error":"#NUM!"}},0,null,""]
[0,0,null,false,{"$f":"SMALL($D$3:$D$2001,ROWS($E$3:E1567))","v":{"$error":"#NUM!"}},{"$f":"INDEX($A$2:$B$2001,E1568+1,2)","v":{"$error":"#NUM!"}},0,null,""]
[0,0,null,false,{"$f":"SMALL($D$3:$D$2001,ROWS($E$3:E1568))","v":{"$error":"#NUM!"}},{"$f":"INDEX($A$2:$B$2001,E1569+1,2)","v":{"$error":"#NUM!"}},0,null,""]
[0,0,null,false,{"$f":"SMALL($D$3:$D$2001,ROWS($E$3:E1569))","v":{"$error":"#NUM!"}},{"$f":"INDEX($A$2:$B$2001,E1570+1,2)","v":{"$error":"#NUM!"}},0,null,""]
[0,0,null,false,{"$f":"SMALL($D$3:$D$2001,ROWS($E$3:E1570))","v":{"$error":"#NUM!"}},{"$f":"INDEX($A$2:$B$2001,E1571+1,2)","v":{"$error":"#NUM!"}},0,null,""]
[0,0,null,false,{"$f":"SMALL($D$3:$D$2001,ROWS($E$3:E1571))","v":{"$error":"#NUM!"}},{"$f":"INDEX($A$2:$B$2001,E1572+1,2)","v":{"$error":"#NUM!"}},0,null,""]
[0,0,null,false,{"$f":"SMALL($D$3:$D$2001,ROWS($E$3:E1572))","v":{"$error":"#NUM!"}},{"$f":"INDEX($A$2:$B$2001,E1573+1,2)","v":{"$error":"#NUM!"}},0,null,""]
[0,0,null,false,{"$f":"SMALL($D$3:$D$2001,ROWS($E$3:E1573))","v":{"$error":"#NUM!"}},{"$f":"INDEX($A$2:$B$2001,E1574+1,2)","v":{"$error":"#NUM!"}},0,null,""]
[0,0,null,false,{"$f":"SMALL($D$3:$D$2001,ROWS($E$3:E1574))","v":{"$error":"#NUM!"}},{"$f":"INDEX($A$2:$B$2001,E1575+1,2)","v":{"$error":"#NUM!"}},0,null,""]
[0,0,null,false,{"$f":"SMALL($D$3:$D$2001,ROWS($E$3:E1575))","v":{"$error":"#NUM!"}},{"$f":"INDEX($A$2:$B$2001,E1576+1,2)","v":{"$error":"#NUM!"}},0,null,""]
[0,0,null,false,{"$f":"SMALL($D$3:$D$2001,ROWS($E$3:E1576))","v":{"$error":"#NUM!"}},{"$f":"INDEX($A$2:$B$2001,E1577+1,2)","v":{"$error":"#NUM!"}},0,null,""]
[0,0,null,false,{"$f":"SMALL($D$3:$D$2001,ROWS($E$3:E1577))","v":{"$error":"#NUM!"}},{"$f":"INDEX($A$2:$B$2001,E1578+1,2)","v":{"$error":"#NUM!"}},0,null,""]
[0,0,null,false,{"$f":"SMALL($D$3:$D$2001,ROWS($E$3:E1578))","v":{"$error":"#NUM!"}},{"$f":"INDEX($A$2:$B$2001,E1579+1,2)","v":{"$error":"#NUM!"}},0,null,""]
[0,0,null,false,{"$f":"SMALL($D$3:$D$2001,ROWS($E$3:E1579))","v":{"$error":"#NUM!"}},{"$f":"INDEX($A$2:$B$2001,E1580+1,2)","v":{"$error":"#NUM!"}},0,null,""]
[0,0,null,false,{"$f":"SMALL($D$3:$D$2001,ROWS($E$3:E1580))","v":{"$error":"#NUM!"}},{"$f":"INDEX($A$2:$B$2001,E1581+1,2)","v":{"$error":"#NUM!"}},0,null,""]
[0,0,null,false,{"$f":"SMALL($D$3:$D$2001,ROWS($E$3:E1581))","v":{"$error":"#NUM!"}},{"$f":"INDEX($A$2:$B$2001,E1582+1,2)","v":{"$error":"#NUM!"}},0,null,""]
[0,0,null,false,{"$f":"SMALL($D$3:$D$2001,ROWS($E$3:E1582))","v":{"$error":"#NUM!"}},{"$f":"INDEX($A$2:$B$2001,E1583+1,2)","v":{"$error":"#NUM!"}},0,null,""]
[0,0,null,false,{"$f":"SMALL($D$3:$D$2001,ROWS($E$3:E1583))","v":{"$error":"#NUM!"}},{"$f":"INDEX($A$2:$B$2001,E1584+1,2)","v":{"$error":"#NUM!"}},0,null,""]
[0,0,null,false,{"$f":"SMALL($D$3:$D$2001,ROWS($E$3:E1584))","v":{"$error":"#NUM!"}},{"$f":"INDEX($A$2:$B$2001,E1585+1,2)","v":{"$error":"#NUM!"}},0,null,""]
[0,0,null,false,{"$f":"SMALL($D$3:$D$2001,ROWS($E$3:E1585))","v":{"$error":"#NUM!"}},{"$f":"INDEX($A$2:$B$2001,E1586+1,2)","v":{"$error":"#NUM!"}},0,null,""]
[0,0,null,false,{"$f":"SMALL($D$3:$D$2001,ROWS($E$3:E1586))","v":{"$error":"#NUM!"}},{"$f":"INDEX($A$2:$B$2001,E1587+1,2)","v":{"$error":"#NUM!"}},0,null,""]
[0,0,null,false,{"$f":"SMALL($D$3:$D$2001,ROWS($E$3:E1587))","v":{"$error":"#NUM!"}},{"$f":"INDEX($A$2:$B$2001,E1588+1,2)","v":{"$error":"#NUM!"}},0,null,""]
[0,0,null,false,{"$f":"SMALL($D$3:$D$2001,ROWS($E$3:E1588))","v":{"$error":"#NUM!"}},{"$f":"INDEX($A$2:$B$2001,E1589+1,2)","v":{"$error":"#NUM!"}},0,null,""]
[0,0,null,false,{"$f":"SMALL($D$3:$D$2001,ROWS($E$3:E1589))","v":{"$error":"#NUM!"}},{"$f":"INDEX($A$2:$B$2001,E1590+1,2)","v":{"$error":"#NUM!"}},0,null,""]
[0,0,null,false,{"$f":"SMALL($D$3:$D$2001,ROWS($E$3:E1590))","v":{"$error":"#NUM!"}},{"$f":"INDEX($A$2:$B$2001,E1591+1,2)","v":{"$error":"#NUM!"}},0,null,""]
[0,0,null,false,{"$f":"SMALL($D$3:$D$2001,ROWS($E$3:E1591))","v":{"$error":"#NUM!"}},{"$f":"INDEX($A$2:$B$2001,E1592+1,2)","v":{"$error":"#NUM!"}},0,null,""]
[0,0,null,false,{"$f":"SMALL($D$3:$D$2001,ROWS($E$3:E1592))","v":{"$error":"#NUM!"}},{"$f":"INDEX($A$2:$B$2001,E1593+1,2)","v":{"$error":"#NUM!"}},0,null,""]
[0,0,null,false,{"$f":"SMALL($D$3:$D$2001,ROWS($E$3:E1593))","v":{"$error":"#NUM!"}},{"$f":"INDEX($A$2:$B$2001,E1594+1,2)","v":{"$error":"#NUM!"}},0,null,""]
[0,0,null,false,{"$f":"SMALL($D$3:$D$2001,ROWS($E$3:E1594))","v":{"$error":"#NUM!"}},{"$f":"INDEX($A$2:$B$2001,E1595+1,2)","v":{"$error":"#NUM!"}},0,null,""]
[0,0,null,false,{"$f":"SMALL($D$3:$D$2001,ROWS($E$3:E1595))","v":{"$error":"#NUM!"}},{"$f":"INDEX($A$2:$B$2001,E1596+1,2)","v":{"$error":"#NUM!"}},0,null,""]
[0,0,null,false,{"$f":"SMALL($D$3:$D$2001,ROWS($E$3:E1596))","v":{"$error":"#NUM!"}},{"$f":"INDEX($A$2:$B$2001,E1597+1,2)","v":{"$error":"#NUM!"}},0,null,""]
[0,0,null,false,{"$f":"SMALL($D$3:$D$2001,ROWS($E$3:E1597))","v":{"$error":"#NUM!"}},{"$f":"INDEX($A$2:$B$2001,E1598+1,2)","v":{"$error":"#NUM!"}},0,null,""]
[0,0,null,false,{"$f":"SMALL($D$3:$D$2001,ROWS($E$3:E1598))","v":{"$error":"#NUM!"}},{"$f":"INDEX($A$2:$B$2001,E1599+1,2)","v":{"$error":"#NUM!"}},0,null,""]
[0,0,null,false,{"$f":"SMALL($D$3:$D$2001,ROWS($E$3:E1599))","v":{"$error":"#NUM!"}},{"$f":"INDEX($A$2:$B$2001,E1600+1,2)","v":{"$error":"#NUM!"}},0,null,""]
[0,0,null,false,{"$f":"SMALL($D$3:$D$2001,ROWS($E$3:E1600))","v":{"$error":"#NUM!"}},{"$f":"INDEX($A$2:$B$2001,E1601+1,2)","v":{"$error":"#NUM!"}},0,null,""]
[0,0,null,false,{"$f":"SMALL($D$3:$D$2001,ROWS($E$3:E1601))","v":{"$error":"#NUM!"}},{"$f":"INDEX($A$2:$B$2001,E1602+1,2)","v":{"$error":"#NUM!"}},0,null,""]
[0,0,null,false,{"$f":"SMALL($D$3:$D$2001,ROWS($E$3:E1602))","v":{"$error":"#NUM!"}},{"$f":"INDEX($A$2:$B$2001,E1603+1,2)","v":{"$error":"#NUM!"}},0,null,""]
[0,0,null,false,{"$f":"SMALL($D$3:$D$2001,ROWS($E$3:E1603))","v":{"$error":"#NUM!"}},{"$f":"INDEX($A$2:$B$2001,E1604+1,2)","v":{"$error":"#NUM!"}},{"$f":"IFERROR(F1603,0)","v":0},null,{"$f":"IF(G1603=0,\"\",H1603)","v":""}]
[0,0,null,{"$f":"IF(A1604=$B$2,ROW(A1604)-ROW($B$2))","v":false},{"$f":"SMALL($D$3:$D$2001,ROWS($E$3:E1604))","v":{"$error":"#NUM!"}},{"$f":"INDEX($A$2:$B$2001,E1605+1,2)","v":{"$error":"#NUM!"}},0,null,""]
[0,0,null,false,{"$f":"SMALL($D$3:$D$2001,ROWS($E$3:E1605))","v":{"$error":"#NUM!"}},{"$f":"INDEX($A$2:$B$2001,E1606+1,2)","v":{"$error":"#NUM!"}},0,null,""]
[0,0,null,false,{"$f":"SMALL($D$3:$D$2001,ROWS($E$3:E1606))","v":{"$error":"#NUM!"}},{"$f":"INDEX($A$2:$B$2001,E1607+1,2)","v":{"$error":"#NUM!"}},0,null,""]
[0,0,null,false,{"$f":"SMALL($D$3:$D$2001,ROWS($E$3:E1607))","v":{"$error":"#NUM!"}},{"$f":"INDEX($A$2:$B$2001,E1608+1,2)","v":{"$error":"#NUM!"}},0,null,""]
[0,0,null,false,{"$f":"SMALL($D$3:$D$2001,ROWS($E$3:E1608))","v":{"$error":"#NUM!"}},{"$f":"INDEX($A$2:$B$2001,E1609+1,2)","v":{"$error":"#NUM!"}},0,null,""]
[0,0,null,false,{"$f":"SMALL($D$3:$D$2001,ROWS($E$3:E1609))","v":{"$error":"#NUM!"}},{"$f":"INDEX($A$2:$B$2001,E1610+1,2)","v":{"$error":"#NUM!"}},0,null,""]
[0,0,null,false,{"$f":"SMALL($D$3:$D$2001,ROWS($E$3:E1610))","v":{"$error":"#NUM!"}},{"$f":"INDEX($A$2:$B$2001,E1611+1,2)","v":{"$error":"#NUM!"}},0,null,""]
[0,0,null,false,{"$f":"SMALL($D$3:$D$2001,ROWS($E$3:E1611))","v":{"$error":"#NUM!"}},{"$f":"INDEX($A$2:$B$2001,E1612+1,2)","v":{"$error":"#NUM!"}},0,null,""]
[0,0,null,false,{"$f":"SMALL($D$3:$D$2001,ROWS($E$3:E1612))","v":{"$error":"#NUM!"}},{"$f":"INDEX($A$2:$B$2001,E1613+1,2)","v":{"$error":"#NUM!"}},0,null,""]
[0,0,null,false,{"$f":"SMALL($D$3:$D$2001,ROWS($E$3:E1613))","v":{"$error":"#NUM!"}},{"$f":"INDEX($A$2:$B$2001,E1614+1,2)","v":{"$error":"#NUM!"}},0,null,""]
[0,0,null,false,{"$f":"SMALL($D$3:$D$2001,ROWS($E$3:E1614))","v":{"$error":"#NUM!"}},{"$f":"INDEX($A$2:$B$2001,E1615+1,2)","v":{"$error":"#NUM!"}},0,null,""]
[0,0,null,false,{"$f":"SMALL($D$3:$D$2001,ROWS($E$3:E1615))","v":{"$error":"#NUM!"}},{"$f":"INDEX($A$2:$B$2001,E1616+1,2)","v":{"$error":"#NUM!"}},0,null,""]
[0,0,null,false,{"$f":"SMALL($D$3:$D$2001,ROWS($E$3:E1616))","v":{"$error":"#NUM!"}},{"$f":"INDEX($A$2:$B$2001,E1617+1,2)","v":{"$error":"#NUM!"}},0,null,""]
[0,0,null,false,{"$f":"SMALL($D$3:$D$2001,ROWS($E$3:E1617))","v":{"$error":"#NUM!"}},{"$f":"INDEX($A$2:$B$2001,E1618+1,2)","v":{"$error":"#NUM!"}},0,null,""]
[0,0,null,false,{"$f":"SMALL($D$3:$D$2001,ROWS($E$3:E1618))","v":{"$error":"#NUM!"}},{"$f":"INDEX($A$2:$B$2001,E1619+1,2)","v":{"$error":"#NUM!"}},0,null,""]
[0,0,null,false,{"$f":"SMALL($D$3:$D$2001,ROWS($E$3:E1619))","v":{"$error":"#NUM!"}},{"$f":"INDEX($A$2:$B$2001,E1620+1,2)","v":{"$error":"#NUM!"}},0,null,""]
[0,0,null,false,{"$f":"SMALL($D$3:$D$2001,ROWS($E$3:E1620))","v":{"$error":"#NUM!"}},{"$f":"INDEX($A$2:$B$2001,E1621+1,2)","v":{"$error":"#NUM!"}},0,null,""]
[0,0,null,false,{"$f":"SMALL($D$3:$D$2001,ROWS($E$3:E1621))","v":{"$error":"#NUM!"}},{"$f":"INDEX($A$2:$B$2001,E1622+1,2)","v":{"$error":"#NUM!"}},0,null,""]
[0,0,null,false,{"$f":"SMALL($D$3:$D$2001,ROWS($E$3:E1622))","v":{"$error":"#NUM!"}},{"$f":"INDEX($A$2:$B$2001,E1623+1,2)","v":{"$error":"#NUM!"}},0,null,""]
[0,0,null,false,{"$f":"SMALL($D$3:$D$2001,ROWS($E$3:E1623))","v":{"$error":"#NUM!"}},{"$f":"INDEX($A$2:$B$2001,E1624+1,2)","v":{"$error":"#NUM!"}},0,null,""]
[0,0,null,false,{"$f":"SMALL($D$3:$D$2001,ROWS($E$3:E1624))","v":{"$error":"#NUM!"}},{"$f":"INDEX($A$2:$B$2001,E1625+1,2)","v":{"$error":"#NUM!"}},0,null,""]
[0,0,null,false,{"$f":"SMALL($D$3:$D$2001,ROWS($E$3:E1625))","v":{"$error":"#NUM!"}},{"$f":"INDEX($A$2:$B$2001,E1626+1,2)","v":{"$error":"#NUM!"}},0,null,""]
[0,0,null,false,{"$f":"SMALL($D$3:$D$2001,ROWS($E$3:E1626))","v":{"$error":"#NUM!"}},{"$f":"INDEX($A$2:$B$2001,E1627+1,2)","v":{"$error":"#NUM!"}},0,null,""]
[0,0,null,false,{"$f":"SMALL($D$3:$D$2001,ROWS($E$3:E1627))","v":{"$error":"#NUM!"}},{"$f":"INDEX($A$2:$B$2001,E1628+1,2)","v":{"$error":"#NUM!"}},0,null,""]
[0,0,null,false,{"$f":"SMALL($D$3:$D$2001,ROWS($E$3:E1628))","v":{"$error":"#NUM!"}},{"$f":"INDEX($A$2:$B$2001,E1629+1,2)","v":{"$error":"#NUM!"}},0,null,""]
[0,0,null,false,{"$f":"SMALL($D$3:$D$2001,ROWS($E$3:E1629))","v":{"$error":"#NUM!"}},{"$f":"INDEX($A$2:$B$2001,E1630+1,2)","v":{"$error":"#NUM!"}},0,null,""]
[0,0,null,false,{"$f":"SMALL($D$3:$D$2001,ROWS($E$3:E1630))","v":{"$error":"#NUM!"}},{"$f":"INDEX($A$2:$B$2001,E1631+1,2)","v":{"$error":"#NUM!"}},0,null,""]
[0,0,null,false,{"$f":"SMALL($D$3:$D$2001,ROWS($E$3:E1631))","v":{"$error":"#NUM!"}},{"$f":"INDEX($A$2:$B$2001,E1632+1,2)","v":{"$error":"#NUM!"}},0,null,""]
[0,0,null,false,{"$f":"SMALL($D$3:$D$2001,ROWS($E$3:E1632))","v":{"$error":"#NUM!"}},{"$f":"INDEX($A$2:$B$2001,E1633+1,2)","v":{"$error":"#NUM!"}},0,null,""]
[0,0,null,false,{"$f":"SMALL($D$3:$D$2001,ROWS($E$3:E1633))","v":{"$error":"#NUM!"}},{"$f":"INDEX($A$2:$B$2001,E1634+1,2)","v":{"$error":"#NUM!"}},0,null,""]
[0,0,null,false,{"$f":"SMALL($D$3:$D$2001,ROWS($E$3:E1634))","v":{"$error":"#NUM!"}},{"$f":"INDEX($A$2:$B$2001,E1635+1,2)","v":{"$error":"#NUM!"}},0,null,""]
[0,0,null,false,{"$f":"SMALL($D$3:$D$2001,ROWS($E$3:E1635))","v":{"$error":"#NUM!"}},{"$f":"INDEX($A$2:$B$2001,E1636+1,2)","v":{"$error":"#NUM!"}},0,null,""]
[0,0,null,false,{"$f":"SMALL($D$3:$D$2001,ROWS($E$3:E1636))","v":{"$error":"#NUM!"}},{"$f":"INDEX($A$2:$B$2001,E1637+1,2)","v":{"$error":"#NUM!"}},0,null,""]
[0,0,null,false,{"$f":"SMALL($D$3:$D$2001,ROWS($E$3:E1637))","v":{"$error":"#NUM!"}},{"$f":"INDEX($A$2:$B$2001,E1638+1,2)","v":{"$error":"#NUM!"}},0,null,""]
[0,0,null,false,{"$f":"SMALL($D$3:$D$2001,ROWS($E$3:E1638))","v":{"$error":"#NUM!"}},{"$f":"INDEX($A$2:$B$2001,E1639+1,2)","v":{"$error":"#NUM!"}},0,null,""]
[0,0,null,false,{"$f":"SMALL($D$3:$D$2001,ROWS($E$3:E1639))","v":{"$error":"#NUM!"}},{"$f":"INDEX($A$2:$B$2001,E1640+1,2)","v":{"$error":"#NUM!"}},0,null,""]
[0,0,null,false,{"$f":"SMALL($D$3:$D$2001,ROWS($E$3:E1640))","v":{"$error":"#NUM!"}},{"$f":"INDEX($A$2:$B$2001,E1641+1,2)","v":{"$error":"#NUM!"}},0,null,""]
[0,0,null,false,{"$f":"SMALL($D$3:$D$2001,ROWS($E$3:E1641))","v":{"$error":"#NUM!"}},{"$f":"INDEX($A$2:$B$2001,E1642+1,2)","v":{"$error":"#NUM!"}},0,null,""]
[0,0,null,false,{"$f":"SMALL($D$3:$D$2001,ROWS($E$3:E1642))","v":{"$error":"#NUM!"}},{"$f":"INDEX($A$2:$B$2001,E1643+1,2)","v":{"$error":"#NUM!"}},0,null,""]
[0,0,null,false,{"$f":"SMALL($D$3:$D$2001,ROWS($E$3:E1643))","v":{"$error":"#NUM!"}},{"$f":"INDEX($A$2:$B$2001,E1644+1,2)","v":{"$error":"#NUM!"}},0,null,""]
[0,0,null,false,{"$f":"SMALL($D$3:$D$2001,ROWS($E$3:E1644))","v":{"$error":"#NUM!"}},{"$f":"INDEX($A$2:$B$2001,E1645+1,2)","v":{"$error":"#NUM!"}},0,null,""]
[0,0,null,false,{"$f":"SMALL($D$3:$D$2001,ROWS($E$3:E1645))","v":{"$error":"#NUM!"}},{"$f":"INDEX($A$2:$B$2001,E1646+1,2)","v":{"$error":"#NUM!"}},0,null,""]
[0,0,null,false,{"$f":"SMALL($D$3:$D$2001,ROWS($E$3:E1646))","v":{"$error":"#NUM!"}},{"$f":"INDEX($A$2:$B$2001,E1647+1,2)","v":{"$error":"#NUM!"}},0,null,""]
[0,0,null,false,{"$f":"SMALL($D$3:$D$2001,ROWS($E$3:E1647))","v":{"$error":"#NUM!"}},{"$f":"INDEX($A$2:$B$2001,E1648+1,2)","v":{"$error":"#NUM!"}},0,null,""]
[0,0,null,false,{"$f":"SMALL($D$3:$D$2001,ROWS($E$3:E1648))","v":{"$error":"#NUM!"}},{"$f":"INDEX($A$2:$B$2001,E1649+1,2)","v":{"$error":"#NUM!"}},0,null,""]
[0,0,null,false,{"$f":"SMALL($D$3:$D$2001,ROWS($E$3:E1649))","v":{"$error":"#NUM!"}},{"$f":"INDEX($A$2:$B$2001,E1650+1,2)","v":{"$error":"#NUM!"}},0,null,""]
[0,0,null,false,{"$f":"SMALL($D$3:$D$2001,ROWS($E$3:E1650))","v":{"$error":"#NUM!"}},{"$f":"INDEX($A$2:$B$2001,E1651+1,2)","v":{"$error":"#NUM!"}},0,null,""]
[0,0,null,false,{"$f":"SMALL($D$3:$D$2001,ROWS($E$3:E1651))","v":{"$error":"#NUM!"}},{"$f":"INDEX($A$2:$B$2001,E1652+1,2)","v":{"$error":"#NUM!"}},0,null,""]
[0,0,null,false,{"$f":"SMALL($D$3:$D$2001,ROWS($E$3:E1652))","v":{"$error":"#NUM!"}},{"$f":"INDEX($A$2:$B$2001,E1653+1,2)","v":{"$error":"#NUM!"}},0,null,""]
[0,0,null,false,{"$f":"SMALL($D$3:$D$2001,ROWS($E$3:E1653))","v":{"$error":"#NUM!"}},{"$f":"INDEX($A$2:$B$2001,E1654+1,2)","v":{"$error":"#NUM!"}},0,null,""]
[0,0,null,false,{"$f":"SMALL($D$3:$D$2001,ROWS($E$3:E1654))","v":{"$error":"#NUM!"}},{"$f":"INDEX($A$2:$B$2001,E1655+1,2)","v":{"$error":"#NUM!"}},0,null,""]
[0,0,null,false,{"$f":"SMALL($D$3:$D$2001,ROWS($E$3:E1655))","v":{"$error":"#NUM!"}},{"$f":"INDEX($A$2:$B$2001,E1656+1,2)","v":{"$error":"#NUM!"}},0,null,""]
[0,0,null,false,{"$f":"SMALL($D$3:$D$2001,ROWS($E$3:E1656))","v":{"$error":"#NUM!"}},{"$f":"INDEX($A$2:$B$2001,E1657+1,2)","v":{"$error":"#NUM!"}},0,null,""]
[0,0,null,false,{"$f":"SMALL($D$3:$D$2001,ROWS($E$3:E1657))","v":{"$error":"#NUM!"}},{"$f":"INDEX($A$2:$B$2001,E1658+1,2)","v":{"$error":"#NUM!"}},0,null,""]
[0,0,null,false,{"$f":"SMALL($D$3:$D$2001,ROWS($E$3:E1658))","v":{"$error":"#NUM!"}},{"$f":"INDEX($A$2:$B$2001,E1659+1,2)","v":{"$error":"#NUM!"}},0,null,""]
[0,0,null,false,{"$f":"SMALL($D$3:$D$2001,ROWS($E$3:E1659))","v":{"$error":"#NUM!"}},{"$f":"INDEX($A$2:$B$2001,E1660+1,2)","v":{"$error":"#NUM!"}},0,null,""]
[0,0,null,false,{"$f":"SMALL($D$3:$D$2001,ROWS($E$3:E1660))","v":{"$error":"#NUM!"}},{"$f":"INDEX($A$2:$B$2001,E1661+1,2)","v":{"$error":"#NUM!"}},0,null,""]
[0,0,null,false,{"$f":"SMALL($D$3:$D$2001,ROWS($E$3:E1661))","v":{"$error":"#NUM!"}},{"$f":"INDEX($A$2:$B$2001,E1662+1,2)","v":{"$error":"#NUM!"}},0,null,""]
[0,0,null,false,{"$f":"SMALL($D$3:$D$2001,ROWS($E$3:E1662))","v":{"$error":"#NUM!"}},{"$f":"INDEX($A$2:$B$2001,E1663+1,2)","v":{"$error":"#NUM!"}},0,null,""]
[0,0,null,false,{"$f":"SMALL($D$3:$D$2001,ROWS($E$3:E1663))","v":{"$error":"#NUM!"}},{"$f":"INDEX($A$2:$B$2001,E1664+1,2)","v":{"$error":"#NUM!"}},0,null,""]
[0,0,null,false,{"$f":"SMALL($D$3:$D$2001,ROWS($E$3:E1664))","v":{"$error":"#NUM!"}},{"$f":"INDEX($A$2:$B$2001,E1665+1,2)","v":{"$error":"#NUM!"}},0,null,""]
[0,0,null,false,{"$f":"SMALL($D$3:$D$2001,ROWS($E$3:E1665))","v":{"$error":"#NUM!"}},{"$f":"INDEX($A$2:$B$2001,E1666+1,2)","v":{"$error":"#NUM!"}},0,null,""]
[0,0,null,false,{"$f":"SMALL($D$3:$D$2001,ROWS($E$3:E1666))","v":{"$error":"#NUM!"}},{"$f":"INDEX($A$2:$B$2001,E1667+1,2)","v":{"$error":"#NUM!"}},0,null,""]
[0,0,null,false,{"$f":"SMALL($D$3:$D$2001,ROWS($E$3:E1667))","v":{"$error":"#NUM!"}},{"$f":"INDEX($A$2:$B$2001,E1668+1,2)","v":{"$error":"#NUM!"}},{"$f":"IFERROR(F1667,0)","v":0},null,{"$f":"IF(G1667=0,\"\",H1667)","v":""}]
[0,0,null,{"$f":"IF(A1668=$B$2,ROW(A1668)-ROW($B$2))","v":false},{"$f":"SMALL($D$3:$D$2001,ROWS($E$3:E1668))","v":{"$error":"#NUM!"}},{"$f":"INDEX($A$2:$B$2001,E1669+1,2)","v":{"$error":"#NUM!"}},0,null,""]
[0,0,null,false,{"$f":"SMALL($D$3:$D$2001,ROWS($E$3:E1669))","v":{"$error":"#NUM!"}},{"$f":"INDEX($A$2:$B$2001,E1670+1,2)","v":{"$error":"#NUM!"}},0,null,""]
[0,0,null,false,{"$f":"SMALL($D$3:$D$2001,ROWS($E$3:E1670))","v":{"$error":"#NUM!"}},{"$f":"INDEX($A$2:$B$2001,E1671+1,2)","v":{"$error":"#NUM!"}},0,null,""]
[0,0,null,false,{"$f":"SMALL($D$3:$D$2001,ROWS($E$3:E1671))","v":{"$error":"#NUM!"}},{"$f":"INDEX($A$2:$B$2001,E1672+1,2)","v":{"$error":"#NUM!"}},0,null,""]
[0,0,null,false,{"$f":"SMALL($D$3:$D$2001,ROWS($E$3:E1672))","v":{"$error":"#NUM!"}},{"$f":"INDEX($A$2:$B$2001,E1673+1,2)","v":{"$error":"#NUM!"}},0,null,""]
[0,0,null,false,{"$f":"SMALL($D$3:$D$2001,ROWS($E$3:E1673))","v":{"$error":"#NUM!"}},{"$f":"INDEX($A$2:$B$2001,E1674+1,2)","v":{"$error":"#NUM!"}},0,null,""]
[0,0,null,false,{"$f":"SMALL($D$3:$D$2001,ROWS($E$3:E1674))","v":{"$error":"#NUM!"}},{"$f":"INDEX($A$2:$B$2001,E1675+1,2)","v":{"$error":"#NUM!"}},0,null,""]
[0,0,null,false,{"$f":"SMALL($D$3:$D$2001,ROWS($E$3:E1675))","v":{"$error":"#NUM!"}},{"$f":"INDEX($A$2:$B$2001,E1676+1,2)","v":{"$error":"#NUM!"}},0,null,""]
[0,0,null,false,{"$f":"SMALL($D$3:$D$2001,ROWS($E$3:E1676))","v":{"$error":"#NUM!"}},{"$f":"INDEX($A$2:$B$2001,E1677+1,2)","v":{"$error":"#NUM!"}},0,null,""]
[0,0,null,false,{"$f":"SMALL($D$3:$D$2001,ROWS($E$3:E1677))","v":{"$error":"#NUM!"}},{"$f":"INDEX($A$2:$B$2001,E1678+1,2)","v":{"$error":"#NUM!"}},0,null,""]
[0,0,null,false,{"$f":"SMALL($D$3:$D$2001,ROWS($E$3:E1678))","v":{"$error":"#NUM!"}},{"$f":"INDEX($A$2:$B$2001,E1679+1,2)","v":{"$error":"#NUM!"}},0,null,""]
[0,0,null,false,{"$f":"SMALL($D$3:$D$2001,ROWS($E$3:E1679))","v":{"$error":"#NUM!"}},{"$f":"INDEX($A$2:$B$2001,E1680+1,2)","v":{"$error":"#NUM!"}},0,null,""]
[0,0,null,false,{"$f":"SMALL($D$3:$D$2001,ROWS($E$3:E1680))","v":{"$error":"#NUM!"}},{"$f":"INDEX($A$2:$B$2001,E1681+1,2)","v":{"$error":"#NUM!"}},0,null,""]
[0,0,null,false,{"$f":"SMALL($D$3:$D$2001,ROWS($E$3:E1681))","v":{"$error":"#NUM!"}},{"$f":"INDEX($A$2:$B$2001,E1682+1,2)","v":{"$error":"#NUM!"}},0,null,""]
[0,0,null,false,{"$f":"SMALL($D$3:$D$2001,ROWS($E$3:E1682))","v":{"$error":"#NUM!"}},{"$f":"INDEX($A$2:$B$2001,E1683+1,2)","v":{"$error":"#NUM!"}},0,null,""]
[0,0,null,false,{"$f":"SMALL($D$3:$D$2001,ROWS($E$3:E1683))","v":{"$error":"#NUM!"}},{"$f":"INDEX($A$2:$B$2001,E1684+1,2)","v":{"$error":"#NUM!"}},0,null,""]
[0,0,null,false,{"$f":"SMALL($D$3:$D$2001,ROWS($E$3:E1684))","v":{"$error":"#NUM!"}},{"$f":"INDEX($A$2:$B$2001,E1685+1,2)","v":{"$error":"#NUM!"}},0,null,""]
[0,0,null,false,{"$f":"SMALL($D$3:$D$2001,ROWS($E$3:E1685))","v":{"$error":"#NUM!"}},{"$f":"INDEX($A$2:$B$2001,E1686+1,2)","v":{"$error":"#NUM!"}},0,null,""]
[0,0,null,false,{"$f":"SMALL($D$3:$D$2001,ROWS($E$3:E1686))","v":{"$error":"#NUM!"}},{"$f":"INDEX($A$2:$B$2001,E1687+1,2)","v":{"$error":"#NUM!"}},0,null,""]
[0,0,null,false,{"$f":"SMALL($D$3:$D$2001,ROWS($E$3:E1687))","v":{"$error":"#NUM!"}},{"$f":"INDEX($A$2:$B$2001,E1688+1,2)","v":{"$error":"#NUM!"}},0,null,""]
[0,0,null,false,{"$f":"SMALL($D$3:$D$2001,ROWS($E$3:E1688))","v":{"$error":"#NUM!"}},{"$f":"INDEX($A$2:$B$2001,E1689+1,2)","v":{"$error":"#NUM!"}},0,null,""]
[0,0,null,false,{"$f":"SMALL($D$3:$D$2001,ROWS($E$3:E1689))","v":{"$error":"#NUM!"}},{"$f":"INDEX($A$2:$B$2001,E1690+1,2)","v":{"$error":"#NUM!"}},0,null,""]
[0,0,null,false,{"$f":"SMALL($D$3:$D$2001,ROWS($E$3:E1690))","v":{"$error":"#NUM!"}},{"$f":"INDEX($A$2:$B$2001,E1691+1,2)","v":{"$error":"#NUM!"}},0,null,""]
[0,0,null,false,{"$f":"SMALL($D$3:$D$2001,ROWS($E$3:E1691))","v":{"$error":"#NUM!"}},{"$f":"INDEX($A$2:$B$2001,E1692+1,2)","v":{"$error":"#NUM!"}},0,null,""]
[0,0,null,false,{"$f":"SMALL($D$3:$D$2001,ROWS($E$3:E1692))","v":{"$error":"#NUM!"}},{"$f":"INDEX($A$2:$B$2001,E1693+1,2)","v":{"$error":"#NUM!"}},0,null,""]
[0,0,null,false,{"$f":"SMALL($D$3:$D$2001,ROWS($E$3:E1693))","v":{"$error":"#NUM!"}},{"$f":"INDEX($A$2:$B$2001,E1694+1,2)","v":{"$error":"#NUM!"}},0,null,""]
[0,0,null,false,{"$f":"SMALL($D$3:$D$2001,ROWS($E$3:E1694))","v":{"$error":"#NUM!"}},{"$f":"INDEX($A$2:$B$2001,E1695+1,2)","v":{"$error":"#NUM!"}},0,null,""]
[0,0,null,false,{"$f":"SMALL($D$3:$D$2001,ROWS($E$3:E1695))","v":{"$error":"#NUM!"}},{"$f":"INDEX($A$2:$B$2001,E1696+1,2)","v":{"$error":"#NUM!"}},0,null,""]
[0,0,null,false,{"$f":"SMALL($D$3:$D$2001,ROWS($E$3:E1696))","v":{"$error":"#NUM!"}},{"$f":"INDEX($A$2:$B$2001,E1697+1,2)","v":{"$error":"#NUM!"}},0,null,""]
[0,0,null,false,{"$f":"SMALL($D$3:$D$2001,ROWS($E$3:E1697))","v":{"$error":"#NUM!"}},{"$f":"INDEX($A$2:$B$2001,E1698+1,2)","v":{"$error":"#NUM!"}},0,null,""]
[0,0,null,false,{"$f":"SMALL($D$3:$D$2001,ROWS($E$3:E1698))","v":{"$error":"#NUM!"}},{"$f":"INDEX($A$2:$B$2001,E1699+1,2)","v":{"$error":"#NUM!"}},0,null,""]
[0,0,null,false,{"$f":"SMALL($D$3:$D$2001,ROWS($E$3:E1699))","v":{"$error":"#NUM!"}},{"$f":"INDEX($A$2:$B$2001,E1700+1,2)","v":{"$error":"#NUM!"}},0,null,""]
[0,0,null,false,{"$f":"SMALL($D$3:$D$2001,ROWS($E$3:E1700))","v":{"$error":"#NUM!"}},{"$f":"INDEX($A$2:$B$2001,E1701+1,2)","v":{"$error":"#NUM!"}},0,null,""]
[0,0,null,false,{"$f":"SMALL($D$3:$D$2001,ROWS($E$3:E1701))","v":{"$error":"#NUM!"}},{"$f":"INDEX($A$2:$B$2001,E1702+1,2)","v":{"$error":"#NUM!"}},0,null,""]
[0,0,null,false,{"$f":"SMALL($D$3:$D$2001,ROWS($E$3:E1702))","v":{"$error":"#NUM!"}},{"$f":"INDEX($A$2:$B$2001,E1703+1,2)","v":{"$error":"#NUM!"}},0,null,""]
[0,0,null,false,{"$f":"SMALL($D$3:$D$2001,ROWS($E$3:E1703))","v":{"$error":"#NUM!"}},{"$f":"INDEX($A$2:$B$2001,E1704+1,2)","v":{"$error":"#NUM!"}},0,null,""]
[0,0,null,false,{"$f":"SMALL($D$3:$D$2001,ROWS($E$3:E1704))","v":{"$error":"#NUM!"}},{"$f":"INDEX($A$2:$B$2001,E1705+1,2)","v":{"$error":"#NUM!"}},0,null,""]
[0,0,null,false,{"$f":"SMALL($D$3:$D$2001,ROWS($E$3:E1705))","v":{"$error":"#NUM!"}},{"$f":"INDEX($A$2:$B$2001,E1706+1,2)","v":{"$error":"#NUM!"}},0,null,""]
[0,0,null,false,{"$f":"SMALL($D$3:$D$2001,ROWS($E$3:E1706))","v":{"$error":"#NUM!"}},{"$f":"INDEX($A$2:$B$2001,E1707+1,2)","v":{"$error":"#NUM!"}},0,null,""]
[0,0,null,false,{"$f":"SMALL($D$3:$D$2001,ROWS($E$3:E1707))","v":{"$error":"#NUM!"}},{"$f":"INDEX($A$2:$B$2001,E1708+1,2)","v":{"$error":"#NUM!"}},0,null,""]
[0,0,null,false,{"$f":"SMALL($D$3:$D$2001,ROWS($E$3:E1708))","v":{"$error":"#NUM!"}},{"$f":"INDEX($A$2:$B$2001,E1709+1,2)","v":{"$error":"#NUM!"}},0,null,""]
[0,0,null,false,{"$f":"SMALL($D$3:$D$2001,ROWS($E$3:E1709))","v":{"$error":"#NUM!"}},{"$f":"INDEX($A$2:$B$2001,E1710+1,2)","v":{"$error":"#NUM!"}},0,null,""]
[0,0,null,false,{"$f":"SMALL($D$3:$D$2001,ROWS($E$3:E1710))","v":{"$error":"#NUM!"}},{"$f":"INDEX($A$2:$B$2001,E1711+1,2)","v":{"$error":"#NUM!"}},0,null,""]
[0,0,null,false,{"$f":"SMALL($D$3:$D$2001,ROWS($E$3:E1711))","v":{"$error":"#NUM!"}},{"$f":"INDEX($A$2:$B$2001,E1712+1,2)","v":{"$error":"#NUM!"}},0,null,""]
[0,0,null,false,{"$f":"SMALL($D$3:$D$2001,ROWS($E$3:E1712))","v":{"$error":"#NUM!"}},{"$f":"INDEX($A$2:$B$2001,E1713+1,2)","v":{"$error":"#NUM!"}},0,null,""]
[0,0,null,false,{"$f":"SMALL($D$3:$D$2001,ROWS($E$3:E1713))","v":{"$error":"#NUM!"}},{"$f":"INDEX($A$2:$B$2001,E1714+1,2)","v":{"$error":"#NUM!"}},0,null,""]
[0,0,null,false,{"$f":"SMALL($D$3:$D$2001,ROWS($E$3:E1714))","v":{"$error":"#NUM!"}},{"$f":"INDEX($A$2:$B$2001,E1715+1,2)","v":{"$error":"#NUM!"}},0,null,""]
[0,0,null,false,{"$f":"SMALL($D$3:$D$2001,ROWS($E$3:E1715))","v":{"$error":"#NUM!"}},{"$f":"INDEX($A$2:$B$2001,E1716+1,2)","v":{"$error":"#NUM!"}},0,null,""]
[0,0,null,false,{"$f":"SMALL($D$3:$D$2001,ROWS($E$3:E1716))","v":{"$error":"#NUM!"}},{"$f":"INDEX($A$2:$B$2001,E1717+1,2)","v":{"$error":"#NUM!"}},0,null,""]
[0,0,null,false,{"$f":"SMALL($D$3:$D$2001,ROWS($E$3:E1717))","v":{"$error":"#NUM!"}},{"$f":"INDEX($A$2:$B$2001,E1718+1,2)","v":{"$error":"#NUM!"}},0,null,""]
[0,0,null,false,{"$f":"SMALL($D$3:$D$2001,ROWS($E$3:E1718))","v":{"$error":"#NUM!"}},{"$f":"INDEX($A$2:$B$2001,E1719+1,2)","v":{"$error":"#NUM!"}},0,null,""]
[0,0,null,false,{"$f":"SMALL($D$3:$D$2001,ROWS($E$3:E1719))","v":{"$error":"#NUM!"}},{"$f":"INDEX($A$2:$B$2001,E1720+1,2)","v":{"$error":"#NUM!"}},0,null,""]
[0,0,null,false,{"$f":"SMALL($D$3:$D$2001,ROWS($E$3:E1720))","v":{"$error":"#NUM!"}},{"$f":"INDEX($A$2:$B$2001,E1721+1,2)","v":{"$error":"#NUM!"}},0,null,""]
[0,0,null,false,{"$f":"SMALL($D$3:$D$2001,ROWS($E$3:E1721))","v":{"$error":"#NUM!"}},{"$f":"INDEX($A$2:$B$2001,E1722+1,2)","v":{"$error":"#NUM!"}},0,null,""]
[0,0,null,false,{"$f":"SMALL($D$3:$D$2001,ROWS($E$3:E1722))","v":{"$error":"#NUM!"}},{"$f":"INDEX($A$2:$B$2001,E1723+1,2)","v":{"$error":"#NUM!"}},0,null,""]
[0,0,null,false,{"$f":"SMALL($D$3:$D$2001,ROWS($E$3:E1723))","v":{"$error":"#NUM!"}},{"$f":"INDEX($A$2:$B$2001,E1724+1,2)","v":{"$error":"#NUM!"}},0,null,""]
[0,0,null,false,{"$f":"SMALL($D$3:$D$2001,ROWS($E$3:E1724))","v":{"$error":"#NUM!"}},{"$f":"INDEX($A$2:$B$2001,E1725+1,2)","v":{"$error":"#NUM!"}},0,null,""]
[0,0,null,false,{"$f":"SMALL($D$3:$D$2001,ROWS($E$3:E1725))","v":{"$error":"#NUM!"}},{"$f":"INDEX($A$2:$B$2001,E1726+1,2)","v":{"$error":"#NUM!"}},0,null,""]
[0,0,null,false,{"$f":"SMALL($D$3:$D$2001,ROWS($E$3:E1726))","v":{"$error":"#NUM!"}},{"$f":"INDEX($A$2:$B$2001,E1727+1,2)","v":{"$error":"#NUM!"}},0,null,""]
[0,0,null,false,{"$f":"SMALL($D$3:$D$2001,ROWS($E$3:E1727))","v":{"$error":"#NUM!"}},{"$f":"INDEX($A$2:$B$2001,E1728+1,2)","v":{"$error":"#NUM!"}},0,null,""]
[0,0,null,false,{"$f":"SMALL($D$3:$D$2001,ROWS($E$3:E1728))","v":{"$error":"#NUM!"}},{"$f":"INDEX($A$2:$B$2001,E1729+1,2)","v":{"$error":"#NUM!"}},0,null,""]
[0,0,null,false,{"$f":"SMALL($D$3:$D$2001,ROWS($E$3:E1729))","v":{"$error":"#NUM!"}},{"$f":"INDEX($A$2:$B$2001,E1730+1,2)","v":{"$error":"#NUM!"}},0,null,""]
[0,0,null,false,{"$f":"SMALL($D$3:$D$2001,ROWS($E$3:E1730))","v":{"$error":"#NUM!"}},{"$f":"INDEX($A$2:$B$2001,E1731+1,2)","v":{"$error":"#NUM!"}},0,null,""]
[0,0,null,false,{"$f":"SMALL($D$3:$D$2001,ROWS($E$3:E1731))","v":{"$error":"#NUM!"}},{"$f":"INDEX($A$2:$B$2001,E1732+1,2)","v":{"$error":"#NUM!"}},{"$f":"IFERROR(F1731,0)","v":0},null,{"$f":"IF(G1731=0,\"\",H1731)","v":""}]
[0,0,null,{"$f":"IF(A1732=$B$2,ROW(A1732)-ROW($B$2))","v":false},{"$f":"SMALL($D$3:$D$2001,ROWS($E$3:E1732))","v":{"$error":"#NUM!"}},{"$f":"INDEX($A$2:$B$2001,E1733+1,2)","v":{"$error":"#NUM!"}},0,null,""]
[0,0,null,false,{"$f":"SMALL($D$3:$D$2001,ROWS($E$3:E1733))","v":{"$error":"#NUM!"}},{"$f":"INDEX($A$2:$B$2001,E1734+1,2)","v":{"$error":"#NUM!"}},0,null,""]
[0,0,null,false,{"$f":"SMALL($D$3:$D$2001,ROWS($E$3:E1734))","v":{"$error":"#NUM!"}},{"$f":"INDEX($A$2:$B$2001,E1735+1,2)","v":{"$error":"#NUM!"}},0,null,""]
[0,0,null,false,{"$f":"SMALL($D$3:$D$2001,ROWS($E$3:E1735))","v":{"$error":"#NUM!"}},{"$f":"INDEX($A$2:$B$2001,E1736+1,2)","v":{"$error":"#NUM!"}},0,null,""]
[0,0,null,false,{"$f":"SMALL($D$3:$D$2001,ROWS($E$3:E1736))","v":{"$error":"#NUM!"}},{"$f":"INDEX($A$2:$B$2001,E1737+1,2)","v":{"$error":"#NUM!"}},0,null,""]
[0,0,null,false,{"$f":"SMALL($D$3:$D$2001,ROWS($E$3:E1737))","v":{"$error":"#NUM!"}},{"$f":"INDEX($A$2:$B$2001,E1738+1,2)","v":{"$error":"#NUM!"}},0,null,""]
[0,0,null,false,{"$f":"SMALL($D$3:$D$2001,ROWS($E$3:E1738))","v":{"$error":"#NUM!"}},{"$f":"INDEX($A$2:$B$2001,E1739+1,2)","v":{"$error":"#NUM!"}},0,null,""]
[0,0,null,false,{"$f":"SMALL($D$3:$D$2001,ROWS($E$3:E1739))","v":{"$error":"#NUM!"}},{"$f":"INDEX($A$2:$B$2001,E1740+1,2)","v":{"$error":"#NUM!"}},0,null,""]
[0,0,null,false,{"$f":"SMALL($D$3:$D$2001,ROWS($E$3:E1740))","v":{"$error":"#NUM!"}},{"$f":"INDEX($A$2:$B$2001,E1741+1,2)","v":{"$error":"#NUM!"}},0,null,""]
[0,0,null,false,{"$f":"SMALL($D$3:$D$2001,ROWS($E$3:E1741))","v":{"$error":"#NUM!"}},{"$f":"INDEX($A$2:$B$2001,E1742+1,2)","v":{"$error":"#NUM!"}},0,null,""]
[0,0,null,false,{"$f":"SMALL($D$3:$D$2001,ROWS($E$3:E1742))","v":{"$error":"#NUM!"}},{"$f":"INDEX($A$2:$B$2001,E1743+1,2)","v":{"$error":"#NUM!"}},0,null,""]
[0,0,null,false,{"$f":"SMALL($D$3:$D$2001,ROWS($E$3:E1743))","v":{"$error":"#NUM!"}},{"$f":"INDEX($A$2:$B$2001,E1744+1,2)","v":{"$error":"#NUM!"}},0,null,""]
[0,0,null,false,{"$f":"SMALL($D$3:$D$2001,ROWS($E$3:E1744))","v":{"$error":"#NUM!"}},{"$f":"INDEX($A$2:$B$2001,E1745+1,2)","v":{"$error":"#NUM!"}},0,null,""]
[0,0,null,false,{"$f":"SMALL($D$3:$D$2001,ROWS($E$3:E1745))","v":{"$error":"#NUM!"}},{"$f":"INDEX($A$2:$B$2001,E1746+1,2)","v":{"$error":"#NUM!"}},0,null,""]
[0,0,null,false,{"$f":"SMALL($D$3:$D$2001,ROWS($E$3:E1746))","v":{"$error":"#NUM!"}},{"$f":"INDEX($A$2:$B$2001,E1747+1,2)","v":{"$error":"#NUM!"}},0,null,""]
[0,0,null,false,{"$f":"SMALL($D$3:$D$2001,ROWS($E$3:E1747))","v":{"$error":"#NUM!"}},{"$f":"INDEX($A$2:$B$2001,E1748+1,2)","v":{"$error":"#NUM!"}},0,null,""]
[0,0,null,false,{"$f":"SMALL($D$3:$D$2001,ROWS($E$3:E1748))","v":{"$error":"#NUM!"}},{"$f":"INDEX($A$2:$B$2001,E1749+1,2)","v":{"$error":"#NUM!"}},0,null,""]
[0,0,null,false,{"$f":"SMALL($D$3:$D$2001,ROWS($E$3:E1749))","v":{"$error":"#NUM!"}},{"$f":"INDEX($A$2:$B$2001,E1750+1,2)","v":{"$error":"#NUM!"}},0,null,""]
[0,0,null,false,{"$f":"SMALL($D$3:$D$2001,ROWS($E$3:E1750))","v":{"$error":"#NUM!"}},{"$f":"INDEX($A$2:$B$2001,E1751+1,2)","v":{"$error":"#NUM!"}},0,null,""]
[0,0,null,false,{"$f":"SMALL($D$3:$D$2001,ROWS($E$3:E1751))","v":{"$error":"#NUM!"}},{"$f":"INDEX($A$2:$B$2001,E1752+1,2)","v":{"$error":"#NUM!"}},0,null,""]
[0,0,null,false,{"$f":"SMALL($D$3:$D$2001,ROWS($E$3:E1752))","v":{"$error":"#NUM!"}},{"$f":"INDEX($A$2:$B$2001,E1753+1,2)","v":{"$error":"#NUM!"}},0,null,""]
[0,0,null,false,{"$f":"SMALL($D$3:$D$2001,ROWS($E$3:E1753))","v":{"$error":"#NUM!"}},{"$f":"INDEX($A$2:$B$2001,E1754+1,2)","v":{"$error":"#NUM!"}},0,null,""]
[0,0,null,false,{"$f":"SMALL($D$3:$D$2001,ROWS($E$3:E1754))","v":{"$error":"#NUM!"}},{"$f":"INDEX($A$2:$B$2001,E1755+1,2)","v":{"$error":"#NUM!"}},0,null,""]
[0,0,null,false,{"$f":"SMALL($D$3:$D$2001,ROWS($E$3:E1755))","v":{"$error":"#NUM!"}},{"$f":"INDEX($A$2:$B$2001,E1756+1,2)","v":{"$error":"#NUM!"}},0,null,""]
[0,0,null,false,{"$f":"SMALL($D$3:$D$2001,ROWS($E$3:E1756))","v":{"$error":"#NUM!"}},{"$f":"INDEX($A$2:$B$2001,E1757+1,2)","v":{"$error":"#NUM!"}},0,null,""]
[0,0,null,false,{"$f":"SMALL($D$3:$D$2001,ROWS($E$3:E1757))","v":{"$error":"#NUM!"}},{"$f":"INDEX($A$2:$B$2001,E1758+1,2)","v":{"$error":"#NUM!"}},0,null,""]
[0,0,null,false,{"$f":"SMALL($D$3:$D$2001,ROWS($E$3:E1758))","v":{"$error":"#NUM!"}},{"$f":"INDEX($A$2:$B$2001,E1759+1,2)","v":{"$error":"#NUM!"}},0,null,""]
[0,0,null,false,{"$f":"SMALL($D$3:$D$2001,ROWS($E$3:E1759))","v":{"$error":"#NUM!"}},{"$f":"INDEX($A$2:$B$2001,E1760+1,2)","v":{"$error":"#NUM!"}},0,null,""]
[0,0,null,false,{"$f":"SMALL($D$3:$D$2001,ROWS($E$3:E1760))","v":{"$error":"#NUM!"}},{"$f":"INDEX($A$2:$B$2001,E1761+1,2)","v":{"$error":"#NUM!"}},0,null,""]
[0,0,null,false,{"$f":"SMALL($D$3:$D$2001,ROWS($E$3:E1761))","v":{"$error":"#NUM!"}},{"$f":"INDEX($A$2:$B$2001,E1762+1,2)","v":{"$error":"#NUM!"}},0,null,""]
[0,0,null,false,{"$f":"SMALL($D$3:$D$2001,ROWS($E$3:E1762))","v":{"$error":"#NUM!"}},{"$f":"INDEX($A$2:$B$2001,E1763+1,2)","v":{"$error":"#NUM!"}},0,null,""]
[0,0,null,false,{"$f":"SMALL($D$3:$D$2001,ROWS($E$3:E1763))","v":{"$error":"#NUM!"}},{"$f":"INDEX($A$2:$B$2001,E1764+1,2)","v":{"$error":"#NUM!"}},0,null,""]
[0,0,null,false,{"$f":"SMALL($D$3:$D$2001,ROWS($E$3:E1764))","v":{"$error":"#NUM!"}},{"$f":"INDEX($A$2:$B$2001,E1765+1,2)","v":{"$error":"#NUM!"}},0,null,""]
[0,0,null,false,{"$f":"SMALL($D$3:$D$2001,ROWS($E$3:E1765))","v":{"$error":"#NUM!"}},{"$f":"INDEX($A$2:$B$2001,E1766+1,2)","v":{"$error":"#NUM!"}},0,null,""]
[0,0,null,false,{"$f":"SMALL($D$3:$D$2001,ROWS($E$3:E1766))","v":{"$error":"#NUM!"}},{"$f":"INDEX($A$2:$B$2001,E1767+1,2)","v":{"$error":"#NUM!"}},0,null,""]
[0,0,null,false,{"$f":"SMALL($D$3:$D$2001,ROWS($E$3:E1767))","v":{"$error":"#NUM!"}},{"$f":"INDEX($A$2:$B$2001,E1768+1,2)","v":{"$error":"#NUM!"}},0,null,""]
[0,0,null,false,{"$f":"SMALL($D$3:$D$2001,ROWS($E$3:E1768))","v":{"$error":"#NUM!"}},{"$f":"INDEX($A$2:$B$2001,E1769+1,2)","v":{"$error":"#NUM!"}},0,null,""]
[0,0,null,false,{"$f":"SMALL($D$3:$D$2001,ROWS($E$3:E1769))","v":{"$error":"#NUM!"}},{"$f":"INDEX($A$2:$B$2001,E1770+1,2)","v":{"$error":"#NUM!"}},0,null,""]
[0,0,null,false,{"$f":"SMALL($D$3:$D$2001,ROWS($E$3:E1770))","v":{"$error":"#NUM!"}},{"$f":"INDEX($A$2:$B$2001,E1771+1,2)","v":{"$error":"#NUM!"}},0,null,""]
[0,0,null,false,{"$f":"SMALL($D$3:$D$2001,ROWS($E$3:E1771))","v":{"$error":"#NUM!"}},{"$f":"INDEX($A$2:$B$2001,E1772+1,2)","v":{"$error":"#NUM!"}},0,null,""]
[0,0,null,false,{"$f":"SMALL($D$3:$D$2001,ROWS($E$3:E1772))","v":{"$error":"#NUM!"}},{"$f":"INDEX($A$2:$B$2001,E1773+1,2)","v":{"$error":"#NUM!"}},0,null,""]
[0,0,null,false,{"$f":"SMALL($D$3:$D$2001,ROWS($E$3:E1773))","v":{"$error":"#NUM!"}},{"$f":"INDEX($A$2:$B$2001,E1774+1,2)","v":{"$error":"#NUM!"}},0,null,""]
[0,0,null,false,{"$f":"SMALL($D$3:$D$2001,ROWS($E$3:E1774))","v":{"$error":"#NUM!"}},{"$f":"INDEX($A$2:$B$2001,E1775+1,2)","v":{"$error":"#NUM!"}},0,null,""]
[0,0,null,false,{"$f":"SMALL($D$3:$D$2001,ROWS($E$3:E1775))","v":{"$error":"#NUM!"}},{"$f":"INDEX($A$2:$B$2001,E1776+1,2)","v":{"$error":"#NUM!"}},0,null,""]
[0,0,null,false,{"$f":"SMALL($D$3:$D$2001,ROWS($E$3:E1776))","v":{"$error":"#NUM!"}},{"$f":"INDEX($A$2:$B$2001,E1777+1,2)","v":{"$error":"#NUM!"}},0,null,""]
[0,0,null,false,{"$f":"SMALL($D$3:$D$2001,ROWS($E$3:E1777))","v":{"$error":"#NUM!"}},{"$f":"INDEX($A$2:$B$2001,E1778+1,2)","v":{"$error":"#NUM!"}},0,null,""]
[0,0,null,false,{"$f":"SMALL($D$3:$D$2001,ROWS($E$3:E1778))","v":{"$error":"#NUM!"}},{"$f":"INDEX($A$2:$B$2001,E1779+1,2)","v":{"$error":"#NUM!"}},0,null,""]
[0,0,null,false,{"$f":"SMALL($D$3:$D$2001,ROWS($E$3:E1779))","v":{"$error":"#NUM!"}},{"$f":"INDEX($A$2:$B$2001,E1780+1,2)","v":{"$error":"#NUM!"}},0,null,""]
[0,0,null,false,{"$f":"SMALL($D$3:$D$2001,ROWS($E$3:E1780))","v":{"$error":"#NUM!"}},{"$f":"INDEX($A$2:$B$2001,E1781+1,2)","v":{"$error":"#NUM!"}},0,null,""]
[0,0,null,false,{"$f":"SMALL($D$3:$D$2001,ROWS($E$3:E1781))","v":{"$error":"#NUM!"}},{"$f":"INDEX($A$2:$B$2001,E1782+1,2)","v":{"$error":"#NUM!"}},0,null,""]
[0,0,null,false,{"$f":"SMALL($D$3:$D$2001,ROWS($E$3:E1782))","v":{"$error":"#NUM!"}},{"$f":"INDEX($A$2:$B$2001,E1783+1,2)","v":{"$error":"#NUM!"}},0,null,""]
[0,0,null,false,{"$f":"SMALL($D$3:$D$2001,ROWS($E$3:E1783))","v":{"$error":"#NUM!"}},{"$f":"INDEX($A$2:$B$2001,E1784+1,2)","v":{"$error":"#NUM!"}},0,null,""]
[0,0,null,false,{"$f":"SMALL($D$3:$D$2001,ROWS($E$3:E1784))","v":{"$error":"#NUM!"}},{"$f":"INDEX($A$2:$B$2001,E1785+1,2)","v":{"$error":"#NUM!"}},0,null,""]
[0,0,null,false,{"$f":"SMALL($D$3:$D$2001,ROWS($E$3:E1785))","v":{"$error":"#NUM!"}},{"$f":"INDEX($A$2:$B$2001,E1786+1,2)","v":{"$error":"#NUM!"}},0,null,""]
[0,0,null,false,{"$f":"SMALL($D$3:$D$2001,ROWS($E$3:E1786))","v":{"$error":"#NUM!"}},{"$f":"INDEX($A$2:$B$2001,E1787+1,2)","v":{"$error":"#NUM!"}},0,null,""]
[0,0,null,false,{"$f":"SMALL($D$3:$D$2001,ROWS($E$3:E1787))","v":{"$error":"#NUM!"}},{"$f":"INDEX($A$2:$B$2001,E1788+1,2)","v":{"$error":"#NUM!"}},0,null,""]
[0,0,null,false,{"$f":"SMALL($D$3:$D$2001,ROWS($E$3:E1788))","v":{"$error":"#NUM!"}},{"$f":"INDEX($A$2:$B$2001,E1789+1,2)","v":{"$error":"#NUM!"}},0,null,""]
[0,0,null,false,{"$f":"SMALL($D$3:$D$2001,ROWS($E$3:E1789))","v":{"$error":"#NUM!"}},{"$f":"INDEX($A$2:$B$2001,E1790+1,2)","v":{"$error":"#NUM!"}},0,null,""]
[0,0,null,false,{"$f":"SMALL($D$3:$D$2001,ROWS($E$3:E1790))","v":{"$error":"#NUM!"}},{"$f":"INDEX($A$2:$B$2001,E1791+1,2)","v":{"$error":"#NUM!"}},0,null,""]
[0,0,null,false,{"$f":"SMALL($D$3:$D$2001,ROWS($E$3:E1791))","v":{"$error":"#NUM!"}},{"$f":"INDEX($A$2:$B$2001,E1792+1,2)","v":{"$error":"#NUM!"}},0,null,""]
[0,0,null,false,{"$f":"SMALL($D$3:$D$2001,ROWS($E$3:E1792))","v":{"$error":"#NUM!"}},{"$f":"INDEX($A$2:$B$2001,E1793+1,2)","v":{"$error":"#NUM!"}},0,null,""]
[0,0,null,false,{"$f":"SMALL($D$3:$D$2001,ROWS($E$3:E1793))","v":{"$error":"#NUM!"}},{"$f":"INDEX($A$2:$B$2001,E1794+1,2)","v":{"$error":"#NUM!"}},0,null,""]
[0,0,null,false,{"$f":"SMALL($D$3:$D$2001,ROWS($E$3:E1794))","v":{"$error":"#NUM!"}},{"$f":"INDEX($A$2:$B$2001,E1795+1,2)","v":{"$error":"#NUM!"}},0,null,""]
[0,0,null,false,{"$f":"SMALL($D$3:$D$2001,ROWS($E$3:E1795))","v":{"$error":"#NUM!"}},{"$f":"INDEX($A$2:$B$2001,E1796+1,2)","v":{"$error":"#NUM!"}},{"$f":"IFERROR(F1795,0)","v":0},null,{"$f":"IF(G1795=0,\"\",H1795)","v":""}]
[0,0,null,{"$f":"IF(A1796=$B$2,ROW(A1796)-ROW($B$2))","v":false},{"$f":"SMALL($D$3:$D$2001,ROWS($E$3:E1796))","v":{"$error":"#NUM!"}},{"$f":"INDEX($A$2:$B$2001,E1797+1,2)","v":{"$error":"#NUM!"}},0,null,""]
[0,0,null,false,{"$f":"SMALL($D$3:$D$2001,ROWS($E$3:E1797))","v":{"$error":"#NUM!"}},{"$f":"INDEX($A$2:$B$2001,E1798+1,2)","v":{"$error":"#NUM!"}},0,null,""]
[0,0,null,false,{"$f":"SMALL($D$3:$D$2001,ROWS($E$3:E1798))","v":{"$error":"#NUM!"}},{"$f":"INDEX($A$2:$B$2001,E1799+1,2)","v":{"$error":"#NUM!"}},0,null,""]
[0,0,null,false,{"$f":"SMALL($D$3:$D$2001,ROWS($E$3:E1799))","v":{"$error":"#NUM!"}},{"$f":"INDEX($A$2:$B$2001,E1800+1,2)","v":{"$error":"#NUM!"}},0,null,""]
[0,0,null,false,{"$f":"SMALL($D$3:$D$2001,ROWS($E$3:E1800))","v":{"$error":"#NUM!"}},{"$f":"INDEX($A$2:$B$2001,E1801+1,2)","v":{"$error":"#NUM!"}},0,null,""]
[0,0,null,false,{"$f":"SMALL($D$3:$D$2001,ROWS($E$3:E1801))","v":{"$error":"#NUM!"}},{"$f":"INDEX($A$2:$B$2001,E1802+1,2)","v":{"$error":"#NUM!"}},0,null,""]
[0,0,null,false,{"$f":"SMALL($D$3:$D$2001,ROWS($E$3:E1802))","v":{"$error":"#NUM!"}},{"$f":"INDEX($A$2:$B$2001,E1803+1,2)","v":{"$error":"#NUM!"}},0,null,""]
[0,0,null,false,{"$f":"SMALL($D$3:$D$2001,ROWS($E$3:E1803))","v":{"$error":"#NUM!"}},{"$f":"INDEX($A$2:$B$2001,E1804+1,2)","v":{"$error":"#NUM!"}},0,null,""]
[0,0,null,false,{"$f":"SMALL($D$3:$D$2001,ROWS($E$3:E1804))","v":{"$error":"#NUM!"}},{"$f":"INDEX($A$2:$B$2001,E1805+1,2)","v":{"$error":"#NUM!"}},0,null,""]
[0,0,null,false,{"$f":"SMALL($D$3:$D$2001,ROWS($E$3:E1805))","v":{"$error":"#NUM!"}},{"$f":"INDEX($A$2:$B$2001,E1806+1,2)","v":{"$error":"#NUM!"}},0,null,""]
[0,0,null,false,{"$f":"SMALL($D$3:$D$2001,ROWS($E$3:E1806))","v":{"$error":"#NUM!"}},{"$f":"INDEX($A$2:$B$2001,E1807+1,2)","v":{"$error":"#NUM!"}},0,null,""]
[0,0,null,false,{"$f":"SMALL($D$3:$D$2001,ROWS($E$3:E1807))","v":{"$error":"#NUM!"}},{"$f":"INDEX($A$2:$B$2001,E1808+1,2)","v":{"$error":"#NUM!"}},0,null,""]
[0,0,null,false,{"$f":"SMALL($D$3:$D$2001,ROWS($E$3:E1808))","v":{"$error":"#NUM!"}},{"$f":"INDEX($A$2:$B$2001,E1809+1,2)","v":{"$error":"#NUM!"}},0,null,""]
[0,0,null,false,{"$f":"SMALL($D$3:$D$2001,ROWS($E$3:E1809))","v":{"$error":"#NUM!"}},{"$f":"INDEX($A$2:$B$2001,E1810+1,2)","v":{"$error":"#NUM!"}},0,null,""]
[0,0,null,false,{"$f":"SMALL($D$3:$D$2001,ROWS($E$3:E1810))","v":{"$error":"#NUM!"}},{"$f":"INDEX($A$2:$B$2001,E1811+1,2)","v":{"$error":"#NUM!"}},0,null,""]
[0,0,null,false,{"$f":"SMALL($D$3:$D$2001,ROWS($E$3:E1811))","v":{"$error":"#NUM!"}},{"$f":"INDEX($A$2:$B$2001,E1812+1,2)","v":{"$error":"#NUM!"}},0,null,""]
[0,0,null,false,{"$f":"SMALL($D$3:$D$2001,ROWS($E$3:E1812))","v":{"$error":"#NUM!"}},{"$f":"INDEX($A$2:$B$2001,E1813+1,2)","v":{"$error":"#NUM!"}},0,null,""]
[0,0,null,false,{"$f":"SMALL($D$3:$D$2001,ROWS($E$3:E1813))","v":{"$error":"#NUM!"}},{"$f":"INDEX($A$2:$B$2001,E1814+1,2)","v":{"$error":"#NUM!"}},0,null,""]
[0,0,null,false,{"$f":"SMALL($D$3:$D$2001,ROWS($E$3:E1814))","v":{"$error":"#NUM!"}},{"$f":"INDEX($A$2:$B$2001,E1815+1,2)","v":{"$error":"#NUM!"}},0,null,""]
[0,0,null,false,{"$f":"SMALL($D$3:$D$2001,ROWS($E$3:E1815))","v":{"$error":"#NUM!"}},{"$f":"INDEX($A$2:$B$2001,E1816+1,2)","v":{"$error":"#NUM!"}},0,null,""]
[0,0,null,false,{"$f":"SMALL($D$3:$D$2001,ROWS($E$3:E1816))","v":{"$error":"#NUM!"}},{"$f":"INDEX($A$2:$B$2001,E1817+1,2)","v":{"$error":"#NUM!"}},0,null,""]
[0,0,null,false,{"$f":"SMALL($D$3:$D$2001,ROWS($E$3:E1817))","v":{"$error":"#NUM!"}},{"$f":"INDEX($A$2:$B$2001,E1818+1,2)","v":{"$error":"#NUM!"}},0,null,""]
[0,0,null,false,{"$f":"SMALL($D$3:$D$2001,ROWS($E$3:E1818))","v":{"$error":"#NUM!"}},{"$f":"INDEX($A$2:$B$2001,E1819+1,2)","v":{"$error":"#NUM!"}},0,null,""]
[0,0,null,false,{"$f":"SMALL($D$3:$D$2001,ROWS($E$3:E1819))","v":{"$error":"#NUM!"}},{"$f":"INDEX($A$2:$B$2001,E1820+1,2)","v":{"$error":"#NUM!"}},0,null,""]
[0,0,null,false,{"$f":"SMALL($D$3:$D$2001,ROWS($E$3:E1820))","v":{"$error":"#NUM!"}},{"$f":"INDEX($A$2:$B$2001,E1821+1,2)","v":{"$error":"#NUM!"}},0,null,""]
[0,0,null,false,{"$f":"SMALL($D$3:$D$2001,ROWS($E$3:E1821))","v":{"$error":"#NUM!"}},{"$f":"INDEX($A$2:$B$2001,E1822+1,2)","v":{"$error":"#NUM!"}},0,null,""]
[0,0,null,false,{"$f":"SMALL($D$3:$D$2001,ROWS($E$3:E1822))","v":{"$error":"#NUM!"}},{"$f":"INDEX($A$2:$B$2001,E1823+1,2)","v":{"$error":"#NUM!"}},0,null,""]
[0,0,null,false,{"$f":"SMALL($D$3:$D$2001,ROWS($E$3:E1823))","v":{"$error":"#NUM!"}},{"$f":"INDEX($A$2:$B$2001,E1824+1,2)","v":{"$error":"#NUM!"}},0,null,""]
[0,0,null,false,{"$f":"SMALL($D$3:$D$2001,ROWS($E$3:E1824))","v":{"$error":"#NUM!"}},{"$f":"INDEX($A$2:$B$2001,E1825+1,2)","v":{"$error":"#NUM!"}},0,null,""]
[0,0,null,false,{"$f":"SMALL($D$3:$D$2001,ROWS($E$3:E1825))","v":{"$error":"#NUM!"}},{"$f":"INDEX($A$2:$B$2001,E1826+1,2)","v":{"$error":"#NUM!"}},0,null,""]
[0,0,null,false,{"$f":"SMALL($D$3:$D$2001,ROWS($E$3:E1826))","v":{"$error":"#NUM!"}},{"$f":"INDEX($A$2:$B$2001,E1827+1,2)","v":{"$error":"#NUM!"}},0,null,""]
[0,0,null,false,{"$f":"SMALL($D$3:$D$2001,ROWS($E$3:E1827))","v":{"$error":"#NUM!"}},{"$f":"INDEX($A$2:$B$2001,E1828+1,2)","v":{"$error":"#NUM!"}},0,null,""]
[0,0,null,false,{"$f":"SMALL($D$3:$D$2001,ROWS($E$3:E1828))","v":{"$error":"#NUM!"}},{"$f":"INDEX($A$2:$B$2001,E1829+1,2)","v":{"$error":"#NUM!"}},0,null,""]
[0,0,null,false,{"$f":"SMALL($D$3:$D$2001,ROWS($E$3:E1829))","v":{"$error":"#NUM!"}},{"$f":"INDEX($A$2:$B$2001,E1830+1,2)","v":{"$error":"#NUM!"}},0,null,""]
[0,0,null,false,{"$f":"SMALL($D$3:$D$2001,ROWS($E$3:E1830))","v":{"$error":"#NUM!"}},{"$f":"INDEX($A$2:$B$2001,E1831+1,2)","v":{"$error":"#NUM!"}},0,null,""]
[0,0,null,false,{"$f":"SMALL($D$3:$D$2001,ROWS($E$3:E1831))","v":{"$error":"#NUM!"}},{"$f":"INDEX($A$2:$B$2001,E1832+1,2)","v":{"$error":"#NUM!"}},0,null,""]
[0,0,null,false,{"$f":"SMALL($D$3:$D$2001,ROWS($E$3:E1832))","v":{"$error":"#NUM!"}},{"$f":"INDEX($A$2:$B$2001,E1833+1,2)","v":{"$error":"#NUM!"}},0,null,""]
[0,0,null,false,{"$f":"SMALL($D$3:$D$2001,ROWS($E$3:E1833))","v":{"$error":"#NUM!"}},{"$f":"INDEX($A$2:$B$2001,E1834+1,2)","v":{"$error":"#NUM!"}},0,null,""]
[0,0,null,false,{"$f":"SMALL($D$3:$D$2001,ROWS($E$3:E1834))","v":{"$error":"#NUM!"}},{"$f":"INDEX($A$2:$B$2001,E1835+1,2)","v":{"$error":"#NUM!"}},0,null,""]
[0,0,null,false,{"$f":"SMALL($D$3:$D$2001,ROWS($E$3:E1835))","v":{"$error":"#NUM!"}},{"$f":"INDEX($A$2:$B$2001,E1836+1,2)","v":{"$error":"#NUM!"}},0,null,""]
[0,0,null,false,{"$f":"SMALL($D$3:$D$2001,ROWS($E$3:E1836))","v":{"$error":"#NUM!"}},{"$f":"INDEX($A$2:$B$2001,E1837+1,2)","v":{"$error":"#NUM!"}},0,null,""]
[0,0,null,false,{"$f":"SMALL($D$3:$D$2001,ROWS($E$3:E1837))","v":{"$error":"#NUM!"}},{"$f":"INDEX($A$2:$B$2001,E1838+1,2)","v":{"$error":"#NUM!"}},0,null,""]
[0,0,null,false,{"$f":"SMALL($D$3:$D$2001,ROWS($E$3:E1838))","v":{"$error":"#NUM!"}},{"$f":"INDEX($A$2:$B$2001,E1839+1,2)","v":{"$error":"#NUM!"}},0,null,""]
[0,0,null,false,{"$f":"SMALL($D$3:$D$2001,ROWS($E$3:E1839))","v":{"$error":"#NUM!"}},{"$f":"INDEX($A$2:$B$2001,E1840+1,2)","v":{"$error":"#NUM!"}},0,null,""]
[0,0,null,false,{"$f":"SMALL($D$3:$D$2001,ROWS($E$3:E1840))","v":{"$error":"#NUM!"}},{"$f":"INDEX($A$2:$B$2001,E1841+1,2)","v":{"$error":"#NUM!"}},0,null,""]
[0,0,null,false,{"$f":"SMALL($D$3:$D$2001,ROWS($E$3:E1841))","v":{"$error":"#NUM!"}},{"$f":"INDEX($A$2:$B$2001,E1842+1,2)","v":{"$error":"#NUM!"}},0,null,""]
[0,0,null,false,{"$f":"SMALL($D$3:$D$2001,ROWS($E$3:E1842))","v":{"$error":"#NUM!"}},{"$f":"INDEX($A$2:$B$2001,E1843+1,2)","v":{"$error":"#NUM!"}},0,null,""]
[0,0,null,false,{"$f":"SMALL($D$3:$D$2001,ROWS($E$3:E1843))","v":{"$error":"#NUM!"}},{"$f":"INDEX($A$2:$B$2001,E1844+1,2)","v":{"$error":"#NUM!"}},0,null,""]
[0,0,null,false,{"$f":"SMALL($D$3:$D$2001,ROWS($E$3:E1844))","v":{"$error":"#NUM!"}},{"$f":"INDEX($A$2:$B$2001,E1845+1,2)","v":{"$error":"#NUM!"}},0,null,""]
[0,0,null,false,{"$f":"SMALL($D$3:$D$2001,ROWS($E$3:E1845))","v":{"$error":"#NUM!"}},{"$f":"INDEX($A$2:$B$2001,E1846+1,2)","v":{"$error":"#NUM!"}},0,null,""]
[0,0,null,false,{"$f":"SMALL($D$3:$D$2001,ROWS($E$3:E1846))","v":{"$error":"#NUM!"}},{"$f":"INDEX($A$2:$B$2001,E1847+1,2)","v":{"$error":"#NUM!"}},0,null,""]
[0,0,null,false,{"$f":"SMALL($D$3:$D$2001,ROWS($E$3:E1847))","v":{"$error":"#NUM!"}},{"$f":"INDEX($A$2:$B$2001,E1848+1,2)","v":{"$error":"#NUM!"}},0,null,""]
[0,0,null,false,{"$f":"SMALL($D$3:$D$2001,ROWS($E$3:E1848))","v":{"$error":"#NUM!"}},{"$f":"INDEX($A$2:$B$2001,E1849+1,2)","v":{"$error":"#NUM!"}},0,null,""]
[0,0,null,false,{"$f":"SMALL($D$3:$D$2001,ROWS($E$3:E1849))","v":{"$error":"#NUM!"}},{"$f":"INDEX($A$2:$B$2001,E1850+1,2)","v":{"$error":"#NUM!"}},0,null,""]
[0,0,null,false,{"$f":"SMALL($D$3:$D$2001,ROWS($E$3:E1850))","v":{"$error":"#NUM!"}},{"$f":"INDEX($A$2:$B$2001,E1851+1,2)","v":{"$error":"#NUM!"}},0,null,""]
[0,0,null,false,{"$f":"SMALL($D$3:$D$2001,ROWS($E$3:E1851))","v":{"$error":"#NUM!"}},{"$f":"INDEX($A$2:$B$2001,E1852+1,2)","v":{"$error":"#NUM!"}},0,null,""]
[0,0,null,false,{"$f":"SMALL($D$3:$D$2001,ROWS($E$3:E1852))","v":{"$error":"#NUM!"}},{"$f":"INDEX($A$2:$B$2001,E1853+1,2)","v":{"$error":"#NUM!"}},0,null,""]
[0,0,null,false,{"$f":"SMALL($D$3:$D$2001,ROWS($E$3:E1853))","v":{"$error":"#NUM!"}},{"$f":"INDEX($A$2:$B$2001,E1854+1,2)","v":{"$error":"#NUM!"}},0,null,""]
[0,0,null,false,{"$f":"SMALL($D$3:$D$2001,ROWS($E$3:E1854))","v":{"$error":"#NUM!"}},{"$f":"INDEX($A$2:$B$2001,E1855+1,2)","v":{"$error":"#NUM!"}},0,null,""]
[0,0,null,false,{"$f":"SMALL($D$3:$D$2001,ROWS($E$3:E1855))","v":{"$error":"#NUM!"}},{"$f":"INDEX($A$2:$B$2001,E1856+1,2)","v":{"$error":"#NUM!"}},0,null,""]
[0,0,null,false,{"$f":"SMALL($D$3:$D$2001,ROWS($E$3:E1856))","v":{"$error":"#NUM!"}},{"$f":"INDEX($A$2:$B$2001,E1857+1,2)","v":{"$error":"#NUM!"}},0,null,""]
[0,0,null,false,{"$f":"SMALL($D$3:$D$2001,ROWS($E$3:E1857))","v":{"$error":"#NUM!"}},{"$f":"INDEX($A$2:$B$2001,E1858+1,2)","v":{"$error":"#NUM!"}},0,null,""]
[0,0,null,false,{"$f":"SMALL($D$3:$D$2001,ROWS($E$3:E1858))","v":{"$error":"#NUM!"}},{"$f":"INDEX($A$2:$B$2001,E1859+1,2)","v":{"$error":"#NUM!"}},0,null,""]
[0,0,null,false,{"$f":"SMALL($D$3:$D$2001,ROWS($E$3:E1859))","v":{"$error":"#NUM!"}},{"$f":"INDEX($A$2:$B$2001,E1860+1,2)","v":{"$error":"#NUM!"}},{"$f":"IFERROR(F1859,0)","v":0},null,{"$f":"IF(G1859=0,\"\",H1859)","v":""}]
[0,0,null,{"$f":"IF(A1860=$B$2,ROW(A1860)-ROW($B$2))","v":false},{"$f":"SMALL($D$3:$D$2001,ROWS($E$3:E1860))","v":{"$error":"#NUM!"}},{"$f":"INDEX($A$2:$B$2001,E1861+1,2)","v":{"$error":"#NUM!"}},0,null,""]
[0,0,null,false,{"$f":"SMALL($D$3:$D$2001,ROWS($E$3:E1861))","v":{"$error":"#NUM!"}},{"$f":"INDEX($A$2:$B$2001,E1862+1,2)","v":{"$error":"#NUM!"}},0,null,""]
[0,0,null,false,{"$f":"SMALL($D$3:$D$2001,ROWS($E$3:E1862))","v":{"$error":"#NUM!"}},{"$f":"INDEX($A$2:$B$2001,E1863+1,2)","v":{"$error":"#NUM!"}},0,null,""]
[0,0,null,false,{"$f":"SMALL($D$3:$D$2001,ROWS($E$3:E1863))","v":{"$error":"#NUM!"}},{"$f":"INDEX($A$2:$B$2001,E1864+1,2)","v":{"$error":"#NUM!"}},0,null,""]
[0,0,null,false,{"$f":"SMALL($D$3:$D$2001,ROWS($E$3:E1864))","v":{"$error":"#NUM!"}},{"$f":"INDEX($A$2:$B$2001,E1865+1,2)","v":{"$error":"#NUM!"}},0,null,""]
[0,0,null,false,{"$f":"SMALL($D$3:$D$2001,ROWS($E$3:E1865))","v":{"$error":"#NUM!"}},{"$f":"INDEX($A$2:$B$2001,E1866+1,2)","v":{"$error":"#NUM!"}},0,null,""]
[0,0,null,false,{"$f":"SMALL($D$3:$D$2001,ROWS($E$3:E1866))","v":{"$error":"#NUM!"}},{"$f":"INDEX($A$2:$B$2001,E1867+1,2)","v":{"$error":"#NUM!"}},0,null,""]
[0,0,null,false,{"$f":"SMALL($D$3:$D$2001,ROWS($E$3:E1867))","v":{"$error":"#NUM!"}},{"$f":"INDEX($A$2:$B$2001,E1868+1,2)","v":{"$error":"#NUM!"}},0,null,""]
[0,0,null,false,{"$f":"SMALL($D$3:$D$2001,ROWS($E$3:E1868))","v":{"$error":"#NUM!"}},{"$f":"INDEX($A$2:$B$2001,E1869+1,2)","v":{"$error":"#NUM!"}},0,null,""]
[0,0,null,false,{"$f":"SMALL($D$3:$D$2001,ROWS($E$3:E1869))","v":{"$error":"#NUM!"}},{"$f":"INDEX($A$2:$B$2001,E1870+1,2)","v":{"$error":"#NUM!"}},0,null,""]
[0,0,null,false,{"$f":"SMALL($D$3:$D$2001,ROWS($E$3:E1870))","v":{"$error":"#NUM!"}},{"$f":"INDEX($A$2:$B$2001,E1871+1,2)","v":{"$error":"#NUM!"}},0,null,""]
[0,0,null,false,{"$f":"SMALL($D$3:$D$2001,ROWS($E$3:E1871))","v":{"$error":"#NUM!"}},{"$f":"INDEX($A$2:$B$2001,E1872+1,2)","v":{"$error":"#NUM!"}},0,null,""]
[0,0,null,false,{"$f":"SMALL($D$3:$D$2001,ROWS($E$3:E1872))","v":{"$error":"#NUM!"}},{"$f":"INDEX($A$2:$B$2001,E1873+1,2)","v":{"$error":"#NUM!"}},0,null,""]
[0,0,null,false,{"$f":"SMALL($D$3:$D$2001,ROWS($E$3:E1873))","v":{"$error":"#NUM!"}},{"$f":"INDEX($A$2:$B$2001,E1874+1,2)","v":{"$error":"#NUM!"}},0,null,""]
[0,0,null,false,{"$f":"SMALL($D$3:$D$2001,ROWS($E$3:E1874))","v":{"$error":"#NUM!"}},{"$f":"INDEX($A$2:$B$2001,E1875+1,2)","v":{"$error":"#NUM!"}},0,null,""]
[0,0,null,false,{"$f":"SMALL($D$3:$D$2001,ROWS($E$3:E1875))","v":{"$error":"#NUM!"}},{"$f":"INDEX($A$2:$B$2001,E1876+1,2)","v":{"$error":"#NUM!"}},0,null,""]
[0,0,null,false,{"$f":"SMALL($D$3:$D$2001,ROWS($E$3:E1876))","v":{"$error":"#NUM!"}},{"$f":"INDEX($A$2:$B$2001,E1877+1,2)","v":{"$error":"#NUM!"}},0,null,""]
[0,0,null,false,{"$f":"SMALL($D$3:$D$2001,ROWS($E$3:E1877))","v":{"$error":"#NUM!"}},{"$f":"INDEX($A$2:$B$2001,E1878+1,2)","v":{"$error":"#NUM!"}},0,null,""]
[0,0,null,false,{"$f":"SMALL($D$3:$D$2001,ROWS($E$3:E1878))","v":{"$error":"#NUM!"}},{"$f":"INDEX($A$2:$B$2001,E1879+1,2)","v":{"$error":"#NUM!"}},0,null,""]
[0,0,null,false,{"$f":"SMALL($D$3:$D$2001,ROWS($E$3:E1879))","v":{"$error":"#NUM!"}},{"$f":"INDEX($A$2:$B$2001,E1880+1,2)","v":{"$error":"#NUM!"}},0,null,""]
[0,0,null,false,{"$f":"SMALL($D$3:$D$2001,ROWS($E$3:E1880))","v":{"$error":"#NUM!"}},{"$f":"INDEX($A$2:$B$2001,E1881+1,2)","v":{"$error":"#NUM!"}},0,null,""]
[0,0,null,false,{"$f":"SMALL($D$3:$D$2001,ROWS($E$3:E1881))","v":{"$error":"#NUM!"}},{"$f":"INDEX($A$2:$B$2001,E1882+1,2)","v":{"$error":"#NUM!"}},0,null,""]
[0,0,null,false,{"$f":"SMALL($D$3:$D$2001,ROWS($E$3:E1882))","v":{"$error":"#NUM!"}},{"$f":"INDEX($A$2:$B$2001,E1883+1,2)","v":{"$error":"#NUM!"}},0,null,""]
[0,0,null,false,{"$f":"SMALL($D$3:$D$2001,ROWS($E$3:E1883))","v":{"$error":"#NUM!"}},{"$f":"INDEX($A$2:$B$2001,E1884+1,2)","v":{"$error":"#NUM!"}},0,null,""]
[0,0,null,false,{"$f":"SMALL($D$3:$D$2001,ROWS($E$3:E1884))","v":{"$error":"#NUM!"}},{"$f":"INDEX($A$2:$B$2001,E1885+1,2)","v":{"$error":"#NUM!"}},0,null,""]
[0,0,null,false,{"$f":"SMALL($D$3:$D$2001,ROWS($E$3:E1885))","v":{"$error":"#NUM!"}},{"$f":"INDEX($A$2:$B$2001,E1886+1,2)","v":{"$error":"#NUM!"}},0,null,""]
[0,0,null,false,{"$f":"SMALL($D$3:$D$2001,ROWS($E$3:E1886))","v":{"$error":"#NUM!"}},{"$f":"INDEX($A$2:$B$2001,E1887+1,2)","v":{"$error":"#NUM!"}},0,null,""]
[0,0,null,false,{"$f":"SMALL($D$3:$D$2001,ROWS($E$3:E1887))","v":{"$error":"#NUM!"}},{"$f":"INDEX($A$2:$B$2001,E1888+1,2)","v":{"$error":"#NUM!"}},0,null,""]
[0,0,null,false,{"$f":"SMALL($D$3:$D$2001,ROWS($E$3:E1888))","v":{"$error":"#NUM!"}},{"$f":"INDEX($A$2:$B$2001,E1889+1,2)","v":{"$error":"#NUM!"}},0,null,""]
[0,0,null,false,{"$f":"SMALL($D$3:$D$2001,ROWS($E$3:E1889))","v":{"$error":"#NUM!"}},{"$f":"INDEX($A$2:$B$2001,E1890+1,2)","v":{"$error":"#NUM!"}},0,null,""]
[0,0,null,false,{"$f":"SMALL($D$3:$D$2001,ROWS($E$3:E1890))","v":{"$error":"#NUM!"}},{"$f":"INDEX($A$2:$B$2001,E1891+1,2)","v":{"$error":"#NUM!"}},0,null,""]
[0,0,null,false,{"$f":"SMALL($D$3:$D$2001,ROWS($E$3:E1891))","v":{"$error":"#NUM!"}},{"$f":"INDEX($A$2:$B$2001,E1892+1,2)","v":{"$error":"#NUM!"}},0,null,""]
[0,0,null,false,{"$f":"SMALL($D$3:$D$2001,ROWS($E$3:E1892))","v":{"$error":"#NUM!"}},{"$f":"INDEX($A$2:$B$2001,E1893+1,2)","v":{"$error":"#NUM!"}},0,null,""]
[0,0,null,false,{"$f":"SMALL($D$3:$D$2001,ROWS($E$3:E1893))","v":{"$error":"#NUM!"}},{"$f":"INDEX($A$2:$B$2001,E1894+1,2)","v":{"$error":"#NUM!"}},0,null,""]
[0,0,null,false,{"$f":"SMALL($D$3:$D$2001,ROWS($E$3:E1894))","v":{"$error":"#NUM!"}},{"$f":"INDEX($A$2:$B$2001,E1895+1,2)","v":{"$error":"#NUM!"}},0,null,""]
[0,0,null,false,{"$f":"SMALL($D$3:$D$2001,ROWS($E$3:E1895))","v":{"$error":"#NUM!"}},{"$f":"INDEX($A$2:$B$2001,E1896+1,2)","v":{"$error":"#NUM!"}},0,null,""]
[0,0,null,false,{"$f":"SMALL($D$3:$D$2001,ROWS($E$3:E1896))","v":{"$error":"#NUM!"}},{"$f":"INDEX($A$2:$B$2001,E1897+1,2)","v":{"$error":"#NUM!"}},0,null,""]
[0,0,null,false,{"$f":"SMALL($D$3:$D$2001,ROWS($E$3:E1897))","v":{"$error":"#NUM!"}},{"$f":"INDEX($A$2:$B$2001,E1898+1,2)","v":{"$error":"#NUM!"}},0,null,""]
[0,0,null,false,{"$f":"SMALL($D$3:$D$2001,ROWS($E$3:E1898))","v":{"$error":"#NUM!"}},{"$f":"INDEX($A$2:$B$2001,E1899+1,2)","v":{"$error":"#NUM!"}},0,null,""]
[0,0,null,false,{"$f":"SMALL($D$3:$D$2001,ROWS($E$3:E1899))","v":{"$error":"#NUM!"}},{"$f":"INDEX($A$2:$B$2001,E1900+1,2)","v":{"$error":"#NUM!"}},0,null,""]
[0,0,null,false,{"$f":"SMALL($D$3:$D$2001,ROWS($E$3:E1900))","v":{"$error":"#NUM!"}},{"$f":"INDEX($A$2:$B$2001,E1901+1,2)","v":{"$error":"#NUM!"}},0,null,""]
[0,0,null,false,{"$f":"SMALL($D$3:$D$2001,ROWS($E$3:E1901))","v":{"$error":"#NUM!"}},{"$f":"INDEX($A$2:$B$2001,E1902+1,2)","v":{"$error":"#NUM!"}},0,null,""]
[0,0,null,false,{"$f":"SMALL($D$3:$D$2001,ROWS($E$3:E1902))","v":{"$error":"#NUM!"}},{"$f":"INDEX($A$2:$B$2001,E1903+1,2)","v":{"$error":"#NUM!"}},0,null,""]
[0,0,null,false,{"$f":"SMALL($D$3:$D$2001,ROWS($E$3:E1903))","v":{"$error":"#NUM!"}},{"$f":"INDEX($A$2:$B$2001,E1904+1,2)","v":{"$error":"#NUM!"}},0,null,""]
[0,0,null,false,{"$f":"SMALL($D$3:$D$2001,ROWS($E$3:E1904))","v":{"$error":"#NUM!"}},{"$f":"INDEX($A$2:$B$2001,E1905+1,2)","v":{"$error":"#NUM!"}},0,null,""]
[0,0,null,false,{"$f":"SMALL($D$3:$D$2001,ROWS($E$3:E1905))","v":{"$error":"#NUM!"}},{"$f":"INDEX($A$2:$B$2001,E1906+1,2)","v":{"$error":"#NUM!"}},0,null,""]
[0,0,null,false,{"$f":"SMALL($D$3:$D$2001,ROWS($E$3:E1906))","v":{"$error":"#NUM!"}},{"$f":"INDEX($A$2:$B$2001,E1907+1,2)","v":{"$error":"#NUM!"}},0,null,""]
[0,0,null,false,{"$f":"SMALL($D$3:$D$2001,ROWS($E$3:E1907))","v":{"$error":"#NUM!"}},{"$f":"INDEX($A$2:$B$2001,E1908+1,2)","v":{"$error":"#NUM!"}},0,null,""]
[0,0,null,false,{"$f":"SMALL($D$3:$D$2001,ROWS($E$3:E1908))","v":{"$error":"#NUM!"}},{"$f":"INDEX($A$2:$B$2001,E1909+1,2)","v":{"$error":"#NUM!"}},0,null,""]
[0,0,null,false,{"$f":"SMALL($D$3:$D$2001,ROWS($E$3:E1909))","v":{"$error":"#NUM!"}},{"$f":"INDEX($A$2:$B$2001,E1910+1,2)","v":{"$error":"#NUM!"}},0,null,""]
[0,0,null,false,{"$f":"SMALL($D$3:$D$2001,ROWS($E$3:E1910))","v":{"$error":"#NUM!"}},{"$f":"INDEX($A$2:$B$2001,E1911+1,2)","v":{"$error":"#NUM!"}},0,null,""]
[0,0,null,false,{"$f":"SMALL($D$3:$D$2001,ROWS($E$3:E1911))","v":{"$error":"#NUM!"}},{"$f":"INDEX($A$2:$B$2001,E1912+1,2)","v":{"$error":"#NUM!"}},0,null,""]
[0,0,null,false,{"$f":"SMALL($D$3:$D$2001,ROWS($E$3:E1912))","v":{"$error":"#NUM!"}},{"$f":"INDEX($A$2:$B$2001,E1913+1,2)","v":{"$error":"#NUM!"}},0,null,""]
[0,0,null,false,{"$f":"SMALL($D$3:$D$2001,ROWS($E$3:E1913))","v":{"$error":"#NUM!"}},{"$f":"INDEX($A$2:$B$2001,E1914+1,2)","v":{"$error":"#NUM!"}},0,null,""]
[0,0,null,false,{"$f":"SMALL($D$3:$D$2001,ROWS($E$3:E1914))","v":{"$error":"#NUM!"}},{"$f":"INDEX($A$2:$B$2001,E1915+1,2)","v":{"$error":"#NUM!"}},0,null,""]
[0,0,null,false,{"$f":"SMALL($D$3:$D$2001,ROWS($E$3:E1915))","v":{"$error":"#NUM!"}},{"$f":"INDEX($A$2:$B$2001,E1916+1,2)","v":{"$error":"#NUM!"}},0,null,""]
[0,0,null,false,{"$f":"SMALL($D$3:$D$2001,ROWS($E$3:E1916))","v":{"$error":"#NUM!"}},{"$f":"INDEX($A$2:$B$2001,E1917+1,2)","v":{"$error":"#NUM!"}},0,null,""]
[0,0,null,false,{"$f":"SMALL($D$3:$D$2001,ROWS($E$3:E1917))","v":{"$error":"#NUM!"}},{"$f":"INDEX($A$2:$B$2001,E1918+1,2)","v":{"$error":"#NUM!"}},0,null,""]
[0,0,null,false,{"$f":"SMALL($D$3:$D$2001,ROWS($E$3:E1918))","v":{"$error":"#NUM!"}},{"$f":"INDEX($A$2:$B$2001,E1919+1,2)","v":{"$error":"#NUM!"}},0,null,""]
[0,0,null,false,{"$f":"SMALL($D$3:$D$2001,ROWS($E$3:E1919))","v":{"$error":"#NUM!"}},{"$f":"INDEX($A$2:$B$2001,E1920+1,2)","v":{"$error":"#NUM!"}},0,null,""]
[0,0,null,false,{"$f":"SMALL($D$3:$D$2001,ROWS($E$3:E1920))","v":{"$error":"#NUM!"}},{"$f":"INDEX($A$2:$B$2001,E1921+1,2)","v":{"$error":"#NUM!"}},0,null,""]
[0,0,null,false,{"$f":"SMALL($D$3:$D$2001,ROWS($E$3:E1921))","v":{"$error":"#NUM!"}},{"$f":"INDEX($A$2:$B$2001,E1922+1,2)","v":{"$error":"#NUM!"}},0,null,""]
[0,0,null,false,{"$f":"SMALL($D$3:$D$2001,ROWS($E$3:E1922))","v":{"$error":"#NUM!"}},{"$f":"INDEX($A$2:$B$2001,E1923+1,2)","v":{"$error":"#NUM!"}},0,null,""]
[0,0,null,false,{"$f":"SMALL($D$3:$D$2001,ROWS($E$3:E1923))","v":{"$error":"#NUM!"}},{"$f":"INDEX($A$2:$B$2001,E1924+1,2)","v":{"$error":"#NUM!"}},{"$f":"IFERROR(F1923,0)","v":0},null,{"$f":"IF(G1923=0,\"\",H1923)","v":""}]
[0,0,null,{"$f":"IF(A1924=$B$2,ROW(A1924)-ROW($B$2))","v":false},{"$f":"SMALL($D$3:$D$2001,ROWS($E$3:E1924))","v":{"$error":"#NUM!"}},{"$f":"INDEX($A$2:$B$2001,E1925+1,2)","v":{"$error":"#NUM!"}},0,null,""]
[0,0,null,false,{"$f":"SMALL($D$3:$D$2001,ROWS($E$3:E1925))","v":{"$error":"#NUM!"}},{"$f":"INDEX($A$2:$B$2001,E1926+1,2)","v":{"$error":"#NUM!"}},0,null,""]
[0,0,null,false,{"$f":"SMALL($D$3:$D$2001,ROWS($E$3:E1926))","v":{"$error":"#NUM!"}},{"$f":"INDEX($A$2:$B$2001,E1927+1,2)","v":{"$error":"#NUM!"}},0,null,""]
[0,0,null,false,{"$f":"SMALL($D$3:$D$2001,ROWS($E$3:E1927))","v":{"$error":"#NUM!"}},{"$f":"INDEX($A$2:$B$2001,E1928+1,2)","v":{"$error":"#NUM!"}},0,null,""]
[0,0,null,false,{"$f":"SMALL($D$3:$D$2001,ROWS($E$3:E1928))","v":{"$error":"#NUM!"}},{"$f":"INDEX($A$2:$B$2001,E1929+1,2)","v":{"$error":"#NUM!"}},0,null,""]
[0,0,null,false,{"$f":"SMALL($D$3:$D$2001,ROWS($E$3:E1929))","v":{"$error":"#NUM!"}},{"$f":"INDEX($A$2:$B$2001,E1930+1,2)","v":{"$error":"#NUM!"}},0,null,""]
[0,0,null,false,{"$f":"SMALL($D$3:$D$2001,ROWS($E$3:E1930))","v":{"$error":"#NUM!"}},{"$f":"INDEX($A$2:$B$2001,E1931+1,2)","v":{"$error":"#NUM!"}},0,null,""]
[0,0,null,false,{"$f":"SMALL($D$3:$D$2001,ROWS($E$3:E1931))","v":{"$error":"#NUM!"}},{"$f":"INDEX($A$2:$B$2001,E1932+1,2)","v":{"$error":"#NUM!"}},0,null,""]
[0,0,null,false,{"$f":"SMALL($D$3:$D$2001,ROWS($E$3:E1932))","v":{"$error":"#NUM!"}},{"$f":"INDEX($A$2:$B$2001,E1933+1,2)","v":{"$error":"#NUM!"}},0,null,""]
[0,0,null,false,{"$f":"SMALL($D$3:$D$2001,ROWS($E$3:E1933))","v":{"$error":"#NUM!"}},{"$f":"INDEX($A$2:$B$2001,E1934+1,2)","v":{"$error":"#NUM!"}},0,null,""]
[0,0,null,false,{"$f":"SMALL($D$3:$D$2001,ROWS($E$3:E1934))","v":{"$error":"#NUM!"}},{"$f":"INDEX($A$2:$B$2001,E1935+1,2)","v":{"$error":"#NUM!"}},0,null,""]
[0,0,null,false,{"$f":"SMALL($D$3:$D$2001,ROWS($E$3:E1935))","v":{"$error":"#NUM!"}},{"$f":"INDEX($A$2:$B$2001,E1936+1,2)","v":{"$error":"#NUM!"}},0,null,""]
[0,0,null,false,{"$f":"SMALL($D$3:$D$2001,ROWS($E$3:E1936))","v":{"$error":"#NUM!"}},{"$f":"INDEX($A$2:$B$2001,E1937+1,2)","v":{"$error":"#NUM!"}},0,null,""]
[0,0,null,false,{"$f":"SMALL($D$3:$D$2001,ROWS($E$3:E1937))","v":{"$error":"#NUM!"}},{"$f":"INDEX($A$2:$B$2001,E1938+1,2)","v":{"$error":"#NUM!"}},0,null,""]
[0,0,null,false,{"$f":"SMALL($D$3:$D$2001,ROWS($E$3:E1938))","v":{"$error":"#NUM!"}},{"$f":"INDEX($A$2:$B$2001,E1939+1,2)","v":{"$error":"#NUM!"}},0,null,""]
[0,0,null,false,{"$f":"SMALL($D$3:$D$2001,ROWS($E$3:E1939))","v":{"$error":"#NUM!"}},{"$f":"INDEX($A$2:$B$2001,E1940+1,2)","v":{"$error":"#NUM!"}},0,null,""]
[0,0,null,false,{"$f":"SMALL($D$3:$D$2001,ROWS($E$3:E1940))","v":{"$error":"#NUM!"}},{"$f":"INDEX($A$2:$B$2001,E1941+1,2)","v":{"$error":"#NUM!"}},0,null,""]
[0,0,null,false,{"$f":"SMALL($D$3:$D$2001,ROWS($E$3:E1941))","v":{"$error":"#NUM!"}},{"$f":"INDEX($A$2:$B$2001,E1942+1,2)","v":{"$error":"#NUM!"}},0,null,""]
[0,0,null,false,{"$f":"SMALL($D$3:$D$2001,ROWS($E$3:E1942))","v":{"$error":"#NUM!"}},{"$f":"INDEX($A$2:$B$2001,E1943+1,2)","v":{"$error":"#NUM!"}},0,null,""]
[0,0,null,false,{"$f":"SMALL($D$3:$D$2001,ROWS($E$3:E1943))","v":{"$error":"#NUM!"}},{"$f":"INDEX($A$2:$B$2001,E1944+1,2)","v":{"$error":"#NUM!"}},0,null,""]
[0,0,null,false,{"$f":"SMALL($D$3:$D$2001,ROWS($E$3:E1944))","v":{"$error":"#NUM!"}},{"$f":"INDEX($A$2:$B$2001,E1945+1,2)","v":{"$error":"#NUM!"}},0,null,""]
[0,0,null,false,{"$f":"SMALL($D$3:$D$2001,ROWS($E$3:E1945))","v":{"$error":"#NUM!"}},{"$f":"INDEX($A$2:$B$2001,E1946+1,2)","v":{"$error":"#NUM!"}},0,null,""]
[0,0,null,false,{"$f":"SMALL($D$3:$D$2001,ROWS($E$3:E1946))","v":{"$error":"#NUM!"}},{"$f":"INDEX($A$2:$B$2001,E1947+1,2)","v":{"$error":"#NUM!"}},0,null,""]
[0,0,null,false,{"$f":"SMALL($D$3:$D$2001,ROWS($E$3:E1947))","v":{"$error":"#NUM!"}},{"$f":"INDEX($A$2:$B$2001,E1948+1,2)","v":{"$error":"#NUM!"}},0,null,""]
[0,0,null,false,{"$f":"SMALL($D$3:$D$2001,ROWS($E$3:E1948))","v":{"$error":"#NUM!"}},{"$f":"INDEX($A$2:$B$2001,E1949+1,2)","v":{"$error":"#NUM!"}},0,null,""]
[0,0,null,false,{"$f":"SMALL($D$3:$D$2001,ROWS($E$3:E1949))","v":{"$error":"#NUM!"}},{"$f":"INDEX($A$2:$B$2001,E1950+1,2)","v":{"$error":"#NUM!"}},0,null,""]
[0,0,null,false,{"$f":"SMALL($D$3:$D$2001,ROWS($E$3:E1950))","v":{"$error":"#NUM!"}},{"$f":"INDEX($A$2:$B$2001,E1951+1,2)","v":{"$error":"#NUM!"}},0,null,""]
[0,0,null,false,{"$f":"SMALL($D$3:$D$2001,ROWS($E$3:E1951))","v":{"$error":"#NUM!"}},{"$f":"INDEX($A$2:$B$2001,E1952+1,2)","v":{"$error":"#NUM!"}},0,null,""]
[0,0,null,false,{"$f":"SMALL($D$3:$D$2001,ROWS($E$3:E1952))","v":{"$error":"#NUM!"}},{"$f":"INDEX($A$2:$B$2001,E1953+1,2)","v":{"$error":"#NUM!"}},0,null,""]
[0,0,null,false,{"$f":"SMALL($D$3:$D$2001,ROWS($E$3:E1953))","v":{"$error":"#NUM!"}},{"$f":"INDEX($A$2:$B$2001,E1954+1,2)","v":{"$error":"#NUM!"}},0,null,""]
[0,0,null,false,{"$f":"SMALL($D$3:$D$2001,ROWS($E$3:E1954))","v":{"$error":"#NUM!"}},{"$f":"INDEX($A$2:$B$2001,E1955+1,2)","v":{"$error":"#NUM!"}},0,null,""]
[0,0,null,false,{"$f":"SMALL($D$3:$D$2001,ROWS($E$3:E1955))","v":{"$error":"#NUM!"}},{"$f":"INDEX($A$2:$B$2001,E1956+1,2)","v":{"$error":"#NUM!"}},0,null,""]
[0,0,null,false,{"$f":"SMALL($D$3:$D$2001,ROWS($E$3:E1956))","v":{"$error":"#NUM!"}},{"$f":"INDEX($A$2:$B$2001,E1957+1,2)","v":{"$error":"#NUM!"}},0,null,""]
[0,0,null,false,{"$f":"SMALL($D$3:$D$2001,ROWS($E$3:E1957))","v":{"$error":"#NUM!"}},{"$f":"INDEX($A$2:$B$2001,E1958+1,2)","v":{"$error":"#NUM!"}},0,null,""]
[0,0,null,false,{"$f":"SMALL($D$3:$D$2001,ROWS($E$3:E1958))","v":{"$error":"#NUM!"}},{"$f":"INDEX($A$2:$B$2001,E1959+1,2)","v":{"$error":"#NUM!"}},0,null,""]
[0,0,null,false,{"$f":"SMALL($D$3:$D$2001,ROWS($E$3:E1959))","v":{"$error":"#NUM!"}},{"$f":"INDEX($A$2:$B$2001,E1960+1,2)","v":{"$error":"#NUM!"}},0,null,""]
[0,0,null,false,{"$f":"SMALL($D$3:$D$2001,ROWS($E$3:E1960))","v":{"$error":"#NUM!"}},{"$f":"INDEX($A$2:$B$2001,E1961+1,2)","v":{"$error":"#NUM!"}},0,null,""]
[0,0,null,false,{"$f":"SMALL($D$3:$D$2001,ROWS($E$3:E1961))","v":{"$error":"#NUM!"}},{"$f":"INDEX($A$2:$B$2001,E1962+1,2)","v":{"$error":"#NUM!"}},0,null,""]
[0,0,null,false,{"$f":"SMALL($D$3:$D$2001,ROWS($E$3:E1962))","v":{"$error":"#NUM!"}},{"$f":"INDEX($A$2:$B$2001,E1963+1,2)","v":{"$error":"#NUM!"}},0,null,""]
[0,0,null,false,{"$f":"SMALL($D$3:$D$2001,ROWS($E$3:E1963))","v":{"$error":"#NUM!"}},{"$f":"INDEX($A$2:$B$2001,E1964+1,2)","v":{"$error":"#NUM!"}},0,null,""]
[0,0,null,false,{"$f":"SMALL($D$3:$D$2001,ROWS($E$3:E1964))","v":{"$error":"#NUM!"}},{"$f":"INDEX($A$2:$B$2001,E1965+1,2)","v":{"$error":"#NUM!"}},0,null,""]
[0,0,null,false,{"$f":"SMALL($D$3:$D$2001,ROWS($E$3:E1965))","v":{"$error":"#NUM!"}},{"$f":"INDEX($A$2:$B$2001,E1966+1,2)","v":{"$error":"#NUM!"}},0,null,""]
[0,0,null,false,{"$f":"SMALL($D$3:$D$2001,ROWS($E$3:E1966))","v":{"$error":"#NUM!"}},{"$f":"INDEX($A$2:$B$2001,E1967+1,2)","v":{"$error":"#NUM!"}},0,null,""]
[0,0,null,false,{"$f":"SMALL($D$3:$D$2001,ROWS($E$3:E1967))","v":{"$error":"#NUM!"}},{"$f":"INDEX($A$2:$B$2001,E1968+1,2)","v":{"$error":"#NUM!"}},0,null,""]
[0,0,null,false,{"$f":"SMALL($D$3:$D$2001,ROWS($E$3:E1968))","v":{"$error":"#NUM!"}},{"$f":"INDEX($A$2:$B$2001,E1969+1,2)","v":{"$error":"#NUM!"}},0,null,""]
[0,0,null,false,{"$f":"SMALL($D$3:$D$2001,ROWS($E$3:E1969))","v":{"$error":"#NUM!"}},{"$f":"INDEX($A$2:$B$2001,E1970+1,2)","v":{"$error":"#NUM!"}},0,null,""]
[0,0,null,false,{"$f":"SMALL($D$3:$D$2001,ROWS($E$3:E1970))","v":{"$error":"#NUM!"}},{"$f":"INDEX($A$2:$B$2001,E1971+1,2)","v":{"$error":"#NUM!"}},0,null,""]
[0,0,null,false,{"$f":"SMALL($D$3:$D$2001,ROWS($E$3:E1971))","v":{"$error":"#NUM!"}},{"$f":"INDEX($A$2:$B$2001,E1972+1,2)","v":{"$error":"#NUM!"}},0,null,""]
[0,0,null,false,{"$f":"SMALL($D$3:$D$2001,ROWS($E$3:E1972))","v":{"$error":"#NUM!"}},{"$f":"INDEX($A$2:$B$2001,E1973+1,2)","v":{"$error":"#NUM!"}},0,null,""]
[0,0,null,false,{"$f":"SMALL($D$3:$D$2001,ROWS($E$3:E1973))","v":{"$error":"#NUM!"}},{"$f":"INDEX($A$2:$B$2001,E1974+1,2)","v":{"$error":"#NUM!"}},0,null,""]
[0,0,null,false,{"$f":"SMALL($D$3:$D$2001,ROWS($E$3:E1974))","v":{"$error":"#NUM!"}},{"$f":"INDEX($A$2:$B$2001,E1975+1,2)","v":{"$error":"#NUM!"}},0,null,""]
[0,0,null,false,{"$f":"SMALL($D$3:$D$2001,ROWS($E$3:E1975))","v":{"$error":"#NUM!"}},{"$f":"INDEX($A$2:$B$2001,E1976+1,2)","v":{"$error":"#NUM!"}},0,null,""]
[0,0,null,false,{"$f":"SMALL($D$3:$D$2001,ROWS($E$3:E1976))","v":{"$error":"#NUM!"}},{"$f":"INDEX($A$2:$B$2001,E1977+1,2)","v":{"$error":"#NUM!"}},0,null,""]
[0,0,null,false,{"$f":"SMALL($D$3:$D$2001,ROWS($E$3:E1977))","v":{"$error":"#NUM!"}},{"$f":"INDEX($A$2:$B$2001,E1978+1,2)","v":{"$error":"#NUM!"}},0,null,""]
[0,0,null,false,{"$f":"SMALL($D$3:$D$2001,ROWS($E$3:E1978))","v":{"$error":"#NUM!"}},{"$f":"INDEX($A$2:$B$2001,E1979+1,2)","v":{"$error":"#NUM!"}},0,null,""]
[0,0,null,false,{"$f":"SMALL($D$3:$D$2001,ROWS($E$3:E1979))","v":{"$error":"#NUM!"}},{"$f":"INDEX($A$2:$B$2001,E1980+1,2)","v":{"$error":"#NUM!"}},0,null,""]
[0,0,null,false,{"$f":"SMALL($D$3:$D$2001,ROWS($E$3:E1980))","v":{"$error":"#NUM!"}},{"$f":"INDEX($A$2:$B$2001,E1981+1,2)","v":{"$error":"#NUM!"}},0,null,""]
[0,0,null,false,{"$f":"SMALL($D$3:$D$2001,ROWS($E$3:E1981))","v":{"$error":"#NUM!"}},{"$f":"INDEX($A$2:$B$2001,E1982+1,2)","v":{"$error":"#NUM!"}},0,null,""]
[0,0,null,false,{"$f":"SMALL($D$3:$D$2001,ROWS($E$3:E1982))","v":{"$error":"#NUM!"}},{"$f":"INDEX($A$2:$B$2001,E1983+1,2)","v":{"$error":"#NUM!"}},0,null,""]
[0,0,null,false,{"$f":"SMALL($D$3:$D$2001,ROWS($E$3:E1983))","v":{"$error":"#NUM!"}},{"$f":"INDEX($A$2:$B$2001,E1984+1,2)","v":{"$error":"#NUM!"}},0,null,""]
[0,0,null,false,{"$f":"SMALL($D$3:$D$2001,ROWS($E$3:E1984))","v":{"$error":"#NUM!"}},{"$f":"INDEX($A$2:$B$2001,E1985+1,2)","v":{"$error":"#NUM!"}},0,null,""]
[0,0,null,false,{"$f":"SMALL($D$3:$D$2001,ROWS($E$3:E1985))","v":{"$error":"#NUM!"}},{"$f":"INDEX($A$2:$B$2001,E1986+1,2)","v":{"$error":"#NUM!"}},0,null,""]
[0,0,null,false,{"$f":"SMALL($D$3:$D$2001,ROWS($E$3:E1986))","v":{"$error":"#NUM!"}},{"$f":"INDEX($A$2:$B$2001,E1987+1,2)","v":{"$error":"#NUM!"}},0,null,""]
[0,0,null,false,{"$f":"SMALL($D$3:$D$2001,ROWS($E$3:E1987))","v":{"$error":"#NUM!"}},{"$f":"INDEX($A$2:$B$2001,E1988+1,2)","v":{"$error":"#NUM!"}},{"$f":"IFERROR(F1987,0)","v":0},null,{"$f":"IF(G1987=0,\"\",H1987)","v":""}]
[0,0,null,{"$f":"IF(A1988=$B$2,ROW(A1988)-ROW($B$2))","v":false},{"$f":"SMALL($D$3:$D$2001,ROWS($E$3:E1988))","v":{"$error":"#NUM!"}},{"$f":"INDEX($A$2:$B$2001,E1989+1,2)","v":{"$error":"#NUM!"}},0,null,""]
[0,0,null,false,{"$f":"SMALL($D$3:$D$2001,ROWS($E$3:E1989))","v":{"$error":"#NUM!"}},{"$f":"INDEX($A$2:$B$2001,E1990+1,2)","v":{"$error":"#NUM!"}},0,null,""]
[0,0,null,false,{"$f":"SMALL($D$3:$D$2001,ROWS($E$3:E1990))","v":{"$error":"#NUM!"}},{"$f":"INDEX($A$2:$B$2001,E1991+1,2)","v":{"$error":"#NUM!"}},0,null,""]
[0,0,null,false,{"$f":"SMALL($D$3:$D$2001,ROWS($E$3:E1991))","v":{"$error":"#NUM!"}},{"$f":"INDEX($A$2:$B$2001,E1992+1,2)","v":{"$error":"#NUM!"}},0,null,""]
[0,0,null,false,{"$f":"SMALL($D$3:$D$2001,ROWS($E$3:E1992))","v":{"$error":"#NUM!"}},{"$f":"INDEX($A$2:$B$2001,E1993+1,2)","v":{"$error":"#NUM!"}},0,null,""]
[0,0,null,false,{"$f":"SMALL($D$3:$D$2001,ROWS($E$3:E1993))","v":{"$error":"#NUM!"}},{"$f":"INDEX($A$2:$B$2001,E1994+1,2)","v":{"$error":"#NUM!"}},0,null,""]
[0,0,null,false,{"$f":"SMALL($D$3:$D$2001,ROWS($E$3:E1994))","v":{"$error":"#NUM!"}},{"$f":"INDEX($A$2:$B$2001,E1995+1,2)","v":{"$error":"#NUM!"}},0,null,""]
[0,0,null,false,{"$f":"SMALL($D$3:$D$2001,ROWS($E$3:E1995))","v":{"$error":"#NUM!"}},{"$f":"INDEX($A$2:$B$2001,E1996+1,2)","v":{"$error":"#NUM!"}},0,null,""]
[0,0,null,false,{"$f":"SMALL($D$3:$D$2001,ROWS($E$3:E1996))","v":{"$error":"#NUM!"}},{"$f":"INDEX($A$2:$B$2001,E1997+1,2)","v":{"$error":"#NUM!"}},0,null,""]
[0,0,null,false,{"$f":"SMALL($D$3:$D$2001,ROWS($E$3:E1997))","v":{"$error":"#NUM!"}},{"$f":"INDEX($A$2:$B$2001,E1998+1,2)","v":{"$error":"#NUM!"}},0,null,""]
[0,0,null,false,{"$f":"SMALL($D$3:$D$2001,ROWS($E$3:E1998))","v":{"$error":"#NUM!"}},{"$f":"INDEX($A$2:$B$2001,E1999+1,2)","v":{"$error":"#NUM!"}},0,null,""]
[0,0,null,false,{"$f":"SMALL($D$3:$D$2001,ROWS($E$3:E1999))","v":{"$error":"#NUM!"}},{"$f":"INDEX($A$2:$B$2001,E2000+1,2)","v":{"$error":"#NUM!"}},0,null,""]
[0,0,null,false,{"$f":"SMALL($D$3:$D$2001,ROWS($E$3:E2000))","v":{"$error":"#NUM!"}},{"$f":"INDEX($A$2:$B$2001,E2001+1,2)","v":{"$error":"#NUM!"}},0,null,""]
[0,0,null,false,{"$f":"SMALL($D$3:$D$2001,ROWS($E$3:E2001))","v":{"$error":"#NUM!"}},null,0,null,""]
[0,0]
[0,0]
[0,0]
[0,0]
[0,0]
[0,0]
[0,0]
[0,0]
[0,0]
[0,0]
[0,0]
[0,0]
[0,0]
[0,0]
[0,0]
[0,0]
[0,0]
[0,0]
[0,0]
[0,0]
[0,0]
[0,0]
[0,0]
[0,0]
[0,0]
[0,0]
[0,0]
[0,0]
[0,0]
[0,0]
[0,0]
[0,0]
[0,0]
[0,0]
[0,0]
[0,0]
[0,0]
[0,0]
[0,0]
[0,0]
[0,0]
[0,0]
[0,0]
[0,0]
[0,0]
[0,0]
[0,0]
[0,0]
[0,0]
[0,0]
[0,0]
[0,0]
[0,0]
[0,0]
[0,0]
[0,0]
[0,0]
[0,0]
[0,0]
[0,0]
[0,0]
[0,0]
[0,0]
[0,0]
[0,0]
[0,0]
[0,0]
[0,0]
[0,0]
[0,0]
[0,0]
[0,0]
[0,0]
[0,0]
[0,0]
[0,0]
[0,0]
[0,0]
[0,0]
[0,0]
[0,0]
[0,0]
[0,0]
[0,0]
[0,0]
[0,0]
[0,0]
[0,0]
[0,0]
[0,0]
[0,0]
[0,0]
[0,0]
[0,0]
[0,0]
[0,0]
[0,0]
[0,0]
[0,0]
[0,0]
[0,0]
[0,0]
[0,0]
[0,0]
[0,0]
[0,0]
[0,0]
[0,0]
[0,0]
[0,0]
[0,0]
[0,0]
[0,0]
[0,0]
[0,0]
[0,0]
[0,0]
[0,0]
[0,0]
[0,0]
[0,0]
[0,0]
[0,0]
[0,0]
[0,0]
[0,0]
[0,0]
[0,0]
[0,0]
[0,0]
[0,0]
[0,0]
[0,0]
[0,0]
[0,0]
[0,0]
[0,0]
[0,0]
[0,0]
[0,0]
[0,0]
[0,0]
[0,0]
[0,0]
[0,0]
[0,0]
[0,0]
[0,0]
[0,0]
[0,0]
[0,0]
[0,0]
[0,0]
[0,0]
[0,0]
[0,0]
[0,0]
[0,0]
[0,0]
[0,0]
[0,0]
[0,0]
[0,0]
[0,0]
[0,0]
[0,0]
[0,0]
[0,0]
[0,0]
[0,0]
[0,0]
[0,0]
[0,0]
[0,0]
[0,0]
[0,0]
[0,0]
[0,0]
[0,0]
[0,0]
[0,0]
[0,0]
[0,0]
[0,0]
[0,0]
[0,0]
[0,0]
[0,0]
[0,0]
[0,0]
[0,0]
[0,0]
[0,0]
[0,0]
[0,0]
[0,0]
[0,0]
[0,0]
[0,0]
[0,0]
[0,0]
[0,0]
[0,0]
[0,0]
[0,0]
[0,0]
[0,0]
[0,0]
[0,0]
[0,0]
[0,0]
[0,0]
[0,0]
[0,0]
[0,0]
[0,0]
[0,0]
[0,0]
[0,0]
[0,0]
[0,0]
[0,0]
[0,0]
[0,0]
[0,0]
[0,0]
[0,0]
[0,0]
[0,0]
[0,0]
[0,0]
[0,0]
[0,0]
[0,0]
[0,0]
[0,0]
[0,0]
[0,0]
[0,0]
[0,0]
[0,0]
[0,0]
[0,0]
[0,0]
[0,0]
[0,0]
[0,0]
[0,0]
[0,0]
[0,0]
[0,0]
[0,0]
[0,0]
[0,0]
[0,0]
[0,0]
[0,0]
[0,0]
[0,0]
[0,0]
[0,0]
[0,0]
[0,0]
[0,0]
[0,0]
[0,0]
[0,0]
[0,0]
[0,0]
[0,0]
[0,0]
[0,0]
[0,0]
[0,0]
[0,0]
[0,0]
[0,0]
[0,0]
[0,0]
[0,0]
[0,0]
[0,0]
[0,0]
[0,0]
[0,0]
[0,0]
[0,0]
[0,0]
[0,0]
[0,0]
[0,0]
[0,0]
[0,0]
[0,0]
[0,0]
[0,0]
[0,0]
[0,0]
[0,0]
[0,0]
[0,0]
[0,0]
[0,0]
[0,0]
[0,0]
[0,0]
[0,0]
[0,0]
[0,0]
[0,0]
[0,0]
[0,0]
[0,0]
[0,0]
[0,0]
[0,0]
[0,0]
[0,0]
[0,0]
[0,0]
[0,0]
[0,0]
[0,0]
[0,0]
[0,0]
[0,0]
[0,0]
[0,0]
[0,0]
[0,0]
[0,0]
[0,0]
[0,0]
[0,0]
[0,0]
[0,0]
[0,0]
[0,0]
[0,0]
[0,0]
[0,0]
[0,0]
[0,0]
[0,0]
[0,0]
[0,0]
[0,0]
[0,0]
[0,0]
[0,0]
[0,0]
[0,0]
[0,0]
[0,0]
[0,0]
[0,0]
[0,0]
[0,0]
[0,0]
[0,0]
[0,0]
[0,0]
[0,0]
[0,0]
[0,0]
[0,0]
[0,0]
[0,0]
[0,0]
[0,0]
[0,0]
[0,0]
[0,0]
[0,0]
[0,0]
[0,0]
[0,0]
[0,0]
[0,0]
[0,0]
[0,0]
[0,0]
[0,0]
[0,0]
[0,0]
[0,0]
[0,0]
[0,0]
[0,0]
[0,0]
[0,0]
[0,0]
[0,0]
[0,0]
[0,0]
[0,0]
[0,0]
[0,0]
[0,0]
[0,0]
[0,0]
[0,0]
[0,0]
[0,0]
[0,0]
[0,0]
[0,0]
[0,0]
[0,0]
[0,0]
[0,0]
[0,0]
[0,0]
[0,0]
[0,0]
[0,0]
[0,0]
[0,0]
[0,0]
[0,0]
[0,0]
[0,0]
[0,0]
[0,0]
[0,0]
[0,0]
[0,0]
[0,0]
[0,0]
[0,0]
[0,0]
[0,0]
[0,0]
[0,0]
[0,0]
[0,0]
[0,0]
[0,0]
[0,0]
[0,0]
[0,0]
[0,0]
[0,0]
[0,0]
[0,0]
[0,0]
[0,0]
[0,0]
[0,0]
[0,0]
[0,0]
[0,0]
[0,0]
[0,0]
[0,0]
[0,0]
[0,0]
[0,0]
[0,0]
[0,0]
[0,0]
[0,0]
[0,0]
[0,0]
[0,0]
[0,0]
[0,0]
[0,0]
[0,0]
[0,0]
[0,0]
[0,0]
[0,0]
[0,0]
[0,0]
[0,0]
[0,0]
[0,0]
[0,0]
[0,0]
[0,0]
[0,0]
[0,0]
[0,0]
[0,0]
[0,0]
[0,0]
[0,0]
[0,0]
[0,0]
[0,0]
[0,0]
[0,0]
[0,0]
[0,0]
[0,0]
[0,0]
[0,0]
[0,0]
[0,0]
[0,0]
[0,0]
[0,0]
[0,0]
[0,0]
[0,0]
[0,0]
[0,0]
[0,0]
[0,0]
[0,0]
[0,0]
[0,0]
[0,0]
[0,0]
[0,0]
[0,0]
[0,0]
[0,0]
[0,0]
[0,0]
[0,0]
[0,0]
[0,0]
[0,0]
[0,0]
[0,0]
[0,0]
[0,0]
[0,0]
[0,0]
[0,0]
[0,0]
[0,0]
[0,0]
[0,0]
[0,0]
[0,0]
[0,0]
[0,0]
[0,0]
[0,0]
[0,0]
[0,0]
[0,0]
[0,0]
[0,0]
[0,0]
[0,0]
[0,0]
[0,0]
[0,0]
[0,0]
[0,0]
[0,0]
[0,0]
[0,0]
[0,0]
[0,0]
[0,0]
[0,0]
[0,0]
[0,0]
[0,0]
[0,0]
[0,0]
[0,0]
[0,0]
[0,0]
[0,0]
[0,0]
[0,0]
[0,0]
[0,0]
[0,0]
[0,0]
[0,0]
[0,0]
[0,0]
[0,0]
[0,0]
[0,0]
[0,0]
[0,0]
[0,0]
[0,0]
[0,0]
[0,0]
[0,0]
[0,0]
[0,0]
[0,0]
[0,0]
[0,0]
[0,0]
[0,0]
[0,0]
[0,0]
[0,0]
[0,0]
[0,0]
[0,0]
[0,0]
[0,0]
[0,0]
[0,0]
[0,0]
[0,0]
[0,0]
[0,0]
[0,0]
[0,0]
[0,0]
[0,0]
[0,0]
[0,0]
[0,0]
[0,0]
[0,0]
[0,0]
[0,0]
[0,0]
[0,0]
[0,0]
[0,0]
[0,0]
[0,0]
[0,0]
[0,0]
[0,0]
[0,0]
[0,0]
[0,0]
[0,0]
[0,0]
[0,0]
[0,0]
[0,0]
[0,0]
[0,0]
[0,0]
[0,0]
[0,0]
[0,0]
[0,0]
[0,0]
[0,0]
[0,0]
[0,0]
[0,0]
[0,0]
[0,0]
[0,0]
[0,0]
[0,0]
[0,0]
[0,0]
[0,0]
[0,0]
[0,0]
[0,0]
[0,0]
[0,0]
[0,0]
[0,0]
[0,0]
[0,0]
[0,0]
[0,0]
[0,0]
[0,0]
[0,0]
[0,0]
[0,0]
[0,0]
[0,0]
[0,0]
[0,0]
[0,0]
[0,0]
[0,0]
[0,0]
[0,0]
[0,0]
[0,0]
[0,0]
[0,0]
[0,0]
[0,0]
[0,0]
[0,0]
[0,0]
[0,0]
[0,0]
[0,0]
[0,0]
[0,0]
[0,0]
[0,0]
[0,0]
[0,0]
[0,0]
[0,0]
[0,0]
[0,0]
[0,0]
[0,0]
[0,0]
[0,0]
[0,0]
[0,0]
[0,0]
[0,0]
[0,0]
[0,0]
[0,0]
[0,0]
[0,0]
[0,0]
[0,0]
[0,0]
[0,0]
[0,0]
[0,0]
[0,0]
[0,0]
[0,0]
[0,0]
[0,0]
[0,0]
[0,0]
[0,0]
[0,0]
[0,0]
[0,0]
[0,0]
[0,0]
[0,0]
[0,0]
[0,0]
[0,0]
[0,0]
[0,0]
[0,0]
[0,0]
[0,0]
[0,0]
[0,0]
[0,0]
[0,0]
[0,0]
[0,0]
[0,0]
[0,0]
[0,0]
[0,0]
[0,0]
[0,0]
[0,0]
[0,0]
[0,0]
[0,0]
[0,0]
[0,0]
[0,0]
[0,0]
[0,0]
[0,0]
[0,0]
[0,0]
[0,0]
[0,0]
[0,0]
[0,0]
[0,0]
[0,0]
[0,0]
[0,0]
[0,0]
[0,0]
[0,0]
[0,0]
[0,0]
[0,0]
[0,0]
[0,0]
[0,0]
[0,0]
[0,0]
[0,0]
[0,0]
[0,0]
[0,0]
[0,0]
[0,0]
[0,0]
[0,0]
[0,0]
[0,0]
[0,0]
[0,0]
[0,0]
[0,0]
[0,0]
[0,0]
[0,0]
[0,0]
[0,0]
[0,0]
[0,0]
[0,0]
[0,0]
[0,0]
[0,0]
[0,0]
[0,0]
[0,0]
[0,0]
[0,0]
[0,0]
[0,0]
[0,0]
[0,0]
[0,0]
[0,0]
[0,0]
[0,0]
[0,0]
[0,0]
[0,0]
[0,0]
[0,0]
[0,0]
[0,0]
[0,0]
[0,0]
[0,0]
[0,0]
[0,0]
[0,0]
[0,0]
[0,0]
[0,0]
[0,0]
[0,0]
[0,0]
[0,0]
[0,0]
[0,0]
[0,0]
[0,0]
[0,0]
[0,0]
[0,0]
[0,0]
[0,0]
[0,0]
[0,0]
[0,0]
[0,0]
[0,0]
[0,0]
[0,0]
[0,0]
[0,0]
[0,0]
[0,0]
[0,0]
[0,0]
[0,0]
[0,0]
[0,0]
[0,0]
[0,0]
[0,0]
[0,0]
[0,0]
[0,0]
[0,0]
[0,0]
[0,0]
[0,0]
[0,0]
[0,0]
[0,0]
[0,0]
[0,0]
[0,0]
[0,0]
[0,0]
[0,0]
[0,0]
[0,0]
[0,0]
[0,0]
[0,0]
[0,0]
[0,0]
[0,0]
[0,0]
[0,0]
[0,0]
[0,0]
[0,0]
[0,0]
[0,0]
[0,0]
[0,0]
[0,0]
[0,0]
[0,0]
[0,0]
[0,0]
[0,0]
[0,0]
[0,0]
[0,0]
[0,0]
[0,0]
[0,0]
[0,0]
[0,0]
[0,0]
[0,0]
[0,0]
[0,0]
[0,0]
[0,0]
[0,0]
[0,0]
[0,0]
[0,0]
[0,0]
[0,0]
[0,0]
[0,0]
[0,0]
[0,0]
[0,0]
[0,0]
[0,0]
[0,0]
[0,0]
[0,0]
[0,0]
[0,0]
[0,0]
[0,0]
[0,0]
[0,0]
[0,0]
[0,0]
[0,0]
[0,0]
[0,0]
[0,0]
[0,0]
[0,0]
[0,0]
[0,0]
[0,0]
[0,0]
[0,0]
[0,0]
[0,0]
[0,0]
[0,0]
[0,0]
[0,0]
[0,0]
[0,0]
[0,0]
[0,0]
[0,0]
[0,0]
[0,0]
[0,0]
[0,0]
[0,0]
[0,0]
[0,0]
[0,0]
[0,0]
[0,0]
[0,0]
[0,0]
[0,0]
[0,0]
[0,0]
[0,0]
[0,0]
[0,0]
[0,0]
[0,0]
[0,0]
[0,0]
[0,0]
[0,0]
[0,0]
[0,0]
[0,0]
[0,0]
[0,0]
[0,0]
[0,0]
[0,0]
[0,0]
[0,0]
[0,0]
[0,0]
[0,0]
[0,0]
[0,0]
[0,0]
[0,0]
[0,0]
[0,0]
[0,0]
[0,0]
[0,0]
[0,0]
[0,0]
[0,0]
[0,0]
[0,0]
[0,0]
[0,0]
[0,0]
[0,0]
[0,0]
[0,0]
[0,0]
[0,0]
[0,0]
[0,0]
[0,0]
[0,0]
[0,0]
[0,0]
[0,0]
[0,0]
[0,0]
[0,0]
[0,0]
[0,0]
[0,0]
[0,0]
[0,0]
[0,0]
[0,0]
[0,0]
[0,0]
[0,0]
[0,0]
[0,0]
[0,0]
[0,0]
[0,0]
[0,0]
[0,0]
[0,0]
[0,0]
[0,0]
[0,0]
[0,0]
[0,0]
[0,0]
[0,0]
[0,0]
[0,0]
[0,0]
[0,0]
[0,0]
[0,0]
[0,0]
[0,0]
[0,0]
[0,0]
[0,0]
[0,0]
[0,0]
[0,0]
[0,0]
[0,0]
[0,0]
[0,0]
[0,0]
[0,0]
[0,0]
[0,0]
[0,0]
[0,0]
[0,0]
[0,0]
[0,0]
[0,0]
[0,0]
[0,0]
[0,0]
[0,0]
[0,0]
[0,0]
[0,0]
[0,0]
[0,0]
[0,0]
[0,0]
[0,0]
[0,0]
[0,0]
[0,0]
[0,0]
[0,0]
[0,0]
[0,0]
[0,0]
[0,0]
[0,0]
[0,0]
[0,0]
[0,0]
[0,0]
[0,0]
[0,0]
[0,0]
[0,0]
[0,0]
[0,0]
[0,0]
[0,0]
[0,0]
[0,0]
[0,0]
[0,0]
[0,0]
[0,0]
[0,0]
[0,0]
[0,0]
[0,0]
[0,0]
[0,0]
[0,0]
[0,0]
[0,0]
[0,0]
[0,0]
[0,0]
[0,0]
[0,0]
[0,0]
[0,0]
[0,0]
[0,0]
[0,0]
[0,0]
[0,0]
[0,0]
[0,0]
[0,0]
[0,0]
[0,0]
[0,0]
[0,0]
[0,0]
[0,0]
[0,0]
[0,0]
[0,0]
[0,0]
[0,0]
[0,0]
[0,0]
[0,0]
[0,0]
[0,0]
[0,0]
[0,0]
[0,0]
[0,0]
[0,0]
[0,0]
[0,0]
[0,0]
[0,0]
[0,0]
[0,0]
[0,0]
[0,0]
[0,0]
[0,0]
[0,0]
[0,0]
[0,0]
[0,0]
[0,0]
[0,0]
[0,0]
[0,0]
[0,0]
[0,0]
[0,0]
[0,0]
[0,0]
[0,0]
[0,0]
[0,0]
[0,0]
[0,0]
[0,0]
[0,0]
[0,0]
[0,0]
[0,0]
[0,0]
[0,0]
[0,0]
[0,0]
[0,0]
[0,0]
[0,0]
[0,0]
[0,0]
[0,0]
[0,0]
[0,0]
[0,0]
[0,0]
[0,0]
[0,0]
[0,0]
[0,0]
[0,0]
[0,0]
[0,0]
[0,0]
[0,0]
[0,0]
[0,0]
[0,0]
[0,0]
[0,0]
[0,0]
[0,0]
[0,0]
[0,0]
[0,0]
[0,0]
[0,0]
[0,0]
[0,0]
[0,0]
[0,0]
[0,0]
[0,0]
[0,0]
[0,0]
[0,0]
[0,0]
[0,0]
[0,0]
[0,0]
[0,0]
[0,0]
[0,0]
[0,0]
[0,0]
[0,0]
[0,0]
[0,0]
[0,0]
[0,0]
[0,0]
[0,0]
[0,0]
[0,0]
[0,0]
[0,0]
[0,0]
[0,0]
[0,0]
[0,0]
[0,0]
[0,0]
[0,0]
[0,0]
[0,0]
[0,0]
[0,0]
[0,0]
[0,0]
[0,0]
[0,0]
[0,0]
[0,0]
[0,0]
[0,0]
[0,0]
[0,0]
[0,0]
[0,0]
[0,0]
[0,0]
[0,0]
[0,0]
[0,0]
[0,0]
[0,0]
[0,0]
[0,0]
[0,0]
[0,0]
[0,0]
[0,0]
[0,0]
[0,0]
[0,0]
[0,0]
[0,0]
[0,0]
[0,0]
[0,0]
[0,0]
[0,0]
[0,0]
[0,0]
[0,0]
[0,0]
[0,0]
[0,0]
[0,0]
[0,0]
[0,0]
[0,0]
[0,0]
[0,0]
[0,0]
[0,0]
[0,0]
[0,0]
[0,0]
[0,0]
[0,0]
[0,0]
[0,0]
[0,0]
[0,0]
[0,0]
[0,0]
[0,0]
[0,0]
[0,0]
[0,0]
[0,0]
[0,0]
[0,0]
[0,0]
[0,0]
[0,0]
[0,0]
[0,0]
[0,0]
[0,0]
[0,0]
[0,0]
[0,0]
[0,0]
[0,0]
[0,0]
[0,0]
[0,0]
[0,0]
[0,0]
[0,0]
[0,0]
[0,0]
[0,0]
[0,0]
[0,0]
[0,0]
[0,0]
[0,0]
[0,0]
[0,0]
[0,0]
[0,0]
[0,0]
[0,0]
[0,0]
[0,0]
[0,0]
[0,0]
[0,0]
[0,0]
[0,0]
[0,0]
[0,0]
[0,0]
[0,0]
[0,0]
[0,0]
[0,0]
[0,0]
[0,0]
[0,0]
[0,0]
[0,0]
[0,0]
[0,0]
[0,0]
[0,0]
[0,0]
[0,0]
[0,0]
[0,0]
[0,0]
[0,0]
[0,0]
[0,0]
[0,0]
[0,0]
[0,0]
[0,0]
[0,0]
[0,0]
[0,0]
[0,0]
[0,0]
[0,0]
[0,0]
[0,0]
[0,0]
[0,0]
[0,0]
[0,0]
[0,0]
[0,0]
[0,0]
[0,0]
[0,0]
[0,0]
[0,0]
[0,0]
[0,0]
[0,0]
[0,0]
[0,0]
[0,0]
[0,0]
[0,0]
[0,0]
[0,0]
[0,0]
[0,0]
[0,0]
[0,0]
[0,0]
[0,0]
[0,0]
[0,0]
[0,0]
[0,0]
[0,0]
[0,0]
[0,0]
[0,0]
[0,0]
[0,0]
[0,0]
[0,0]
[0,0]
[0,0]
[0,0]
[0,0]
[0,0]
[0,0]
[0,0]
[0,0]
[0,0]
[0,0]
[0,0]
[0,0]
[0,0]
[0,0]
[0,0]
[0,0]
[0,0]
[0,0]
[0,0]
[0,0]
[0,0]
[0,0]
[0,0]
[0,0]
[0,0]
[0,0]
[0,0]
[0,0]
[0,0]
[0,0]
[0,0]
[0,0]
[0,0]
[0,0]
[0,0]
[0,0]
[0,0]
[0,0]
[0,0]
[0,0]
[0,0]
[0,0]
[0,0]
[0,0]
[0,0]
[0,0]
[0,0]
[0,0]
[0,0]
[0,0]
[0,0]
[0,0]
[0,0]
[0,0]
[0,0]
[0,0]
[0,0]
[0,0]
[0,0]
[0,0]
[0,0]
[0,0]
[0,0]
[0,0]
[0,0]
[0,0]
[0,0]
[0,0]
[0,0]
[0,0]
[0,0]
[0,0]
[0,0]
[0,0]
[0,0]
[0,0]
[0,0]
[0,0]
[0,0]
[0,0]
[0,0]
[0,0]
[0,0]
[0,0]
[0,0]
[0,0]
[0,0]
[0,0]
[0,0]
[0,0]
[0,0]
[0,0]
[0,0]
[0,0]
[0,0]
[0,0]
[0,0]
[0,0]
[0,0]
[0,0]
[0,0]
[0,0]
[0,0]
[0,0]
[0,0]
[0,0]
[0,0]
[0,0]
[0,0]
[0,0]
[0,0]
[0,0]
[0,0]
[0,0]
[0,0]
[0,0]
[0,0]
[0,0]
[0,0]
[0,0]
[0,0]
[0,0]
[0,0]
[0,0]
[0,0]
[0,0]
[0,0]
[0,0]
[0,0]
[0,0]
[0,0]
[0,0]
[0,0]
[0,0]
[0,0]
[0,0]
[0,0]
[0,0]
[0,0]
[0,0]
[0,0]
[0,0]
[0,0]
[0,0]
[0,0]
[0,0]
[0,0]
[0,0]
[0,0]
[0,0]
[0,0]
[0,0]
[0,0]
[0,0]
[0,0]
[0,0]
[0,0]
[0,0]
[0,0]
[0,0]
[0,0]
[0,0]
[0,0]
[0,0]
[0,0]
[0,0]
[0,0]
[0,0]
[0,0]
[0,0]
[0,0]
[0,0]
[0,0]
[0,0]
[0,0]
[0,0]
[0,0]
[0,0]
[0,0]
[0,0]
[0,0]
[0,0]
[0,0]
[0,0]
[0,0]
[0,0]
[0,0]
[0,0]
[0,0]
[0,0]
[0,0]
[0,0]
[0,0]
[0,0]
[0,0]
[0,0]
[0,0]
[0,0]
[0,0]
[0,0]
[0,0]
[0,0]
[0,0]
[0,0]
[0,0]
[0,0]
[0,0]
[0,0]
[0,0]
[0,0]
[0,0]
[0,0]
[0,0]
[0,0]
[0,0]
[0,0]
[0,0]
[0,0]
[0,0]
[0,0]
[0,0]
[0,0]
[0,0]
[0,0]
[0,0]
[0,0]
[0,0]
[0,0]
[0,0]
[0,0]
[0,0]
[0,0]
[0,0]
[0,0]
[0,0]
[0,0]
[0,0]
[0,0]
[0,0]
[0,0]
[0,0]
[0,0]
[0,0]
[0,0]
[0,0]
[0,0]
[0,0]
[0,0]
[0,0]
[0,0]
[0,0]
[0,0]
[0,0]
[0,0]
[0,0]
[0,0]
[0,0]
[0,0]
[0,0]
[0,0]
[0,0]
[0,0]
[0,0]
[0,0]
[0,0]
[0,0]
[0,0]
[0,0]
[0,0]
[0,0]
[0,0]
[0,0]
[0,0]
[0,0]
[0,0]
[0,0]
[0,0]
[0,0]
[0,0]
[0,0]
[0,0]
[0,0]
[0,0]
[0,0]
[0,0]
[0,0]
[0,0]
[0,0]
[0,0]
[0,0]
[0,0]
[0,0]
[0,0]
[0,0]
[0,0]
[0,0]
[0,0]
[0,0]
[0,0]
[0,0]
[0,0]
[0,0]
[0,0]
[0,0]
[0,0]
[0,0]
[0,0]
[0,0]
[0,0]
[0,0]
[0,0]
[0,0]
[0,0]
[0,0]
[0,0]
[0,0]
[0,0]
[0,0]
[0,0]
[0,0]
[0,0]
[0,0]
[0,0]
[0,0]
[0,0]
[0,0]
[0,0]
[0,0]
[0,0]
[0,0]
[0,0]
[0,0]
[0,0]
[0,0]
[0,0]
[0,0]
[0,0]
[0,0]
[0,0]
[0,0]
[0,0]
[0,0]
[0,0]
[0,0]
[0,0]
[0,0]
[0,0]
[0,0]
[0,0]
[0,0]
[0,0]
[0,0]
[0,0]
[0,0]
[0,0]
[0,0]
[0,0]
[0,0]
[0,0]
[0,0]
[0,0]
[0,0]
[0,0]
[0,0]
[0,0]
[0,0]
[0,0]
[0,0]
[0,0]
[0,0]
[0,0]
[0,0]
[0,0]
[0,0]
[0,0]
[0,0]
[0,0]
[0,0]
[0,0]
[0,0]
[0,0]
[0,0]
[0,0]
[0,0]
[0,0]
[0,0]
[0,0]
[0,0]
[0,0]
[0,0]
[0,0]
[0,0]
[0,0]
[0,0]
[0,0]
[0,0]
[0,0]
[0,0]
[0,0]
[0,0]
[0,0]
[0,0]
[0,0]
[0,0]
[0,0]
[0,0]
[0,0]
[0,0]
[0,0]
[0,0]
[0,0]
[0,0]
[0,0]
[0,0]
[0,0]
[0,0]
[0,0]
[0,0]
[0,0]
[0,0]
[0,0]
[0,0]
[0,0]
[0,0]
[0,0]
[0,0]
[0,0]
[0,0]
[0,0]
[0,0]
[0,0]
[0,0]
[0,0]
[0,0]
[0,0]
[0,0]
[0,0]
[0,0]
[0,0]
[0,0]
[0,0]
[0,0]
[0,0]
[0,0]
[0,0]
[0,0]
[0,0]
[0,0]
[0,0]
[0,0]
[0,0]
[0,0]
[0,0]
[0,0]
[0,0]
[0,0]
[0,0]
[0,0]
[0,0]
[0,0]
[0,0]
[0,0]
[0,0]
[0,0]
[0,0]
[0,0]
[0,0]
[0,0]
[0,0]
[0,0]
[0,0]
[0,0]
[0,0]
[0,0]
[0,0]
[0,0]
[0,0]
[0,0]
[0,0]
[0,0]
[0,0]
[0,0]
[0,0]
[0,0]
[0,0]
[0,0]
[0,0]
[0,0]
[0,0]
[0,0]
[0,0]
[0,0]
[0,0]
[0,0]
[0,0]
[0,0]
[0,0]
[0,0]
[0,0]
[0,0]
[0,0]
[0,0]
[0,0]
[0,0]
[0,0]
[0,0]
[0,0]
[0,0]
[0,0]
[0,0]
[0,0]
[0,0]
[0,0]
[0,0]
[0,0]
[0,0]
[0,0]
[0,0]
[0,0]
[0,0]
[0,0]
[0,0]
[0,0]
[0,0]
[0,0]
[0,0]
[0,0]
[0,0]
[0,0]
[0,0]
[0,0]
[0,0]
[0,0]
[0,0]
[0,0]
[0,0]
[0,0]
[0,0]
[0,0]
[0,0]
[0,0]
[0,0]
[0,0]
[0,0]
[0,0]
[0,0]
[0,0]
[0,0]
[0,0]
[0,0]
[0,0]
[0,0]
[0,0]
[0,0]
[0,0]
[0,0]
[0,0]
[0,0]
[0,0]
[0,0]
[0,0]
[0,0]
[0,0]
[0,0]
[0,0]
[0,0]
[0,0]
[0,0]
[0,0]
[0,0]
[0,0]
[0,0]
[0,0]
[0,0]
[0,0]
[0,0]
[0,0]
[0,0]
[0,0]
[0,0]
[0,0]
[0,0]
[0,0]
[0,0]
[0,0]
[0,0]
[0,0]
[0,0]
[0,0]
[0,0]
[0,0]
[0,0]
[0,0]
[0,0]
[0,0]
[0,0]
[0,0]
[0,0]
[0,0]
[0,0]
[0,0]
[0,0]
[0,0]
[0,0]
[0,0]
[0,0]
[0,0]
[0,0]
[0,0]
[0,0]
[0,0]
[0,0]
[0,0]
[0,0]
[0,0]
[0,0]
[0,0]
[0,0]
[0,0]
[0,0]
[0,0]
[0,0]
[0,0]
[0,0]
[0,0]
[0,0]
[0,0]
[0,0]
[0,0]
[0,0]
[0,0]
[0,0]
[0,0]
[0,0]
[0,0]
[0,0]
[0,0]
[0,0]
[0,0]
[0,0]
[0,0]
[0,0]
[0,0]
[0,0]
[0,0]
[0,0]
[0,0]
[0,0]
[0,0]
[0,0]
[0,0]
[0,0]
[0,0]
[0,0]
[0,0]
[0,0]
[0,0]
[0,0]
[0,0]
[0,0]
[0,0]
[0,0]
[0,0]
[0,0]
[0,0]
[0,0]
[0,0]
[0,0]
[0,0]
[0,0]
[0,0]
[0,0]
[0,0]
[0,0]
[0,0]
[0,0]
[0,0]
[0,0]
[0,0]
[0,0]
[0,0]
[0,0]
[0,0]
[0,0]
[0,0]
[0,0]
[0,0]
[0,0]
[0,0]
[0,0]
[0,0]
[0,0]
[0,0]
[0,0]
[0,0]
[0,0]
[0,0]
[0,0]
[0,0]
[0,0]
[0,0]
[0,0]
[0,0]
[0,0]
[0,0]
[0,0]
[0,0]
[0,0]
[0,0]
[0,0]
[0,0]
[0,0]
[0,0]
[0,0]
[0,0]
[0,0]
[0,0]
[0,0]
[0,0]
[0,0]
[0,0]
[0,0]
[0,0]
[0,0]
[0,0]
[0,0]
[0,0]
[0,0]
[0,0]
[0,0]
[0,0]
[0,0]
[0,0]
[0,0]
[0,0]
[0,0]
[0,0]
[0,0]
[0,0]
[0,0]
[0,0]
[0,0]
[0,0]
[0,0]
[0,0]
[0,0]
[0,0]
[0,0]
[0,0]
[0,0]
[0,0]
[0,0]
[0,0]
[0,0]
[0,0]
[0,0]
[0,0]
[0,0]
[0,0]
[0,0]
[0,0]
[0,0]
[0,0]
[0,0]
[0,0]
[0,0]
[0,0]
[0,0]
[0,0]
[0,0]
[0,0]
[0,0]
[0,0]
[0,0]
[0,0]
[0,0]
[0,0]
[0,0]
[0,0]
[0,0]
[0,0]
[0,0]
[0,0]
[0,0]
[0,0]
[0,0]
[0,0]
[0,0]
[0,0]
[0,0]
[0,0]
[0,0]
[0,0]
[0,0]
[0,0]
[0,0]
[0,0]
[0,0]
[0,0]
[0,0]
[0,0]
[0,0]
[0,0]
[0,0]
[0,0]
[0,0]
[0,0]
[0,0]
[0,0]
[0,0]
[0,0]
[0,0]
[0,0]
[0,0]
[0,0]
[0,0]
[0,0]
[0,0]
[0,0]
[0,0]
[0,0]
[0,0]
[0,0]
[0,0]
[0,0]
[0,0]
[0,0]
[0,0]
[0,0]
[0,0]
[0,0]
[0,0]
[0,0]
[0,0]
[0,0]
[0,0]
[0,0]
[0,0]
[0,0]
[0,0]
[0,0]
[0,0]
[0,0]
[0,0]
[0,0]
[0,0]
[0,0]
[0,0]
[0,0]
[0,0]
[0,0]
[0,0]
[0,0]
[0,0]
[0,0]
[0,0]
[0,0]
[0,0]
[0,0]
[0,0]
[0,0]
[0,0]
[0,0]
[0,0]
[0,0]
[0,0]
[0,0]
[0,0]
[0,0]
[0,0]
[0,0]
[0,0]
[0,0]
[0,0]
[0,0]
[0,0]
[0,0]
[0,0]
[0,0]
[0,0]
[0,0]
[0,0]
[0,0]
[0,0]
[0,0]
[0,0]
[0,0]
[0,0]
[0,0]
[0,0]
[0,0]
[0,0]
[0,0]
[0,0]
[0,0]
[0,0]
[0,0]
[0,0]
[0,0]
[0,0]
[0,0]
[0,0]
[0,0]
[0,0]
[0,0]
[0,0]
[0,0]
[0,0]
[0,0]
[0,0]
[0,0]
[0,0]
[0,0]
[0,0]
[0,0]
[0,0]
[0,0]
[0,0]
[0,0]
[0,0]
[0,0]
[0,0]
[0,0]
[0,0]
[0,0]
[0,0]
[0,0]
[0,0]
[0,0]
[0,0]
[0,0]
[0,0]
[0,0]
[0,0]
[0,0]
[0,0]
[0,0]
[0,0]
[0,0]
[0,0]
[0,0]
[0,0]
[0,0]
[0,0]
[0,0]
[0,0]
[0,0]
[0,0]
[0,0]
[0,0]
[0,0]
[0,0]
[0,0]
[0,0]
[0,0]
[0,0]
[0,0]
[0,0]
[0,0]
[0,0]
[0,0]
[0,0]
[0,0]
[0,0]
[0,0]
[0,0]
[0,0]
[0,0]
[0,0]
[0,0]
[0,0]
[0,0]
[0,0]
[0,0]
[0,0]
[0,0]
[0,0]
[0,0]
[0,0]
[0,0]
[0,0]
[0,0]
[0,0]
[0,0]
[0,0]
[0,0]
[0,0]
[0,0]
[0,0]
[0,0]
[0,0]
[0,0]
[0,0]
[0,0]
[0,0]
[0,0]
[0,0]
[0,0]
[0,0]
[0,0]
[0,0]
[0,0]
[0,0]
[0,0]
[0,0]
[0,0]
[0,0]
[0,0]
[0,0]
[0,0]
[0,0]
[0,0]
[0,0]
[0,0]
[0,0]
[0,0]
[0,0]
[0,0]
[0,0]
[0,0]
[0,0]
[0,0]
[0,0]
[0,0]
[0,0]
[0,0]
[0,0]
[0,0]
[0,0]
[0,0]
[0,0]
[0,0]
[0,0]
[0,0]
[0,0]
[0,0]
[0,0]
[0,0]
[0,0]
[0,0]
[0,0]
[0,0]
[0,0]
[0,0]
[0,0]
[0,0]
[0,0]
[0,0]
[0,0]
[0,0]
[0,0]
[0,0]
[0,0]
[0,0]
[0,0]
[0,0]
[0,0]
[0,0]
[0,0]
[0,0]
[0,0]
[0,0]
[0,0]
[0,0]
[0,0]
[0,0]
[0,0]
[0,0]
[0,0]
[0,0]
[0,0]
[0,0]
[0,0]
[0,0]
[0,0]
[0,0]
[0,0]
[0,0]
[0,0]
[0,0]
[0,0]
[0,0]
[0,0]
[0,0]
[0,0]
[0,0]
[0,0]
[0,0]
[0,0]
[0,0]
[0,0]
[0,0]
[0,0]
[0,0]
[0,0]
[0,0]
[0,0]
[0,0]
[0,0]
[0,0]
[0,0]
[0,0]
[0,0]
[0,0]
[0,0]
[0,0]
[0,0]
[0,0]
[0,0]
[0,0]
[0,0]
[0,0]
[0,0]
[0,0]
[0,0]
[0,0]
[0,0]
[0,0]
[0,0]
[0,0]
[0,0]
[0,0]
[0,0]
[0,0]
[0,0]
[0,0]
[0,0]
[0,0]
[0,0]
[0,0]
[0,0]
[0,0]
[0,0]
[0,0]
[0,0]
[0,0]
[0,0]
[0,0]
[0,0]
[0,0]
[0,0]
[0,0]
[0,0]
[0,0]
[0,0]
[0,0]
[0,0]
[0,0]
[0,0]
[0,0]
[0,0]
[0,0]
[0,0]
[0,0]
[0,0]
[0,0]
[0,0]
[0,0]
[0,0]
[0,0]
[0,0]
[0,0]
[0,0]
[0,0]
[0,0]
[0,0]
[0,0]
[0,0]
[0,0]
[0,0]
[0,0]
[0,0]
[0,0]
[0,0]
[0,0]
[0,0]
[0,0]
[0,0]
[0,0]
[0,0]
[0,0]
[0,0]
[0,0]
[0,0]
[0,0]
[0,0]
[0,0]
[0,0]
[0,0]
[0,0]
[0,0]
[0,0]
[0,0]
[0,0]
[0,0]
[0,0]
[0,0]
[0,0]
[0,0]
[0,0]
[0,0]
[0,0]
[0,0]
[0,0]
[0,0]
[0,0]
[0,0]
[0,0]
[0,0]
[0,0]
[0,0]
[0,0]
[0,0]
[0,0]
[0,0]
[0,0]
[0,0]
[0,0]
[0,0]
[0,0]
[0,0]
[0,0]
[0,0]
[0,0]
[0,0]
[0,0]
[0,0]
[0,0]
[0,0]
[0,0]
[0,0]
[0,0]
[0,0]
[0,0]
[0,0]
[0,0]
[0,0]
[0,0]
[0,0]
[0,0]
[0,0]
[0,0]
[0,0]
[0,0]
[0,0]
[0,0]
[0,0]
[0,0]
[0,0]
[0,0]
[0,0]
[0,0]
[0,0]
[0,0]
[0,0]
[0,0]
[0,0]
[0,0]
[0,0]
[0,0]
[0,0]
[0,0]
[0,0]
[0,0]
[0,0]
[0,0]
[0,0]
[0,0]
[0,0]
[0,0]
[0,0]
[0,0]
[0,0]
[0,0]
[0,0]
[0,0]
[0,0]
[0,0]
[0,0]
[0,0]
[0,0]
[0,0]
[0,0]
[0,0]
[0,0]
[0,0]
[0,0]
[0,0]
[0,0]
[0,0]
[0,0]
[0,0]
[0,0]
[0,0]
[0,0]
[0,0]
[0,0]
[0,0]
[0,0]
[0,0]
[0,0]
[0,0]
[0,0]
[0,0]
[0,0]
[0,0]
[0,0]
[0,0]
[0,0]
[0,0]
[0,0]
[0,0]
[0,0]
[0,0]
[0,0]
[0,0]
[0,0]
[0,0]
[0,0]
[0,0]
[0,0]
[0,0]
[0,0]
[0,0]
[0,0]
[0,0]
[0,0]
[0,0]
[0,0]
[0,0]
[0,0]
[0,0]
[0,0]
[0,0]
[0,0]
[0,0]
[0,0]
[0,0]
[0,0]
[0,0]
[0,0]
[0,0]
[0,0]
[0,0]
[0,0]
[0,0]
[0,0]
[0,0]
[0,0]
[0,0]
[0,0]
[0,0]
[0,0]
[0,0]
[0,0]
[0,0]
[0,0]
[0,0]
[0,0]
[0,0]
[0,0]
[0,0]
[0,0]
[0,0]
[0,0]
[0,0]
[0,0]
[0,0]
[0,0]
[0,0]
[0,0]
[0,0]
[0,0]
[0,0]
[0,0]
[0,0]
[0,0]
[0,0]
[0,0]
[0,0]
[0,0]
[0,0]
[0,0]
[0,0]
[0,0]
[0,0]
[0,0]
[0,0]
[0,0]
[0,0]
[0,0]
[0,0]
[0,0]
[0,0]
[0,0]
[0,0]
[0,0]
[0,0]
[0,0]
[0,0]
[0,0]
[0,0]
[0,0]
[0,0]
[0,0]
[0,0]
[0,0]
[0,0]
[0,0]
[0,0]
[0,0]
[0,0]
[0,0]
[0,0]
[0,0]
[0,0]
[0,0]
[0,0]
[0,0]
[0,0]
[0,0]
[0,0]
[0,0]
[0,0]
[0,0]
[0,0]
[0,0]
[0,0]
[0,0]
[0,0]
[0,0]
[0,0]
[0,0]
[0,0]
[0,0]
[0,0]
[0,0]
[0,0]
[0,0]
[0,0]
[0,0]
[0,0]
[0,0]
[0,0]
[0,0]
[0,0]
[0,0]
[0,0]
[0,0]
[0,0]
[0,0]
[0,0]
[0,0]
[0,0]
[0,0]
[0,0]
[0,0]
[0,0]
[0,0]
[0,0]
[0,0]
[0,0]
[0,0]
[0,0]
[0,0]
[0,0]
[0,0]
[0,0]
[0,0]
[0,0]
[0,0]
[0,0]
[0,0]
[0,0]
[0,0]
[0,0]
[0,0]
[0,0]
[0,0]
[0,0]
[0,0]
[0,0]
[0,0]
[0,0]
[0,0]
[0,0]
[0,0]
[0,0]
[0,0]
[0,0]
[0,0]
[0,0]
[0,0]
[0,0]
[0,0]
[0,0]
[0,0]
[0,0]
[0,0]
[0,0]
[0,0]
[0,0]
[0,0]
[0,0]
[0,0]
[0,0]
[0,0]
[0,0]
[0,0]
[0,0]
[0,0]
[0,0]
[0,0]
[0,0]
[0,0]
[0,0]
[0,0]
[0,0]
[0,0]
[0,0]
[0,0]
[0,0]
[0,0]
[0,0]
[0,0]
[0,0]
[0,0]
[0,0]
[0,0]
[0,0]
[0,0]
[0,0]
[0,0]
[0,0]
[0,0]
[0,0]
[0,0]
[0,0]
[0,0]
[0,0]
[0,0]
[0,0]
[0,0]
[0,0]
[0,0]
[0,0]
[0,0]
[0,0]
[0,0]
[0,0]
[0,0]
[0,0]
[0,0]
[0,0]
[0,0]
[0,0]
[0,0]
[0,0]
[0,0]
[0,0]
[0,0]
[0,0]
[0,0]
[0,0]
[0,0]
[0,0]
[0,0]
[0,0]
[0,0]
[0,0]
[0,0]
[0,0]
[0,0]
[0,0]
[0,0]
[0,0]
[0,0]
[0,0]
[0,0]
[0,0]
[0,0]
[0,0]
[0,0]
[0,0]
[0,0]
[0,0]
[0,0]
[0,0]
[0,0]
[0,0]
[0,0]
[0,0]
[0,0]
[0,0]
[0,0]
[0,0]
[0,0]
[0,0]
[0,0]
[0,0]
[0,0]
[0,0]
[0,0]
[0,0]
[0,0]
[0,0]
[0,0]
[0,0]
[0,0]
[0,0]
[0,0]
[0,0]
[0,0]
[0,0]
[0,0]
[0,0]
[0,0]
[0,0]
[0,0]
[0,0]
[0,0]
[0,0]
[0,0]
[0,0]
[0,0]
[0,0]
[0,0]
[0,0]
[0,0]
[0,0]
[0,0]
[0,0]
[0,0]
[0,0]
[0,0]
[0,0]
[0,0]
[0,0]
[0,0]
[0,0]
[0,0]
[0,0]
[0,0]
[0,0]
[0,0]
[0,0]
[0,0]
[0,0]
[0,0]
[0,0]
[0,0]
[0,0]
[0,0]
[0,0]
[0,0]
[0,0]
[0,0]
[0,0]
[0,0]
[0,0]
[0,0]
[0,0]
[0,0]
[0,0]
[0,0]
[0,0]
[0,0]
[0,0]
[0,0]
[0,0]
[0,0]
[0,0]
[0,0]
[0,0]
[0,0]
[0,0]
[0,0]
[0,0]
[0,0]
[0,0]
[0,0]
[0,0]
[0,0]
[0,0]
[0,0]
[0,0]
[0,0]
[0,0]
[0,0]
[0,0]
[0,0]
[0,0]
[0,0]
[0,0]
[0,0]
[0,0]
[0,0]
[0,0]
[0,0]
[0,0]
[0,0]
[0,0]
[0,0]
[0,0]
[0,0]
[0,0]
[0,0]
[0,0]
[0,0]
[0,0]
[0,0]
[0,0]
[0,0]
[0,0]
[0,0]
[0,0]
[0,0]
[0,0]
[0,0]
[0,0]
[0,0]
[0,0]
[0,0]
[0,0]
[0,0]
[0,0]
[0,0]
[0,0]
[0,0]
[0,0]
[0,0]
[0,0]
[0,0]
[0,0]
[0,0]
[0,0]
[0,0]
[0,0]
[0,0]
[0,0]
[0,0]
[0,0]
[0,0]
[0,0]
[0,0]
[0,0]
[0,0]
[0,0]
[0,0]
[0,0]
[0,0]
[0,0]
[0,0]
[0,0]
[0,0]
[0,0]
[0,0]
[0,0]
[0,0]
[0,0]
[0,0]
[0,0]
[0,0]
[0,0]
[0,0]
[0,0]
[0,0]
[0,0]
[0,0]
[0,0]
[0,0]
[0,0]
[0,0]
[0,0]
[0,0]
[0,0]
[0,0]
[0,0]
[0,0]
[0,0]
[0,0]
[0,0]
[0,0]
[0,0]
[0,0]
[0,0]
[0,0]
[0,0]
[0,0]
[0,0]
[0,0]
[0,0]
[0,0]
[0,0]
[0,0]
[0,0]
[0,0]
[0,0]
[0,0]
[0,0]
[0,0]
[0,0]
[0,0]
[0,0]
[0,0]
[0,0]
[0,0]
[0,0]
[0,0]
[0,0]
[0,0]
[0,0]
[0,0]
[0,0]
[0,0]
[0,0]
[0,0]
[0,0]
[0,0]
[0,0]
[0,0]
[0,0]
[0,0]
[0,0]
[0,0]
[0,0]
[0,0]
[0,0]
[0,0]
[0,0]
[0,0]
[0,0]
[0,0]
[0,0]
[0,0]
[0,0]
[0,0]
[0,0]
[0,0]
[0,0]
[0,0]
[0,0]
[0,0]
[0,0]
[0,0]
[0,0]
[0,0]
[0,0]
[0,0]
[0,0]
[0,0]
[0,0]
[0,0]
[0,0]
[0,0]
[0,0]
[0,0]
[0,0]
[0,0]
[0,0]
[0,0]
[0,0]
[0,0]
[0,0]
[0,0]
[0,0]
[0,0]
[0,0]
[0,0]
[0,0]
[0,0]
[0,0]
[0,0]
[0,0]
[0,0]
[0,0]
[0,0]
[0,0]
[0,0]
[0,0]
[0,0]
[0,0]
[0,0]
[0,0]
[0,0]
[0,0]
[0,0]
[0,0]
[0,0]
[0,0]
[0,0]
[0,0]
[0,0]
[0,0]
[0,0]
[0,0]
[0,0]
[0,0]
[0,0]
[0,0]
[0,0]
[0,0]
[0,0]
[0,0]
[0,0]
[0,0]
[0,0]
[0,0]
[0,0]
[0,0]
[0,0]
[0,0]
[0,0]
[0,0]
[0,0]
[0,0]
[0,0]
[0,0]
[0,0]
[0,0]
[0,0]
[0,0]
[0,0]
[0,0]
[0,0]
[0,0]
[0,0]
[0,0]
[0,0]
[0,0]
[0,0]
[0,0]
[0,0]
[0,0]
[0,0]
[0,0]
[0,0]
[0,0]
[0,0]
[0,0]
[0,0]
[0,0]
[0,0]
[0,0]
[0,0]
[0,0]
[0,0]
[0,0]
[0,0]
[0,0]
[0,0]
[0,0]
[0,0]
[0,0]
[0,0]
[0,0]
[0,0]
[0,0]
[0,0]
[0,0]
[0,0]
[0,0]
[0,0]
[0,0]
[0,0]
[0,0]
[0,0]
[0,0]
[0,0]
[0,0]
[0,0]
[0,0]
[0,0]
[0,0]
[0,0]
[0,0]
[0,0]
[0,0]
[0,0]
[0,0]
[0,0]
[0,0]
[0,0]
[0,0]
[0,0]
[0,0]
[0,0]
[0,0]
[0,0]
[0,0]
[0,0]
[0,0]
[0,0]
[0,0]
[0,0]
[0,0]
[0,0]
[0,0]
[0,0]
[0,0]
[0,0]
[0,0]
[0,0]
[0,0]
[0,0]
[0,0]
[0,0]
[0,0]
[0,0]
[0,0]
[0,0]
[0,0]
[0,0]
[0,0]
[0,0]
[0,0]
[0,0]
[0,0]
[0,0]
[0,0]
[0,0]
[0,0]
[0,0]
[0,0]
[0,0]
[0,0]
[0,0]
[0,0]
[0,0]
[0,0]
[0,0]
[0,0]
[0,0]
[0,0]
[0,0]
[0,0]
[0,0]
[0,0]
[0,0]
[0,0]
[0,0]
[0,0]
[0,0]
[0,0]
[0,0]
[0,0]
[0,0]
[0,0]
[0,0]
[0,0]
[0,0]
[0,0]
[0,0]
[0,0]
[0,0]
[0,0]
[0,0]
[0,0]
[0,0]
[0,0]
[0,0]
[0,0]
[0,0]
[0,0]
[0,0]
[0,0]
[0,0]
[0,0]
[0,0]
[0,0]
[0,0]
[0,0]
[0,0]
[0,0]
[0,0]
[0,0]
[0,0]
[0,0]
[0,0]
[0,0]
[0,0]
[0,0]
[0,0]
[0,0]
[0,0]
[0,0]
[0,0]
[0,0]
[0,0]
[0,0]
[0,0]
[0,0]
[0,0]
[0,0]
[0,0]
[0,0]
[0,0]
[0,0]
[0,0]
[0,0]
[0,0]
[0,0]
[0,0]
[0,0]
[0,0]
[0,0]
[0,0]
[0,0]
[0,0]
[0,0]
[0,0]
[0,0]
[0,0]
[0,0]
[0,0]
[0,0]
[0,0]
[0,0]
[0,0]
[0,0]
[0,0]
[0,0]
[0,0]
[0,0]
[0,0]
[0,0]
[0,0]
[0,0]
[0,0]
[0,0]
[0,0]
[0,0]
[0,0]
[0,0]
[0,0]
[0,0]
[0,0]
[0,0]
[0,0]
[0,0]
[0,0]
[0,0]
[0,0]
[0,0]
[0,0]
[0,0]
[0,0]
[0,0]
[0,0]
[0,0]
[0,0]
[0,0]
[0,0]
[0,0]
[0,0]
[0,0]
[0,0]
[0,0]
[0,0]
[0,0]
[0,0]
[0,0]
[0,0]
[0,0]
[0,0]
[0,0]
[0,0]
[0,0]
[0,0]
[0,0]
[0,0]
[0,0]
[0,0]
[0,0]
[0,0]
[0,0]
[0,0]
[0,0]
[0,0]
[0,0]
[0,0]
[0,0]
[0,0]
[0,0]
[0,0]
[0,0]
[0,0]
[0,0]
[0,0]
[0,0]
[0,0]
[0,0]
[0,0]
[0,0]
[0,0]
[0,0]
[0,0]
[0,0]
[0,0]
[0,0]
[0,0]
[0,0]
[0,0]
[0,0]
[0,0]
[0,0]
[0,0]
[0,0]
[0,0]
[0,0]
[0,0]
[0,0]
[0,0]
[0,0]
[0,0]
[0,0]
[0,0]
[0,0]
[0,0]
[0,0]
[0,0]
[0,0]
[0,0]
[0,0]
[0,0]
[0,0]
[0,0]
[0,0]
[0,0]
[0,0]
[0,0]
[0,0]
[0,0]
[0,0]
[0,0]
[0,0]
[0,0]
[0,0]
[0,0]
[0,0]
[0,0]
[0,0]
[0,0]
[0,0]
[0,0]
[0,0]
[0,0]
[0,0]
[0,0]
[0,0]
[0,0]
[0,0]
[0,0]
[0,0]
[0,0]
[0,0]
[0,0]
[0,0]
[0,0]
[0,0]
[0,0]
[0,0]
[0,0]
[0,0]
[0,0]
[0,0]
[0,0]
[0,0]
[0,0]
[0,0]
[0,0]
[0,0]
[0,0]
[0,0]
[0,0]
[0,0]
[0,0]
[0,0]
[0,0]
[0,0]
[0,0]
[0,0]
[0,0]
[0,0]
[0,0]
[0,0]
[0,0]
[0,0]
[0,0]
[0,0]
[0,0]
[0,0]
[0,0]
[0,0]
[0,0]
[0,0]
[0,0]
[0,0]
[0,0]
[0,0]
[0,0]
[0,0]
[0,0]
[0,0]
[0,0]
[0,0]
[0,0]
[0,0]
[0,0]
[0,0]
[0,0]
[0,0]
[0,0]
[0,0]
[0,0]
[0,0]
[0,0]
[0,0]
[0,0]
[0,0]
[0,0]
[0,0]
[0,0]
[0,0]
[0,0]
[0,0]
[0,0]
[0,0]
[0,0]
[0,0]
[0,0]
[0,0]
[0,0]
[0,0]
[0,0]
[0,0]
[0,0]
[0,0]
[0,0]
[0,0]
[0,0]
[0,0]
[0,0]
[0,0]
[0,0]
[0,0]
[0,0]
[0,0]
[0,0]
[0,0]
[0,0]
[0,0]
[0,0]
[0,0]
[0,0]
[0,0]
[0,0]
[0,0]
[0,0]
[0,0]
[0,0]
[0,0]
[0,0]
[0,0]
[0,0]
[0,0]
[0,0]
[0,0]
[0,0]
[0,0]
[0,0]
[0,0]
[0,0]
[0,0]
[0,0]
[0,0]
[0,0]
[0,0]
[0,0]
[0,0]
[0,0]
[0,0]
[0,0]
[0,0]
[0,0]
[0,0]
[0,0]
[0,0]
[0,0]
[0,0]
[0,0]
[0,0]
[0,0]
[0,0]
[0,0]
[0,0]
[0,0]
[0,0]
[0,0]
[0,0]
[0,0]
[0,0]
[0,0]
[0,0]
[0,0]
[0,0]
[0,0]
[0,0]
[0,0]
[0,0]
[0,0]
[0,0]
[0,0]
[0,0]
[0,0]
[0,0]
[0,0]
[0,0]
[0,0]
[0,0]
[0,0]
[0,0]
[0,0]
[0,0]
[0,0]
[0,0]
[0,0]
[0,0]
[0,0]
[0,0]
[0,0]
[0,0]
[0,0]
[0,0]
[0,0]
[0,0]
[0,0]
[0,0]
[0,0]
[0,0]
[0,0]
[0,0]
[0,0]
[0,0]
[0,0]
[0,0]
[0,0]
[0,0]
[0,0]
[0,0]
[0,0]
[0,0]
[0,0]
[0,0]
[0,0]
[0,0]
[0,0]
[0,0]
[0,0]
[0,0]
[0,0]
[0,0]
[0,0]
[0,0]
[0,0]
[0,0]
[0,0]
[0,0]
[0,0]
[0,0]
[0,0]
[0,0]
[0,0]
[0,0]
[0,0]
[0,0]
[0,0]
[0,0]
[0,0]
[0,0]
[0,0]
[0,0]
[0,0]
[0,0]
[0,0]
[0,0]
[0,0]
[0,0]
[0,0]
[0,0]
[0,0]
[0,0]
[0,0]
[0,0]
[0,0]
[0,0]
[0,0]
[0,0]
[0,0]
[0,0]
[0,0]
[0,0]
[0,0]
[0,0]
[0,0]
[0,0]
[0,0]
[0,0]
[0,0]
[0,0]
[0,0]
[0,0]
[0,0]
[0,0]
[0,0]
[0,0]
[0,0]
[0,0]
[0,0]
[0,0]
[0,0]
[0,0]
[0,0]
[0,0]
[0,0]
[0,0]
[0,0]
[0,0]
[0,0]
[0,0]
[0,0]
[0,0]
[0,0]
[0,0]
[0,0]
[0,0]
[0,0]
[0,0]
[0,0]
[0,0]
[0,0]
[0,0]
[0,0]
[0,0]
[0,0]
[0,0]
[0,0]
[0,0]
[0,0]
[0,0]
[0,0]
[0,0]
[0,0]
[0,0]
[0,0]
[0,0]
[0,0]
[0,0]
[0,0]
[0,0]
[0,0]
[0,0]
[0,0]
[0,0]
[0,0]
[0,0]
[0,0]
[0,0]
[0,0]
[0,0]
[0,0]
[0,0]
[0,0]
[0,0]
[0,0]
[0,0]
[0,0]
[0,0]
[0,0]
[0,0]
[0,0]
[0,0]
[0,0]
[0,0]
[0,0]
[0,0]
[0,0]
[0,0]
[0,0]
[0,0]
[0,0]
[0,0]
[0,0]
[0,0]
[0,0]
[0,0]
[0,0]
[0,0]
[0,0]
[0,0]
[0,0]
[0,0]
[0,0]
[0,0]
[0,0]
[0,0]
[0,0]
[0,0]
[0,0]
[0,0]
[0,0]
[0,0]
[0,0]
[0,0]
[0,0]
[0,0]
[0,0]
[0,0]
[0,0]
[0,0]
[0,0]
[0,0]
[0,0]
[0,0]
[0,0]
[0,0]
[0,0]
[0,0]
[0,0]
[0,0]
[0,0]
[0,0]
[0,0]
[0,0]
[0,0]
[0,0]
[0,0]
[0,0]
[0,0]
[0,0]
[0,0]
[0,0]
[0,0]
[0,0]
[0,0]
[0,0]
[0,0]
[0,0]
[0,0]
[0,0]
[0,0]
[0,0]
[0,0]
[0,0]
[0,0]
[0,0]
[0,0]
[0,0]
[0,0]
[0,0]
[0,0]
[0,0]
[0,0]
[0,0]
[0,0]
[0,0]
[0,0]
[0,0]
[0,0]
[0,0]
[0,0]
[0,0]
[0,0]
[0,0]
[0,0]
[0,0]
[0,0]
[0,0]
[0,0]
[0,0]
[0,0]
[0,0]
[0,0]
[0,0]
[0,0]
[0,0]
[0,0]
[0,0]
[0,0]
[0,0]
[0,0]
[0,0]
[0,0]
[0,0]
[0,0]
[0,0]
[0,0]
[0,0]
[0,0]
[0,0]
[0,0]
[0,0]
[0,0]
[0,0]
[0,0]
[0,0]
[0,0]
[0,0]
[0,0]
[0,0]
[0,0]
[0,0]
[0,0]
[0,0]
[0,0]
[0,0]
[0,0]
[0,0]
[0,0]
[0,0]
[0,0]
[0,0]
[0,0]
[0,0]
[0,0]
[0,0]
[0,0]
[0,0]
[0,0]
[0,0]
[0,0]
[0,0]
[0,0]
[0,0]
[0,0]
[0,0]
[0,0]
[0,0]
[0,0]
[0,0]
[0,0]
[0,0]
[0,0]
[0,0]
[0,0]
[0,0]
[0,0]
[0,0]
[0,0]
[0,0]
[0,0]
[0,0]
[0,0]
[0,0]
[0,0]
[0,0]
[0,0]
[0,0]
[0,0]
[0,0]
[0,0]
[0,0]
[0,0]
[0,0]
[0,0]
[0,0]
[0,0]
[0,0]
[0,0]
[0,0]
[0,0]
[0,0]
[0,0]
[0,0]
[0,0]
[0,0]
[0,0]
[0,0]
[0,0]
[0,0]
[0,0]
[0,0]
[0,0]
[0,0]
[0,0]
[0,0]
[0,0]
[0,0]
[0,0]
[0,0]
[0,0]
[0,0]
[0,0]
[0,0]
[0,0]
[0,0]
[0,0]
[0,0]
[0,0]
[0,0]
[0,0]
[0,0]
[0,0]
[0,0]
[0,0]
[0,0]
[0,0]
[0,0]
[0,0]
[0,0]
[0,0]
[0,0]
[0,0]
[0,0]
[0,0]
[0,0]
[0,0]
[0,0]
[0,0]
[0,0]
[0,0]
[0,0]
[0,0]
[0,0]
[0,0]
[0,0]
[0,0]
[0,0]
[0,0]
[0,0]
[0,0]
[0,0]
[0,0]
[0,0]
[0,0]
[0,0]
[0,0]
[0,0]
[0,0]
[0,0]
[0,0]
[0,0]
[0,0]
[0,0]
[0,0]
[0,0]
[0,0]
[0,0]
[0,0]
[0,0]
[0,0]
[0,0]
[0,0]
[0,0]
[0,0]
[0,0]
[0,0]
[0,0]
[0,0]
[0,0]
[0,0]
[0,0]
[0,0]
[0,0]
[0,0]
[0,0]
[0,0]
[0,0]
[0,0]
[0,0]
[0,0]
[0,0]
[0,0]
[0,0]
[0,0]
[0,0]
[0,0]
[0,0]
[0,0]
[0,0]
[0,0]
[0,0]
[0,0]
[0,0]
[0,0]
[0,0]
[0,0]
[0,0]
[0,0]
[0,0]
[0,0]
[0,0]
[0,0]
[0,0]
[0,0]
[0,0]
[0,0]
[0,0]
[0,0]
[0,0]
[0,0]
[0,0]
[0,0]
[0,0]
[0,0]
[0,0]
[0,0]
[0,0]
[0,0]
[0,0]
[0,0]
[0,0]
[0,0]
[0,0]
[0,0]
[0,0]
[0,0]
[0,0]
[0,0]
[0,0]
[0,0]
[0,0]
[0,0]
[0,0]
[0,0]
[0,0]
[0,0]
[0,0]
[0,0]
[0,0]
[0,0]
[0,0]
[0,0]
[0,0]
[0,0]
[0,0]
[0,0]
[0,0]
[0,0]
[0,0]
[0,0]
[0,0]
[0,0]
[0,0]
[0,0]
[0,0]
[0,0]
[0,0]
[0,0]
[0,0]
[0,0]
[0,0]
[0,0]
[0,0]
[0,0]
[0,0]
[0,0]
[0,0]
[0,0]
[0,0]
[0,0]
[0,0]
[0,0]
[0,0]
[0,0]
[0,0]
[0,0]
[0,0]
[0,0]
[0,0]
[0,0]
[0,0]
[0,0]
[0,0]
[0,0]
[0,0]
[0,0]
[0,0]
[0,0]
[0,0]
[0,0]
[0,0]
[0,0]
[0,0]
[0,0]
[0,0]
[0,0]
[0,0]
[0,0]
[0,0]
[0,0]
[0,0]
[0,0]
[0,0]
[0,0]
[0,0]
[0,0]
[0,0]
[0,0]
[0,0]
[0,0]
[0,0]
[0,0]
[0,0]
[0,0]
[0,0]
[0,0]
[0,0]
[0,0]
[0,0]
[0,0]
[0,0]
[0,0]
[0,0]
[0,0]
[0,0]
[0,0]
[0,0]
[0,0]
[0,0]
[0,0]
[0,0]
[0,0]
[0,0]
[0,0]
[0,0]
[0,0]
[0,0]
[0,0]
[0,0]
[0,0]
[0,0]
[0,0]
[0,0]
[0,0]
[0,0]
[0,0]
[0,0]
[0,0]
[0,0]
[0,0]
[0,0]
[0,0]
[0,0]
[0,0]
[0,0]
[0,0]
[0,0]
[0,0]
[0,0]
[0,0]
[0,0]
[0,0]
[0,0]
[0,0]
[0,0]
[0,0]
[0,0]
[0,0]
[0,0]
[0,0]
[0,0]
[0,0]
[0,0]
[0,0]
[0,0]
[0,0]
[0,0]
[0,0]
[0,0]
[0,0]
[0,0]
[0,0]
[0,0]
[0,0]
[0,0]
[0,0]
[0,0]
[0,0]
[0,0]
[0,0]
[0,0]
[0,0]
[0,0]
[0,0]
[0,0]
[0,0]
[0,0]
[0,0]
[0,0]
[0,0]
[0,0]
[0,0]
[0,0]
[0,0]
[0,0]
[0,0]
[0,0]
[0,0]
[0,0]
[0,0]
[0,0]
[0,0]
[0,0]
[0,0]
[0,0]
[0,0]
[0,0]
[0,0]
[0,0]
[0,0]
[0,0]
[0,0]
[0,0]
[0,0]
[0,0]
[0,0]
[0,0]
[0,0]
[0,0]
[0,0]
[0,0]
[0,0]
[0,0]
[0,0]
[0,0]
[0,0]
[0,0]
[0,0]
[0,0]
[0,0]
[0,0]
[0,0]
[0,0]
[0,0]
[0,0]
[0,0]
[0,0]
[0,0]
[0,0]
[0,0]
[0,0]
[0,0]
[0,0]
[0,0]
[0,0]
[0,0]
[0,0]
[0,0]
[0,0]
[0,0]
[0,0]
[0,0]
[0,0]
[0,0]
[0,0]
[0,0]
[0,0]
[0,0]
[0,0]
[0,0]
[0,0]
[0,0]
[0,0]
[0,0]
[0,0]
[0,0]
[0,0]
[0,0]
[0,0]
[0,0]
[0,0]
[0,0]
[0,0]
[0,0]
[0,0]
[0,0]
[0,0]
[0,0]
[0,0]
[0,0]
[0,0]
[0,0]
[0,0]
[0,0]
[0,0]
[0,0]
[0,0]
[0,0]
[0,0]
[0,0]
[0,0]
[0,0]
[0,0]
[0,0]
[0,0]
[0,0]
[0,0]
[0,0]
[0,0]
[0,0]
[0,0]
[0,0]
[0,0]
[0,0]
[0,0]
[0,0]
[0,0]
[0,0]
[0,0]
[0,0]
[0,0]
[0,0]
[0,0]
[0,0]
[0,0]
[0,0]
[0,0]
[0,0]
[0,0]
[0,0]
[0,0]
[0,0]
[0,0]
[0,0]
[0,0]
[0,0]
[0,0]
[0,0]
[0,0]
[0,0]
[0,0]
[0,0]
[0,0]
[0,0]
[0,0]
[0,0]
[0,0]
[0,0]
[0,0]
[0,0]
[0,0]
[0,0]
[0,0]
[0,0]
[0,0]
[0,0]
[0,0]
[0,0]
[0,0]
[0,0]
[0,0]
[0,0]
[0,0]
[0,0]
[0,0]
[0,0]
[0,0]
[0,0]
[0,0]
[0,0]
[0,0]
[0,0]
[0,0]
[0,0]
[0,0]
[0,0]
[0,0]
[0,0]
[0,0]
[0,0]
[0,0]
[0,0]
[0,0]
[0,0]
[0,0]
[0,0]
[0,0]
[0,0]
[0,0]
[0,0]
[0,0]
[0,0]
[0,0]
[0,0]
[0,0]
[0,0]
[0,0]
[0,0]
[0,0]
[0,0]
[0,0]
[0,0]
[0,0]
[0,0]
[0,0]
[0,0]
[0,0]
[0,0]
[0,0]
[0,0]
[0,0]
[0,0]
[0,0]
[0,0]
[0,0]
[0,0]
[0,0]
[0,0]
[0,0]
[0,0]
[0,0]
[0,0]
[0,0]
[0,0]
[0,0]
[0,0]
[0,0]
[0,0]
[0,0]
[0,0]
[0,0]
[0,0]
[0,0]
[0,0]
[0,0]
[0,0]
[0,0]
[0,0]
[0,0]
[0,0]
[0,0]
[0,0]
[0,0]
[0,0]
[0,0]
[0,0]
[0,0]
[0,0]
[0,0]
[0,0]
[0,0]
[0,0]
[0,0]
[0,0]
[0,0]
[0,0]
[0,0]
[0,0]
[0,0]
[0,0]
[0,0]
[0,0]
[0,0]
[0,0]
[0,0]
[0,0]
[0,0]
[0,0]
[0,0]
[0,0]
[0,0]
[0,0]
[0,0]
[0,0]
[0,0]
[0,0]
[0,0]
[0,0]
[0,0]
[0,0]
[0,0]
[0,0]
[0,0]
[0,0]
[0,0]
[0,0]
[0,0]
[0,0]
[0,0]
[0,0]
[0,0]
[0,0]
[0,0]
[0,0]
[0,0]
[0,0]
[0,0]
[0,0]
[0,0]
[0,0]
[0,0]
[0,0]
[0,0]
[0,0]
[0,0]
[0,0]
[0,0]
[0,0]
[0,0]
[0,0]
[0,0]
[0,0]
[0,0]
[0,0]
[0,0]
[0,0]
[0,0]
[0,0]
[0,0]
[0,0]
[0,0]
[0,0]
[0,0]
[0,0]
[0,0]
[0,0]
[0,0]
[0,0]
[0,0]
[0,0]
[0,0]
[0,0]
[0,0]
[0,0]
[0,0]
[0,0]
[0,0]
[0,0]
[0,0]
[0,0]
[0,0]
[0,0]
[0,0]
[0,0]
[0,0]
[0,0]
[0,0]
[0,0]
[0,0]
[0,0]
[0,0]
[0,0]
[0,0]
[0,0]
[0,0]
[0,0]
[0,0]
[0,0]
[0,0]
[0,0]
[0,0]
[0,0]
[0,0]
[0,0]
[0,0]
[0,0]
[0,0]
[0,0]
[0,0]
[0,0]
[0,0]
[0,0]
[0,0]
[0,0]
[0,0]
[0,0]
[0,0]
[0,0]
[0,0]
[0,0]
[0,0]
[0,0]
[0,0]
[0,0]
[0,0]
[0,0]
[0,0]
[0,0]
[0,0]
[0,0]
[0,0]
[0,0]
[0,0]
[0,0]
[0,0]
[0,0]
[0,0]
[0,0]
[0,0]
[0,0]
[0,0]
[0,0]
[0,0]
[0,0]
[0,0]
[0,0]
[0,0]
[0,0]
[0,0]
[0,0]
[0,0]
[0,0]
[0,0]
[0,0]
[0,0]
[0,0]
[0,0]
[0,0]
[0,0]
[0,0]
[0,0]
[0,0]
[0,0]
[0,0]
[0,0]
[0,0]
[0,0]
[0,0]
[0,0]
[0,0]
[0,0]
[0,0]
[0,0]
[0,0]
[0,0]
[0,0]
[0,0]
[0,0]
[0,0]
[0,0]
[0,0]
[0,0]
[0,0]
[0,0]
[0,0]
[0,0]
[0,0]
[0,0]
[0,0]
[0,0]
[0,0]
[0,0]
[0,0]
[0,0]
[0,0]
[0,0]
[0,0]
[0,0]
[0,0]
[0,0]
[0,0]
[0,0]
[0,0]
[0,0]
[0,0]
[0,0]
[0,0]
[0,0]
[0,0]
[0,0]
[0,0]
[0,0]
[0,0]
[0,0]
[0,0]
[0,0]
[0,0]
[0,0]
[0,0]
[0,0]
[0,0]
[0,0]
[0,0]
[0,0]
[0,0]
[0,0]
[0,0]
[0,0]
[0,0]
[0,0]
[0,0]
[0,0]
[0,0]
[0,0]
[0,0]
[0,0]
[0,0]
[0,0]
[0,0]
[0,0]
[0,0]
[0,0]
[0,0]
[0,0]
[0,0]
[0,0]
[0,0]
[0,0]
[0,0]
[0,0]
[0,0]
[0,0]
[0,0]
[0,0]
[0,0]
[0,0]
[0,0]
[0,0]
[0,0]
[0,0]
[0,0]
[0,0]
[0,0]
[0,0]
[0,0]
[0,0]
[0,0]
[0,0]
[0,0]
[0,0]
[0,0]
[0,0]
[0,0]
[0,0]
[0,0]
[0,0]
[0,0]
[0,0]
[0,0]
[0,0]
[0,0]
[0,0]
[0,0]
[0,0]
[0,0]
[0,0]
[0,0]
[0,0]
[0,0]
[0,0]
[0,0]
[0,0]
[0,0]
[0,0]
[0,0]
[0,0]
[0,0]
[0,0]
[0,0]
[0,0]
[0,0]
[0,0]
[0,0]
[0,0]
[0,0]
[0,0]
[0,0]
[0,0]
[0,0]
[0,0]
[0,0]
[0,0]
[0,0]
[0,0]
[0,0]
[0,0]
[0,0]
[0,0]
[0,0]
[0,0]
[0,0]
[0,0]
[0,0]
[0,0]
[0,0]
[0,0]
[0,0]
[0,0]
[0,0]
[0,0]
[0,0]
[0,0]
[0,0]
[0,0]
[0,0]
[0,0]
[0,0]
[0,0]
[0,0]
[0,0]
[0,0]
[0,0]
[0,0]
[0,0]
[0,0]
[0,0]
[0,0]
[0,0]
[0,0]
[0,0]
[0,0]
[0,0]
[0,0]
[0,0]
[0,0]
[0,0]
[0,0]
[0,0]
[0,0]
[0,0]
[0,0]
[0,0]
[0,0]
[0,0]
[0,0]
[0,0]
[0,0]
[0,0]
[0,0]
[0,0]
[0,0]
[0,0]
[0,0]
[0,0]
[0,0]
[0,0]
[0,0]
[0,0]
[0,0]
[0,0]
[0,0]
[0,0]
[0,0]
[0,0]
[0,0]
[0,0]
[0,0]
[0,0]
[0,0]
[0,0]
[0,0]
[0,0]
[0,0]
[0,0]
[0,0]
[0,0]
[0,0]
[0,0]
[0,0]
[0,0]
[0,0]
[0,0]
[0,0]
[0,0]
[0,0]
[0,0]
[0,0]
[0,0]
[0,0]
[0,0]
[0,0]
[0,0]
[0,0]
[0,0]
[0,0]
[0,0]
[0,0]
[0,0]
[0,0]
[0,0]
[0,0]
[0,0]
[0,0]
[0,0]
[0,0]
[0,0]
[0,0]
[0,0]
[0,0]
[0,0]
[0,0]
[0,0]
[0,0]
[0,0]
[0,0]
[0,0]
[0,0]
[0,0]
[0,0]
[0,0]
[0,0]
[0,0]
[0,0]
[0,0]
[0,0]
[0,0]
[0,0]
[0,0]
[0,0]
[0,0]
[0,0]
[0,0]
[0,0]
[0,0]
[0,0]
[0,0]
[0,0]
[0,0]
[0,0]
[0,0]
[0,0]
[0,0]
[0,0]
[0,0]
[0,0]
[0,0]
[0,0]
[0,0]
[0,0]
[0,0]
[0,0]
[0,0]
[0,0]
[0,0]
[0,0]
[0,0]
[0,0]
[0,0]
[0,0]
[0,0]
[0,0]
[0,0]
[0,0]
[0,0]
[0,0]
[0,0]
[0,0]
[0,0]
[0,0]
[0,0]
[0,0]
[0,0]
[0,0]
[0,0]
[0,0]
[0,0]
[0,0]
[0,0]
[0,0]
[0,0]
[0,0]
[0,0]
[0,0]
[0,0]
[0,0]
[0,0]
[0,0]
[0,0]
[0,0]
[0,0]
[0,0]
[0,0]
[0,0]
[0,0]
[0,0]
[0,0]
[0,0]
[0,0]
[0,0]
[0,0]
[0,0]
[0,0]
[0,0]
[0,0]
[0,0]
[0,0]
[0,0]
[0,0]
[0,0]
[0,0]
[0,0]
[0,0]
[0,0]
[0,0]
[0,0]
[0,0]
[0,0]
[0,0]
[0,0]
[0,0]
[0,0]
[0,0]
[0,0]
[0,0]
[0,0]
[0,0]
[0,0]
[0,0]
[0,0]
[0,0]
[0,0]
[0,0]
[0,0]
[0,0]
[0,0]
[0,0]
[0,0]
[0,0]
[0,0]
[0,0]
[0,0]
[0,0]
[0,0]
[0,0]
[0,0]
[0,0]
[0,0]
[0,0]
[0,0]
[0,0]
[0,0]
[0,0]
[0,0]
[0,0]
[0,0]
[0,0]
[0,0]
[0,0]
[0,0]
[0,0]
[0,0]
[0,0]
[0,0]
[0,0]
[0,0]
[0,0]
[0,0]
[0,0]
[0,0]
[0,0]
[0,0]
[0,0]
[0,0]
[0,0]
[0,0]
[0,0]
[0,0]
[0,0]
[0,0]
[0,0]
[0,0]
[0,0]
[0,0]
[0,0]
[0,0]
[0,0]
[0,0]
[0,0]
[0,0]
[0,0]
[0,0]
[0,0]
[0,0]
[0,0]
[0,0]
[0,0]
[0,0]
[0,0]
[0,0]
[0,0]
[0,0]
[0,0]
[0,0]
[0,0]
[0,0]
[0,0]
[0,0]
[0,0]
[0,0]
[0,0]
[0,0]
[0,0]
[0,0]
[0,0]
[0,0]
[0,0]
[0,0]
[0,0]
[0,0]
[0,0]
[0,0]
[0,0]
[0,0]
[0,0]
[0,0]
[0,0]
[0,0]
[0,0]
[0,0]
[0,0]
[0,0]
[0,0]
[0,0]
[0,0]
[0,0]
[0,0]
[0,0]
[0,0]
[0,0]
[0,0]
[0,0]
[0,0]
[0,0]
[0,0]
[0,0]
[0,0]
[0,0]
[0,0]
[0,0]
[0,0]
[0,0]
[0,0]
[0,0]
[0,0]
[0,0]
[0,0]
[0,0]
[0,0]
[0,0]
[0,0]
[0,0]
[0,0]
[0,0]
[0,0]
[0,0]
[0,0]
[0,0]
[0,0]
[0,0]
[0,0]
[0,0]
[0,0]
[0,0]
[0,0]
[0,0]
[0,0]
[0,0]
[0,0]
[0,0]
[0,0]
[0,0]
[0,0]
[0,0]
[0,0]
[0,0]
[0,0]
[0,0]
[0,0]
[0,0]
[0,0]
[0,0]
[0,0]
[0,0]
[0,0]
[0,0]
[0,0]
[0,0]
[0,0]
[0,0]
[0,0]
[0,0]
[0,0]
[0,0]
[0,0]
[0,0]
[0,0]
[0,0]
[0,0]
[0,0]
[0,0]
[0,0]
[0,0]
[0,0]
[0,0]
[0,0]
[0,0]
[0,0]
[0,0]
[0,0]
[0,0]
[0,0]
[0,0]
[0,0]
[0,0]
[0,0]
[0,0]
[0,0]
[0,0]
[0,0]
[0,0]
[0,0]
[0,0]
[0,0]
[0,0]
[0,0]
[0,0]
[0,0]
[0,0]
[0,0]
[0,0]
[0,0]
[0,0]
[0,0]
[0,0]
[0,0]
[0,0]
[0,0]
[0,0]
[0,0]
[0,0]
[0,0]
[0,0]
[0,0]
[0,0]
[0,0]
[0,0]
[0,0]
[0,0]
[0,0]
[0,0]
[0,0]
[0,0]
[0,0]
[0,0]
[0,0]
[0,0]
[0,0]
[0,0]
[0,0]
[0,0]
[0,0]
[0,0]
[0,0]
[0,0]
[0,0]
[0,0]
[0,0]
[0,0]
[0,0]
[0,0]
[0,0]
[0,0]
[0,0]
[0,0]
[0,0]
[0,0]
[0,0]
[0,0]
[0,0]
[0,0]
[0,0]
[0,0]
[0,0]
[0,0]
[0,0]
[0,0]
[0,0]
[0,0]
[0,0]
[0,0]
[0,0]
[0,0]
[0,0]
[0,0]
[0,0]
[0,0]
[0,0]
[0,0]
[0,0]
[0,0]
[0,0]
[0,0]
[0,0]
[0,0]
[0,0]
[0,0]
[0,0]
[0,0]
[0,0]
[0,0]
[0,0]
[0,0]
[0,0]
[0,0]
[0,0]
[0,0]
[0,0]
[0,0]
[0,0]
[0,0]
[0,0]
[0,0]
[0,0]
[0,0]
[0,0]
[0,0]
[0,0]
[0,0]
[0,0]
[0,0]
[0,0]
[0,0]
[0,0]
[0,0]
[0,0]
[0,0]
[0,0]
[0,0]
[0,0]
[0,0]
[0,0]
[0,0]
[0,0]
[0,0]
[0,0]
[0,0]
[0,0]
[0,0]
[0,0]
[0,0]
[0,0]
[0,0]
[0,0]
[0,0]
[0,0]
[0,0]
[0,0]
[0,0]
[0,0]
[0,0]
[0,0]
[0,0]
[0,0]
[0,0]
[0,0]
[0,0]
[0,0]
[0,0]
[0,0]
[0,0]
[0,0]
[0,0]
[0,0]
[0,0]
[0,0]
[0,0]
[0,0]
[0,0]
[0,0]
[0,0]
[0,0]
[0,0]
[0,0]
[0,0]
[0,0]
[0,0]
[0,0]
[0,0]
[0,0]
[0,0]
[0,0]
[0,0]
[0,0]
[0,0]
[0,0]
[0,0]
[0,0]
[0,0]
[0,0]
[0,0]
[0,0]
[0,0]
[0,0]
[0,0]
[0,0]
[0,0]
[0,0]
[0,0]
[0,0]
[0,0]
[0,0]
[0,0]
[0,0]
[0,0]
[0,0]
[0,0]
[0,0]
[0,0]
[0,0]
[0,0]
[0,0]
[0,0]
[0,0]
[0,0]
[0,0]
[0,0]
[0,0]
[0,0]
[0,0]
[0,0]
[0,0]
[0,0]
[0,0]
[0,0]
[0,0]
[0,0]
[0,0]
[0,0]
[0,0]
[0,0]
[0,0]
[0,0]
[0,0]
[0,0]
[0,0]
[0,0]
[0,0]
[0,0]
[0,0]
[0,0]
[0,0]
[0,0]
[0,0]
[0,0]
[0,0]
[0,0]
[0,0]
[0,0]
[0,0]
[0,0]
[0,0]
[0,0]
[0,0]
[0,0]
[0,0]
[0,0]
[0,0]
[0,0]
[0,0]
[0,0]
[0,0]
[0,0]
[0,0]
[0,0]
[0,0]
[0,0]
[0,0]
[0,0]
[0,0]
[0,0]
[0,0]
[0,0]
[0,0]
[0,0]
[0,0]
[0,0]
[0,0]
[0,0]
[0,0]
[0,0]
[0,0]
[0,0]
[0,0]
[0,0]
[0,0]
[0,0]
[0,0]
[0,0]
[0,0]
[0,0]
[0,0]
[0,0]
[0,0]
[0,0]
[0,0]
[0,0]
[0,0]
[0,0]
[0,0]
[0,0]
[0,0]
[0,0]
[0,0]
[0,0]
[0,0]
[0,0]
[0,0]
[0,0]
[0,0]
[0,0]
[0,0]
[0,0]
[0,0]
[0,0]
[0,0]
[0,0]
[0,0]
[0,0]
[0,0]
[0,0]
[0,0]
[0,0]
[0,0]
[0,0]
[0,0]
[0,0]
[0,0]
[0,0]
[0,0]
[0,0]
[0,0]
[0,0]
[0,0]
[0,0]
[0,0]
[0,0]
[0,0]
[0,0]
[0,0]
[0,0]
[0,0]
[0,0]
[0,0]
[0,0]
[0,0]
[0,0]
[0,0]
[0,0]
[0,0]
[0,0]
[0,0]
[0,0]
[0,0]
[0,0]
[0,0]
[0,0]
[0,0]
[0,0]
[0,0]
[0,0]
[0,0]
[0,0]
[0,0]
[0,0]
[0,0]
[0,0]
[0,0]
[0,0]
[0,0]
[0,0]
[0,0]
[0,0]
[0,0]
[0,0]
[0,0]
[0,0]
[0,0]
[0,0]
[0,0]
[0,0]
[0,0]
[0,0]
[0,0]
[0,0]
[0,0]
[0,0]
[0,0]
[0,0]
[0,0]
[0,0]
[0,0]
[0,0]
[0,0]
[0,0]
[0,0]
[0,0]
[0,0]
[0,0]
[0,0]
[0,0]
[0,0]
[0,0]
[0,0]
[0,0]
[0,0]
[0,0]
[0,0]
[0,0]
[0,0]
[0,0]
[0,0]
[0,0]
[0,0]
[0,0]
[0,0]
[0,0]
[0,0]
[0,0]
[0,0]
[0,0]
[0,0]
[0,0]
[0,0]
[0,0]
[0,0]
[0,0]
[0,0]
[0,0]
[0,0]
[0,0]
[0,0]
[0,0]
[0,0]
[0,0]
[0,0]
[0,0]
[0,0]
[0,0]
[0,0]
[0,0]
[0,0]
[0,0]
[0,0]
[0,0]
[0,0]
[0,0]
[0,0]
[0,0]
[0,0]
[0,0]
[0,0]
[0,0]
[0,0]
[0,0]
[0,0]
[0,0]
[0,0]
[0,0]
[0,0]
[0,0]
[0,0]
[0,0]
[0,0]
[0,0]
[0,0]
[0,0]
[0,0]
[0,0]
[0,0]
[0,0]
[0,0]
[0,0]
[0,0]
[0,0]
[0,0]
[0,0]
[0,0]
[0,0]
[0,0]
[0,0]
[0,0]
[0,0]
[0,0]
[0,0]
[0,0]
[0,0]
[0,0]
[0,0]
[0,0]
[0,0]
[0,0]
[0,0]
[0,0]
[0,0]
[0,0]
[0,0]
[0,0]
[0,0]
[0,0]
[0,0]
[0,0]
[0,0]
[0,0]
[0,0]
[0,0]
[0,0]
[0,0]
[0,0]
[0,0]
[0,0]
[0,0]
[0,0]
[0,0]
[0,0]
[0,0]
[0,0]
[0,0]
[0,0]
[0,0]
[0,0]
[0,0]
[0,0]
[0,0]
[0,0]
[0,0]
[0,0]
[0,0]
[0,0]
[0,0]
[0,0]
[0,0]
[0,0]
[0,0]
[0,0]
[0,0]
[0,0]
[0,0]
[0,0]
[0,0]
[0,0]
[0,0]
[0,0]
[0,0]
[0,0]
[0,0]
[0,0]
[0,0]
[0,0]
[0,0]
[0,0]
[0,0]
[0,0]
[0,0]
[0,0]
[0,0]
[0,0]
[0,0]
[0,0]
[0,0]
[0,0]
[0,0]
[0,0]
[0,0]
[0,0]
[0,0]
[0,0]
[0,0]
[0,0]
[0,0]
[0,0]
[0,0]
[0,0]
[0,0]
[0,0]
[0,0]
[0,0]
[0,0]
[0,0]
[0,0]
[0,0]
[0,0]
[0,0]
[0,0]
[0,0]
[0,0]
[0,0]
[0,0]
[0,0]
[0,0]
[0,0]
[0,0]
[0,0]
[0,0]
[0,0]
[0,0]
[0,0]
[0,0]
[0,0]
[0,0]
[0,0]
[0,0]
[0,0]
[0,0]
[0,0]
[0,0]
[0,0]
[0,0]
[0,0]
[0,0]
[0,0]
[0,0]
[0,0]
[0,0]
[0,0]
[0,0]
[0,0]
[0,0]
[0,0]
[0,0]
[0,0]
[0,0]
[0,0]
[0,0]
[0,0]
[0,0]
[0,0]
[0,0]
[0,0]
[0,0]
[0,0]
[0,0]
[0,0]
[0,0]
[0,0]
[0,0]
[0,0]
[0,0]
[0,0]
[0,0]
[0,0]
[0,0]
[0,0]
[0,0]
[0,0]
[0,0]
[0,0]
[0,0]
[0,0]
[0,0]
[0,0]
[0,0]
[0,0]
[0,0]
[0,0]
[0,0]
[0,0]
[0,0]
[0,0]
[0,0]
[0,0]
[0,0]
[0,0]
[0,0]
[0,0]
[0,0]
[0,0]
[0,0]
[0,0]
[0,0]
[0,0]
[0,0]
[0,0]
[0,0]
[0,0]
[0,0]
[0,0]
[0,0]
[0,0]
[0,0]
[0,0]
[0,0]
[0,0]
[0,0]
[0,0]
[0,0]
[0,0]
[0,0]
[0,0]
[0,0]
[0,0]
[0,0]
[0,0]
[0,0]
[0,0]
[0,0]
[0,0]
[0,0]
[0,0]
[0,0]
[0,0]
[0,0]
[0,0]
[0,0]
[0,0]
[0,0]
[0,0]
[0,0]
[0,0]
[0,0]
[0,0]
[0,0]
[0,0]
[0,0]
[0,0]
[0,0]
[0,0]
[0,0]
[0,0]
[0,0]
[0,0]
[0,0]
[0,0]
[0,0]
[0,0]
[0,0]
[0,0]
[0,0]
[0,0]
[0,0]
[0,0]
[0,0]
[0,0]
[0,0]
[0,0]
[0,0]
[0,0]
[0,0]
[0,0]
[0,0]
[0,0]
[0,0]
[0,0]
[0,0]
[0,0]
[0,0]
[0,0]
[0,0]
[0,0]
[0,0]
[0,0]
[0,0]
[0,0]
[0,0]
[0,0]
[0,0]
[0,0]
[0,0]
[0,0]
[0,0]
[0,0]
[0,0]
[0,0]
[0,0]
[0,0]
[0,0]
[0,0]
[0,0]
[0,0]
[0,0]
[0,0]
[0,0]
[0,0]
[0,0]
[0,0]
[0,0]
[0,0]
[0,0]
[0,0]
[0,0]
[0,0]
[0,0]
[0,0]
[0,0]
[0,0]
[0,0]
[0,0]
[0,0]
[0,0]
[0,0]
[0,0]
[0,0]
[0,0]
[0,0]
[0,0]
[0,0]
[0,0]
[0,0]
[0,0]
[0,0]
[0,0]
[0,0]
[0,0]
[0,0]
[0,0]
[0,0]
[0,0]
[0,0]
[0,0]
[0,0]
[0,0]
[0,0]
[0,0]
[0,0]
[0,0]
[0,0]
[0,0]
[0,0]
[0,0]
[0,0]
[0,0]
[0,0]
[0,0]
[0,0]
[0,0]
[0,0]
[0,0]
[0,0]
[0,0]
[0,0]
[0,0]
[0,0]
[0,0]
[0,0]
[0,0]
[0,0]
[0,0]
[0,0]
[0,0]
[0,0]
[0,0]
[0,0]
[0,0]
[0,0]
[0,0]
[0,0]
[0,0]
[0,0]
[0,0]
[0,0]
[0,0]
[0,0]
[0,0]
[0,0]
[0,0]
[0,0]
[0,0]
[0,0]
[0,0]
[0,0]
[0,0]
[0,0]
[0,0]
[0,0]
[0,0]
[0,0]
[0,0]
[0,0]
[0,0]
[0,0]
[0,0]
[0,0]
[0,0]
[0,0]
[0,0]
[0,0]
[0,0]
[0,0]
[0,0]
[0,0]
[0,0]
[0,0]
[0,0]
[0,0]
[0,0]
[0,0]
[0,0]
[0,0]
[0,0]
[0,0]
[0,0]
[0,0]
[0,0]
[0,0]
[0,0]
[0,0]
[0,0]
[0,0]
[0,0]
[0,0]
[0,0]
[0,0]
[0,0]
[0,0]
[0,0]
[0,0]
[0,0]
[0,0]
[0,0]
[0,0]
[0,0]
[0,0]
[0,0]
[0,0]
[0,0]
[0,0]
[0,0]
[0,0]
[0,0]
[0,0]
[0,0]
[0,0]
[0,0]
[0,0]
[0,0]
[0,0]
[0,0]
[0,0]
[0,0]
[0,0]
[0,0]
[0,0]
[0,0]
[0,0]
[0,0]
[0,0]
[0,0]
[0,0]
[0,0]
[0,0]
[0,0]
[0,0]
[0,0]
[0,0]
[0,0]
[0,0]
[0,0]
[0,0]
[0,0]
[0,0]
[0,0]
[0,0]
[0,0]
[0,0]
[0,0]
[0,0]
[0,0]
[0,0]
[0,0]
[0,0]
[0,0]
[0,0]
[0,0]
[0,0]
[0,0]
[0,0]
[0,0]
[0,0]
[0,0]
[0,0]
[0,0]
[0,0]
[0,0]
[0,0]
[0,0]
[0,0]
[0,0]
[0,0]
[0,0]
[0,0]
[0,0]
[0,0]
[0,0]
[0,0]
[0,0]
[0,0]
[0,0]
[0,0]
[0,0]
[0,0]
[0,0]
[0,0]
[0,0]
[0,0]
[0,0]
[0,0]
[0,0]
[0,0]
[0,0]
[0,0]
[0,0]
[0,0]
[0,0]
[0,0]
[0,0]
[0,0]
[0,0]
[0,0]
[0,0]
[0,0]
[0,0]
[0,0]
[0,0]
[0,0]
[0,0]
[0,0]
[0,0]
[0,0]
[0,0]
[0,0]
[0,0]
[0,0]
[0,0]
[0,0]
[0,0]
[0,0]
[0,0]
[0,0]
[0,0]
[0,0]
[0,0]
[0,0]
[0,0]
[0,0]
[0,0]
[0,0]
[0,0]
[0,0]
[0,0]
[0,0]
[0,0]
[0,0]
[0,0]
[0,0]
[0,0]
[0,0]
[0,0]
[0,0]
[0,0]
[0,0]
[0,0]
[0,0]
[0,0]
[0,0]
[0,0]
[0,0]
[0,0]
[0,0]
[0,0]
[0,0]
[0,0]
[0,0]
[0,0]
[0,0]
[0,0]
[0,0]
[0,0]
[0,0]
[0,0]
[0,0]
[0,0]
[0,0]
[0,0]
[0,0]
[0,0]
[0,0]
[0,0]
[0,0]
[0,0]
[0,0]
[0,0]
[0,0]
[0,0]
[0,0]
[0,0]
[0,0]
[0,0]
[0,0]
[0,0]
[0,0]
[0,0]
[0,0]
[0,0]
[0,0]
[0,0]
[0,0]
[0,0]
[0,0]
[0,0]
[0,0]
[0,0]
[0,0]
[0,0]
[0,0]
[0,0]
[0,0]
[0,0]
[0,0]
[0,0]
[0,0]
[0,0]
[0,0]
[0,0]
[0,0]
[0,0]
[0,0]
[0,0]
[0,0]
[0,0]
[0,0]
[0,0]
[0,0]
[0,0]
[0,0]
[0,0]
[0,0]
[0,0]
[0,0]
[0,0]
[0,0]
[0,0]
[0,0]
[0,0]
[0,0]
[0,0]
[0,0]
[0,0]
[0,0]
[0,0]
[0,0]
[0,0]
[0,0]
[0,0]
[0,0]
[0,0]
[0,0]
[0,0]
[0,0]
[0,0]
[0,0]
[0,0]
[0,0]
[0,0]
[0,0]
[0,0]
[0,0]
[0,0]
[0,0]
[0,0]
[0,0]
[0,0]
[0,0]
[0,0]
[0,0]
[0,0]
[0,0]
[0,0]
[0,0]
[0,0]
[0,0]
[0,0]
[0,0]
[0,0]
[0,0]
[0,0]
[0,0]
[0,0]
[0,0]
[0,0]
[0,0]
[0,0]
[0,0]
[0,0]
[0,0]
[0,0]
[0,0]
[0,0]
[0,0]
[0,0]
[0,0]
[0,0]
[0,0]
[0,0]
[0,0]
[0,0]
[0,0]
[0,0]
[0,0]
[0,0]
[0,0]
[0,0]
[0,0]
[0,0]
[0,0]
[0,0]
[0,0]
[0,0]
[0,0]
[0,0]
[0,0]
[0,0]
[0,0]
[0,0]
[0,0]
[0,0]
[0,0]
[0,0]
[0,0]
[0,0]
[0,0]
[0,0]
[0,0]
[0,0]
[0,0]
[0,0]
[0,0]
[0,0]
[0,0]
[0,0]
[0,0]
[0,0]
[0,0]
[0,0]
[0,0]
[0,0]
[0,0]
[0,0]
[0,0]
[0,0]
[0,0]
[0,0]
[0,0]
[0,0]
[0,0]
[0,0]
[0,0]
[0,0]
[0,0]
[0,0]
[0,0]
[0,0]
[0,0]
[0,0]
[0,0]
[0,0]
[0,0]
[0,0]
[0,0]
[0,0]
[0,0]
[0,0]
[0,0]
[0,0]
[0,0]
[0,0]
[0,0]
[0,0]
[0,0]
[0,0]
[0,0]
[0,0]
[0,0]
[0,0]
[0,0]
[0,0]
[0,0]
[0,0]
[0,0]
[0,0]
[0,0]
[0,0]
[0,0]
[0,0]
[0,0]
[0,0]
[0,0]
[0,0]
[0,0]
[0,0]
[0,0]
[0,0]
[0,0]
[0,0]
[0,0]
[0,0]
[0,0]
[0,0]
[0,0]
[0,0]
[0,0]
[0,0]
[0,0]
[0,0]
[0,0]
[0,0]
[0,0]
[0,0]
[0,0]
[0,0]
[0,0]
[0,0]
[0,0]
[0,0]
[0,0]
[0,0]
[0,0]
[0,0]
[0,0]
[0,0]
[0,0]
[0,0]
[0,0]
[0,0]
[0,0]
[0,0]
[0,0]
[0,0]
[0,0]
[0,0]
[0,0]
[0,0]
[0,0]
[0,0]
[0,0]
[0,0]
[0,0]
[0,0]
[0,0]
[0,0]
[0,0]
[0,0]
[0,0]
[0,0]
[0,0]
[0,0]
[0,0]
[0,0]
[0,0]
[0,0]
[0,0]
[0,0]
[0,0]
[0,0]
[0,0]
[0,0]
[0,0]
[0,0]
[0,0]
[0,0]
[0,0]
[0,0]
[0,0]
[0,0]
[0,0]
[0,0]
[0,0]
[0,0]
[0,0]
[0,0]
[0,0]
[0,0]
[0,0]
[0,0]
[0,0]
[0,0]
[0,0]
[0,0]
[0,0]
[0,0]
[0,0]
[0,0]
[0,0]
[0,0]
[0,0]
[0,0]
[0,0]
[0,0]
[0,0]
[0,0]
[0,0]
[0,0]
[0,0]
[0,0]
[0,0]
[0,0]
[0,0]
[0,0]
[0,0]
[0,0]
[0,0]
[0,0]
[0,0]
[0,0]
[0,0]
[0,0]
[0,0]
[0,0]
[0,0]
[0,0]
[0,0]
[0,0]
[0,0]
[0,0]
[0,0]
[0,0]
[0,0]
[0,0]
[0,0]
[0,0]
[0,0]
[0,0]
[0,0]
[0,0]
[0,0]
[0,0]
[0,0]
[0,0]
[0,0]
[0,0]
[0,0]
[0,0]
[0,0]
[0,0]
[0,0]
[0,0]
[0,0]
[0,0]
[0,0]
[0,0]
[0,0]
[0,0]
[0,0]
[0,0]
[0,0]
[0,0]
[0,0]
[0,0]
[0,0]
[0,0]
[0,0]
[0,0]
[0,0]
[0,0]
[0,0]
[0,0]
[0,0]
[0,0]
[0,0]
[0,0]
[0,0]
[0,0]
[0,0]
[0,0]
[0,0]
[0,0]
[0,0]
[0,0]
[0,0]
[0,0]
[0,0]
[0,0]
[0,0]
[0,0]
[0,0]
[0,0]
[0,0]
[0,0]
[0,0]
[0,0]
[0,0]
[0,0]
[0,0]
[0,0]
[0,0]
[0,0]
[0,0]
[0,0]
[0,0]
[0,0]
[0,0]
[0,0]
[0,0]
[0,0]
[0,0]
[0,0]
[0,0]
[0,0]
[0,0]
[0,0]
[0,0]
[0,0]
[0,0]
[0,0]
[0,0]
[0,0]
[0,0]
[0,0]
[0,0]
[0,0]
[0,0]
[0,0]
[0,0]
[0,0]
[0,0]
[0,0]
[0,0]
[0,0]
[0,0]
[0,0]
[0,0]
[0,0]
[0,0]
[0,0]
[0,0]
[0,0]
[0,0]
[0,0]
[0,0]
[0,0]
[0,0]
[0,0]
[0,0]
[0,0]
[0,0]
[0,0]
[0,0]
[0,0]
[0,0]
[0,0]
[0,0]
[0,0]
[0,0]
[0,0]
[0,0]
[0,0]
[0,0]
[0,0]
[0,0]
[0,0]
[0,0]
[0,0]
[0,0]
[0,0]
[0,0]
[0,0]
[0,0]
[0,0]
[0,0]
[0,0]
[0,0]
[0,0]
[0,0]
[0,0]
[0,0]
[0,0]
[0,0]
[0,0]
[0,0]
[0,0]
[0,0]
[0,0]
[0,0]
[0,0]
[0,0]
[0,0]
[0,0]
[0,0]
[0,0]
[0,0]
[0,0]
[0,0]
[0,0]
[0,0]
[0,0]
[0,0]
[0,0]
[0,0]
[0,0]
[0,0]
[0,0]
[0,0]
[0,0]
[0,0]
[0,0]
[0,0]
[0,0]
[0,0]
[0,0]
[0,0]
[0,0]
[0,0]
[0,0]
[0,0]
[0,0]
[0,0]
[0,0]
[0,0]
[0,0]
[0,0]
[0,0]
[0,0]
[0,0]
[0,0]
[0,0]
[0,0]
[0,0]
[0,0]
[0,0]
[0,0]
[0,0]
[0,0]
[0,0]
[0,0]
[0,0]
[0,0]
[0,0]
[0,0]
[0,0]
[0,0]
[0,0]
[0,0]
[0,0]
[0,0]
[0,0]
[0,0]
[0,0]
[0,0]
[0,0]
[0,0]
[0,0]
[0,0]
[0,0]
[0,0]
[0,0]
[0,0]
[0,0]
[0,0]
[0,0]
[0,0]
[0,0]
[0,0]
[0,0]
[0,0]
[0,0]
[0,0]
[0,0]
[0,0]
[0,0]
[0,0]
[0,0]
[0,0]
[0,0]
[0,0]
[0,0]
[0,0]
[0,0]
[0,0]
[0,0]
[0,0]
[0,0]
[0,0]
[0,0]
[0,0]
[0,0]
[0,0]
[0,0]
[0,0]
[0,0]
[0,0]
[0,0]
[0,0]
[0,0]
[0,0]
[0,0]
[0,0]
[0,0]
[0,0]
[0,0]
[0,0]
[0,0]
[0,0]
[0,0]
[0,0]
[0,0]
[0,0]
[0,0]
[0,0]
[0,0]
[0,0]
[0,0]
[0,0]
[0,0]
[0,0]
[0,0]
[0,0]
[0,0]
[0,0]
[0,0]
[0,0]
[0,0]
[0,0]
[0,0]
[0,0]
[0,0]
[0,0]
[0,0]
[0,0]
[0,0]
[0,0]
[0,0]
[0,0]
[0,0]
[0,0]
[0,0]
[0,0]
[0,0]
[0,0]
[0,0]
[0,0]
[0,0]
[0,0]
[0,0]
[0,0]
[0,0]
[0,0]
[0,0]
[0,0]
[0,0]
[0,0]
[0,0]
[0,0]
[0,0]
[0,0]
[0,0]
[0,0]
[0,0]
[0,0]
[0,0]
[0,0]
[0,0]
[0,0]
[0,0]
[0,0]
[0,0]
[0,0]
[0,0]
[0,0]
[0,0]
[0,0]
[0,0]
[0,0]
[0,0]
[0,0]
[0,0]
[0,0]
[0,0]
[0,0]
[0,0]
[0,0]
[0,0]
[0,0]
[0,0]
[0,0]
[0,0]
[0,0]
[0,0]
[0,0]
[0,0]
[0,0]
[0,0]
[0,0]
[0,0]
[0,0]
[0,0]
[0,0]
[0,0]
[0,0]
[0,0]
[0,0]
[0,0]
[0,0]
[0,0]
[0,0]
[0,0]
[0,0]
[0,0]
[0,0]
[0,0]
[0,0]
[0,0]
[0,0]
[0,0]
[0,0]
[0,0]
[0,0]
[0,0]
[0,0]
[0,0]
[0,0]
[0,0]
[0,0]
[0,0]
[0,0]
[0,0]
[0,0]
[0,0]
[0,0]
[0,0]
[0,0]
[0,0]
[0,0]
[0,0]
[0,0]
[0,0]
[0,0]
[0,0]
[0,0]
[0,0]
[0,0]
[0,0]
[0,0]
[0,0]
[0,0]
[0,0]
[0,0]
[0,0]
[0,0]
[0,0]
[0,0]
[0,0]
[0,0]
[0,0]
[0,0]
[0,0]
[0,0]
[0,0]
[0,0]
[0,0]
[0,0]
[0,0]
[0,0]
[0,0]
[0,0]
[0,0]
[0,0]
[0,0]
[0,0]
[0,0]
[0,0]
[0,0]
[0,0]
[0,0]
[0,0]
[0,0]
[0,0]
[0,0]
[0,0]
[0,0]
[0,0]
[0,0]
[0,0]
[0,0]
[0,0]
[0,0]
[0,0]
[0,0]
[0,0]
[0,0]
[0,0]
[0,0]
[0,0]
[0,0]
[0,0]
[0,0]
[0,0]
[0,0]
[0,0]
[0,0]
[0,0]
[0,0]
[0,0]
[0,0]
[0,0]
[0,0]
[0,0]
[0,0]
[0,0]
[0,0]
[0,0]
[0,0]
[0,0]
[0,0]
[0,0]
[0,0]
[0,0]
[0,0]
[0,0]
[0,0]
[0,0]
[0,0]
[0,0]
[0,0]
[0,0]
[0,0]
[0,0]
[0,0]
[0,0]
[0,0]
[0,0]
[0,0]
[0,0]
[0,0]
[0,0]
[0,0]
[0,0]
[0,0]
[0,0]
[0,0]
[0,0]
[0,0]
[0,0]
[0,0]
[0,0]
[0,0]
[0,0]
[0,0]
[0,0]
[0,0]
[0,0]
[0,0]
[0,0]
[0,0]
[0,0]
[0,0]
[0,0]
[0,0]
[0,0]
[0,0]
[0,0]
[0,0]
[0,0]
[0,0]
[0,0]
[0,0]
[0,0]
[0,0]
[0,0]
[0,0]
[0,0]
[0,0]
[0,0]
[0,0]
[0,0]
[0,0]
[0,0]
[0,0]
[0,0]
[0,0]
[0,0]
[0,0]
[0,0]
[0,0]
[0,0]
[0,0]
[0,0]
[0,0]
[0,0]
[0,0]
[0,0]
[0,0]
[0,0]
[0,0]
[0,0]
[0,0]
[0,0]
[0,0]
[0,0]
[0,0]
[0,0]
[0,0]
[0,0]
[0,0]
[0,0]
[0,0]
[0,0]
[0,0]
[0,0]
[0,0]
[0,0]
[0,0]
[0,0]
[0,0]
[0,0]
[0,0]
[0,0]
[0,0]
[0,0]
[0,0]
[0,0]
[0,0]
[0,0]
[0,0]
[0,0]
[0,0]
[0,0]
[0,0]
[0,0]
[0,0]
[0,0]
[0,0]
[0,0]
[0,0]
[0,0]
[0,0]
[0,0]
[0,0]
[0,0]
[0,0]
[0,0]
[0,0]
[0,0]
[0,0]
[0,0]
[0,0]
[0,0]
[0,0]
[0,0]
[0,0]
[0,0]
[0,0]
[0,0]
[0,0]
[0,0]
[0,0]
[0,0]
[0,0]
[0,0]
[0,0]
[0,0]
[0,0]
[0,0]
[0,0]
[0,0]
[0,0]
[0,0]
[0,0]
[0,0]
[0,0]
[0,0]
[0,0]
[0,0]
[0,0]
[0,0]
[0,0]
[0,0]
[0,0]
[0,0]
[0,0]
[0,0]
[0,0]
[0,0]
[0,0]
[0,0]
[0,0]
[0,0]
[0,0]
[0,0]
[0,0]
[0,0]
[0,0]
[0,0]
[0,0]
[0,0]
[0,0]
[0,0]
[0,0]
[0,0]
[0,0]
[0,0]
[0,0]
[0,0]
[0,0]
[0,0]
[0,0]
[0,0]
[0,0]
[0,0]
[0,0]
[0,0]
[0,0]
[0,0]
[0,0]
[0,0]
[0,0]
[0,0]
[0,0]
[0,0]
[0,0]
[0,0]
[0,0]
[0,0]
[0,0]
[0,0]
[0,0]
[0,0]
[0,0]
[0,0]
[0,0]
[0,0]
[0,0]
[0,0]
[0,0]
[0,0]
[0,0]
[0,0]
[0,0]
[0,0]
[0,0]
[0,0]
[0,0]
[0,0]
[0,0]
[0,0]
[0,0]
[0,0]
[0,0]
[0,0]
[0,0]
[0,0]
[0,0]
[0,0]
[0,0]
[0,0]
[0,0]
[0,0]
[0,0]
[0,0]
[0,0]
[0,0]
[0,0]
[0,0]
[0,0]
[0,0]
[0,0]
[0,0]
[0,0]
[0,0]
[0,0]
[0,0]
[0,0]
[0,0]
[0,0]
[0,0]
[0,0]
[0,0]
[0,0]
[0,0]
[0,0]
[0,0]
[0,0]
[0,0]
[0,0]
[0,0]
[0,0]
[0,0]
[0,0]
[0,0]
[0,0]
[0,0]
[0,0]
[0,0]
[0,0]
[0,0]
[0,0]
[0,0]
[0,0]
[0,0]
[0,0]
[0,0]
[0,0]
[0,0]
[0,0]
[0,0]
[0,0]
[0,0]
[0,0]
[0,0]
[0,0]
[0,0]
[0,0]
[0,0]
[0,0]
[0,0]
[0,0]
[0,0]
[0,0]
[0,0]
[0,0]
[0,0]
[0,0]
[0,0]
[0,0]
[0,0]
[0,0]
[0,0]
[0,0]
[0,0]
[0,0]
[0,0]
[0,0]
[0,0]
[0,0]
[0,0]
[0,0]
[0,0]
[0,0]
[0,0]
[0,0]
[0,0]
[0,0]
[0,0]
[0,0]
[0,0]
[0,0]
[0,0]
[0,0]
[0,0]
[0,0]
[0,0]
[0,0]
[0,0]
[0,0]
[0,0]
[0,0]
[0,0]
[0,0]
[0,0]
[0,0]
[0,0]
[0,0]
[0,0]
[0,0]
[0,0]
[0,0]
[0,0]
[0,0]
[0,0]
[0,0]
[0,0]
[0,0]
[0,0]
[0,0]
[0,0]
[0,0]
[0,0]
[0,0]
[0,0]
[0,0]
[0,0]
[0,0]
[0,0]
[0,0]
[0,0]
[0,0]
[0,0]
[0,0]
[0,0]
[0,0]
[0,0]
[0,0]
[0,0]
[0,0]
[0,0]
[0,0]
[0,0]
[0,0]
[0,0]
[0,0]
[0,0]
[0,0]
[0,0]
[0,0]
[0,0]
[0,0]
[0,0]
[0,0]
[0,0]
[0,0]
[0,0]
[0,0]
[0,0]
[0,0]
[0,0]
[0,0]
[0,0]
[0,0]
[0,0]
[0,0]
[0,0]
[0,0]
[0,0]
[0,0]
[0,0]
[0,0]
[0,0]
[0,0]
[0,0]
[0,0]
[0,0]
[0,0]
[0,0]
[0,0]
[0,0]
[0,0]
[0,0]
[0,0]
[0,0]
[0,0]
[0,0]
[0,0]
[0,0]
[0,0]
[0,0]
[0,0]
[0,0]
[0,0]
[0,0]
[0,0]
[0,0]
[0,0]
[0,0]
[0,0]
[0,0]
[0,0]
[0,0]
[0,0]
[0,0]
[0,0]
[0,0]
[0,0]
[0,0]
[0,0]
[0,0]
[0,0]
[0,0]
[0,0]
[0,0]
[0,0]
[0,0]
[0,0]
[0,0]
[0,0]
[0,0]
[0,0]
[0,0]
[0,0]
[0,0]
[0,0]
[0,0]
[0,0]
[0,0]
[0,0]
[0,0]
[0,0]
[0,0]
[0,0]
[0,0]
[0,0]
[0,0]
[0,0]
[0,0]
[0,0]
[0,0]
[0,0]
[0,0]
[0,0]
[0,0]
[0,0]
[0,0]
[0,0]
[0,0]
[0,0]
[0,0]
[0,0]
[0,0]
[0,0]
[0,0]
[0,0]
[0,0]
[0,0]
[0,0]
[0,0]
[0,0]
[0,0]
[0,0]
[0,0]
[0,0]
[0,0]
[0,0]
[0,0]
[0,0]
[0,0]
[0,0]
[0,0]
[0,0]
[0,0]
[0,0]
[0,0]
[0,0]
[0,0]
[0,0]
[0,0]
[0,0]
[0,0]
[0,0]
[0,0]
[0,0]
[0,0]
[0,0]
[0,0]
[0,0]
[0,0]
[0,0]
[0,0]
[0,0]
[0,0]
[0,0]
[0,0]
[0,0]
[0,0]
[0,0]
[0,0]
[0,0]
[0,0]
[0,0]
[0,0]
[0,0]
[0,0]
[0,0]
[0,0]
[0,0]
[0,0]
[0,0]
[0,0]
[0,0]
[0,0]
[0,0]
[0,0]
[0,0]
[0,0]
[0,0]
[0,0]
[0,0]
[0,0]
[0,0]
[0,0]
[0,0]
[0,0]
[0,0]
[0,0]
[0,0]
[0,0]
[0,0]
[0,0]
[0,0]
[0,0]
[0,0]
[0,0]
[0,0]
[0,0]
[0,0]
[0,0]
[0,0]
[0,0]
[0,0]
[0,0]
[0,0]
[0,0]
[0,0]
[0,0]
[0,0]
[0,0]
[0,0]
[0,0]
[0,0]
[0,0]
[0,0]
[0,0]
[0,0]
[0,0]
[0,0]
[0,0]
[0,0]
[0,0]
[0,0]
[0,0]
[0,0]
[0,0]
[0,0]
[0,0]
[0,0]
[0,0]
[0,0]
[0,0]
[0,0]
[0,0]
[0,0]
[0,0]
[0,0]
[0,0]
[0,0]
[0,0]
[0,0]
[0,0]
[0,0]
[0,0]
[0,0]
[0,0]
[0,0]
[0,0]
[0,0]
[0,0]
[0,0]
[0,0]
[0,0]
[0,0]
[0,0]
[0,0]
[0,0]
[0,0]
[0,0]
[0,0]
[0,0]
[0,0]
[0,0]
[0,0]
[0,0]
[0,0]
[0,0]
[0,0]
[0,0]
[0,0]
[0,0]
[0,0]
[0,0]
[0,0]
[0,0]
[0,0]
[0,0]
[0,0]
[0,0]
[0,0]
[0,0]
[0,0]
[0,0]
[0,0]
[0,0]
[0,0]
[0,0]
[0,0]
[0,0]
[0,0]
[0,0]
[0,0]
[0,0]
[0,0]
[0,0]
[0,0]
[0,0]
[0,0]
[0,0]
[0,0]
[0,0]
[0,0]
[0,0]
[0,0]
[0,0]
[0,0]
[0,0]
[0,0]
[0,0]
[0,0]
[0,0]
[0,0]
[0,0]
[0,0]
[0,0]
[0,0]
[0,0]
[0,0]
[0,0]
[0,0]
[0,0]
[0,0]
[0,0]
[0,0]
[0,0]
[0,0]
[0,0]
[0,0]
[0,0]
[0,0]
[0,0]
[0,0]
[0,0]
[0,0]
[0,0]
[0,0]
[0,0]
[0,0]
[0,0]
[0,0]
[0,0]
[0,0]
[0,0]
[0,0]
[0,0]
[0,0]
[0,0]
[0,0]
[0,0]
[0,0]
[0,0]
[0,0]
[0,0]
[0,0]
[0,0]
[0,0]
[0,0]
[0,0]
[0,0]
[0,0]
[0,0]
[0,0]
[0,0]
[0,0]
[0,0]
[0,0]
[0,0]
[0,0]
[0,0]
[0,0]
[0,0]
[0,0]
[0,0]
[0,0]
[0,0]
[0,0]
[0,0]
[0,0]
[0,0]
[0,0]
[0,0]
[0,0]
[0,0]
[0,0]
[0,0]
[0,0]
[0,0]
[0,0]
[0,0]
[0,0]
[0,0]
[0,0]
[0,0]
[0,0]
[0,0]
[0,0]
[0,0]
[0,0]
[0,0]
[0,0]
[0,0]
[0,0]
[0,0]
[0,0]
[0,0]
[0,0]
[0,0]
[0,0]
[0,0]
[0,0]
[0,0]
[0,0]
[0,0]
[0,0]
[0,0]
[0,0]
[0,0]
[0,0]
[0,0]
[0,0]
[0,0]
[0,0]
[0,0]
[0,0]
[0,0]
[0,0]
[0,0]
[0,0]
[0,0]
[0,0]
[0,0]
[0,0]
[0,0]
[0,0]
[0,0]
[0,0]
[0,0]
[0,0]
[0,0]
[0,0]
[0,0]
[0,0]
[0,0]
[0,0]
[0,0]
[0,0]
[0,0]
[0,0]
[0,0]
[0,0]
[0,0]
[0,0]
[0,0]
[0,0]
[0,0]
[0,0]
[0,0]
[0,0]
[0,0]
[0,0]
[0,0]
[0,0]
[0,0]
[0,0]
[0,0]
[0,0]
[0,0]
[0,0]
[0,0]
[0,0]
[0,0]
[0,0]
[0,0]
[0,0]
[0,0]
[0,0]
[0,0]
[0,0]
[0,0]
[0,0]
[0,0]
[0,0]
[0,0]
[0,0]
[0,0]
[0,0]
[0,0]
[0,0]
[0,0]
[0,0]
[0,0]
[0,0]
[0,0]
[0,0]
[0,0]
[0,0]
[0,0]
[0,0]
[0,0]
[0,0]
[0,0]
[0,0]
[0,0]
[0,0]
[0,0]
[0,0]
[0,0]
[0,0]
[0,0]
[0,0]
[0,0]
[0,0]
[0,0]
[0,0]
[0,0]
[0,0]
[0,0]
[0,0]
[0,0]
[0,0]
[0,0]
[0,0]
[0,0]
[0,0]
[0,0]
[0,0]
[0,0]
[0,0]
[0,0]
[0,0]
[0,0]
[0,0]
[0,0]
[0,0]
[0,0]
[0,0]
[0,0]
[0,0]
[0,0]
[0,0]
[0,0]
[0,0]
[0,0]
[0,0]
[0,0]
[0,0]
[0,0]
[0,0]
[0,0]
[0,0]
[0,0]
[0,0]
[0,0]
[0,0]
[0,0]
[0,0]
[0,0]
[0,0]
[0,0]
[0,0]
[0,0]
[0,0]
[0,0]
[0,0]
[0,0]
[0,0]
[0,0]
[0,0]
[0,0]
[0,0]
[0,0]
[0,0]
[0,0]
[0,0]
[0,0]
[0,0]
[0,0]
[0,0]
[0,0]
[0,0]
[0,0]
[0,0]
[0,0]
[0,0]
[0,0]
[0,0]
[0,0]
[0,0]
[0,0]
[0,0]
[0,0]
[0,0]
[0,0]
[0,0]
[0,0]
[0,0]
[0,0]
[0,0]
[0,0]
[0,0]
[0,0]
[0,0]
[0,0]
[0,0]
[0,0]
[0,0]
[0,0]
[0,0]
[0,0]
[0,0]
[0,0]
[0,0]
[0,0]
[0,0]
[0,0]
[0,0]
[0,0]
[0,0]
[0,0]
[0,0]
[0,0]
[0,0]
[0,0]
[0,0]
[0,0]
[0,0]
[0,0]
[0,0]
[0,0]
[0,0]
[0,0]
[0,0]
[0,0]
[0,0]
[0,0]
[0,0]
[0,0]
[0,0]
[0,0]
[0,0]
[0,0]
[0,0]
[0,0]
[0,0]
[0,0]
[0,0]
[0,0]
[0,0]
[0,0]
[0,0]
[0,0]
[0,0]
[0,0]
[0,0]
[0,0]
[0,0]
[0,0]
[0,0]
[0,0]
[0,0]
[0,0]
[0,0]
[0,0]
[0,0]
[0,0]
[0,0]
[0,0]
[0,0]
[0,0]
[0,0]
[0,0]
[0,0]
[0,0]
[0,0]
[0,0]
[0,0]
[0,0]
[0,0]
[0,0]
[0,0]
[0,0]
[0,0]
[0,0]
[0,0]
[0,0]
[0,0]
[0,0]
[0,0]
[0,0]
[0,0]
[0,0]
[0,0]
[0,0]
[0,0]
[0,0]
[0,0]
[0,0]
[0,0]
[0,0]
[0,0]
[0,0]
[0,0]
[0,0]
[0,0]
[0,0]
[0,0]
[0,0]
[0,0]
[0,0]
[0,0]
[0,0]
[0,0]
[0,0]
[0,0]
[0,0]
[0,0]
[0,0]
[0,0]
[0,0]
[0,0]
[0,0]
[0,0]
[0,0]
[0,0]
[0,0]
[0,0]
[0,0]
[0,0]
[0,0]
[0,0]
[0,0]
[0,0]
[0,0]
[0,0]
[0,0]
[0,0]
[0,0]
[0,0]
[0,0]
[0,0]
[0,0]
[0,0]
[0,0]
[0,0]
[0,0]
[0,0]
[0,0]
[0,0]
[0,0]
[0,0]
[0,0]
[0,0]
[0,0]
[0,0]
[0,0]
[0,0]
[0,0]
[0,0]
[0,0]
[0,0]
[0,0]
[0,0]
[0,0]
[0,0]
[0,0]
[0,0]
[0,0]
[0,0]
[0,0]
[0,0]
[0,0]
[0,0]
[0,0]
[0,0]
[0,0]
[0,0]
[0,0]
[0,0]
[0,0]
[0,0]
[0,0]
[0,0]
[0,0]
[0,0]
[0,0]
[0,0]
[0,0]
[0,0]
[0,0]
[0,0]
[0,0]
[0,0]
[0,0]
[0,0]
[0,0]
[0,0]
[0,0]
[0,0]
[0,0]
[0,0]
[0,0]
[0,0]
[0,0]
[0,0]
[0,0]
[0,0]
[0,0]
[0,0]
[0,0]
[0,0]
[0,0]
[0,0]
[0,0]
[0,0]
[0,0]
[0,0]
[0,0]
[0,0]
[0,0]
[0,0]
[0,0]
[0,0]
[0,0]
[0,0]
[0,0]
[0,0]
[0,0]
[0,0]
[0,0]
[0,0]
[0,0]
[0,0]
[0,0]
[0,0]
[0,0]
[0,0]
[0,0]
[0,0]
[0,0]
[0,0]
[0,0]
[0,0]
[0,0]
[0,0]
[0,0]
[0,0]
[0,0]
[0,0]
[0,0]
[0,0]
[0,0]
[0,0]
[0,0]
[0,0]
[0,0]
[0,0]
[0,0]
[0,0]
[0,0]
[0,0]
[0,0]
[0,0]
[0,0]
[0,0]
[0,0]
[0,0]
[0,0]
[0,0]
[0,0]
[0,0]
[0,0]
[0,0]
[0,0]
[0,0]
[0,0]
[0,0]
[0,0]
[0,0]
[0,0]
[0,0]
[0,0]
[0,0]
[0,0]
[0,0]
[0,0]
[0,0]
[0,0]
[0,0]
[0,0]
[0,0]
[0,0]
[0,0]
[0,0]
[0,0]
[0,0]
[0,0]
[0,0]
[0,0]
[0,0]
[0,0]
[0,0]
[0,0]
[0,0]
[0,0]
[0,0]
[0,0]
[0,0]
[0,0]
[0,0]
[0,0]
[0,0]
[0,0]
[0,0]
[0,0]
[0,0]
[0,0]
[0,0]
[0,0]
[0,0]
[0,0]
[0,0]
[0,0]
[0,0]
[0,0]
[0,0]
[0,0]
[0,0]
[0,0]
[0,0]
[0,0]
[0,0]
[0,0]
[0,0]
[0,0]
[0,0]
[0,0]
[0,0]
[0,0]
[0,0]
[0,0]
[0,0]
[0,0]
[0,0]
[0,0]
[0,0]
[0,0]
[0,0]
[0,0]
[0,0]
[0,0]
[0,0]
[0,0]
[0,0]
[0,0]
[0,0]
[0,0]
[0,0]
[0,0]
[0,0]
[0,0]
[0,0]
[0,0]
[0,0]
[0,0]
[0,0]
[0,0]
[0,0]
[0,0]
[0,0]
[0,0]
[0,0]
[0,0]
[0,0]
[0,0]
[0,0]
[0,0]
[0,0]
[0,0]
[0,0]
[0,0]
[0,0]
[0,0]
[0,0]
[0,0]
[0,0]
[0,0]
[0,0]
[0,0]
[0,0]
[0,0]
[0,0]
[0,0]
[0,0]
[0,0]
[0,0]
[0,0]
[0,0]
[0,0]
[0,0]
[0,0]
[0,0]
[0,0]
[0,0]
[0,0]
[0,0]
[0,0]
[0,0]
[0,0]
[0,0]
[0,0]
[0,0]
[0,0]
[0,0]
[0,0]
[0,0]
[0,0]
[0,0]
[0,0]
[0,0]
[0,0]
[0,0]
[0,0]
[0,0]
[0,0]
[0,0]
[0,0]
[0,0]
[0,0]
[0,0]
[0,0]
[0,0]
[0,0]
[0,0]
[0,0]
[0,0]
[0,0]
[0,0]
[0,0]
[0,0]
[0,0]
[0,0]
[0,0]
[0,0]
[0,0]
[0,0]
[0,0]
[0,0]
[0,0]
[0,0]
[0,0]
[0,0]
[0,0]
[0,0]
[0,0]
[0,0]
[0,0]
[0,0]
[0,0]
[0,0]
[0,0]
[0,0]
[0,0]
[0,0]
[0,0]
[0,0]
[0,0]
[0,0]
[0,0]
[0,0]
[0,0]
[0,0]
[0,0]
[0,0]
[0,0]
[0,0]
[0,0]
[0,0]
[0,0]
[0,0]
[0,0]
[0,0]
[0,0]
[0,0]
[0,0]
[0,0]
[0,0]
[0,0]
[0,0]
[0,0]
[0,0]
[0,0]
[0,0]
[0,0]
[0,0]
[0,0]
[0,0]
[0,0]
[0,0]
[0,0]
[0,0]
[0,0]
[0,0]
[0,0]
[0,0]
[0,0]
[0,0]
[0,0]
[0,0]
[0,0]
[0,0]
[0,0]
[0,0]
[0,0]
[0,0]
[0,0]
[0,0]
[0,0]
[0,0]
[0,0]
[0,0]
[0,0]
[0,0]
[0,0]
[0,0]
[0,0]
[0,0]
[0,0]
[0,0]
[0,0]
[0,0]
[0,0]
[0,0]
[0,0]
[0,0]
[0,0]
[0,0]
[0,0]
[0,0]
[0,0]
[0,0]
[0,0]
[0,0]
[0,0]
[0,0]
[0,0]
[0,0]
[0,0]
[0,0]
[0,0]
[0,0]
[0,0]
[0,0]
[0,0]
[0,0]
[0,0]
[0,0]
[0,0]
[0,0]
[0,0]
[0,0]
[0,0]
[0,0]
[0,0]
[0,0]
[0,0]
[0,0]
[0,0]
[0,0]
[0,0]
[0,0]
[0,0]
[0,0]
[0,0]
[0,0]
[0,0]
[0,0]
[0,0]
[0,0]
[0,0]
[0,0]
[0,0]
[0,0]
[0,0]
[0,0]
[0,0]
[0,0]
[0,0]
[0,0]
[0,0]
[0,0]
[0,0]
[0,0]
[0,0]
[0,0]
[0,0]
[0,0]
[0,0]
[0,0]
[0,0]
[0,0]
[0,0]
[0,0]
[0,0]
[0,0]
[0,0]
[0,0]
[0,0]
[0,0]
[0,0]
[0,0]
[0,0]
[0,0]
[0,0]
[0,0]
[0,0]
[0,0]
[0,0]
[0,0]
[0,0]
[0,0]
[0,0]
[0,0]
[0,0]
[0,0]
[0,0]
[0,0]
[0,0]
[0,0]
[0,0]
[0,0]
[0,0]
[0,0]
[0,0]
[0,0]
[0,0]
[0,0]
[0,0]
[0,0]
[0,0]
[0,0]
[0,0]
[0,0]
[0,0]
[0,0]
[0,0]
[0,0]
[0,0]
[0,0]
[0,0]
[0,0]
[0,0]
[0,0]
[0,0]
[0,0]
[0,0]
[0,0]
[0,0]
[0,0]
[0,0]
[0,0]
[0,0]
[0,0]
[0,0]
[0,0]
[0,0]
[0,0]
[0,0]
[0,0]
[0,0]
[0,0]
[0,0]
[0,0]
[0,0]
[0,0]
[0,0]
[0,0]
[0,0]
[0,0]
[0,0]
[0,0]
[0,0]
[0,0]
[0,0]
[0,0]
[0,0]
[0,0]
[0,0]
[0,0]
[0,0]
[0,0]
[0,0]
[0,0]
[0,0]
[0,0]
[0,0]
[0,0]
[0,0]
[0,0]
[0,0]
[0,0]
[0,0]
[0,0]
[0,0]
[0,0]
[0,0]
[0,0]
[0,0]
[0,0]
[0,0]
[0,0]
[0,0]
[0,0]
[0,0]
[0,0]
[0,0]
[0,0]
[0,0]
[0,0]
[0,0]
[0,0]
[0,0]
[0,0]
[0,0]
[0,0]
[0,0]
[0,0]
[0,0]
[0,0]
[0,0]
[0,0]
[0,0]
[0,0]
[0,0]
[0,0]
[0,0]
[0,0]
[0,0]
[0,0]
[0,0]
[0,0]
[0,0]
[0,0]
[0,0]
[0,0]
[0,0]
[0,0]
[0,0]
[0,0]
[0,0]
[0,0]
[0,0]
[0,0]
[0,0]
[0,0]
[0,0]
[0,0]
[0,0]
[0,0]
[0,0]
[0,0]
[0,0]
[0,0]
[0,0]
[0,0]
[0,0]
[0,0]
[0,0]
[0,0]
[0,0]
[0,0]
[0,0]
[0,0]
[0,0]
[0,0]
[0,0]
[0,0]
[0,0]
[0,0]
[0,0]
[0,0]
[0,0]
[0,0]
[0,0]
[0,0]
[0,0]
[0,0]
[0,0]
[0,0]
[0,0]
[0,0]
[0,0]
[0,0]
[0,0]
[0,0]
[0,0]
[0,0]
[0,0]
[0,0]
[0,0]
[0,0]
[0,0]
[0,0]
[0,0]
[0,0]
[0,0]
[0,0]
[0,0]
[0,0]
[0,0]
[0,0]
[0,0]
[0,0]
[0,0]
[0,0]
[0,0]
[0,0]
[0,0]
[0,0]
[0,0]
[0,0]
[0,0]
[0,0]
[0,0]
[0,0]
[0,0]
[0,0]
[0,0]
[0,0]
[0,0]
[0,0]
[0,0]
[0,0]
[0,0]
[0,0]
[0,0]
[0,0]
[0,0]
[0,0]
[0,0]
[0,0]
[0,0]
[0,0]
[0,0]
[0,0]
[0,0]
[0,0]
[0,0]
[0,0]
[0,0]
[0,0]
[0,0]
[0,0]
[0,0]
[0,0]
[0,0]
[0,0]
[0,0]
[0,0]
[0,0]
[0,0]
[0,0]
[0,0]
[0,0]
[0,0]
[0,0]
[0,0]
[0,0]
[0,0]
[0,0]
[0,0]
[0,0]
[0,0]
[0,0]
[0,0]
[0,0]
[0,0]
[0,0]
[0,0]
[0,0]
[0,0]
[0,0]
[0,0]
[0,0]
[0,0]
[0,0]
[0,0]
[0,0]
[0,0]
[0,0]
[0,0]
[0,0]
[0,0]
[0,0]
[0,0]
[0,0]
[0,0]
[0,0]
[0,0]
[0,0]
[0,0]
[0,0]
[0,0]
[0,0]
[0,0]
[0,0]
[0,0]
[0,0]
[0,0]
[0,0]
[0,0]
[0,0]
[0,0]
[0,0]
[0,0]
[0,0]
[0,0]
[0,0]
[0,0]
[0,0]
[0,0]
[0,0]
[0,0]
[0,0]
[0,0]
[0,0]
[0,0]
[0,0]
[0,0]
[0,0]
[0,0]
[0,0]
[0,0]
[0,0]
[0,0]
[0,0]
[0,0]
[0,0]
[0,0]
[0,0]
[0,0]
[0,0]
[0,0]
[0,0]
[0,0]
[0,0]
[0,0]
[0,0]
[0,0]
[0,0]
[0,0]
[0,0]
[0,0]
[0,0]
[0,0]
[0,0]
[0,0]
[0,0]
[0,0]
[0,0]
[0,0]
[0,0]
[0,0]
[0,0]
[0,0]
[0,0]
[0,0]
[0,0]
[0,0]
[0,0]
[0,0]
[0,0]
[0,0]
[0,0]
[0,0]
[0,0]
[0,0]
[0,0]
[0,0]
[0,0]
[0,0]
[0,0]
[0,0]
[0,0]
[0,0]
[0,0]
[0,0]
[0,0]
[0,0]
[0,0]
[0,0]
[0,0]
[0,0]
[0,0]
[0,0]
[0,0]
[0,0]
[0,0]
[0,0]
[0,0]
[0,0]
[0,0]
[0,0]
[0,0]
[0,0]
[0,0]
[0,0]
[0,0]
[0,0]
[0,0]
[0,0]
[0,0]
[0,0]
[0,0]
[0,0]
[0,0]
[0,0]
[0,0]
[0,0]
[0,0]
[0,0]
[0,0]
[0,0]
[0,0]
[0,0]
[0,0]
[0,0]
[0,0]
[0,0]
[0,0]
[0,0]
[0,0]
[0,0]
[0,0]
[0,0]
[0,0]
[0,0]
[0,0]
[0,0]
[0,0]
[0,0]
[0,0]
[0,0]
[0,0]
[0,0]
[0,0]
[0,0]
[0,0]
[0,0]
[0,0]
[0,0]
[0,0]
[0,0]
[0,0]
[0,0]
[0,0]
[0,0]
[0,0]
[0,0]
[0,0]
[0,0]
[0,0]
[0,0]
[0,0]
[0,0]
[0,0]
[0,0]
[0,0]
[0,0]
[0,0]
[0,0]
[0,0]
[0,0]
[0,0]
[0,0]
[0,0]
[0,0]
[0,0]
[0,0]
[0,0]
[0,0]
[0,0]
[0,0]
[0,0]
[0,0]
[0,0]
[0,0]
[0,0]
[0,0]
[0,0]
[0,0]
[0,0]
[0,0]
[0,0]
[0,0]
[0,0]
[0,0]
[0,0]
[0,0]
[0,0]
[0,0]
[0,0]
[0,0]
[0,0]
[0,0]
[0,0]
[0,0]
[0,0]
[0,0]
[0,0]
[0,0]
[0,0]
[0,0]
[0,0]
[0,0]
[0,0]
[0,0]
[0,0]
[0,0]
[0,0]
[0,0]
[0,0]
[0,0]
[0,0]
[0,0]
[0,0]
[0,0]
[0,0]
[0,0]
[0,0]
[0,0]
[0,0]
[0,0]
[0,0]
[0,0]
[0,0]
[0,0]
[0,0]
[0,0]
[0,0]
[0,0]
[0,0]
[0,0]
[0,0]
[0,0]
[0,0]
[0,0]
[0,0]
[0,0]
[0,0]
[0,0]
[0,0]
[0,0]
[0,0]
[0,0]
[0,0]
[0,0]
[0,0]
[0,0]
[0,0]
[0,0]
[0,0]
[0,0]
[0,0]
[0,0]
[0,0]
[0,0]
[0,0]
[0,0]
[0,0]
[0,0]
[0,0]
[0,0]
[0,0]
[0,0]
[0,0]
[0,0]
[0,0]
[0,0]
[0,0]
[0,0]
[0,0]
[0,0]
[0,0]
[0,0]
[0,0]
[0,0]
[0,0]
[0,0]
[0,0]
[0,0]
[0,0]
[0,0]
[0,0]
[0,0]
[0,0]
[0,0]
[0,0]
[0,0]
[0,0]
[0,0]
[0,0]
[0,0]
[0,0]
[0,0]
[0,0]
[0,0]
[0,0]
[0,0]
[0,0]
[0,0]
[0,0]
[0,0]
[0,0]
[0,0]
[0,0]
[0,0]
[0,0]
[0,0]
[0,0]
[0,0]
[0,0]
[0,0]
[0,0]
[0,0]
[0,0]
[0,0]
[0,0]
[0,0]
[0,0]
[0,0]
[0,0]
[0,0]
[0,0]
[0,0]
[0,0]
[0,0]
[0,0]
[0,0]
[0,0]
[0,0]
[0,0]
[0,0]
[0,0]
[0,0]
[0,0]
[0,0]
[0,0]
[0,0]
[0,0]
[0,0]
[0,0]
[0,0]
[0,0]
[0,0]
[0,0]
[0,0]
[0,0]
[0,0]
[0,0]
[0,0]
[0,0]
[0,0]
[0,0]
[0,0]
[0,0]
[0,0]
[0,0]
[0,0]
[0,0]
[0,0]
[0,0]
[0,0]
[0,0]
[0,0]
[0,0]
[0,0]
[0,0]
[0,0]
[0,0]
[0,0]
[0,0]
[0,0]
[0,0]
[0,0]
[0,0]
[0,0]
[0,0]
[0,0]
[0,0]
[0,0]
[0,0]
[0,0]
[0,0]
[0,0]
[0,0]
[0,0]
[0,0]
[0,0]
[0,0]
[0,0]
[0,0]
[0,0]
[0,0]
[0,0]
[0,0]
[0,0]
[0,0]
[0,0]
[0,0]
[0,0]
[0,0]
[0,0]
[0,0]
[0,0]
[0,0]
[0,0]
[0,0]
[0,0]
[0,0]
[0,0]
[0,0]
[0,0]
[0,0]
[0,0]
[0,0]
[0,0]
[0,0]
[0,0]
[0,0]
[0,0]
[0,0]
[0,0]
[0,0]
[0,0]
[0,0]
[0,0]
[0,0]
[0,0]
[0,0]
[0,0]
[0,0]
[0,0]
[0,0]
[0,0]
[0,0]
[0,0]
[0,0]
[0,0]
[0,0]
[0,0]
[0,0]
[0,0]
[0,0]
[0,0]
[0,0]
[0,0]
[0,0]
[0,0]
[0,0]
[0,0]
[0,0]
[0,0]
[0,0]
[0,0]
[0,0]
[0,0]
[0,0]
[0,0]
[0,0]
[0,0]
[0,0]
[0,0]
[0,0]
[0,0]
[0,0]
[0,0]
[0,0]
[0,0]
[0,0]
[0,0]
[0,0]
[0,0]
[0,0]
[0,0]
[0,0]
[0,0]
[0,0]
[0,0]
[0,0]
[0,0]
[0,0]
[0,0]
[0,0]
[0,0]
[0,0]
[0,0]
[0,0]
[0,0]
[0,0]
[0,0]
[0,0]
[0,0]
[0,0]
[0,0]
[0,0]
[0,0]
[0,0]
[0,0]
[0,0]
[0,0]
[0,0]
[0,0]
[0,0]
[0,0]
[0,0]
[0,0]
[0,0]
[0,0]
[0,0]
[0,0]
[0,0]
[0,0]
[0,0]
[0,0]
[0,0]
[0,0]
[0,0]
[0,0]
[0,0]
[0,0]
[0,0]
[0,0]
[0,0]
[0,0]
[0,0]
[0,0]
[0,0]
[0,0]
[0,0]
[0,0]
[0,0]
[0,0]
[0,0]
[0,0]
[0,0]
[0,0]
[0,0]
[0,0]
[0,0]
[0,0]
[0,0]
[0,0]
[0,0]
[0,0]
[0,0]
[0,0]
[0,0]
[0,0]
[0,0]
[0,0]
[0,0]
[0,0]
[0,0]
[0,0]
[0,0]
[0,0]
[0,0]
[0,0]
[0,0]
[0,0]
[0,0]
[0,0]
[0,0]
[0,0]
[0,0]
[0,0]
[0,0]
[0,0]
[0,0]
[0,0]
[0,0]
[0,0]
[0,0]
[0,0]
[0,0]
[0,0]
[0,0]
[0,0]
[0,0]
[0,0]
[0,0]
[0,0]
[0,0]
[0,0]
[0,0]
[0,0]
[0,0]
[0,0]
[0,0]
[0,0]
[0,0]
[0,0]
[0,0]
[0,0]
[0,0]
[0,0]
[0,0]
[0,0]
[0,0]
[0,0]
[0,0]
[0,0]
[0,0]
[0,0]
[0,0]
[0,0]
[0,0]
[0,0]
[0,0]
[0,0]
[0,0]
[0,0]
[0,0]
[0,0]
[0,0]
[0,0]
[0,0]
[0,0]
[0,0]
[0,0]
[0,0]
[0,0]
[0,0]
[0,0]
[0,0]
[0,0]
[0,0]
[0,0]
[0,0]
[0,0]
[0,0]
[0,0]
[0,0]
[0,0]
[0,0]
[0,0]
[0,0]
[0,0]
[0,0]
[0,0]
[0,0]
[0,0]
[0,0]
[0,0]
[0,0]
[0,0]
[0,0]
[0,0]
[0,0]
[0,0]
[0,0]
[0,0]
[0,0]
[0,0]
[0,0]
[0,0]
[0,0]
[0,0]
[0,0]
[0,0]
[0,0]
[0,0]
[0,0]
[0,0]
[0,0]
[0,0]
[0,0]
[0,0]
[0,0]
[0,0]
[0,0]
[0,0]
[0,0]
[0,0]
[0,0]
[0,0]
[0,0]
[0,0]
[0,0]
[0,0]
[0,0]
[0,0]
[0,0]
[0,0]
[0,0]
[0,0]
[0,0]
[0,0]
[0,0]
[0,0]
[0,0]
[0,0]
[0,0]
[0,0]
[0,0]
[0,0]
[0,0]
[0,0]
[0,0]
[0,0]
[0,0]
[0,0]
[0,0]
[0,0]
[0,0]
[0,0]
[0,0]
[0,0]
[0,0]
[0,0]
[0,0]
[0,0]
[0,0]
[0,0]
[0,0]
[0,0]
[0,0]
[0,0]
[0,0]
[0,0]
[0,0]
[0,0]
[0,0]
[0,0]
[0,0]
[0,0]
[0,0]
[0,0]
[0,0]
[0,0]
[0,0]
[0,0]
[0,0]
[0,0]
[0,0]
[0,0]
[0,0]
[0,0]
[0,0]
[0,0]
[0,0]
[0,0]
[0,0]
[0,0]
[0,0]
[0,0]
[0,0]
[0,0]
[0,0]
[0,0]
[0,0]
[0,0]
[0,0]
[0,0]
[0,0]
[0,0]
[0,0]
[0,0]
[0,0]
[0,0]
[0,0]
[0,0]
[0,0]
[0,0]
[0,0]
[0,0]
[0,0]
[0,0]
[0,0]
[0,0]
[0,0]
[0,0]
[0,0]
[0,0]
[0,0]
[0,0]
[0,0]
[0,0]
[0,0]
[0,0]
[0,0]
[0,0]
[0,0]
[0,0]
[0,0]
[0,0]
[0,0]
[0,0]
[0,0]
[0,0]
[0,0]
[0,0]
[0,0]
[0,0]
[0,0]
[0,0]
[0,0]
[0,0]
[0,0]
[0,0]
[0,0]
[0,0]
[0,0]
[0,0]
[0,0]
[0,0]
[0,0]
[0,0]
[0,0]
[0,0]
[0,0]
[0,0]
[0,0]
[0,0]
[0,0]
[0,0]
[0,0]
[0,0]
[0,0]
[0,0]
[0,0]
[0,0]
[0,0]
[0,0]
[0,0]
[0,0]
[0,0]
[0,0]
[0,0]
[0,0]
[0,0]
[0,0]
[0,0]
[0,0]
[0,0]
[0,0]
[0,0]
[0,0]
[0,0]
[0,0]
[0,0]
[0,0]
[0,0]
[0,0]
[0,0]
[0,0]
[0,0]
[0,0]
[0,0]
[0,0]
[0,0]
[0,0]
[0,0]
[0,0]
[0,0]
[0,0]
[0,0]
[0,0]
[0,0]
[0,0]
[0,0]
[0,0]
[0,0]
[0,0]
[0,0]
[0,0]
[0,0]
[0,0]
[0,0]
[0,0]
[0,0]
[0,0]
[0,0]
[0,0]
[0,0]
[0,0]
[0,0]
[0,0]
[0,0]
[0,0]
[0,0]
[0,0]
[0,0]
[0,0]
[0,0]
[0,0]
[0,0]
[0,0]
[0,0]
[0,0]
[0,0]
[0,0]
[0,0]
[0,0]
[0,0]
[0,0]
[0,0]
[0,0]
[0,0]
[0,0]
[0,0]
[0,0]
[0,0]
[0,0]
[0,0]
[0,0]
[0,0]
[0,0]
[0,0]
[0,0]
[0,0]
[0,0]
[0,0]
[0,0]
[0,0]
[0,0]
[0,0]
[0,0]
[0,0]
[0,0]
[0,0]
[0,0]
[0,0]
[0,0]
[0,0]
[0,0]
[0,0]
[0,0]
[0,0]
[0,0]
[0,0]
[0,0]
[0,0]
[0,0]
[0,0]
[0,0]
[0,0]
[0,0]
[0,0]
[0,0]
[0,0]
[0,0]
[0,0]
[0,0]
[0,0]
[0,0]
[0,0]
[0,0]
[0,0]
[0,0]
[0,0]
[0,0]
[0,0]
[0,0]
[0,0]
[0,0]
[0,0]
[0,0]
[0,0]
[0,0]
[0,0]
[0,0]
[0,0]
[0,0]
[0,0]
[0,0]
[0,0]
[0,0]
[0,0]
[0,0]
[0,0]
[0,0]
[0,0]
[0,0]
[0,0]
[0,0]
[0,0]
[0,0]
[0,0]
[0,0]
[0,0]
[0,0]
[0,0]
[0,0]
[0,0]
[0,0]
[0,0]
[0,0]
[0,0]
[0,0]
[0,0]
[0,0]
[0,0]
[0,0]
[0,0]
[0,0]
[0,0]
[0,0]
[0,0]
[0,0]
[0,0]
[0,0]
[0,0]
[0,0]
[0,0]
[0,0]
[0,0]
[0,0]
[0,0]
[0,0]
[0,0]
[0,0]
[0,0]
[0,0]
[0,0]
[0,0]
[0,0]
[0,0]
[0,0]
[0,0]
[0,0]
[0,0]
[0,0]
[0,0]
[0,0]
[0,0]
[0,0]
[0,0]
[0,0]
[0,0]
[0,0]
[0,0]
[0,0]
[0,0]
[0,0]
[0,0]
[0,0]
[0,0]
[0,0]
[0,0]
[0,0]
[0,0]
[0,0]
[0,0]
[0,0]
[0,0]
[0,0]
[0,0]
[0,0]
[0,0]
[0,0]
[0,0]
[0,0]
[0,0]
[0,0]
[0,0]
[0,0]
[0,0]
[0,0]
[0,0]
[0,0]
[0,0]
[0,0]
[0,0]
[0,0]
[0,0]
[0,0]
[0,0]
[0,0]
[0,0]
[0,0]
[0,0]
[0,0]
[0,0]
[0,0]
[0,0]
[0,0]
[0,0]
[0,0]
[0,0]
[0,0]
[0,0]
[0,0]
[0,0]
[0,0]
[0,0]
[0,0]
[0,0]
[0,0]
[0,0]
[0,0]
[0,0]
[0,0]
[0,0]
[0,0]
[0,0]
[0,0]
[0,0]
[0,0]
[0,0]
[0,0]
[0,0]
[0,0]
[0,0]
[0,0]
[0,0]
[0,0]
[0,0]
[0,0]
[0,0]
[0,0]
[0,0]
[0,0]
[0,0]
[0,0]
[0,0]
[0,0]
[0,0]
[0,0]
[0,0]
[0,0]
[0,0]
[0,0]
[0,0]
[0,0]
[0,0]
[0,0]
[0,0]
[0,0]
[0,0]
[0,0]
[0,0]
[0,0]
[0,0]
[0,0]
[0,0]
[0,0]
[0,0]
[0,0]
[0,0]
[0,0]
[0,0]
[0,0]
[0,0]
[0,0]
[0,0]
[0,0]
[0,0]
[0,0]
[0,0]
[0,0]
[0,0]
[0,0]
[0,0]
[0,0]
[0,0]
[0,0]
[0,0]
[0,0]
[0,0]
[0,0]
[0,0]
[0,0]
[0,0]
[0,0]
[0,0]
[0,0]
[0,0]
[0,0]
[0,0]
[0,0]
[0,0]
[0,0]
[0,0]
[0,0]
[0,0]
[0,0]
[0,0]
[0,0]
[0,0]
[0,0]
[0,0]
[0,0]
[0,0]
[0,0]
[0,0]
[0,0]
[0,0]
[0,0]
[0,0]
[0,0]
[0,0]
[0,0]
[0,0]
[0,0]
[0,0]
[0,0]
[0,0]
[0,0]
[0,0]
[0,0]
[0,0]
[0,0]
[0,0]
[0,0]
[0,0]
[0,0]
[0,0]
[0,0]
[0,0]
[0,0]
[0,0]
[0,0]
[0,0]
[0,0]
[0,0]
[0,0]
[0,0]
[0,0]
[0,0]
[0,0]
[0,0]
[0,0]
[0,0]
[0,0]
[0,0]
[0,0]
[0,0]
[0,0]
[0,0]
[0,0]
[0,0]
[0,0]
[0,0]
[0,0]
[0,0]
[0,0]
[0,0]
[0,0]
[0,0]
[0,0]
[0,0]
[0,0]
[0,0]
[0,0]
[0,0]
[0,0]
[0,0]
[0,0]
[0,0]
[0,0]
[0,0]
[0,0]
[0,0]
[0,0]
[0,0]
[0,0]
[0,0]
[0,0]
[0,0]
[0,0]
[0,0]
[0,0]
[0,0]
[0,0]
[0,0]
[0,0]
[0,0]
[0,0]
[0,0]
[0,0]
[0,0]
[0,0]
[0,0]
[0,0]
[0,0]
[0,0]
[0,0]
[0,0]
[0,0]
[0,0]
[0,0]
[0,0]
[0,0]
[0,0]
[0,0]
[0,0]
[0,0]
[0,0]
[0,0]
[0,0]
[0,0]
[0,0]
[0,0]
[0,0]
[0,0]
[0,0]
[0,0]
[0,0]
[0,0]
[0,0]
[0,0]
[0,0]
[0,0]
[0,0]
[0,0]
[0,0]
[0,0]
[0,0]
[0,0]
[0,0]
[0,0]
[0,0]
[0,0]
[0,0]
[0,0]
[0,0]
[0,0]
[0,0]
[0,0]
[0,0]
[0,0]
[0,0]
[0,0]
[0,0]
[0,0]
[0,0]
[0,0]
[0,0]
[0,0]
[0,0]
[0,0]
[0,0]
[0,0]
[0,0]
[0,0]
[0,0]
[0,0]
[0,0]
[0,0]
[0,0]
[0,0]
[0,0]
[0,0]
[0,0]
[0,0]
[0,0]
[0,0]
[0,0]
[0,0]
[0,0]
[0,0]
[0,0]
[0,0]
[0,0]
[0,0]
[0,0]
[0,0]
[0,0]
[0,0]
[0,0]
[0,0]
[0,0]
[0,0]
[0,0]
[0,0]
[0,0]
[0,0]
[0,0]
[0,0]
[0,0]
[0,0]
[0,0]
[0,0]
[0,0]
[0,0]
[0,0]
[0,0]
[0,0]
[0,0]
[0,0]
[0,0]
[0,0]
[0,0]
[0,0]
[0,0]
[0,0]
[0,0]
[0,0]
[0,0]
[0,0]
[0,0]
[0,0]
[0,0]
[0,0]
[0,0]
[0,0]
[0,0]
[0,0]
[0,0]
[0,0]
[0,0]
[0,0]
[0,0]
[0,0]
[0,0]
[0,0]
[0,0]
[0,0]
[0,0]
[0,0]
[0,0]
[0,0]
[0,0]
[0,0]
[0,0]
[0,0]
[0,0]
[0,0]
[0,0]
[0,0]
[0,0]
[0,0]
[0,0]
[0,0]
[0,0]
[0,0]
[0,0]
[0,0]
[0,0]
[0,0]
[0,0]
[0,0]
[0,0]
[0,0]
[0,0]
[0,0]
[0,0]
[0,0]
[0,0]
[0,0]
[0,0]
[0,0]
[0,0]
[0,0]
[0,0]
[0,0]
[0,0]
[0,0]
[0,0]
[0,0]
[0,0]
[0,0]
[0,0]
[0,0]
[0,0]
[0,0]
[0,0]
[0,0]
[0,0]
[0,0]
[0,0]
[0,0]
[0,0]
[0,0]
[0,0]
[0,0]
[0,0]
[0,0]
[0,0]
[0,0]
[0,0]
[0,0]
[0,0]
[0,0]
[0,0]
[0,0]
[0,0]
[0,0]
[0,0]
[0,0]
[0,0]
[0,0]
[0,0]
[0,0]
[0,0]
[0,0]
[0,0]
[0,0]
[0,0]
[0,0]
[0,0]
[0,0]
[0,0]
[0,0]
[0,0]
[0,0]
[0,0]
[0,0]
[0,0]
[0,0]
[0,0]
[0,0]
[0,0]
[0,0]
[0,0]
[0,0]
[0,0]
[0,0]
[0,0]
[0,0]
[0,0]
[0,0]
[0,0]
[0,0]
[0,0]
[0,0]
[0,0]
[0,0]
[0,0]
[0,0]
[0,0]
[0,0]
[0,0]
[0,0]
[0,0]
[0,0]
[0,0]
[0,0]
[0,0]
[0,0]
[0,0]
[0,0]
[0,0]
[0,0]
[0,0]
[0,0]
[0,0]
[0,0]
[0,0]
[0,0]
[0,0]
[0,0]
[0,0]
[0,0]
[0,0]
[0,0]
[0,0]
[0,0]
[0,0]
[0,0]
[0,0]
[0,0]
[0,0]
[0,0]
[0,0]
[0,0]
[0,0]
[0,0]
[0,0]
[0,0]
[0,0]
[0,0]
[0,0]
[0,0]
[0,0]
[0,0]
[0,0]
[0,0]
[0,0]
[0,0]
[0,0]
[0,0]
[0,0]
[0,0]
[0,0]
[0,0]
[0,0]
[0,0]
[0,0]
[0,0]
[0,0]
[0,0]
[0,0]
[0,0]
[0,0]
[0,0]
[0,0]
[0,0]
[0,0]
[0,0]
[0,0]
[0,0]
[0,0]
[0,0]
[0,0]
[0,0]
[0,0]
[0,0]
[0,0]
[0,0]
[0,0]
[0,0]
[0,0]
[0,0]
[0,0]
[0,0]
[0,0]
[0,0]
[0,0]
[0,0]
[0,0]
[0,0]
[0,0]
[0,0]
[0,0]
[0,0]
[0,0]
[0,0]
[0,0]
[0,0]
[0,0]
[0,0]
[0,0]
[0,0]
[0,0]
[0,0]
[0,0]
[0,0]
[0,0]
[0,0]
[0,0]
[0,0]
[0,0]
[0,0]
[0,0]
[0,0]
[0,0]
[0,0]
[0,0]
[0,0]
[0,0]
[0,0]
[0,0]
[0,0]
[0,0]
[0,0]
[0,0]
[0,0]
[0,0]
[0,0]
[0,0]
[0,0]
[0,0]
[0,0]
[0,0]
[0,0]
[0,0]
[0,0]
[0,0]
[0,0]
[0,0]
[0,0]
[0,0]
[0,0]
[0,0]
[0,0]
[0,0]
[0,0]
[0,0]
[0,0]
[0,0]
[0,0]
[0,0]
[0,0]
[0,0]
[0,0]
[0,0]
[0,0]
[0,0]
[0,0]
[0,0]
[0,0]
[0,0]
[0,0]
[0,0]
[0,0]
[0,0]
[0,0]
[0,0]
[0,0]
[0,0]
[0,0]
[0,0]
[0,0]
[0,0]
[0,0]
[0,0]
[0,0]
[0,0]
[0,0]
[0,0]
[0,0]
[0,0]
[0,0]
[0,0]
[0,0]
[0,0]
[0,0]
[0,0]
[0,0]
[0,0]
[0,0]
[0,0]
[0,0]
[0,0]
[0,0]
[0,0]
[0,0]
[0,0]
[0,0]
[0,0]
[0,0]
[0,0]
[0,0]
[0,0]
[0,0]
[0,0]
[0,0]
[0,0]
[0,0]
[0,0]
[0,0]
[0,0]
[0,0]
[0,0]
[0,0]
[0,0]
[0,0]
[0,0]
[0,0]
[0,0]
[0,0]
[0,0]
[0,0]
[0,0]
[0,0]
[0,0]
[0,0]
[0,0]
[0,0]
[0,0]
[0,0]
[0,0]
[0,0]
[0,0]
[0,0]
[0,0]
[0,0]
[0,0]
[0,0]
[0,0]
[0,0]
[0,0]
[0,0]
[0,0]
[0,0]
[0,0]
[0,0]
[0,0]
[0,0]
[0,0]
[0,0]
[0,0]
[0,0]
[0,0]
[0,0]
[0,0]
[0,0]
[0,0]
[0,0]
[0,0]
[0,0]
[0,0]
[0,0]
[0,0]
[0,0]
[0,0]
[0,0]
[0,0]
[0,0]
[0,0]
[0,0]
[0,0]
[0,0]
[0,0]
[0,0]
[0,0]
[0,0]
[0,0]
[0,0]
[0,0]
[0,0]
[0,0]
[0,0]
[0,0]
[0,0]
[0,0]
[0,0]
[0,0]
[0,0]
[0,0]
[0,0]
[0,0]
[0,0]
[0,0]
[0,0]
[0,0]
[0,0]
[0,0]
[0,0]
[0,0]
[0,0]
[0,0]
[0,0]
[0,0]
[0,0]
[0,0]
[0,0]
[0,0]
[0,0]
[0,0]
[0,0]
[0,0]
[0,0]
[0,0]
[0,0]
[0,0]
[0,0]
[0,0]
[0,0]
[0,0]
[0,0]
[0,0]
[0,0]
[0,0]
[0,0]
[0,0]
[0,0]
[0,0]
[0,0]
[0,0]
[0,0]
[0,0]
[0,0]
[0,0]
[0,0]
[0,0]
[0,0]
[0,0]
[0,0]
[0,0]
[0,0]
[0,0]
[0,0]
[0,0]
[0,0]
[0,0]
[0,0]
[0,0]
[0,0]
[0,0]
[0,0]
[0,0]
[0,0]
[0,0]
[0,0]
[0,0]
[0,0]
[0,0]
[0,0]
[0,0]
[0,0]
[0,0]
[0,0]
[0,0]
[0,0]
[0,0]
[0,0]
[0,0]
[0,0]
[0,0]
[0,0]
[0,0]
[0,0]
[0,0]
[0,0]
[0,0]
[0,0]
[0,0]
[0,0]
[0,0]
[0,0]
[0,0]
[0,0]
[0,0]
[0,0]
[0,0]
[0,0]
[0,0]
[0,0]
[0,0]
[0,0]
[0,0]
[0,0]
[0,0]
[0,0]
[0,0]
[0,0]
[0,0]
[0,0]
[0,0]
[0,0]
[0,0]
[0,0]
[0,0]
[0,0]
[0,0]
[0,0]
[0,0]
[0,0]
[0,0]
[0,0]
[0,0]
[0,0]
[0,0]
[0,0]
[0,0]
[0,0]
[0,0]
[0,0]
[0,0]
[0,0]
[0,0]
[0,0]
[0,0]
[0,0]
[0,0]
[0,0]
[0,0]
[0,0]
[0,0]
[0,0]
[0,0]
[0,0]
[0,0]
[0,0]
[0,0]
[0,0]
[0,0]
[0,0]
[0,0]
[0,0]
[0,0]
[0,0]
[0,0]
[0,0]
[0,0]
[0,0]
[0,0]
[0,0]
[0,0]
[0,0]
[0,0]
[0,0]
[0,0]
[0,0]
[0,0]
[0,0]
[0,0]
[0,0]
[0,0]
[0,0]
[0,0]
[0,0]
[0,0]
[0,0]
[0,0]
[0,0]
[0,0]
[0,0]
[0,0]
[0,0]
[0,0]
[0,0]
[0,0]
[0,0]
[0,0]
[0,0]
[0,0]
[0,0]
[0,0]
[0,0]
[0,0]
[0,0]
[0,0]
[0,0]
[0,0]
[0,0]
[0,0]
[0,0]
[0,0]
[0,0]
[0,0]
[0,0]
[0,0]
[0,0]
[0,0]
[0,0]
[0,0]
[0,0]
[0,0]
[0,0]
[0,0]
[0,0]
[0,0]
[0,0]
[0,0]
[0,0]
[0,0]
[0,0]
[0,0]
[0,0]
[0,0]
[0,0]
[0,0]
[0,0]
[0,0]
[0,0]
[0,0]
[0,0]
[0,0]
[0,0]
[0,0]
[0,0]
[0,0]
[0,0]
[0,0]
[0,0]
[0,0]
[0,0]
[0,0]
[0,0]
[0,0]
[0,0]
[0,0]
[0,0]
[0,0]
[0,0]
[0,0]
[0,0]
[0,0]
[0,0]
[0,0]
[0,0]
[0,0]
[0,0]
[0,0]
[0,0]
[0,0]
[0,0]
[0,0]
[0,0]
[0,0]
[0,0]
[0,0]
[0,0]
[0,0]
[0,0]
[0,0]
[0,0]
[0,0]
[0,0]
[0,0]
[0,0]
[0,0]
[0,0]
[0,0]
[0,0]
[0,0]
[0,0]
[0,0]
[0,0]
[0,0]
[0,0]
[0,0]
[0,0]
[0,0]
[0,0]
[0,0]
[0,0]
[0,0]
[0,0]
[0,0]
[0,0]
[0,0]
[0,0]
[0,0]
[0,0]
[0,0]
[0,0]
[0,0]
[0,0]
[0,0]
[0,0]
[0,0]
[0,0]
[0,0]
[0,0]
[0,0]
[0,0]
[0,0]
[0,0]
[0,0]
[0,0]
[0,0]
[0,0]
[0,0]
[0,0]
[0,0]
[0,0]
[0,0]
[0,0]
[0,0]
[0,0]
[0,0]
[0,0]
[0,0]
[0,0]
[0,0]
[0,0]
[0,0]
[0,0]
[0,0]
[0,0]
[0,0]
[0,0]
[0,0]
[0,0]
[0,0]
[0,0]
[0,0]
[0,0]
[0,0]
[0,0]
[0,0]
[0,0]
[0,0]
[0,0]
[0,0]
[0,0]
[0,0]
[0,0]
[0,0]
[0,0]
[0,0]
[0,0]
[0,0]
[0,0]
[0,0]
[0,0]
[0,0]
[0,0]
[0,0]
[0,0]
[0,0]
[0,0]
[0,0]
[0,0]
[0,0]
[0,0]
[0,0]
[0,0]
[0,0]
[0,0]
[0,0]
[0,0]
[0,0]
[0,0]
[0,0]
[0,0]
[0,0]
[0,0]
[0,0]
[0,0]
[0,0]
[0,0]
[0,0]
[0,0]
[0,0]
[0,0]
[0,0]
[0,0]
[0,0]
[0,0]
[0,0]
[0,0]
[0,0]
[0,0]
[0,0]
[0,0]
[0,0]
[0,0]
[0,0]
[0,0]
[0,0]
[0,0]
[0,0]
[0,0]
[0,0]
[0,0]
[0,0]
[0,0]
[0,0]
[0,0]
[0,0]
[0,0]
[0,0]
[0,0]
[0,0]
[0,0]
[0,0]
[0,0]
[0,0]
[0,0]
[0,0]
[0,0]
[0,0]
[0,0]
[0,0]
[0,0]
[0,0]
[0,0]
[0,0]
[0,0]
[0,0]
[0,0]
[0,0]
[0,0]
[0,0]
[0,0]
[0,0]
[0,0]
[0,0]
[0,0]
[0,0]
[0,0]
[0,0]
[0,0]
[0,0]
[0,0]
[0,0]
[0,0]
[0,0]
[0,0]
[0,0]
[0,0]
[0,0]
[0,0]
[0,0]
[0,0]
[0,0]
[0,0]
[0,0]
[0,0]
[0,0]
[0,0]
[0,0]
[0,0]
[0,0]
[0,0]
[0,0]
[0,0]
[0,0]
[0,0]
[0,0]
[0,0]
[0,0]
[0,0]
[0,0]
[0,0]
[0,0]
[0,0]
[0,0]
[0,0]
[0,0]
[0,0]
[0,0]
[0,0]
[0,0]
[0,0]
[0,0]
[0,0]
[0,0]
[0,0]
[0,0]
[0,0]
[0,0]
[0,0]
[0,0]
[0,0]
[0,0]
[0,0]
[0,0]
[0,0]
[0,0]
[0,0]
[0,0]
[0,0]
[0,0]
[0,0]
[0,0]
[0,0]
[0,0]
[0,0]
[0,0]
[0,0]
[0,0]
[0,0]
[0,0]
[0,0]
[0,0]
[0,0]
[0,0]
[0,0]
[0,0]
[0,0]
[0,0]
[0,0]
[0,0]
[0,0]
[0,0]
[0,0]
[0,0]
[0,0]
[0,0]
[0,0]
[0,0]
[0,0]
[0,0]
[0,0]
[0,0]
[0,0]
[0,0]
[0,0]
[0,0]
[0,0]
[0,0]
[0,0]
[0,0]
[0,0]
[0,0]
[0,0]
[0,0]
[0,0]
[0,0]
[0,0]
[0,0]
[0,0]
[0,0]
[0,0]
[0,0]
[0,0]
[0,0]
[0,0]
[0,0]
[0,0]
[0,0]
[0,0]
[0,0]
[0,0]
[0,0]
[0,0]
[0,0]
[0,0]
[0,0]
[0,0]
[0,0]
[0,0]
[0,0]
[0,0]
[0,0]
[0,0]
[0,0]
[0,0]
[0,0]
[0,0]
[0,0]
[0,0]
[0,0]
[0,0]
[0,0]
[0,0]
[0,0]
[0,0]
[0,0]
[0,0]
[0,0]
[0,0]
[0,0]
[0,0]
[0,0]
[0,0]
[0,0]
[0,0]
[0,0]
[0,0]
[0,0]
[0,0]
[0,0]
[0,0]
[0,0]
[0,0]
[0,0]
[0,0]
[0,0]
[0,0]
[0,0]
[0,0]
[0,0]
[0,0]
[0,0]
[0,0]
[0,0]
[0,0]
[0,0]
[0,0]
[0,0]
[0,0]
[0,0]
[0,0]
[0,0]
[0,0]
[0,0]
[0,0]
[0,0]
[0,0]
[0,0]
[0,0]
[0,0]
[0,0]
[0,0]
[0,0]
[0,0]
[0,0]
[0,0]
[0,0]
[0,0]
[0,0]
[0,0]
[0,0]
[0,0]
[0,0]
[0,0]
[0,0]
[0,0]
[0,0]
[0,0]
[0,0]
[0,0]
[0,0]
[0,0]
[0,0]
[0,0]
[0,0]
[0,0]
[0,0]
[0,0]
[0,0]
[0,0]
[0,0]
[0,0]
[0,0]
[0,0]
[0,0]
[0,0]
[0,0]
[0,0]
[0,0]
[0,0]
[0,0]
[0,0]
[0,0]
[0,0]
[0,0]
[0,0]
[0,0]
[0,0]
[0,0]
[0,0]
[0,0]
[0,0]
[0,0]
[0,0]
[0,0]
[0,0]
[0,0]
[0,0]
[0,0]
[0,0]
[0,0]
[0,0]
[0,0]
[0,0]
[0,0]
[0,0]
[0,0]
[0,0]
[0,0]
[0,0]
[0,0]
[0,0]
[0,0]
[0,0]
[0,0]
[0,0]
[0,0]
[0,0]
[0,0]
[0,0]
[0,0]
[0,0]
[0,0]
[0,0]
[0,0]
[0,0]
[0,0]
[0,0]
[0,0]
[0,0]
[0,0]
[0,0]
[0,0]
[0,0]
[0,0]
[0,0]
[0,0]
[0,0]
[0,0]
[0,0]
[0,0]
[0,0]
[0,0]
[0,0]
[0,0]
[0,0]
[0,0]
[0,0]
[0,0]
[0,0]
[0,0]
[0,0]
[0,0]
[0,0]
[0,0]
[0,0]
[0,0]
[0,0]
[0,0]
[0,0]
[0,0]
[0,0]
[0,0]
[0,0]
[0,0]
[0,0]
[0,0]
[0,0]
[0,0]
[0,0]
[0,0]
[0,0]
[0,0]
[0,0]
[0,0]
[0,0]
[0,0]
[0,0]
[0,0]
[0,0]
[0,0]
[0,0]
[0,0]
[0,0]
[0,0]
[0,0]
[0,0]
[0,0]
[0,0]
[0,0]
[0,0]
[0,0]
[0,0]
[0,0]
[0,0]
[0,0]
[0,0]
[0,0]
[0,0]
[0,0]
[0,0]
[0,0]
[0,0]
[0,0]
[0,0]
[0,0]
[0,0]
[0,0]
[0,0]
[0,0]
[0,0]
[0,0]
[0,0]
[0,0]
[0,0]
[0,0]
[0,0]
[0,0]
[0,0]
[0,0]
[0,0]
[0,0]
[0,0]
[0,0]
[0,0]
[0,0]
[0,0]
[0,0]
[0,0]
[0,0]
[0,0]
[0,0]
[0,0]
[0,0]
[0,0]
[0,0]
[0,0]
[0,0]
[0,0]
[0,0]
[0,0]
[0,0]
[0,0]
[0,0]
[0,0]
[0,0]
[0,0]
[0,0]
[0,0]
[0,0]
[0,0]
[0,0]
[0,0]
[0,0]
[0,0]
[0,0]
[0,0]
[0,0]
[0,0]
[0,0]
[0,0]
[0,0]
[0,0]
[0,0]
[0,0]
[0,0]
[0,0]
[0,0]
[0,0]
[0,0]
[0,0]
[0,0]
[0,0]
[0,0]
[0,0]
[0,0]
[0,0]
[0,0]
[0,0]
[0,0]
[0,0]
[0,0]
[0,0]
[0,0]
[0,0]
[0,0]
[0,0]
[0,0]
[0,0]
[0,0]
[0,0]
[0,0]
[0,0]
[0,0]
[0,0]
[0,0]
[0,0]
[0,0]
[0,0]
[0,0]
[0,0]
[0,0]
[0,0]
[0,0]
[0,0]
[0,0]
[0,0]
[0,0]
[0,0]
[0,0]
[0,0]
[0,0]
[0,0]
[0,0]
[0,0]
[0,0]
[0,0]
[0,0]
[0,0]
[0,0]
[0,0]
[0,0]
[0,0]
[0,0]
[0,0]
[0,0]
[0,0]
[0,0]
[0,0]
[0,0]
[0,0]
[0,0]
[0,0]
[0,0]
[0,0]
[0,0]
[0,0]
[0,0]
[0,0]
[0,0]
[0,0]
[0,0]
[0,0]
[0,0]
[0,0]
[0,0]
[0,0]
[0,0]
[0,0]
[0,0]
[0,0]
[0,0]
[0,0]
[0,0]
[0,0]
[0,0]
[0,0]
[0,0]
[0,0]
[0,0]
[0,0]
[0,0]
[0,0]
[0,0]
[0,0]
[0,0]
[0,0]
[0,0]
[0,0]
[0,0]
[0,0]
[0,0]
[0,0]
[0,0]
[0,0]
[0,0]
[0,0]
[0,0]
[0,0]
[0,0]
[0,0]
[0,0]
[0,0]
[0,0]
[0,0]
[0,0]
[0,0]
[0,0]
[0,0]
[0,0]
[0,0]
[0,0]
[0,0]
[0,0]
[0,0]
[0,0]
[0,0]
[0,0]
[0,0]
[0,0]
[0,0]
[0,0]
[0,0]
[0,0]
[0,0]
[0,0]
[0,0]
[0,0]
[0,0]
[0,0]
[0,0]
[0,0]
[0,0]
[0,0]
[0,0]
[0,0]
[0,0]
[0,0]
[0,0]
[0,0]
[0,0]
[0,0]
[0,0]
[0,0]
[0,0]
[0,0]
[0,0]
[0,0]
[0,0]
[0,0]
[0,0]
[0,0]
[0,0]
[0,0]
[0,0]
[0,0]
[0,0]
[0,0]
[0,0]
[0,0]
[0,0]
[0,0]
[0,0]
[0,0]
[0,0]
[0,0]
[0,0]
[0,0]
[0,0]
[0,0]
[0,0]
[0,0]
[0,0]
[0,0]
[0,0]
[0,0]
[0,0]
[0,0]
[0,0]
[0,0]
[0,0]
[0,0]
[0,0]
[0,0]
[0,0]
[0,0]
[0,0]
[0,0]
[0,0]
[0,0]
[0,0]
[0,0]
[0,0]
[0,0]
[0,0]
[0,0]
[0,0]
[0,0]
[0,0]
[0,0]
[0,0]
[0,0]
[0,0]
[0,0]
[0,0]
[0,0]
[0,0]
[0,0]
[0,0]
[0,0]
[0,0]
[0,0]
[0,0]
[0,0]
[0,0]
[0,0]
[0,0]
[0,0]
[0,0]
[0,0]
[0,0]
[0,0]
[0,0]
[0,0]
[0,0]
[0,0]
[0,0]
[0,0]
[0,0]
[0,0]
[0,0]
[0,0]
[0,0]
[0,0]
[0,0]
[0,0]
[0,0]
[0,0]
[0,0]
[0,0]
[0,0]
[0,0]
[0,0]
[0,0]
[0,0]
[0,0]
[0,0]
[0,0]
[0,0]
[0,0]
[0,0]
[0,0]
[0,0]
[0,0]
[0,0]
[0,0]
[0,0]
[0,0]
[0,0]
[0,0]
[0,0]
[0,0]
[0,0]
[0,0]
[0,0]
[0,0]
[0,0]
[0,0]
[0,0]
[0,0]
[0,0]
[0,0]
[0,0]
[0,0]
[0,0]
[0,0]
[0,0]
[0,0]
[0,0]
[0,0]
[0,0]
[0,0]
[0,0]
[0,0]
[0,0]
[0,0]
[0,0]
[0,0]
[0,0]
[0,0]
[0,0]
[0,0]
[0,0]
[0,0]
[0,0]
[0,0]
[0,0]
[0,0]
[0,0]
[0,0]
[0,0]
[0,0]
[0,0]
[0,0]
[0,0]
[0,0]
[0,0]
[0,0]
[0,0]
[0,0]
[0,0]
[0,0]
[0,0]
[0,0]
[0,0]
[0,0]
[0,0]
[0,0]
[0,0]
[0,0]
[0,0]
[0,0]
[0,0]
[0,0]
[0,0]
[0,0]
[0,0]
[0,0]
[0,0]
[0,0]
[0,0]
[0,0]
[0,0]
[0,0]
[0,0]
[0,0]
[0,0]
[0,0]
[0,0]
[0,0]
[0,0]
[0,0]
[0,0]
[0,0]
[0,0]
[0,0]
[0,0]
[0,0]
[0,0]
[0,0]
[0,0]
[0,0]
[0,0]
[0,0]
[0,0]
[0,0]
[0,0]
[0,0]
[0,0]
[0,0]
[0,0]
[0,0]
[0,0]
[0,0]
[0,0]
[0,0]
[0,0]
[0,0]
[0,0]
[0,0]
[0,0]
[0,0]
[0,0]
[0,0]
[0,0]
[0,0]
[0,0]
[0,0]
[0,0]
[0,0]
[0,0]
[0,0]
[0,0]
[0,0]
[0,0]
[0,0]
[0,0]
[0,0]
[0,0]
[0,0]
[0,0]
[0,0]
[0,0]
[0,0]
[0,0]
[0,0]
[0,0]
[0,0]
[0,0]
[0,0]
[0,0]
[0,0]
[0,0]
[0,0]
[0,0]
[0,0]
[0,0]
[0,0]
[0,0]
[0,0]
[0,0]
[0,0]
[0,0]
[0,0]
[0,0]
[0,0]
[0,0]
[0,0]
[0,0]
[0,0]
[0,0]
[0,0]
[0,0]
[0,0]
[0,0]
[0,0]
[0,0]
[0,0]
[0,0]
[0,0]
[0,0]
[0,0]
[0,0]
[0,0]
[0,0]
[0,0]
[0,0]
[0,0]
[0,0]
[0,0]
[0,0]
[0,0]
[0,0]
[0,0]
[0,0]
[0,0]
[0,0]
[0,0]
[0,0]
[0,0]
[0,0]
[0,0]
[0,0]
[0,0]
[0,0]
[0,0]
[0,0]
[0,0]
[0,0]
[0,0]
[0,0]
[0,0]
[0,0]
[0,0]
[0,0]
[0,0]
[0,0]
[0,0]
[0,0]
[0,0]
[0,0]
[0,0]
[0,0]
[0,0]
[0,0]
[0,0]
[0,0]
[0,0]
[0,0]
[0,0]
[0,0]
[0,0]
[0,0]
[0,0]
[0,0]
[0,0]
[0,0]
[0,0]
[0,0]
[0,0]
[0,0]
[0,0]
[0,0]
[0,0]
[0,0]
[0,0]
[0,0]
[0,0]
[0,0]
[0,0]
[0,0]
[0,0]
[0,0]
[0,0]
[0,0]
[0,0]
[0,0]
[0,0]
[0,0]
[0,0]
[0,0]
[0,0]
[0,0]
[0,0]
[0,0]
[0,0]
[0,0]
[0,0]
[0,0]
[0,0]
[0,0]
[0,0]
[0,0]
[0,0]
[0,0]
[0,0]
[0,0]
[0,0]
[0,0]
[0,0]
[0,0]
[0,0]
[0,0]
[0,0]
[0,0]
[0,0]
[0,0]
[0,0]
[0,0]
[0,0]
[0,0]
[0,0]
[0,0]
[0,0]
[0,0]
[0,0]
[0,0]
[0,0]
[0,0]
[0,0]
[0,0]
[0,0]
[0,0]
[0,0]
[0,0]
[0,0]
[0,0]
[0,0]
[0,0]
[0,0]
[0,0]
[0,0]
[0,0]
[0,0]
[0,0]
[0,0]
[0,0]
[0,0]
[0,0]
[0,0]
[0,0]
[0,0]
[0,0]
[0,0]
[0,0]
[0,0]
[0,0]
[0,0]
[0,0]
[0,0]
[0,0]
[0,0]
[0,0]
[0,0]
[0,0]
[0,0]
[0,0]
[0,0]
[0,0]
[0,0]
[0,0]
[0,0]
[0,0]
[0,0]
[0,0]
[0,0]
[0,0]
[0,0]
[0,0]
[0,0]
[0,0]
[0,0]
[0,0]
[0,0]
[0,0]
[0,0]
[0,0]
[0,0]
[0,0]
[0,0]
[0,0]
[0,0]
[0,0]
[0,0]
[0,0]
[0,0]
[0,0]
[0,0]
[0,0]
[0,0]
[0,0]
[0,0]
[0,0]
[0,0]
[0,0]
[0,0]
[0,0]
[0,0]
[0,0]
[0,0]
[0,0]
[0,0]
[0,0]
[0,0]
[0,0]
[0,0]
[0,0]
[0,0]
[0,0]
[0,0]
[0,0]
[0,0]
[0,0]
[0,0]
[0,0]
[0,0]
[0,0]
[0,0]
[0,0]
[0,0]
[0,0]
[0,0]
[0,0]
[0,0]
[0,0]
[0,0]
[0,0]
[0,0]
[0,0]
[0,0]
[0,0]
[0,0]
[0,0]
[0,0]
[0,0]
[0,0]
[0,0]
[0,0]
[0,0]
[0,0]
[0,0]
[0,0]
[0,0]
[0,0]
[0,0]
[0,0]
[0,0]
[0,0]
[0,0]
[0,0]
[0,0]
[0,0]
[0,0]
[0,0]
[0,0]
[0,0]
[0,0]
[0,0]
[0,0]
[0,0]
[0,0]
[0,0]
[0,0]
[0,0]
[0,0]
[0,0]
[0,0]
[0,0]
[0,0]
[0,0]
[0,0]
[0,0]
[0,0]
[0,0]
[0,0]
[0,0]
[0,0]
[0,0]
[0,0]
[0,0]
[0,0]
[0,0]
[0,0]
[0,0]
[0,0]
[0,0]
[0,0]
[0,0]
[0,0]
[0,0]
[0,0]
[0,0]
[0,0]
[0,0]
[0,0]
[0,0]
[0,0]
[0,0]
[0,0]
[0,0]
[0,0]
[0,0]
[0,0]
[0,0]
[0,0]
[0,0]
[0,0]
[0,0]
[0,0]
[0,0]
[0,0]
[0,0]
[0,0]
[0,0]
[0,0]
[0,0]
[0,0]
[0,0]
[0,0]
[0,0]
[0,0]
[0,0]
[0,0]
[0,0]
[0,0]
[0,0]
[0,0]
[0,0]
[0,0]
[0,0]
[0,0]
[0,0]
[0,0]
[0,0]
[0,0]
[0,0]
[0,0]
[0,0]
[0,0]
[0,0]
[0,0]
[0,0]
[0,0]
[0,0]
[0,0]
[0,0]
[0,0]
[0,0]
[0,0]
[0,0]
[0,0]
[0,0]
[0,0]
[0,0]
[0,0]
[0,0]
[0,0]
[0,0]
[0,0]
[0,0]
[0,0]
[0,0]
[0,0]
[0,0]
[0,0]
[0,0]
[0,0]
[0,0]
[0,0]
[0,0]
[0,0]
[0,0]
[0,0]
[0,0]
[0,0]
[0,0]
[0,0]
[0,0]
[0,0]
[0,0]
[0,0]
[0,0]
[0,0]
[0,0]
[0,0]
[0,0]
[0,0]
[0,0]
[0,0]
[0,0]
[0,0]
[0,0]
[0,0]
[0,0]
[0,0]
[0,0]
[0,0]
[0,0]
[0,0]
[0,0]
[0,0]
[0,0]
[0,0]
[0,0]
[0,0]
[0,0]
[0,0]
[0,0]
[0,0]
[0,0]
[0,0]
[0,0]
[0,0]
[0,0]
[0,0]
[0,0]
[0,0]
[0,0]
[0,0]
[0,0]
[0,0]
[0,0]
[0,0]
[0,0]
[0,0]
[0,0]
[0,0]
[0,0]
[0,0]
[0,0]
[0,0]
[0,0]
[0,0]
[0,0]
[0,0]
[0,0]
[0,0]
[0,0]
[0,0]
[0,0]
[0,0]
[0,0]
[0,0]
[0,0]
[0,0]
[0,0]
[0,0]
[0,0]
[0,0]
[0,0]
[0,0]
[0,0]
[0,0]
[0,0]
[0,0]
[0,0]
[0,0]
[0,0]
[0,0]
[0,0]
[0,0]
[0,0]
[0,0]
[0,0]
[0,0]
[0,0]
[0,0]
[0,0]
[0,0]
[0,0]
[0,0]
[0,0]
[0,0]
[0,0]
[0,0]
[0,0]
[0,0]
[0,0]
[0,0]
[0,0]
[0,0]
[0,0]
[0,0]
[0,0]
[0,0]
[0,0]
[0,0]
[0,0]
[0,0]
[0,0]
[0,0]
[0,0]
[0,0]
[0,0]
[0,0]
[0,0]
[0,0]
[0,0]
[0,0]
[0,0]
[0,0]
[0,0]
[0,0]
[0,0]
[0,0]
[0,0]
[0,0]
[0,0]
[0,0]
[0,0]
[0,0]
[0,0]
[0,0]
[0,0]
[0,0]
[0,0]
[0,0]
[0,0]
[0,0]
[0,0]
[0,0]
[0,0]
[0,0]
[0,0]
[0,0]
[0,0]
[0,0]
[0,0]
[0,0]
[0,0]
[0,0]
[0,0]
[0,0]
[0,0]
[0,0]
[0,0]
[0,0]
[0,0]
[0,0]
[0,0]
[0,0]
[0,0]
[0,0]
[0,0]
[0,0]
[0,0]
[0,0]
[0,0]
[0,0]
[0,0]
[0,0]
[0,0]
[0,0]
[0,0]
[0,0]
[0,0]
[0,0]
[0,0]
[0,0]
[0,0]
[0,0]
[0,0]
[0,0]
[0,0]
[0,0]
[0,0]
[0,0]
[0,0]
[0,0]
[0,0]
[0,0]
[0,0]
[0,0]
[0,0]
[0,0]
[0,0]
[0,0]
[0,0]
[0,0]
[0,0]
[0,0]
[0,0]
[0,0]
[0,0]
[0,0]
[0,0]
[0,0]
[0,0]
[0,0]
[0,0]
[0,0]
[0,0]
[0,0]
[0,0]
[0,0]
[0,0]
[0,0]
[0,0]
[0,0]
[0,0]
[0,0]
[0,0]
[0,0]
[0,0]
[0,0]
[0,0]
[0,0]
[0,0]
[0,0]
[0,0]
[0,0]
[0,0]
[0,0]
[0,0]
[0,0]
[0,0]
[0,0]
[0,0]
[0,0]
[0,0]
[0,0]
[0,0]
[0,0]
[0,0]
[0,0]
[0,0]
[0,0]
[0,0]
[0,0]
[0,0]
[0,0]
[0,0]
[0,0]
[0,0]
[0,0]
[0,0]
[0,0]
[0,0]
[0,0]
[0,0]
[0,0]
[0,0]
[0,0]
[0,0]
[0,0]
[0,0]
[0,0]
[0,0]
[0,0]
[0,0]
[0,0]
[0,0]
[0,0]
[0,0]
[0,0]
[0,0]
[0,0]
[0,0]
[0,0]
[0,0]
[0,0]
[0,0]
[0,0]
[0,0]
[0,0]
[0,0]
[0,0]
[0,0]
[0,0]
[0,0]
[0,0]
[0,0]
[0,0]
[0,0]
[0,0]
[0,0]
[0,0]
[0,0]
[0,0]
[0,0]
[0,0]
[0,0]
[0,0]
[0,0]
[0,0]
[0,0]
[0,0]
[0,0]
[0,0]
[0,0]
[0,0]
[0,0]
[0,0]
[0,0]
[0,0]
[0,0]
[0,0]
[0,0]
[0,0]
[0,0]
[0,0]
[0,0]
[0,0]
[0,0]
[0,0]
[0,0]
[0,0]
[0,0]
[0,0]
[0,0]
[0,0]
[0,0]
[0,0]
[0,0]
[0,0]
[0,0]
[0,0]
[0,0]
[0,0]
[0,0]
[0,0]
[0,0]
[0,0]
[0,0]
[0,0]
[0,0]
[0,0]
[0,0]
[0,0]
[0,0]
[0,0]
[0,0]
[0,0]
[0,0]
[0,0]
[0,0]
[0,0]
[0,0]
[0,0]
[0,0]
[0,0]
[0,0]
[0,0]
[0,0]
[0,0]
[0,0]
[0,0]
[0,0]
[0,0]
[0,0]
[0,0]
[0,0]
[0,0]
[0,0]
[0,0]
[0,0]
[0,0]
[0,0]
[0,0]
[0,0]
[0,0]
[0,0]
[0,0]
[0,0]
[0,0]
[0,0]
[0,0]
[0,0]
[0,0]
[0,0]
[0,0]
[0,0]
[0,0]
[0,0]
[0,0]
[0,0]
[0,0]
[0,0]
[0,0]
[0,0]
[0,0]
[0,0]
[0,0]
[0,0]
[0,0]
[0,0]
[0,0]
[0,0]
[0,0]
[0,0]
[0,0]
[0,0]
[0,0]
[0,0]
[0,0]
[0,0]
[0,0]
[0,0]
[0,0]
[0,0]
[0,0]
[0,0]
[0,0]
[0,0]
[0,0]
[0,0]
[0,0]
[0,0]
[0,0]
[0,0]
[0,0]
[0,0]
[0,0]
[0,0]
[0,0]
[0,0]
[0,0]
[0,0]
[0,0]
[0,0]
[0,0]
[0,0]
[0,0]
[0,0]
[0,0]
[0,0]
[0,0]
[0,0]
[0,0]
[0,0]
[0,0]
[0,0]
[0,0]
[0,0]
[0,0]
[0,0]
[0,0]
[0,0]
[0,0]
[0,0]
[0,0]
[0,0]
[0,0]
[0,0]
[0,0]
[0,0]
[0,0]
[0,0]
[0,0]
[0,0]
[0,0]
[0,0]
[0,0]
[0,0]
[0,0]
[0,0]
[0,0]
[0,0]
[0,0]
[0,0]
[0,0]
[0,0]
[0,0]
[0,0]
[0,0]
[0,0]
[0,0]
[0,0]
[0,0]
[0,0]
[0,0]
[0,0]
[0,0]
[0,0]
[0,0]
[0,0]
[0,0]
[0,0]
[0,0]
[0,0]
[0,0]
[0,0]
[0,0]
[0,0]
[0,0]
[0,0]
[0,0]
[0,0]
[0,0]
[0,0]
[0,0]
[0,0]
[0,0]
[0,0]
[0,0]
[0,0]
[0,0]
[0,0]
[0,0]
[0,0]
[0,0]
[0,0]
[0,0]
[0,0]
[0,0]
[0,0]
[0,0]
[0,0]
[0,0]
[0,0]
[0,0]
[0,0]
[0,0]
[0,0]
[0,0]
[0,0]
[0,0]
[0,0]
[0,0]
[0,0]
[0,0]
[0,0]
[0,0]
[0,0]
[0,0]
[0,0]
[0,0]
[0,0]
[0,0]
[0,0]
[0,0]
[0,0]
[0,0]
[0,0]
[0,0]
[0,0]
[0,0]
[0,0]
[0,0]
[0,0]
[0,0]
[0,0]
[0,0]
[0,0]
[0,0]
[0,0]
[0,0]
[0,0]
[0,0]
[0,0]
[0,0]
[0,0]
[0,0]
[0,0]
[0,0]
[0,0]
[0,0]
[0,0]
[0,0]
[0,0]
[0,0]
[0,0]
[0,0]
[0,0]
[0,0]
[0,0]
[0,0]
[0,0]
[0,0]
[0,0]
[0,0]
[0,0]
[0,0]
[0,0]
[0,0]
[0,0]
[0,0]
[0,0]
[0,0]
[0,0]
[0,0]
[0,0]
[0,0]
[0,0]
[0,0]
[0,0]
[0,0]
[0,0]
[0,0]
[0,0]
[0,0]
[0,0]
[0,0]
[0,0]
[0,0]
[0,0]
[0,0]
[0,0]
[0,0]
[0,0]
[0,0]
[0,0]
[0,0]
[0,0]
[0,0]
[0,0]
[0,0]
[0,0]
[0,0]
[0,0]
[0,0]
[0,0]
[0,0]
[0,0]
[0,0]
[0,0]
[0,0]
[0,0]
[0,0]
[0,0]
[0,0]
[0,0]
[0,0]
[0,0]
[0,0]
[0,0]
[0,0]
[0,0]
[0,0]
[0,0]
[0,0]
[0,0]
[0,0]
[0,0]
[0,0]
[0,0]
[0,0]
[0,0]
[0,0]
[0,0]
[0,0]
[0,0]
[0,0]
[0,0]
[0,0]
[0,0]
[0,0]
[0,0]
[0,0]
[0,0]
[0,0]
[0,0]
[0,0]
[0,0]
[0,0]
[0,0]
[0,0]
[0,0]
[0,0]
[0,0]
[0,0]
[0,0]
[0,0]
[0,0]
[0,0]
[0,0]
[0,0]
[0,0]
[0,0]
[0,0]
[0,0]
[0,0]
[0,0]
[0,0]
[0,0]
[0,0]
[0,0]
[0,0]
[0,0]
[0,0]
[0,0]
[0,0]
[0,0]
[0,0]
[0,0]
[0,0]
[0,0]
[0,0]
[0,0]
[0,0]
[0,0]
[0,0]
[0,0]
[0,0]
[0,0]
[0,0]
[0,0]
[0,0]
[0,0]
[0,0]
[0,0]
[0,0]
[0,0]
[0,0]
[0,0]
[0,0]
[0,0]
[0,0]
[0,0]
[0,0]
[0,0]
[0,0]
[0,0]
[0,0]
[0,0]
[0,0]
[0,0]
[0,0]
[0,0]
[0,0]
[0,0]
[0,0]
[0,0]
[0,0]
[0,0]
[0,0]
[0,0]
[0,0]
[0,0]
[0,0]
[0,0]
[0,0]
[0,0]
[0,0]
[0,0]
[0,0]
[0,0]
[0,0]
[0,0]
[0,0]
[0,0]
[0,0]
[0,0]
[0,0]
[0,0]
[0,0]
[0,0]
[0,0]
[0,0]
[0,0]
[0,0]
[0,0]
[0,0]
[0,0]
[0,0]
[0,0]
[0,0]
[0,0]
[0,0]
[0,0]
[0,0]
[0,0]
[0,0]
[0,0]
[0,0]
[0,0]
[0,0]
[0,0]
[0,0]
[0,0]
[0,0]
[0,0]
[0,0]
[0,0]
[0,0]
[0,0]
[0,0]
[0,0]
[0,0]
[0,0]
[0,0]
[0,0]
[0,0]
[0,0]
[0,0]
[0,0]
[0,0]
[0,0]
[0,0]
[0,0]
[0,0]
[0,0]
[0,0]
[0,0]
[0,0]
[0,0]
[0,0]
[0,0]
[0,0]
[0,0]
[0,0]
[0,0]
[0,0]
[0,0]
[0,0]
[0,0]
[0,0]
[0,0]
[0,0]
[0,0]
[0,0]
[0,0]
[0,0]
[0,0]
[0,0]
[0,0]
[0,0]
[0,0]
[0,0]
[0,0]
[0,0]
[0,0]
[0,0]
[0,0]
[0,0]
[0,0]
[0,0]
[0,0]
[0,0]
[0,0]
[0,0]
[0,0]
[0,0]
[0,0]
[0,0]
[0,0]
[0,0]
[0,0]
[0,0]
[0,0]
[0,0]
[0,0]
[0,0]
[0,0]
[0,0]
[0,0]
[0,0]
[0,0]
[0,0]
[0,0]
[0,0]
[0,0]
[0,0]
[0,0]
[0,0]
[0,0]
[0,0]
[0,0]
[0,0]
[0,0]
[0,0]
[0,0]
[0,0]
[0,0]
[0,0]
[0,0]
[0,0]
[0,0]
[0,0]
[0,0]
[0,0]
[0,0]
[0,0]
[0,0]
[0,0]
[0,0]
[0,0]
[0,0]
[0,0]
[0,0]
[0,0]
[0,0]
[0,0]
[0,0]
[0,0]
[0,0]
[0,0]
[0,0]
[0,0]
[0,0]
[0,0]
[0,0]
[0,0]
[0,0]
[0,0]
[0,0]
[0,0]
[0,0]
[0,0]
[0,0]
[0,0]
[0,0]
[0,0]
[0,0]
[0,0]
[0,0]
[0,0]
[0,0]
[0,0]
[0,0]
[0,0]
[0,0]
[0,0]
[0,0]
[0,0]
[0,0]
[0,0]
[0,0]
[0,0]
[0,0]
[0,0]
[0,0]
[0,0]
[0,0]
[0,0]
[0,0]
[0,0]
[0,0]
[0,0]
[0,0]
[0,0]
[0,0]
[0,0]
[0,0]
[0,0]
[0,0]
[0,0]
[0,0]
[0,0]
[0,0]
[0,0]
[0,0]
[0,0]
[0,0]
[0,0]
[0,0]
[0,0]
[0,0]
[0,0]
[0,0]
[0,0]
[0,0]
[0,0]
[0,0]
[0,0]
[0,0]
[0,0]
[0,0]
[0,0]
[0,0]
[0,0]
[0,0]
[0,0]
[0,0]
[0,0]
[0,0]
[0,0]
[0,0]
[0,0]
[0,0]
[0,0]
[0,0]
[0,0]
[0,0]
[0,0]
[0,0]
[0,0]
[0,0]
[0,0]
[0,0]
[0,0]
[0,0]
[0,0]
[0,0]
[0,0]
[0,0]
[0,0]
[0,0]
[0,0]
[0,0]
[0,0]
[0,0]
[0,0]
[0,0]
[0,0]
[0,0]
[0,0]
[0,0]
[0,0]
[0,0]
[0,0]
[0,0]
[0,0]
[0,0]
[0,0]
[0,0]
[0,0]
[0,0]
[0,0]
[0,0]
[0,0]
[0,0]
[0,0]
[0,0]
[0,0]
[0,0]
[0,0]
[0,0]
[0,0]
[0,0]
[0,0]
[0,0]
[0,0]
[0,0]
[0,0]
[0,0]
[0,0]
[0,0]
[0,0]
[0,0]
[0,0]
[0,0]
[0,0]
[0,0]
[0,0]
[0,0]
[0,0]
[0,0]
[0,0]
[0,0]
[0,0]
[0,0]
[0,0]
[0,0]
[0,0]
[0,0]
[0,0]
[0,0]
[0,0]
[0,0]
[0,0]
[0,0]
[0,0]
[0,0]
[0,0]
[0,0]
[0,0]
[0,0]
[0,0]
[0,0]
[0,0]
[0,0]
[0,0]
[0,0]
[0,0]
[0,0]
[0,0]
[0,0]
[0,0]
[0,0]
[0,0]
[0,0]
[0,0]
[0,0]
[0,0]
[0,0]
[0,0]
[0,0]
[0,0]
[0,0]
[0,0]
[0,0]
[0,0]
[0,0]
[0,0]
[0,0]
[0,0]
[0,0]
[0,0]
[0,0]
[0,0]
[0,0]
[0,0]
[0,0]
[0,0]
[0,0]
[0,0]
[0,0]
[0,0]
[0,0]
[0,0]
[0,0]
[0,0]
[0,0]
[0,0]
[0,0]
[0,0]
[0,0]
[0,0]
[0,0]
[0,0]
[0,0]
[0,0]
[0,0]
[0,0]
[0,0]
[0,0]
[0,0]
[0,0]
[0,0]
[0,0]
[0,0]
[0,0]
[0,0]
[0,0]
[0,0]
[0,0]
[0,0]
[0,0]
[0,0]
[0,0]
[0,0]
[0,0]
[0,0]
[0,0]
[0,0]
[0,0]
[0,0]
[0,0]
[0,0]
[0,0]
[0,0]
[0,0]
[0,0]
[0,0]
[0,0]
[0,0]
[0,0]
[0,0]
[0,0]
[0,0]
[0,0]
[0,0]
[0,0]
[0,0]
[0,0]
[0,0]
[0,0]
[0,0]
[0,0]
[0,0]
[0,0]
[0,0]
[0,0]
[0,0]
[0,0]
[0,0]
[0,0]
[0,0]
[0,0]
[0,0]
[0,0]
[0,0]
[0,0]
[0,0]
[0,0]
[0,0]
[0,0]
[0,0]
[0,0]
[0,0]
[0,0]
[0,0]
[0,0]
[0,0]
[0,0]
[0,0]
[0,0]
[0,0]
[0,0]
[0,0]
[0,0]
[0,0]
[0,0]
[0,0]
[0,0]
[0,0]
[0,0]
[0,0]
[0,0]
[0,0]
[0,0]
[0,0]
[0,0]
[0,0]
[0,0]
[0,0]
[0,0]
[0,0]
[0,0]
[0,0]
[0,0]
[0,0]
[0,0]
[0,0]
[0,0]
[0,0]
[0,0]
[0,0]
[0,0]
[0,0]
[0,0]
[0,0]
[0,0]
[0,0]
[0,0]
[0,0]
[0,0]
[0,0]
[0,0]
[0,0]
[0,0]
[0,0]
[0,0]
[0,0]
[0,0]
[0,0]
[0,0]
[0,0]
[0,0]
[0,0]
[0,0]
[0,0]
[0,0]
[0,0]
[0,0]
[0,0]
[0,0]
[0,0]
[0,0]
[0,0]
[0,0]
[0,0]
[0,0]
[0,0]
[0,0]
[0,0]
[0,0]
[0,0]
[0,0]
[0,0]
[0,0]
[0,0]
[0,0]
[0,0]
[0,0]
[0,0]
[0,0]
[0,0]
[0,0]
[0,0]
[0,0]
[0,0]
[0,0]
[0,0]
[0,0]
[0,0]
[0,0]
[0,0]
[0,0]
[0,0]
[0,0]
[0,0]
[0,0]
[0,0]
[0,0]
[0,0]
[0,0]
[0,0]
[0,0]
[0,0]
[0,0]
[0,0]
[0,0]
[0,0]
[0,0]
[0,0]
[0,0]
[0,0]
[0,0]
[0,0]
[0,0]
[0,0]
[0,0]
[0,0]
[0,0]
[0,0]
[0,0]
[0,0]
[0,0]
[0,0]
[0,0]
[0,0]
[0,0]
[0,0]
[0,0]
[0,0]
[0,0]
[0,0]
[0,0]
[0,0]
[0,0]
[0,0]
[0,0]
[0,0]
[0,0]
[0,0]
[0,0]
[0,0]
[0,0]
[0,0]
[0,0]
[0,0]
[0,0]
[0,0]
[0,0]
[0,0]
[0,0]
[0,0]
[0,0]
[0,0]
[0,0]
[0,0]
[0,0]
[0,0]
[0,0]
[0,0]
[0,0]
[0,0]
[0,0]
[0,0]
[0,0]
[0,0]
[0,0]
[0,0]
[0,0]
[0,0]
[0,0]
[0,0]
[0,0]
[0,0]
[0,0]
[0,0]
[0,0]
[0,0]
[0,0]
[0,0]
[0,0]
[0,0]
[0,0]
[0,0]
[0,0]
[0,0]
[0,0]
[0,0]
[0,0]
[0,0]
[0,0]
[0,0]
[0,0]
[0,0]
[0,0]
[0,0]
[0,0]
[0,0]
[0,0]
[0,0]
[0,0]
[0,0]
[0,0]
[0,0]
[0,0]
[0,0]
[0,0]
[0,0]
[0,0]
[0,0]
[0,0]
[0,0]
[0,0]
[0,0]
[0,0]
[0,0]
[0,0]
[0,0]
[0,0]
[0,0]
[0,0]
[0,0]
[0,0]
[0,0]
[0,0]
[0,0]
[0,0]
[0,0]
[0,0]
[0,0]
[0,0]
[0,0]
[0,0]
[0,0]
[0,0]
[0,0]
[0,0]
[0,0]
[0,0]
[0,0]
[0,0]
[0,0]
[0,0]
[0,0]
[0,0]
[0,0]
[0,0]
[0,0]
[0,0]
[0,0]
[0,0]
[0,0]
[0,0]
[0,0]
[0,0]
[0,0]
[0,0]
[0,0]
[0,0]
[0,0]
[0,0]
[0,0]
[0,0]
[0,0]
[0,0]
[0,0]
[0,0]
[0,0]
[0,0]
[0,0]
[0,0]
[0,0]
[0,0]
[0,0]
[0,0]
[0,0]
[0,0]
[0,0]
[0,0]
[0,0]
[0,0]
[0,0]
[0,0]
[0,0]
[0,0]
[0,0]
[0,0]
[0,0]
[0,0]
[0,0]
[0,0]
[0,0]
[0,0]
[0,0]
[0,0]
[0,0]
[0,0]
[0,0]
[0,0]
[0,0]
[0,0]
[0,0]
[0,0]
[0,0]
[0,0]
[0,0]
[0,0]
[0,0]
[0,0]
[0,0]
[0,0]
[0,0]
[0,0]
[0,0]
[0,0]
[0,0]
[0,0]
[0,0]
[0,0]
[0,0]
[0,0]
[0,0]
[0,0]
[0,0]
[0,0]
[0]